{"text_format":"1","workbook":"xlsx","n_sheets":3,"sheets":["DY4 Cat 4 Template","DY3 Category 4","Data_Collection"],"not_rendered":{"charts":0,"images":0,"macros":1,"external_links":0,"defined_names":6,"comments":1,"pivot_tables":0},"unopened":[],"bounds":{"document_bytes":16777216,"sheet_cells":100000,"rows_first":2000,"rows_last":500,"rows_between":2000,"halvings":0,"cell_chars":16384,"cell_head_chars":4096},"cells_cut":0,"cells_raw":0,"read":"whole","date_system":"1900"}

{"sheet":"DY4 Cat 4 Template","index":0,"n_rows":1000,"n_cols":40,"rows_kept":1000,"cut":false,"hidden":false,"merged":[[311,2,311,12],[312,2,312,12],[306,2,306,12],[307,2,307,12],[48,2,48,10],[49,2,49,10],[168,2,168,3],[168,4,168,5],[304,4,304,6],[304,10,304,11],[121,2,121,12],[113,2,113,12],[98,2,98,12],[89,2,89,12],[301,4,301,6],[301,10,301,11],[302,4,302,6],[302,10,302,11],[303,4,303,6],[303,10,303,11],[298,4,298,6],[298,10,298,11],[299,4,299,6],[299,10,299,11],[300,4,300,6],[300,10,300,11],[295,4,295,6],[295,10,295,11],[296,4,296,6],[296,10,296,11],[297,4,297,6],[297,10,297,11],[292,4,292,6],[292,10,292,11],[293,4,293,6],[293,10,293,11],[294,4,294,6],[294,10,294,11],[289,4,289,6],[289,10,289,11],[290,4,290,6],[290,10,290,11],[291,4,291,6],[291,10,291,11],[286,4,286,6],[286,10,286,11],[287,4,287,6],[287,10,287,11],[288,4,288,6],[288,10,288,11],[283,4,283,6],[283,10,283,11],[284,4,284,6],[284,10,284,11],[285,4,285,6],[285,10,285,11],[280,4,280,6],[280,10,280,11],[281,4,281,6],[281,10,281,11],[282,4,282,6],[282,10,282,11],[277,4,277,6],[277,10,277,11],[278,4,278,6],[278,10,278,11],[279,4,279,6],[279,10,279,11],[274,4,274,6],[274,10,274,11],[275,4,275,6],[275,10,275,11],[276,4,276,6],[276,10,276,11],[271,4,271,6],[271,10,271,11],[272,4,272,6],[272,10,272,11],[273,4,273,6],[273,10,273,11],[268,4,268,6],[268,10,268,11],[269,4,269,6],[269,10,269,11],[270,4,270,6],[270,10,270,11],[265,4,265,6],[265,10,265,11],[266,4,266,6],[266,10,266,11],[267,4,267,6],[267,10,267,11],[262,4,262,6],[262,10,262,11],[263,4,263,6],[263,10,263,11],[264,4,264,6],[264,10,264,11],[259,4,259,6],[259,10,259,11],[260,4,260,6],[260,10,260,11],[261,4,261,6],[261,10,261,11],[254,4,254,6],[254,10,254,11],[255,4,255,6],[255,10,255,11],[256,4,256,6],[256,10,256,11],[251,4,251,6],[251,10,251,11],[252,4,252,6],[252,10,252,11],[253,4,253,6],[253,10,253,11],[248,4,248,6],[248,10,248,11],[249,4,249,6],[249,10,249,11],[250,4,250,6],[250,10,250,11],[245,4,245,6],[245,10,245,11],[246,4,246,6],[246,10,246,11],[247,4,247,6],[247,10,247,11],[242,4,242,6],[242,10,242,11],[243,4,243,6],[243,10,243,11],[244,4,244,6],[244,10,244,11],[239,4,239,6],[239,10,239,11],[240,4,240,6],[240,10,240,11],[241,4,241,6],[241,10,241,11],[236,4,236,6],[236,10,236,11],[237,4,237,6],[237,10,237,11],[238,4,238,6],[238,10,238,11],[233,4,233,6],[233,10,233,11],[234,4,234,6],[234,10,234,11],[235,4,235,6],[235,10,235,11],[230,4,230,6],[230,10,230,11],[231,4,231,6],[231,10,231,11],[232,4,232,6],[232,10,232,11],[227,4,227,6],[227,10,227,11],[228,4,228,6],[228,10,228,11],[229,4,229,6],[229,10,229,11],[224,4,224,6],[224,10,224,11],[225,4,225,6],[225,10,225,11],[226,4,226,6],[226,10,226,11],[214,4,214,6],[214,10,214,11],[215,4,215,6],[215,10,215,11],[220,2,220,5],[223,4,223,6],[223,10,223,11],[217,2,217,12],[218,2,218,12],[211,4,211,6],[211,10,211,11],[212,4,212,6],[212,10,212,11],[213,4,213,6],[213,10,213,11],[208,4,208,6],[208,10,208,11],[209,4,209,6],[209,10,209,11],[210,4,210,6],[210,10,210,11],[205,4,205,6],[205,10,205,11],[206,4,206,6],[206,10,206,11],[207,4,207,6],[207,10,207,11],[202,4,202,6],[202,10,202,11],[203,4,203,6],[203,10,203,11],[204,4,204,6],[204,10,204,11],[199,4,199,6],[199,10,199,11],[200,4,200,6],[200,10,200,11],[201,4,201,6],[201,10,201,11],[196,4,196,6],[196,10,196,11],[197,4,197,6],[197,10,197,11],[198,4,198,6],[198,10,198,11],[193,4,193,6],[193,10,193,11],[194,4,194,6],[194,10,194,11],[195,4,195,6],[195,10,195,11],[190,4,190,6],[190,10,190,11],[191,4,191,6],[191,10,191,11],[192,4,192,6],[192,10,192,11],[187,4,187,6],[187,10,187,11],[188,4,188,6],[188,10,188,11],[189,4,189,6],[189,10,189,11],[184,4,184,6],[184,10,184,11],[185,4,185,6],[185,10,185,11],[186,4,186,6],[186,10,186,11],[181,4,181,6],[181,10,181,11],[182,4,182,6],[182,10,182,11],[183,4,183,6],[183,10,183,11],[178,4,178,6],[178,10,178,11],[179,4,179,6],[179,10,179,11],[180,4,180,6],[180,10,180,11],[175,4,175,6],[175,10,175,11],[176,4,176,6],[176,10,176,11],[177,4,177,6],[177,10,177,11],[172,4,172,6],[172,10,172,11],[173,4,173,6],[173,10,173,11],[174,4,174,6],[174,10,174,11],[164,10,164,11],[165,10,165,11],[170,4,170,6],[170,10,170,11],[171,4,171,6],[171,10,171,11],[158,10,158,11],[159,10,159,11],[160,10,160,11],[161,10,161,11],[162,10,162,11],[163,10,163,11],[152,10,152,11],[153,10,153,11],[154,10,154,11],[155,10,155,11],[156,10,156,11],[157,10,157,11],[146,10,146,11],[147,10,147,11],[148,10,148,11],[149,10,149,11],[150,10,150,11],[151,10,151,11],[140,10,140,11],[141,10,141,11],[142,10,142,11],[143,10,143,11],[144,10,144,11],[145,10,145,11],[164,4,164,6],[165,4,165,6],[132,10,132,11],[133,10,133,11],[134,10,134,11],[135,10,135,11],[136,10,136,11],[137,10,137,11],[138,10,138,11],[139,10,139,11],[158,4,158,6],[159,4,159,6],[160,4,160,6],[161,4,161,6],[162,4,162,6],[163,4,163,6],[152,4,152,6],[153,4,153,6],[154,4,154,6],[155,4,155,6],[156,4,156,6],[157,4,157,6],[146,4,146,6],[147,4,147,6],[148,4,148,6],[149,4,149,6],[150,4,150,6],[151,4,151,6],[140,4,140,6],[141,4,141,6],[142,4,142,6],[143,4,143,6],[144,4,144,6],[145,4,145,6],[134,4,134,6],[135,4,135,6],[136,4,136,6],[137,4,137,6],[138,4,138,6],[139,4,139,6],[112,2,112,12],[128,2,128,3],[128,4,128,5],[132,4,132,6],[133,4,133,6],[115,2,115,5],[117,2,117,5],[118,2,118,5],[125,2,125,4],[120,2,120,12],[105,2,105,3],[105,4,105,5],[109,2,109,5],[110,2,110,5],[93,2,93,5],[94,2,94,5],[95,2,95,5],[102,2,102,4],[97,2,97,12],[83,2,83,5],[91,2,91,5],[86,2,86,12],[79,2,79,5],[81,2,81,5],[82,2,82,5],[67,2,67,9],[68,2,68,9],[69,2,69,9],[75,2,75,3],[75,4,75,5],[72,2,72,12],[71,2,71,12],[85,2,85,12],[88,2,88,12],[63,2,63,9],[64,2,64,9],[65,2,65,9],[66,2,66,9],[41,2,41,4],[53,2,53,4],[56,4,56,5],[56,2,56,3],[44,2,44,12],[25,9,25,12],[39,2,39,4],[35,2,35,12],[26,2,26,12],[21,2,21,4],[23,2,23,4],[61,2,61,9],[62,2,62,9],[34,2,34,8],[34,9,34,12],[43,2,43,8],[43,9,43,12],[5,2,5,3],[9,4,9,6],[10,4,10,6],[11,4,11,6],[15,4,15,7],[16,4,16,7],[17,4,17,7],[30,2,30,4],[32,2,32,4],[5,4,5,5],[25,2,25,8]]}
[null,null,null,null,null,null,null,null,null,null,null,null,null,null,null,null,"Sht Chg Dummy","Status Total:","Status Achieved:",null,null,null,{"$f":"CELL(\"address\",W15)&\":\"&CELL(\"address\",W313)","v":"$W$15:$W$313"},null,null,null,null,null,{"$f":"\"'\"&MID(CELL(\"filename\",'DY3 Category 4'!A1),FIND(\"]\",CELL(\"filename\",'DY3 Category 4'!A1))+1,256)&\"'!\"","v":"'DY3 Category 4'!"},null,null,null,null,null,null,null,"Will need to modify based on how HHS formats dates; When final data produced, filter measurement period column for unique periods for each TPI"]
[null,null,"DY4 Category 4 Data Submission",null,null,null,null,null,null,null,null,null,null,null,null,null,5,{"$f":"SUM(R10:R1018)","v":5},{"$f":"SUM(S10:S1018)","v":0},null,null,null,"Row Insert Limit",null,null,null,null,null,null,null,null,null,null,null,null,null,"Measure Cutoff:",null,"3/31/14"]
[]
[null,null,"Progress Indicator",null,null,null,null,null,null,null,null,null,null,null,null,null,null,null,null,null,null,null,null,null,null,null,null,null,null,null,null,null,null,null,null,null,"Reporting Period:",null,"April"]
[]
[null,null,"Overall Submission Status",null,{"$f":"IF(S2=R2,\"100% - Complete\",TEXT(S2/R2,\"0%\")&\" - Incomplete\")","v":"0% - Incomplete"},null,null,null,null,null,null,null,null,null,null,null,{"$f":"CELL(\"address\",Q8)&\":\"&CELL(\"address\",Q313)","v":"$Q$8:$Q$313"}]
[null,null,null,null,null,null,null,null,null,null,null,null,null,null,null,null,"Row Height"]
[null,null,"Please enter the name and contact information of the primary contact regarding information reported in this template:",null,null,null,null,null,null,null,null,null,null,null,null,null,15.75]
[null,null,null,null,null,null,null,null,null,null,null,null,null,null,null,null,15,"Status Count","Status Achieved"]
[null,null,"Contact Name:",null,null,null,null,null,null,null,null,null,null,null,null,null,15,1,{"$f":"IF(LEN(TRIM(E10))=0,0,1)","v":0}]
[null,null,"Email Address:",null,null,null,null,null,null,null,null,null,null,null,null,null,15,1,{"$f":"IF(LEN(TRIM(E11))=0,0,1)","v":0}]
[null,null,"Phone Number:",null,null,null,null,null,null,null,null,null,null,null,null,null,15,1,0]
[null,null,null,null,null,null,null,null,null,null,null,null,null,null,null,null,15,null,null,null,"Hide Table"]
[null,null,"Please select the provider's RHP and TPI reported in this template below:",null,null,null,null,null,null,null,null,null,null,null,null,null,15.75,null,null,null,"RD #","Yes/No Reporting Status","Unhide Row?","RDs","RD Eligible?",null,null,null,"RHP","TPI","RD",0,"Validation List 1",0,"Validation List 2",null,"RD's for TPI","Measurement Period 1","Measurement Period 2","Eligible?"]
[null,null,null,null,null,null,null,null,null,null,null,null,null,null,null,null,15,null,null,null,0,null,{"$f":"IF(ISBLANK(V15),INDEX($Y$15:$Y$21,MATCH($U15,$X$15:$X$21,0)),IF(V15+INDEX($Y$15:$Y$21,MATCH($U15,$X$15:$X$21,0))>1,1,0))","v":1},0,1,null,null,1,{"$f":"IF(INDIRECT($AC$1&\"D\"&$AB15+1)=\"\",\"\",INDIRECT($AC$1&\"D\"&$AB15+1))","v":1},{"$f":"IF(AC15=\"\",\"\",IF($E$16=AC15,INDIRECT($AC$1&\"E\"&$AB15+1),\"\"))","v":""},{"$f":"IF(ISBLANK($E$17),\"\",IF($E$17<>AD15,\"\",IF(INDIRECT($AC$1&\"U\"&$AB15+1)=\"Yes\",INDIRECT($AC$1&\"I\"&$AB15+1),\"\")))","v":""},{"$f":"AF14+IF(COUNTIF($AC$15:AC15,AC15)>1,0,1)","v":1},{"$f":"IF(ROWS(AF$15:AF15)>MAX(AF:AF),\"\",INDEX(AC:AC,MATCH(ROWS(AF$15:AF15),AF:AF,0)))","v":1},{"$f":"IF(AD15=\"\",AH14,AH14+IF(COUNTIF($AD$15:AD15,AD15)>1,0,1))","v":0},{"$f":"IF(ROWS($AH$15:AH15)>MAX(AH:AH),\"\",INDEX(AD:AD,MATCH(ROWS($AH$15:AH15),AH:AH,0)))","v":""},null,1,{"$f":"TEXT(INDEX('DY3 Category 4'!V:V,MATCH(TPI&\"_\"&AK15,'DY3 Category 4'!B:B,0)),\"mm/dd/yyyy\")&\" to \"&TEXT(INDEX('DY3 Category 4'!W:W,MATCH(TPI&\"_\"&AK15,'DY3 Category 4'!B:B,0)),\"mm/dd/yyyy\")","v":{"$error":"#N/A"}},null,{"$f":"IF(ISNA(MATCH(TPI&\"_\"&AK15,'DY3 Category 4'!B:B,0)),0,IF(INDEX('DY3 Category 4'!U:U,MATCH(TPI&\"_\"&AK15,'DY3 Category 4'!B:B,0))=\"Yes\",1,0))","v":0}]
[null,null,"Region:",null,null,null,null,null,null,null,null,null,null,null,null,null,15,1,{"$f":"W16*COUNTA(E16)","v":0},null,0,null,{"$f":"IF(ISBLANK(V16),INDEX($Y$15:$Y$21,MATCH($U16,$X$15:$X$21,0)),IF(V16+INDEX($Y$15:$Y$21,MATCH($U16,$X$15:$X$21,0))>1,1,0))","v":1},1,{"$f":"INDEX($AN$15:$AN$20,MATCH($X16,$AK$15:$AK$20,0))","v":0},null,null,{"$f":"AB15+1","v":2},{"$f":"IF(INDIRECT($AC$1&\"D\"&$AB16+1)=\"\",\"\",INDIRECT($AC$1&\"D\"&$AB16+1))","v":1},{"$f":"IF(AC16=\"\",\"\",IF($E$16=AC16,INDIRECT($AC$1&\"E\"&$AB16+1),\"\"))","v":""},{"$f":"IF(ISBLANK($E$17),\"\",IF($E$17<>AD16,\"\",IF(INDIRECT($AC$1&\"U\"&$AB16+1)=\"Yes\",INDIRECT($AC$1&\"I\"&$AB16+1),\"\")))","v":""},{"$f":"AF15+IF(COUNTIF($AC$15:AC16,AC16)>1,0,1)","v":1},{"$f":"IF(ROWS(AF$15:AF16)>MAX(AF:AF),\"\",INDEX(AC:AC,MATCH(ROWS(AF$15:AF16),AF:AF,0)))","v":2},{"$f":"IF(AD16=\"\",AH15,AH15+IF(COUNTIF($AD$15:AD16,AD16)>1,0,1))","v":0},{"$f":"IF(ROWS($AH$15:AH16)>MAX(AH:AH),\"\",INDEX(AD:AD,MATCH(ROWS($AH$15:AH16),AH:AH,0)))","v":""},null,2,{"$f":"TEXT(INDEX('DY3 Category 4'!V:V,MATCH(TPI&\"_\"&AK16,'DY3 Category 4'!B:B,0)),\"mm/dd/yyyy\")&\" to \"&TEXT(INDEX('DY3 Category 4'!W:W,MATCH(TPI&\"_\"&AK16,'DY3 Category 4'!B:B,0)),\"mm/dd/yyyy\")","v":{"$error":"#N/A"}},null,{"$f":"IF(ISNA(MATCH(TPI&\"_\"&AK16,'DY3 Category 4'!B:B,0)),0,IF(INDEX('DY3 Category 4'!U:U,MATCH(TPI&\"_\"&AK16,'DY3 Category 4'!B:B,0))=\"Yes\",1,0))","v":0}]
[null,null,"TPI:",null,null,null,null,null,null,null,null,null,null,null,null,null,15,1,{"$f":"W17*COUNTA(E17)","v":0},null,0,null,1,2,{"$f":"INDEX($AN$15:$AN$20,MATCH($X17,$AK$15:$AK$20,0))","v":0},null,null,{"$f":"AB16+1","v":3},1,"","",{"$f":"AF16+IF(COUNTIF($AC$15:AC17,AC17)>1,0,1)","v":1},{"$f":"IF(ROWS(AF$15:AF17)>MAX(AF:AF),\"\",INDEX(AC:AC,MATCH(ROWS(AF$15:AF17),AF:AF,0)))","v":3},{"$f":"IF(AD17=\"\",AH16,AH16+IF(COUNTIF($AD$15:AD17,AD17)>1,0,1))","v":0},{"$f":"IF(ROWS($AH$15:AH17)>MAX(AH:AH),\"\",INDEX(AD:AD,MATCH(ROWS($AH$15:AH17),AH:AH,0)))","v":""},null,3,{"$f":"TEXT(INDEX('DY3 Category 4'!V:V,MATCH(TPI&\"_\"&AK17,'DY3 Category 4'!B:B,0)),\"mm/dd/yyyy\")&\" to \"&TEXT(INDEX('DY3 Category 4'!W:W,MATCH(TPI&\"_\"&AK17,'DY3 Category 4'!B:B,0)),\"mm/dd/yyyy\")","v":{"$error":"#N/A"}},null,{"$f":"IF(ISNA(MATCH(TPI&\"_\"&AK17,'DY3 Category 4'!B:B,0)),0,IF(INDEX('DY3 Category 4'!U:U,MATCH(TPI&\"_\"&AK17,'DY3 Category 4'!B:B,0))=\"Yes\",1,0))","v":0}]
[null,null,"Provider Name:",null,{"$f":"IFERROR(INDEX('DY3 Category 4'!$F:$F,MATCH('DY4 Cat 4 Template'!E16&\"_\"&'DY4 Cat 4 Template'!E17,'DY3 Category 4'!$C:$C,0)),\"\")","v":""},null,null,null,null,null,null,null,null,null,null,null,15,null,null,null,0,null,1,3,0,null,null,4,1,"","",{"$f":"AF17+IF(COUNTIF($AC$15:AC18,AC18)>1,0,1)","v":1},{"$f":"IF(ROWS(AF$15:AF18)>MAX(AF:AF),\"\",INDEX(AC:AC,MATCH(ROWS(AF$15:AF18),AF:AF,0)))","v":4},{"$f":"IF(AD18=\"\",AH17,AH17+IF(COUNTIF($AD$15:AD18,AD18)>1,0,1))","v":0},{"$f":"IF(ROWS($AH$15:AH18)>MAX(AH:AH),\"\",INDEX(AD:AD,MATCH(ROWS($AH$15:AH18),AH:AH,0)))","v":""},null,4,{"$f":"TEXT(INDEX('DY3 Category 4'!V:V,MATCH(TPI&\"_\"&AK18,'DY3 Category 4'!B:B,0)),\"mm/dd/yyyy\")&\" to \"&TEXT(INDEX('DY3 Category 4'!W:W,MATCH(TPI&\"_\"&AK18,'DY3 Category 4'!B:B,0)),\"mm/dd/yyyy\")","v":{"$error":"#N/A"}},{"$f":"TEXT(INDEX('DY3 Category 4'!X:X,MATCH(TPI&\"_\"&AK18,'DY3 Category 4'!B:B,0)),\"mm/dd/yyyy\")&\" to \"&TEXT(INDEX('DY3 Category 4'!Y:Y,MATCH(TPI&\"_\"&AK18,'DY3 Category 4'!B:B,0)),\"mm/dd/yyyy\")","v":{"$error":"#N/A"}},{"$f":"IF(ISNA(MATCH(TPI&\"_\"&AK18,'DY3 Category 4'!B:B,0)),0,IF(INDEX('DY3 Category 4'!U:U,MATCH(TPI&\"_\"&AK18,'DY3 Category 4'!B:B,0))=\"Yes\",1,0))","v":0}]
[null,null,null,null,null,null,null,null,null,null,null,null,null,null,null,null,15,null,null,null,0,null,1,4,0,null,null,5,1,"","",{"$f":"AF18+IF(COUNTIF($AC$15:AC19,AC19)>1,0,1)","v":1},{"$f":"IF(ROWS(AF$15:AF19)>MAX(AF:AF),\"\",INDEX(AC:AC,MATCH(ROWS(AF$15:AF19),AF:AF,0)))","v":5},{"$f":"IF(AD19=\"\",AH18,AH18+IF(COUNTIF($AD$15:AD19,AD19)>1,0,1))","v":0},{"$f":"IF(ROWS($AH$15:AH19)>MAX(AH:AH),\"\",INDEX(AD:AD,MATCH(ROWS($AH$15:AH19),AH:AH,0)))","v":""},null,5,{"$f":"TEXT(INDEX('DY3 Category 4'!V:V,MATCH(TPI&\"_\"&AK19,'DY3 Category 4'!B:B,0)),\"mm/dd/yyyy\")&\" to \"&TEXT(INDEX('DY3 Category 4'!W:W,MATCH(TPI&\"_\"&AK19,'DY3 Category 4'!B:B,0)),\"mm/dd/yyyy\")","v":{"$error":"#N/A"}},null,{"$f":"IF(ISNA(MATCH(TPI&\"_\"&AK19,'DY3 Category 4'!B:B,0)),0,IF(INDEX('DY3 Category 4'!U:U,MATCH(TPI&\"_\"&AK19,'DY3 Category 4'!B:B,0))=\"Yes\",1,0))","v":0}]
[false,null,"RD1 - Potentially Preventable Admissions",null,null,null,null,null,null,null,null,null,null,null,null,null,15.75,null,null,null,1,null,0,5,0,null,null,6,1,"","",{"$f":"AF19+IF(COUNTIF($AC$15:AC20,AC20)>1,0,1)","v":1},{"$f":"IF(ROWS(AF$15:AF20)>MAX(AF:AF),\"\",INDEX(AC:AC,MATCH(ROWS(AF$15:AF20),AF:AF,0)))","v":6},{"$f":"IF(AD20=\"\",AH19,AH19+IF(COUNTIF($AD$15:AD20,AD20)>1,0,1))","v":0},{"$f":"IF(ROWS($AH$15:AH20)>MAX(AH:AH),\"\",INDEX(AD:AD,MATCH(ROWS($AH$15:AH20),AH:AH,0)))","v":""},null,6,{"$f":"TEXT(INDEX('DY3 Category 4'!V:V,MATCH(TPI&\"_\"&AK20,'DY3 Category 4'!B:B,0)),\"mm/dd/yyyy\")&\" to \"&TEXT(INDEX('DY3 Category 4'!W:W,MATCH(TPI&\"_\"&AK20,'DY3 Category 4'!B:B,0)),\"mm/dd/yyyy\")","v":{"$error":"#N/A"}},null,{"$f":"IF(ISNA(MATCH(TPI&\"_\"&AK20,'DY3 Category 4'!B:B,0)),0,IF(INDEX('DY3 Category 4'!U:U,MATCH(TPI&\"_\"&AK20,'DY3 Category 4'!B:B,0))=\"Yes\",1,0))","v":0}]
[null,null,null,null,null,null,null,null,null,null,null,null,null,null,null,null,15,null,null,null,1,null,0,6,0,null,null,7,1,"","",{"$f":"AF20+IF(COUNTIF($AC$15:AC21,AC21)>1,0,1)","v":1},{"$f":"IF(ROWS(AF$15:AF21)>MAX(AF:AF),\"\",INDEX(AC:AC,MATCH(ROWS(AF$15:AF21),AF:AF,0)))","v":7},{"$f":"IF(AD21=\"\",AH20,AH20+IF(COUNTIF($AD$15:AD21,AD21)>1,0,1))","v":0},{"$f":"IF(ROWS($AH$15:AH21)>MAX(AH:AH),\"\",INDEX(AD:AD,MATCH(ROWS($AH$15:AH21),AH:AH,0)))","v":""}]
[false,null,{"$f":"\"Will you be reporting on RD\"&$U22&\" in \"&$AM$4&\"?\"","v":"Will you be reporting on RD1 in April?"},null,null,null,null,null,null,null,null,{"$f":"\"RD\"&U22&\" Reporting Status:\"","v":"RD1 Reporting Status:"},null,null,null,null,15,{"$f":"W22","v":0},{"$f":"W22*COUNTA(F22)","v":0},null,1,null,0,null,null,null,null,8,1,"","",{"$f":"AF21+IF(COUNTIF($AC$15:AC22,AC22)>1,0,1)","v":1},{"$f":"IF(ROWS(AF$15:AF22)>MAX(AF:AF),\"\",INDEX(AC:AC,MATCH(ROWS(AF$15:AF22),AF:AF,0)))","v":8},{"$f":"IF(AD22=\"\",AH21,AH21+IF(COUNTIF($AD$15:AD22,AD22)>1,0,1))","v":0},{"$f":"IF(ROWS($AH$15:AH22)>MAX(AH:AH),\"\",INDEX(AD:AD,MATCH(ROWS($AH$15:AH22),AH:AH,0)))","v":""}]
[null,null,null,null,null,null,null,null,null,null,null,{"$f":"IF(M23=1,\"100% - Complete\",TEXT(M23,\"0%\")&\" - Incomplete\")","v":{"$error":"#DIV/0!"}},{"$f":"SUMIF(U:U,U23,S:S)/SUMIF(U:U,U23,R:R)","v":{"$error":"#DIV/0!"}},null,null,null,15,null,null,null,1,null,0,null,null,null,null,9,1,"","",{"$f":"AF22+IF(COUNTIF($AC$15:AC23,AC23)>1,0,1)","v":1},{"$f":"IF(ROWS(AF$15:AF23)>MAX(AF:AF),\"\",INDEX(AC:AC,MATCH(ROWS(AF$15:AF23),AF:AF,0)))","v":9},{"$f":"IF(AD23=\"\",AH22,AH22+IF(COUNTIF($AD$15:AD23,AD23)>1,0,1))","v":0},{"$f":"IF(ROWS($AH$15:AH23)>MAX(AH:AH),\"\",INDEX(AD:AD,MATCH(ROWS($AH$15:AH23),AH:AH,0)))","v":""}]
[{"$f":"IF(AND(OFFSET(A24,-2,0)=TRUE,OFFSET(A24,-4,0)=TRUE),\"WARNING! Domain marked for multiple NMI periods!\",\"\")","v":""},null,"Provider received Medicaid PPA report for CY2013?",null,null,null,null,null,null,null,null,null,null,null,null,null,36,{"$f":"W24","v":0},{"$f":"W24*IF(LEN(TRIM(F24))>0,1,0)","v":0},null,1,{"$f":"IF($F$22=\"Yes\",1,0)","v":0},0,null,null,null,null,10,1,"","",{"$f":"AF23+IF(COUNTIF($AC$15:AC24,AC24)>1,0,1)","v":1},{"$f":"IF(ROWS(AF$15:AF24)>MAX(AF:AF),\"\",INDEX(AC:AC,MATCH(ROWS(AF$15:AF24),AF:AF,0)))","v":10},{"$f":"IF(AD24=\"\",AH23,AH23+IF(COUNTIF($AD$15:AD24,AD24)>1,0,1))","v":0},{"$f":"IF(ROWS($AH$15:AH24)>MAX(AH:AH),\"\",INDEX(AD:AD,MATCH(ROWS($AH$15:AH24),AH:AH,0)))","v":""}]
[null,null,null,null,null,null,null,null,null,null,null,null,null,null,null,null,15,null,null,null,1,{"$f":"IF($F$22=\"Yes\",1,0)","v":0},0,null,null,null,null,11,1,"","",{"$f":"AF24+IF(COUNTIF($AC$15:AC25,AC25)>1,0,1)","v":1},{"$f":"IF(ROWS(AF$15:AF25)>MAX(AF:AF),\"\",INDEX(AC:AC,MATCH(ROWS(AF$15:AF25),AF:AF,0)))","v":11},{"$f":"IF(AD25=\"\",AH24,AH24+IF(COUNTIF($AD$15:AD25,AD25)>1,0,1))","v":0},{"$f":"IF(ROWS($AH$15:AH25)>MAX(AH:AH),\"\",INDEX(AD:AD,MATCH(ROWS($AH$15:AH25),AH:AH,0)))","v":""}]
[null,null,"Average/High Volume Providers: \n   1. Does the currently documented number of PPAs represent an increase or decrease over the last reporting \n   period? What factors have contributed to any increase or decrease? \n   2. How is this information used to inform any changes to your current processes and procedures?\n   3. How does this Medicaid only rate compare to PPAs rates for your broader population? ",null,null,null,null,null,null,"Low Volume Providers (no reports received, or reports contain flag for low volume): \n   1. Do you track PPA rates for your broader all-payer population? And if so, what trends are observed? \n   2. If PPAs are zero, is it because of a low Medicaid service volume, or processes/procedures in place that are effectively addressing \n   potentially preventable events amongst all patients served in your facility?\n   3. Describe any established processes/policies/procedures in place to identify and address PPAs in your facility.",null,null,null,null,null,null,92.25,null,null,null,1,{"$f":"IF($F$22=\"Yes\",1,0)","v":0},0,null,null,null,null,12,1,"","",{"$f":"AF25+IF(COUNTIF($AC$15:AC26,AC26)>1,0,1)","v":1},{"$f":"IF(ROWS(AF$15:AF26)>MAX(AF:AF),\"\",INDEX(AC:AC,MATCH(ROWS(AF$15:AF26),AF:AF,0)))","v":12},{"$f":"IF(AD26=\"\",AH25,AH25+IF(COUNTIF($AD$15:AD26,AD26)>1,0,1))","v":0},{"$f":"IF(ROWS($AH$15:AH26)>MAX(AH:AH),\"\",INDEX(AD:AD,MATCH(ROWS($AH$15:AH26),AH:AH,0)))","v":""}]
[null,null,null,null,null,null,null,null,null,null,null,null,null,null,null,null,88.5,{"$f":"W27","v":0},{"$f":"W27*IF(LEN(TRIM(C27))>0,1,0)","v":0},null,1,{"$f":"IF($F$22=\"Yes\",1,0)","v":0},0,null,null,null,null,13,1,"","",{"$f":"AF26+IF(COUNTIF($AC$15:AC27,AC27)>1,0,1)","v":1},{"$f":"IF(ROWS(AF$15:AF27)>MAX(AF:AF),\"\",INDEX(AC:AC,MATCH(ROWS(AF$15:AF27),AF:AF,0)))","v":13},{"$f":"IF(AD27=\"\",AH26,AH26+IF(COUNTIF($AD$15:AD27,AD27)>1,0,1))","v":0},{"$f":"IF(ROWS($AH$15:AH27)>MAX(AH:AH),\"\",INDEX(AD:AD,MATCH(ROWS($AH$15:AH27),AH:AH,0)))","v":""}]
[null,null,null,null,null,null,null,null,null,null,null,null,null,null,null,null,15,null,null,null,1,null,0,null,null,null,null,14,1,"","",{"$f":"AF27+IF(COUNTIF($AC$15:AC28,AC28)>1,0,1)","v":1},{"$f":"IF(ROWS(AF$15:AF28)>MAX(AF:AF),\"\",INDEX(AC:AC,MATCH(ROWS(AF$15:AF28),AF:AF,0)))","v":14},{"$f":"IF(AD28=\"\",AH27,AH27+IF(COUNTIF($AD$15:AD28,AD28)>1,0,1))","v":0},{"$f":"IF(ROWS($AH$15:AH28)>MAX(AH:AH),\"\",INDEX(AD:AD,MATCH(ROWS($AH$15:AH28),AH:AH,0)))","v":""}]
[false,null,"RD2 - Potentially Preventable Readmissions",null,null,null,null,null,null,null,null,null,null,null,null,null,15.75,null,null,null,2,null,0,null,null,null,null,15,1,"","",{"$f":"AF28+IF(COUNTIF($AC$15:AC29,AC29)>1,0,1)","v":1},{"$f":"IF(ROWS(AF$15:AF29)>MAX(AF:AF),\"\",INDEX(AC:AC,MATCH(ROWS(AF$15:AF29),AF:AF,0)))","v":15},{"$f":"IF(AD29=\"\",AH28,AH28+IF(COUNTIF($AD$15:AD29,AD29)>1,0,1))","v":0},{"$f":"IF(ROWS($AH$15:AH29)>MAX(AH:AH),\"\",INDEX(AD:AD,MATCH(ROWS($AH$15:AH29),AH:AH,0)))","v":""}]
[null,null,null,null,null,null,null,null,null,null,null,null,null,null,null,null,15,null,null,null,2,null,0,null,null,null,null,16,1,"","",{"$f":"AF29+IF(COUNTIF($AC$15:AC30,AC30)>1,0,1)","v":1},{"$f":"IF(ROWS(AF$15:AF30)>MAX(AF:AF),\"\",INDEX(AC:AC,MATCH(ROWS(AF$15:AF30),AF:AF,0)))","v":16},{"$f":"IF(AD30=\"\",AH29,AH29+IF(COUNTIF($AD$15:AD30,AD30)>1,0,1))","v":0},{"$f":"IF(ROWS($AH$15:AH30)>MAX(AH:AH),\"\",INDEX(AD:AD,MATCH(ROWS($AH$15:AH30),AH:AH,0)))","v":""}]
[false,null,{"$f":"\"Will you be reporting on RD\"&$U31&\" in \"&$AM$4&\"?\"","v":"Will you be reporting on RD2 in April?"},null,null,null,null,null,null,null,null,{"$f":"\"RD\"&U31&\" Reporting Status:\"","v":"RD2 Reporting Status:"},null,null,null,null,15,{"$f":"W31","v":0},{"$f":"W31*COUNTA(F31)","v":0},null,2,null,0,null,null,null,null,17,1,"","",{"$f":"AF30+IF(COUNTIF($AC$15:AC31,AC31)>1,0,1)","v":1},{"$f":"IF(ROWS(AF$15:AF31)>MAX(AF:AF),\"\",INDEX(AC:AC,MATCH(ROWS(AF$15:AF31),AF:AF,0)))","v":17},{"$f":"IF(AD31=\"\",AH30,AH30+IF(COUNTIF($AD$15:AD31,AD31)>1,0,1))","v":0},{"$f":"IF(ROWS($AH$15:AH31)>MAX(AH:AH),\"\",INDEX(AD:AD,MATCH(ROWS($AH$15:AH31),AH:AH,0)))","v":""}]
[null,null,null,null,null,null,null,null,null,null,null,{"$f":"IF(M32=1,\"100% - Complete\",TEXT(M32,\"0%\")&\" - Incomplete\")","v":{"$error":"#DIV/0!"}},{"$f":"SUMIF(U:U,U32,S:S)/SUMIF(U:U,U32,R:R)","v":{"$error":"#DIV/0!"}},null,null,null,15,null,null,null,2,null,0,null,null,null,null,18,1,"","",{"$f":"AF31+IF(COUNTIF($AC$15:AC32,AC32)>1,0,1)","v":1},{"$f":"IF(ROWS(AF$15:AF32)>MAX(AF:AF),\"\",INDEX(AC:AC,MATCH(ROWS(AF$15:AF32),AF:AF,0)))","v":18},{"$f":"IF(AD32=\"\",AH31,AH31+IF(COUNTIF($AD$15:AD32,AD32)>1,0,1))","v":0},{"$f":"IF(ROWS($AH$15:AH32)>MAX(AH:AH),\"\",INDEX(AD:AD,MATCH(ROWS($AH$15:AH32),AH:AH,0)))","v":""}]
[{"$f":"IF(AND(OFFSET(A33,-2,0)=TRUE,OFFSET(A33,-4,0)=TRUE),\"WARNING! Domain marked for multiple NMI periods!\",\"\")","v":""},null,"Provider received Medicaid PPR report for CY2013?",null,null,null,null,null,null,null,null,null,null,null,null,null,36,{"$f":"W33","v":0},{"$f":"W33*IF(LEN(TRIM(F33))>0,1,0)","v":0},null,2,{"$f":"IF($F$31=\"Yes\",1,0)","v":0},0,null,null,null,null,19,1,"","",{"$f":"AF32+IF(COUNTIF($AC$15:AC33,AC33)>1,0,1)","v":1},{"$f":"IF(ROWS(AF$15:AF33)>MAX(AF:AF),\"\",INDEX(AC:AC,MATCH(ROWS(AF$15:AF33),AF:AF,0)))","v":19},{"$f":"IF(AD33=\"\",AH32,AH32+IF(COUNTIF($AD$15:AD33,AD33)>1,0,1))","v":0},{"$f":"IF(ROWS($AH$15:AH33)>MAX(AH:AH),\"\",INDEX(AD:AD,MATCH(ROWS($AH$15:AH33),AH:AH,0)))","v":""}]
[null,null,null,null,null,null,null,null,null,null,null,null,null,null,null,null,15,null,null,null,2,{"$f":"IF($F$31=\"Yes\",1,0)","v":0},0,null,null,null,null,20,1,"","",{"$f":"AF33+IF(COUNTIF($AC$15:AC34,AC34)>1,0,1)","v":1},{"$f":"IF(ROWS(AF$15:AF34)>MAX(AF:AF),\"\",INDEX(AC:AC,MATCH(ROWS(AF$15:AF34),AF:AF,0)))","v":20},{"$f":"IF(AD34=\"\",AH33,AH33+IF(COUNTIF($AD$15:AD34,AD34)>1,0,1))","v":0},{"$f":"IF(ROWS($AH$15:AH34)>MAX(AH:AH),\"\",INDEX(AD:AD,MATCH(ROWS($AH$15:AH34),AH:AH,0)))","v":""}]
[null,null,"Average/High Volume Providers: \n   1. Does the currently documented number of PPRs represent an increase or decrease over the last reporting \n   period? What factors have contributed to any increase or decrease? \n   2. How is this information used to inform any changes to your current processes and procedures?\n   3. How does this Medicaid only rate compare to PPRs rates for your broader population? ",null,null,null,null,null,null,"Low Volume Providers (no reports received, or reports contain flag for low volume): \n   1. Do you track PPR rates for your broader all-payer population? And if so, what trends are observed? \n   2. If PPRs are zero, is it because of a low Medicaid service volume, or processes/procedures in place that are effectively addressing \n   potentially preventable events amongst all patients served in your facility?\n   3. Describe any established processes/policies/procedures in place to identify and address PPRs in your facility.",null,null,null,null,null,null,92.25,null,null,null,2,{"$f":"IF($F$31=\"Yes\",1,0)","v":0},0,null,null,null,null,21,1,"","",{"$f":"AF34+IF(COUNTIF($AC$15:AC35,AC35)>1,0,1)","v":1},{"$f":"IF(ROWS(AF$15:AF35)>MAX(AF:AF),\"\",INDEX(AC:AC,MATCH(ROWS(AF$15:AF35),AF:AF,0)))","v":""},{"$f":"IF(AD35=\"\",AH34,AH34+IF(COUNTIF($AD$15:AD35,AD35)>1,0,1))","v":0},{"$f":"IF(ROWS($AH$15:AH35)>MAX(AH:AH),\"\",INDEX(AD:AD,MATCH(ROWS($AH$15:AH35),AH:AH,0)))","v":""}]
[null,null,null,null,null,null,null,null,null,null,null,null,null,null,null,null,88.5,{"$f":"W36","v":0},{"$f":"W36*IF(LEN(TRIM(C36))>0,1,0)","v":0},null,2,{"$f":"IF($F$31=\"Yes\",1,0)","v":0},0,null,null,null,null,22,1,"","",{"$f":"AF35+IF(COUNTIF($AC$15:AC36,AC36)>1,0,1)","v":1},{"$f":"IF(ROWS(AF$15:AF36)>MAX(AF:AF),\"\",INDEX(AC:AC,MATCH(ROWS(AF$15:AF36),AF:AF,0)))","v":""},{"$f":"IF(AD36=\"\",AH35,AH35+IF(COUNTIF($AD$15:AD36,AD36)>1,0,1))","v":0},{"$f":"IF(ROWS($AH$15:AH36)>MAX(AH:AH),\"\",INDEX(AD:AD,MATCH(ROWS($AH$15:AH36),AH:AH,0)))","v":""}]
[null,null,null,null,null,null,null,null,null,null,null,null,null,null,null,null,15,null,null,null,2,null,0,null,null,null,null,23,1,"","",{"$f":"AF36+IF(COUNTIF($AC$15:AC37,AC37)>1,0,1)","v":1},{"$f":"IF(ROWS(AF$15:AF37)>MAX(AF:AF),\"\",INDEX(AC:AC,MATCH(ROWS(AF$15:AF37),AF:AF,0)))","v":""},{"$f":"IF(AD37=\"\",AH36,AH36+IF(COUNTIF($AD$15:AD37,AD37)>1,0,1))","v":0},{"$f":"IF(ROWS($AH$15:AH37)>MAX(AH:AH),\"\",INDEX(AD:AD,MATCH(ROWS($AH$15:AH37),AH:AH,0)))","v":""}]
[false,null,"RD3 - Potentially Preventable Complications",null,null,null,null,null,null,null,null,null,null,null,null,null,15.75,null,null,null,3,null,0,null,null,null,null,24,1,"","",{"$f":"AF37+IF(COUNTIF($AC$15:AC38,AC38)>1,0,1)","v":1},{"$f":"IF(ROWS(AF$15:AF38)>MAX(AF:AF),\"\",INDEX(AC:AC,MATCH(ROWS(AF$15:AF38),AF:AF,0)))","v":""},{"$f":"IF(AD38=\"\",AH37,AH37+IF(COUNTIF($AD$15:AD38,AD38)>1,0,1))","v":0},{"$f":"IF(ROWS($AH$15:AH38)>MAX(AH:AH),\"\",INDEX(AD:AD,MATCH(ROWS($AH$15:AH38),AH:AH,0)))","v":""}]
[null,null,null,null,null,null,null,null,null,null,null,null,null,null,null,null,15,null,null,null,3,null,0,null,null,null,null,25,1,"","",{"$f":"AF38+IF(COUNTIF($AC$15:AC39,AC39)>1,0,1)","v":1},{"$f":"IF(ROWS(AF$15:AF39)>MAX(AF:AF),\"\",INDEX(AC:AC,MATCH(ROWS(AF$15:AF39),AF:AF,0)))","v":""},{"$f":"IF(AD39=\"\",AH38,AH38+IF(COUNTIF($AD$15:AD39,AD39)>1,0,1))","v":0},{"$f":"IF(ROWS($AH$15:AH39)>MAX(AH:AH),\"\",INDEX(AD:AD,MATCH(ROWS($AH$15:AH39),AH:AH,0)))","v":""}]
[false,null,{"$f":"\"Will you be reporting on RD\"&$U40&\" in \"&$AM$4&\"?\"","v":"Will you be reporting on RD3 in April?"},null,null,null,null,null,null,null,null,{"$f":"\"RD\"&U40&\" Reporting Status:\"","v":"RD3 Reporting Status:"},null,null,null,null,15,{"$f":"W40","v":0},{"$f":"W40*COUNTA(F40)","v":0},null,3,null,0,null,null,null,null,26,1,"","",{"$f":"AF39+IF(COUNTIF($AC$15:AC40,AC40)>1,0,1)","v":1},{"$f":"IF(ROWS(AF$15:AF40)>MAX(AF:AF),\"\",INDEX(AC:AC,MATCH(ROWS(AF$15:AF40),AF:AF,0)))","v":""},{"$f":"IF(AD40=\"\",AH39,AH39+IF(COUNTIF($AD$15:AD40,AD40)>1,0,1))","v":0},{"$f":"IF(ROWS($AH$15:AH40)>MAX(AH:AH),\"\",INDEX(AD:AD,MATCH(ROWS($AH$15:AH40),AH:AH,0)))","v":""}]
[null,null,null,null,null,null,null,null,null,null,null,{"$f":"IF(M41=1,\"100% - Complete\",TEXT(M41,\"0%\")&\" - Incomplete\")","v":{"$error":"#DIV/0!"}},{"$f":"SUMIF(U:U,U41,S:S)/SUMIF(U:U,U41,R:R)","v":{"$error":"#DIV/0!"}},null,null,null,15,null,null,null,3,null,0,null,null,null,null,27,1,"","",{"$f":"AF40+IF(COUNTIF($AC$15:AC41,AC41)>1,0,1)","v":1},{"$f":"IF(ROWS(AF$15:AF41)>MAX(AF:AF),\"\",INDEX(AC:AC,MATCH(ROWS(AF$15:AF41),AF:AF,0)))","v":""},{"$f":"IF(AD41=\"\",AH40,AH40+IF(COUNTIF($AD$15:AD41,AD41)>1,0,1))","v":0},{"$f":"IF(ROWS($AH$15:AH41)>MAX(AH:AH),\"\",INDEX(AD:AD,MATCH(ROWS($AH$15:AH41),AH:AH,0)))","v":""}]
[{"$f":"IF(AND(OFFSET(A42,-2,0)=TRUE,OFFSET(A42,-4,0)=TRUE),\"WARNING! Domain marked for multiple NMI periods!\",\"\")","v":""},null,"Provider received Medicaid PPC report for CY2013?",null,null,null,null,null,null,null,null,null,null,null,null,null,36,{"$f":"W42","v":0},{"$f":"W42*IF(LEN(TRIM(F42))>0,1,0)","v":0},null,3,{"$f":"IF($F$40=\"Yes\",1,0)","v":0},0,null,null,null,null,28,1,"","",{"$f":"AF41+IF(COUNTIF($AC$15:AC42,AC42)>1,0,1)","v":1},{"$f":"IF(ROWS(AF$15:AF42)>MAX(AF:AF),\"\",INDEX(AC:AC,MATCH(ROWS(AF$15:AF42),AF:AF,0)))","v":""},{"$f":"IF(AD42=\"\",AH41,AH41+IF(COUNTIF($AD$15:AD42,AD42)>1,0,1))","v":0},{"$f":"IF(ROWS($AH$15:AH42)>MAX(AH:AH),\"\",INDEX(AD:AD,MATCH(ROWS($AH$15:AH42),AH:AH,0)))","v":""}]
[null,null,null,null,null,null,null,null,null,null,null,null,null,null,null,null,15,null,null,null,3,{"$f":"IF($F$40=\"Yes\",1,0)","v":0},0,null,null,null,null,29,1,"","",{"$f":"AF42+IF(COUNTIF($AC$15:AC43,AC43)>1,0,1)","v":1},{"$f":"IF(ROWS(AF$15:AF43)>MAX(AF:AF),\"\",INDEX(AC:AC,MATCH(ROWS(AF$15:AF43),AF:AF,0)))","v":""},{"$f":"IF(AD43=\"\",AH42,AH42+IF(COUNTIF($AD$15:AD43,AD43)>1,0,1))","v":0},{"$f":"IF(ROWS($AH$15:AH43)>MAX(AH:AH),\"\",INDEX(AD:AD,MATCH(ROWS($AH$15:AH43),AH:AH,0)))","v":""}]
[null,null,"Average/High Volume Providers: \n   1. How is this information used to inform any changes to your current processes and procedures?\n   2. How does this Medicaid only rate compare to any recent data on medical/surgical complication rates for your broader population?",null,null,null,null,null,null,"Low Volume Providers (no reports received, or reports contain flag for low volume): \n   1. Do you track medical/surgical complication rates for your broader all-payer population? And if so, what trends are observed? \n   2. If PPCs are zero, is it because of a low Medicaid service volume, or processes/procedures in place that are effectively addressing \n   potentially preventable events amongst all patients served in your facility?\n   3. Describe any established processes/policies/procedures in place to identify and address PPCs in your facility.",null,null,null,null,null,null,92.25,null,null,null,3,{"$f":"IF($F$40=\"Yes\",1,0)","v":0},0,null,null,null,null,30,1,"","",{"$f":"AF43+IF(COUNTIF($AC$15:AC44,AC44)>1,0,1)","v":1},{"$f":"IF(ROWS(AF$15:AF44)>MAX(AF:AF),\"\",INDEX(AC:AC,MATCH(ROWS(AF$15:AF44),AF:AF,0)))","v":""},{"$f":"IF(AD44=\"\",AH43,AH43+IF(COUNTIF($AD$15:AD44,AD44)>1,0,1))","v":0},{"$f":"IF(ROWS($AH$15:AH44)>MAX(AH:AH),\"\",INDEX(AD:AD,MATCH(ROWS($AH$15:AH44),AH:AH,0)))","v":""}]
[null,null,null,null,null,null,null,null,null,null,null,null,null,null,null,null,88.5,{"$f":"W45","v":0},{"$f":"W45*IF(LEN(TRIM(C45))>0,1,0)","v":0},null,3,{"$f":"IF($F$40=\"Yes\",1,0)","v":0},0,null,null,null,null,31,1,"","",{"$f":"AF44+IF(COUNTIF($AC$15:AC45,AC45)>1,0,1)","v":1},{"$f":"IF(ROWS(AF$15:AF45)>MAX(AF:AF),\"\",INDEX(AC:AC,MATCH(ROWS(AF$15:AF45),AF:AF,0)))","v":""},{"$f":"IF(AD45=\"\",AH44,AH44+IF(COUNTIF($AD$15:AD45,AD45)>1,0,1))","v":0},{"$f":"IF(ROWS($AH$15:AH45)>MAX(AH:AH),\"\",INDEX(AD:AD,MATCH(ROWS($AH$15:AH45),AH:AH,0)))","v":""}]
[null,null,null,null,null,null,null,null,null,null,null,null,null,null,null,null,15,null,null,null,3,{"$f":"IF($F$40=\"Yes\",1,0)","v":0},0,null,null,null,null,32,1,"","",{"$f":"AF45+IF(COUNTIF($AC$15:AC46,AC46)>1,0,1)","v":1},{"$f":"IF(ROWS(AF$15:AF46)>MAX(AF:AF),\"\",INDEX(AC:AC,MATCH(ROWS(AF$15:AF46),AF:AF,0)))","v":""},{"$f":"IF(AD46=\"\",AH45,AH45+IF(COUNTIF($AD$15:AD46,AD46)>1,0,1))","v":0},{"$f":"IF(ROWS($AH$15:AH46)>MAX(AH:AH),\"\",INDEX(AD:AD,MATCH(ROWS($AH$15:AH46),AH:AH,0)))","v":""}]
[null,null,"RD 1 - 3 Population Service Breakdown",null,null,null,null,null,null,null,null,null,null,null,null,null,15.75,null,null,null,null,{"$f":"IF(OR($F$40=\"Yes\",$F$31=\"Yes\",$F$22=\"Yes\"),1,0)","v":0},{"$f":"V47","v":0},null,null,null,null,33,1,"","",{"$f":"AF46+IF(COUNTIF($AC$15:AC47,AC47)>1,0,1)","v":1},{"$f":"IF(ROWS(AF$15:AF47)>MAX(AF:AF),\"\",INDEX(AC:AC,MATCH(ROWS(AF$15:AF47),AF:AF,0)))","v":""},{"$f":"IF(AD47=\"\",AH46,AH46+IF(COUNTIF($AD$15:AD47,AD47)>1,0,1))","v":0},{"$f":"IF(ROWS($AH$15:AH47)>MAX(AH:AH),\"\",INDEX(AD:AD,MATCH(ROWS($AH$15:AH47),AH:AH,0)))","v":""}]
[null,null,null,null,null,null,null,null,null,null,null,null,null,null,"Question Language:",null,15,null,null,null,null,{"$f":"IF(OR($F$40=\"Yes\",$F$31=\"Yes\",$F$22=\"Yes\"),1,0)","v":0},{"$f":"V48","v":0},null,null,null,null,34,1,"","",{"$f":"AF47+IF(COUNTIF($AC$15:AC48,AC48)>1,0,1)","v":1},{"$f":"IF(ROWS(AF$15:AF48)>MAX(AF:AF),\"\",INDEX(AC:AC,MATCH(ROWS(AF$15:AF48),AF:AF,0)))","v":""},{"$f":"IF(AD48=\"\",AH47,AH47+IF(COUNTIF($AD$15:AD48,AD48)>1,0,1))","v":0},{"$f":"IF(ROWS($AH$15:AH48)>MAX(AH:AH),\"\",INDEX(AD:AD,MATCH(ROWS($AH$15:AH48),AH:AH,0)))","v":""}]
[null,null,{"$f":"O49","v":"1. What portion of your facilities service volume represented in these Medicaid only PPC rates? What is your estimated breakdown of Medicaid, Medicare, Uninsured, and Indigent served at this facility?\n2. Are you a rural or certified Critical Access Hospital?"},null,null,null,null,null,null,null,null,null,null,null,{"$f":"\"1. What portion of your facilities service volume represented in these Medicaid only \"&O50&\" rates? What is your estimated breakdown of Medicaid, Medicare, Uninsured, and Indigent served at this facility?\n2. Are you a rural or certified Critical Access Hospital?\"","v":"1. What portion of your facilities service volume represented in these Medicaid only PPC rates? What is your estimated breakdown of Medicaid, Medicare, Uninsured, and Indigent served at this facility?\n2. Are you a rural or certified Critical Access Hospital?"},null,45,null,null,null,null,0,0,null,null,null,null,35,1,"","",{"$f":"AF48+IF(COUNTIF($AC$15:AC49,AC49)>1,0,1)","v":1},{"$f":"IF(ROWS(AF$15:AF49)>MAX(AF:AF),\"\",INDEX(AC:AC,MATCH(ROWS(AF$15:AF49),AF:AF,0)))","v":""},{"$f":"IF(AD49=\"\",AH48,AH48+IF(COUNTIF($AD$15:AD49,AD49)>1,0,1))","v":0},{"$f":"IF(ROWS($AH$15:AH49)>MAX(AH:AH),\"\",INDEX(AD:AD,MATCH(ROWS($AH$15:AH49),AH:AH,0)))","v":""}]
[null,null,null,null,null,null,null,null,null,null,null,null,null,null,{"$f":"IF(AND($F$22=\"Yes\",$F$31=\"Yes\",$F$40=\"Yes\"),\"PPA/PPR/PPC\",IF(AND($F$22=\"Yes\",$F$31=\"Yes\"),\"PPA/PPR\",IF(AND($F$22=\"Yes\",$F$40=\"Yes\"),\"PPA/PPC\",IF(AND($F$31=\"Yes\",$F$40=\"Yes\"),\"PPR/PPC\",IF($F$22=\"Yes\",\"PPA\",IF($F$31=\"Yes\",\"PPR\",\"PPC\"))))))","v":"PPC"},null,60,{"$f":"W50","v":0},{"$f":"W50*IF(LEN(TRIM(C50))>0,1,0)","v":0},null,null,0,0,null,null,null,null,36,1,"","",{"$f":"AF49+IF(COUNTIF($AC$15:AC50,AC50)>1,0,1)","v":1},{"$f":"IF(ROWS(AF$15:AF50)>MAX(AF:AF),\"\",INDEX(AC:AC,MATCH(ROWS(AF$15:AF50),AF:AF,0)))","v":""},{"$f":"IF(AD50=\"\",AH49,AH49+IF(COUNTIF($AD$15:AD50,AD50)>1,0,1))","v":0},{"$f":"IF(ROWS($AH$15:AH50)>MAX(AH:AH),\"\",INDEX(AD:AD,MATCH(ROWS($AH$15:AH50),AH:AH,0)))","v":""}]
[null,null,null,null,null,null,null,null,null,null,null,null,null,null,null,null,15,null,null,null,4,null,0,null,null,null,null,37,1,"","",{"$f":"AF50+IF(COUNTIF($AC$15:AC51,AC51)>1,0,1)","v":1},{"$f":"IF(ROWS(AF$15:AF51)>MAX(AF:AF),\"\",INDEX(AC:AC,MATCH(ROWS(AF$15:AF51),AF:AF,0)))","v":""},{"$f":"IF(AD51=\"\",AH50,AH50+IF(COUNTIF($AD$15:AD51,AD51)>1,0,1))","v":0},{"$f":"IF(ROWS($AH$15:AH51)>MAX(AH:AH),\"\",INDEX(AD:AD,MATCH(ROWS($AH$15:AH51),AH:AH,0)))","v":""}]
[false,null,"RD4 - Patient-Centered Healthcare",null,null,null,null,null,null,null,null,null,null,null,null,null,15.75,null,null,null,4,null,0,null,null,null,null,38,1,"","",{"$f":"AF51+IF(COUNTIF($AC$15:AC52,AC52)>1,0,1)","v":1},{"$f":"IF(ROWS(AF$15:AF52)>MAX(AF:AF),\"\",INDEX(AC:AC,MATCH(ROWS(AF$15:AF52),AF:AF,0)))","v":""},{"$f":"IF(AD52=\"\",AH51,AH51+IF(COUNTIF($AD$15:AD52,AD52)>1,0,1))","v":0},{"$f":"IF(ROWS($AH$15:AH52)>MAX(AH:AH),\"\",INDEX(AD:AD,MATCH(ROWS($AH$15:AH52),AH:AH,0)))","v":""}]
[null,null,null,null,null,null,null,null,null,null,null,null,null,null,null,null,15,null,null,null,4,null,0,null,null,null,null,39,1,"","",{"$f":"AF52+IF(COUNTIF($AC$15:AC53,AC53)>1,0,1)","v":1},{"$f":"IF(ROWS(AF$15:AF53)>MAX(AF:AF),\"\",INDEX(AC:AC,MATCH(ROWS(AF$15:AF53),AF:AF,0)))","v":""},{"$f":"IF(AD53=\"\",AH52,AH52+IF(COUNTIF($AD$15:AD53,AD53)>1,0,1))","v":0},{"$f":"IF(ROWS($AH$15:AH53)>MAX(AH:AH),\"\",INDEX(AD:AD,MATCH(ROWS($AH$15:AH53),AH:AH,0)))","v":""}]
[false,null,{"$f":"\"Will you be reporting on RD\"&$U54&\" in \"&$AM$4&\"?\"","v":"Will you be reporting on RD4 in April?"},null,null,null,null,null,null,null,null,{"$f":"\"RD\"&U54&\" Reporting Status:\"","v":"RD4 Reporting Status:"},null,null,null,null,15,{"$f":"W54","v":0},{"$f":"W54*COUNTA(F54)","v":0},null,4,null,0,null,null,null,null,40,1,"","",{"$f":"AF53+IF(COUNTIF($AC$15:AC54,AC54)>1,0,1)","v":1},{"$f":"IF(ROWS(AF$15:AF54)>MAX(AF:AF),\"\",INDEX(AC:AC,MATCH(ROWS(AF$15:AF54),AF:AF,0)))","v":""},{"$f":"IF(AD54=\"\",AH53,AH53+IF(COUNTIF($AD$15:AD54,AD54)>1,0,1))","v":0},{"$f":"IF(ROWS($AH$15:AH54)>MAX(AH:AH),\"\",INDEX(AD:AD,MATCH(ROWS($AH$15:AH54),AH:AH,0)))","v":""}]
[null,null,null,null,null,null,null,null,null,null,null,{"$f":"IF(M55=1,\"100% - Complete\",TEXT(M55,\"0%\")&\" - Incomplete\")","v":{"$error":"#DIV/0!"}},{"$f":"SUMIF(U:U,U55,S:S)/SUMIF(U:U,U55,R:R)","v":{"$error":"#DIV/0!"}},null,null,null,15,null,null,null,4,null,0,null,null,null,null,41,1,"","",{"$f":"AF54+IF(COUNTIF($AC$15:AC55,AC55)>1,0,1)","v":1},{"$f":"IF(ROWS(AF$15:AF55)>MAX(AF:AF),\"\",INDEX(AC:AC,MATCH(ROWS(AF$15:AF55),AF:AF,0)))","v":""},{"$f":"IF(AD55=\"\",AH54,AH54+IF(COUNTIF($AD$15:AD55,AD55)>1,0,1))","v":0},{"$f":"IF(ROWS($AH$15:AH55)>MAX(AH:AH),\"\",INDEX(AD:AD,MATCH(ROWS($AH$15:AH55),AH:AH,0)))","v":""}]
[{"$f":"IF(AND(OFFSET(A56,-2,0)=TRUE,OFFSET(A56,-4,0)=TRUE),\"WARNING! Domain marked for multiple NMI periods!\",\"\")","v":""},null,"First Component: Patient Satisfaction",null,null,null,null,null,null,null,null,null,null,null,null,null,15.75,null,null,null,4,{"$f":"IF($F$54=\"Yes\",1,0)","v":0},0,null,null,null,null,42,1,"","",{"$f":"AF55+IF(COUNTIF($AC$15:AC56,AC56)>1,0,1)","v":1},{"$f":"IF(ROWS(AF$15:AF56)>MAX(AF:AF),\"\",INDEX(AC:AC,MATCH(ROWS(AF$15:AF56),AF:AF,0)))","v":""},{"$f":"IF(AD56=\"\",AH55,AH55+IF(COUNTIF($AD$15:AD56,AD56)>1,0,1))","v":0},{"$f":"IF(ROWS($AH$15:AH56)>MAX(AH:AH),\"\",INDEX(AD:AD,MATCH(ROWS($AH$15:AH56),AH:AH,0)))","v":""}]
[null,null,"DY4 Measurement Period:",null,{"$f":"AL18","v":{"$error":"#N/A"}},null,null,null,null,null,null,null,null,null,null,null,15,null,null,null,4,{"$f":"IF(AND($F$54=\"Yes\",ISERROR(SEARCH(\"TBD\",$AL$18))),1,0)","v":0},0,null,null,null,null,43,1,"","",{"$f":"AF56+IF(COUNTIF($AC$15:AC57,AC57)>1,0,1)","v":1},{"$f":"IF(ROWS(AF$15:AF57)>MAX(AF:AF),\"\",INDEX(AC:AC,MATCH(ROWS(AF$15:AF57),AF:AF,0)))","v":""},{"$f":"IF(AD57=\"\",AH56,AH56+IF(COUNTIF($AD$15:AD57,AD57)>1,0,1))","v":0},{"$f":"IF(ROWS($AH$15:AH57)>MAX(AH:AH),\"\",INDEX(AD:AD,MATCH(ROWS($AH$15:AH57),AH:AH,0)))","v":""}]
[null,null,"Select Component 1 DY4 Measurement Period:",null,null,null,null,null,null,null,null,null,null,null,null,null,15,null,null,null,4,{"$f":"IF(AND($F$54=\"Yes\",NOT(ISERROR(SEARCH(\"TBD\",$AL$18)))),1,0)","v":0},0,null,null,null,null,44,1,"","",{"$f":"AF57+IF(COUNTIF($AC$15:AC58,AC58)>1,0,1)","v":1},{"$f":"IF(ROWS(AF$15:AF58)>MAX(AF:AF),\"\",INDEX(AC:AC,MATCH(ROWS(AF$15:AF58),AF:AF,0)))","v":""},{"$f":"IF(AD58=\"\",AH57,AH57+IF(COUNTIF($AD$15:AD58,AD58)>1,0,1))","v":0},{"$f":"IF(ROWS($AH$15:AH58)>MAX(AH:AH),\"\",INDEX(AD:AD,MATCH(ROWS($AH$15:AH58),AH:AH,0)))","v":""}]
[null,null,"Start:",null,"End:",null,null,null,null,null,null,null,null,null,null,null,15,{"$f":"W59*2","v":0},{"$f":"W59*COUNTA(D59,F59)","v":0},null,4,{"$f":"IF(AND($F$54=\"Yes\",NOT(ISERROR(SEARCH(\"TBD\",$AL$18)))),1,0)","v":0},0,null,null,null,null,45,1,"","",{"$f":"AF58+IF(COUNTIF($AC$15:AC59,AC59)>1,0,1)","v":1},{"$f":"IF(ROWS(AF$15:AF59)>MAX(AF:AF),\"\",INDEX(AC:AC,MATCH(ROWS(AF$15:AF59),AF:AF,0)))","v":""},{"$f":"IF(AD59=\"\",AH58,AH58+IF(COUNTIF($AD$15:AD59,AD59)>1,0,1))","v":0},{"$f":"IF(ROWS($AH$15:AH59)>MAX(AH:AH),\"\",INDEX(AD:AD,MATCH(ROWS($AH$15:AH59),AH:AH,0)))","v":""}]
[null,null,null,null,null,null,null,null,null,null,null,null,null,null,null,null,15,null,null,null,4,{"$f":"IF($F$54=\"Yes\",1,0)","v":0},0,null,null,null,null,46,1,"","",{"$f":"AF59+IF(COUNTIF($AC$15:AC60,AC60)>1,0,1)","v":1},{"$f":"IF(ROWS(AF$15:AF60)>MAX(AF:AF),\"\",INDEX(AC:AC,MATCH(ROWS(AF$15:AF60),AF:AF,0)))","v":""},{"$f":"IF(AD60=\"\",AH59,AH59+IF(COUNTIF($AD$15:AD60,AD60)>1,0,1))","v":0},{"$f":"IF(ROWS($AH$15:AH60)>MAX(AH:AH),\"\",INDEX(AD:AD,MATCH(ROWS($AH$15:AH60),AH:AH,0)))","v":""}]
[null,null,"HCAHPS Survey ",null,null,null,null,null,null,null,"Provider % ",null,null,null,null,null,15,null,null,null,4,0,0,null,null,null,null,47,1,"","",{"$f":"AF60+IF(COUNTIF($AC$15:AC61,AC61)>1,0,1)","v":1},{"$f":"IF(ROWS(AF$15:AF61)>MAX(AF:AF),\"\",INDEX(AC:AC,MATCH(ROWS(AF$15:AF61),AF:AF,0)))","v":""},{"$f":"IF(AD61=\"\",AH60,AH60+IF(COUNTIF($AD$15:AD61,AD61)>1,0,1))","v":0},{"$f":"IF(ROWS($AH$15:AH61)>MAX(AH:AH),\"\",INDEX(AD:AD,MATCH(ROWS($AH$15:AH61),AH:AH,0)))","v":""}]
[null,null,"Percent of patients who reported that their doctors \"Always\" communicated well",null,null,null,null,null,null,null,null,null,null,null,null,null,15,{"$f":"W62","v":0},{"$f":"W62*COUNTA(K62)","v":0},null,4,0,0,null,null,null,null,48,1,"","",{"$f":"AF61+IF(COUNTIF($AC$15:AC62,AC62)>1,0,1)","v":1},{"$f":"IF(ROWS(AF$15:AF62)>MAX(AF:AF),\"\",INDEX(AC:AC,MATCH(ROWS(AF$15:AF62),AF:AF,0)))","v":""},{"$f":"IF(AD62=\"\",AH61,AH61+IF(COUNTIF($AD$15:AD62,AD62)>1,0,1))","v":0},{"$f":"IF(ROWS($AH$15:AH62)>MAX(AH:AH),\"\",INDEX(AD:AD,MATCH(ROWS($AH$15:AH62),AH:AH,0)))","v":""}]
[null,null,"Percent of patients who reported that their nurses \"Always\" communicated well",null,null,null,null,null,null,null,null,null,null,null,null,null,15,{"$f":"W63","v":0},{"$f":"W63*COUNTA(K63)","v":0},null,4,0,0,null,null,null,null,49,1,"","",{"$f":"AF62+IF(COUNTIF($AC$15:AC63,AC63)>1,0,1)","v":1},{"$f":"IF(ROWS(AF$15:AF63)>MAX(AF:AF),\"\",INDEX(AC:AC,MATCH(ROWS(AF$15:AF63),AF:AF,0)))","v":""},{"$f":"IF(AD63=\"\",AH62,AH62+IF(COUNTIF($AD$15:AD63,AD63)>1,0,1))","v":0},{"$f":"IF(ROWS($AH$15:AH63)>MAX(AH:AH),\"\",INDEX(AD:AD,MATCH(ROWS($AH$15:AH63),AH:AH,0)))","v":""}]
[null,null,"Percent of patients who reported that their pain was \"Always\" well controlled",null,null,null,null,null,null,null,null,null,null,null,null,null,15,0,0,null,4,0,0,null,null,null,null,50,1,"","",{"$f":"AF63+IF(COUNTIF($AC$15:AC64,AC64)>1,0,1)","v":1},{"$f":"IF(ROWS(AF$15:AF64)>MAX(AF:AF),\"\",INDEX(AC:AC,MATCH(ROWS(AF$15:AF64),AF:AF,0)))","v":""},{"$f":"IF(AD64=\"\",AH63,AH63+IF(COUNTIF($AD$15:AD64,AD64)>1,0,1))","v":0},{"$f":"IF(ROWS($AH$15:AH64)>MAX(AH:AH),\"\",INDEX(AD:AD,MATCH(ROWS($AH$15:AH64),AH:AH,0)))","v":""}]
[null,null,"Percent of patients who reported that staff \"Always\" explained about medicines before giving it to them",null,null,null,null,null,null,null,null,null,null,null,null,null,15,0,0,null,4,0,0,null,null,null,null,51,1,"","",{"$f":"AF64+IF(COUNTIF($AC$15:AC65,AC65)>1,0,1)","v":1},{"$f":"IF(ROWS(AF$15:AF65)>MAX(AF:AF),\"\",INDEX(AC:AC,MATCH(ROWS(AF$15:AF65),AF:AF,0)))","v":""},{"$f":"IF(AD65=\"\",AH64,AH64+IF(COUNTIF($AD$15:AD65,AD65)>1,0,1))","v":0},{"$f":"IF(ROWS($AH$15:AH65)>MAX(AH:AH),\"\",INDEX(AD:AD,MATCH(ROWS($AH$15:AH65),AH:AH,0)))","v":""}]
[null,null,"Percent of patients who reported that YES, they were given information about what to do during their recovery at home",null,null,null,null,null,null,null,null,null,null,null,null,null,15,0,0,null,4,0,0,null,null,null,null,52,1,"","",{"$f":"AF65+IF(COUNTIF($AC$15:AC66,AC66)>1,0,1)","v":1},{"$f":"IF(ROWS(AF$15:AF66)>MAX(AF:AF),\"\",INDEX(AC:AC,MATCH(ROWS(AF$15:AF66),AF:AF,0)))","v":""},{"$f":"IF(AD66=\"\",AH65,AH65+IF(COUNTIF($AD$15:AD66,AD66)>1,0,1))","v":0},{"$f":"IF(ROWS($AH$15:AH66)>MAX(AH:AH),\"\",INDEX(AD:AD,MATCH(ROWS($AH$15:AH66),AH:AH,0)))","v":""}]
[null,null,"Percent of patients who reported that their room and bathroom were \"Always\" clean",null,null,null,null,null,null,null,null,null,null,null,null,null,15,0,0,null,4,0,0,null,null,null,null,53,1,"","",{"$f":"AF66+IF(COUNTIF($AC$15:AC67,AC67)>1,0,1)","v":1},{"$f":"IF(ROWS(AF$15:AF67)>MAX(AF:AF),\"\",INDEX(AC:AC,MATCH(ROWS(AF$15:AF67),AF:AF,0)))","v":""},{"$f":"IF(AD67=\"\",AH66,AH66+IF(COUNTIF($AD$15:AD67,AD67)>1,0,1))","v":0},{"$f":"IF(ROWS($AH$15:AH67)>MAX(AH:AH),\"\",INDEX(AD:AD,MATCH(ROWS($AH$15:AH67),AH:AH,0)))","v":""}]
[null,null,"Percent of patients who reported that the area around their room was \"Always\" quiet at night",null,null,null,null,null,null,null,null,null,null,null,null,null,15,0,0,null,4,0,0,null,null,null,null,54,1,"","",{"$f":"AF67+IF(COUNTIF($AC$15:AC68,AC68)>1,0,1)","v":1},{"$f":"IF(ROWS(AF$15:AF68)>MAX(AF:AF),\"\",INDEX(AC:AC,MATCH(ROWS(AF$15:AF68),AF:AF,0)))","v":""},{"$f":"IF(AD68=\"\",AH67,AH67+IF(COUNTIF($AD$15:AD68,AD68)>1,0,1))","v":0},{"$f":"IF(ROWS($AH$15:AH68)>MAX(AH:AH),\"\",INDEX(AD:AD,MATCH(ROWS($AH$15:AH68),AH:AH,0)))","v":""}]
[null,null,"Percent of patients who gave their hospital a rating of 9 or 10 on a scale from 0 (lowest) to 10 (highest)",null,null,null,null,null,null,null,null,null,null,null,null,null,15,0,0,null,4,0,0,null,null,null,null,55,1,"","",{"$f":"AF68+IF(COUNTIF($AC$15:AC69,AC69)>1,0,1)","v":1},{"$f":"IF(ROWS(AF$15:AF69)>MAX(AF:AF),\"\",INDEX(AC:AC,MATCH(ROWS(AF$15:AF69),AF:AF,0)))","v":""},{"$f":"IF(AD69=\"\",AH68,AH68+IF(COUNTIF($AD$15:AD69,AD69)>1,0,1))","v":0},{"$f":"IF(ROWS($AH$15:AH69)>MAX(AH:AH),\"\",INDEX(AD:AD,MATCH(ROWS($AH$15:AH69),AH:AH,0)))","v":""}]
[null,null,"Percent of Patients who reported YES, they would definitely recommend the hospital",null,null,null,null,null,null,null,null,null,null,null,null,null,15,0,0,null,4,0,0,null,null,null,null,56,1,"","",{"$f":"AF69+IF(COUNTIF($AC$15:AC70,AC70)>1,0,1)","v":1},{"$f":"IF(ROWS(AF$15:AF70)>MAX(AF:AF),\"\",INDEX(AC:AC,MATCH(ROWS(AF$15:AF70),AF:AF,0)))","v":""},{"$f":"IF(AD70=\"\",AH69,AH69+IF(COUNTIF($AD$15:AD70,AD70)>1,0,1))","v":0},{"$f":"IF(ROWS($AH$15:AH70)>MAX(AH:AH),\"\",INDEX(AD:AD,MATCH(ROWS($AH$15:AH70),AH:AH,0)))","v":""}]
[null,null,null,null,null,null,null,null,null,null,null,null,null,null,null,null,15,null,null,null,4,0,0,null,null,null,null,57,1,"","",{"$f":"AF70+IF(COUNTIF($AC$15:AC71,AC71)>1,0,1)","v":1},{"$f":"IF(ROWS(AF$15:AF71)>MAX(AF:AF),\"\",INDEX(AC:AC,MATCH(ROWS(AF$15:AF71),AF:AF,0)))","v":""},{"$f":"IF(AD71=\"\",AH70,AH70+IF(COUNTIF($AD$15:AD71,AD71)>1,0,1))","v":0},{"$f":"IF(ROWS($AH$15:AH71)>MAX(AH:AH),\"\",INDEX(AD:AD,MATCH(ROWS($AH$15:AH71),AH:AH,0)))","v":""}]
[null,null,"Do the HCAHPS results reported in DY4 represent a change over the prior reporting period? What factors have contributed to any increase or decrease?",null,null,null,null,null,null,null,null,null,null,null,null,null,15,null,null,null,4,0,0,null,null,null,null,58,1,"","",{"$f":"AF71+IF(COUNTIF($AC$15:AC72,AC72)>1,0,1)","v":1},{"$f":"IF(ROWS(AF$15:AF72)>MAX(AF:AF),\"\",INDEX(AC:AC,MATCH(ROWS(AF$15:AF72),AF:AF,0)))","v":""},{"$f":"IF(AD72=\"\",AH71,AH71+IF(COUNTIF($AD$15:AD72,AD72)>1,0,1))","v":0},{"$f":"IF(ROWS($AH$15:AH72)>MAX(AH:AH),\"\",INDEX(AD:AD,MATCH(ROWS($AH$15:AH72),AH:AH,0)))","v":""}]
[null,null,null,null,null,null,null,null,null,null,null,null,null,null,null,null,36,{"$f":"W73","v":0},{"$f":"W73*IF(LEN(TRIM(C73))>0,1,0)","v":0},null,4,0,0,null,null,null,null,59,1,"","",{"$f":"AF72+IF(COUNTIF($AC$15:AC73,AC73)>1,0,1)","v":1},{"$f":"IF(ROWS(AF$15:AF73)>MAX(AF:AF),\"\",INDEX(AC:AC,MATCH(ROWS(AF$15:AF73),AF:AF,0)))","v":""},{"$f":"IF(AD73=\"\",AH72,AH72+IF(COUNTIF($AD$15:AD73,AD73)>1,0,1))","v":0},{"$f":"IF(ROWS($AH$15:AH73)>MAX(AH:AH),\"\",INDEX(AD:AD,MATCH(ROWS($AH$15:AH73),AH:AH,0)))","v":""}]
[null,null,null,null,null,null,null,null,null,null,null,null,null,null,null,null,15,null,null,null,4,0,0,null,null,null,null,60,1,"","",{"$f":"AF73+IF(COUNTIF($AC$15:AC74,AC74)>1,0,1)","v":1},{"$f":"IF(ROWS(AF$15:AF74)>MAX(AF:AF),\"\",INDEX(AC:AC,MATCH(ROWS(AF$15:AF74),AF:AF,0)))","v":""},{"$f":"IF(AD74=\"\",AH73,AH73+IF(COUNTIF($AD$15:AD74,AD74)>1,0,1))","v":0},{"$f":"IF(ROWS($AH$15:AH74)>MAX(AH:AH),\"\",INDEX(AD:AD,MATCH(ROWS($AH$15:AH74),AH:AH,0)))","v":""}]
[null,null,"Second Component: Medication Management",null,null,null,null,null,null,null,null,null,null,null,null,null,15.75,null,null,null,4,0,0,null,null,null,null,61,1,"","",{"$f":"AF74+IF(COUNTIF($AC$15:AC75,AC75)>1,0,1)","v":1},{"$f":"IF(ROWS(AF$15:AF75)>MAX(AF:AF),\"\",INDEX(AC:AC,MATCH(ROWS(AF$15:AF75),AF:AF,0)))","v":""},{"$f":"IF(AD75=\"\",AH74,AH74+IF(COUNTIF($AD$15:AD75,AD75)>1,0,1))","v":0},{"$f":"IF(ROWS($AH$15:AH75)>MAX(AH:AH),\"\",INDEX(AD:AD,MATCH(ROWS($AH$15:AH75),AH:AH,0)))","v":""}]
[null,null,"DY4 Measurement Period:",null,{"$f":"AM18","v":{"$error":"#N/A"}},null,null,null,null,null,null,null,null,null,null,null,15,null,null,null,4,{"$f":"IF(AND($F$54=\"Yes\",ISERROR(SEARCH(\"TBD\",$AM$18))),1,0)","v":0},0,null,null,null,null,62,1,"","",{"$f":"AF75+IF(COUNTIF($AC$15:AC76,AC76)>1,0,1)","v":1},{"$f":"IF(ROWS(AF$15:AF76)>MAX(AF:AF),\"\",INDEX(AC:AC,MATCH(ROWS(AF$15:AF76),AF:AF,0)))","v":""},{"$f":"IF(AD76=\"\",AH75,AH75+IF(COUNTIF($AD$15:AD76,AD76)>1,0,1))","v":0},{"$f":"IF(ROWS($AH$15:AH76)>MAX(AH:AH),\"\",INDEX(AD:AD,MATCH(ROWS($AH$15:AH76),AH:AH,0)))","v":""}]
[null,null,"Select Component 1 DY4 Measurement Period:",null,null,null,null,null,null,null,null,null,null,null,null,null,15,null,null,null,4,{"$f":"IF(AND($F$54=\"Yes\",NOT(ISERROR(SEARCH(\"TBD\",$AM$18)))),1,0)","v":0},0,null,null,null,null,63,1,"","",{"$f":"AF76+IF(COUNTIF($AC$15:AC77,AC77)>1,0,1)","v":1},{"$f":"IF(ROWS(AF$15:AF77)>MAX(AF:AF),\"\",INDEX(AC:AC,MATCH(ROWS(AF$15:AF77),AF:AF,0)))","v":""},{"$f":"IF(AD77=\"\",AH76,AH76+IF(COUNTIF($AD$15:AD77,AD77)>1,0,1))","v":0},{"$f":"IF(ROWS($AH$15:AH77)>MAX(AH:AH),\"\",INDEX(AD:AD,MATCH(ROWS($AH$15:AH77),AH:AH,0)))","v":""}]
[null,null,"Start:",null,"End:",null,null,null,null,null,null,null,null,null,null,null,15,{"$f":"W78*2","v":0},{"$f":"W78*COUNTA(D78,F78)","v":0},null,4,{"$f":"IF(AND($F$54=\"Yes\",NOT(ISERROR(SEARCH(\"TBD\",$AM$18)))),1,0)","v":0},0,null,null,null,null,64,1,"","",{"$f":"AF77+IF(COUNTIF($AC$15:AC78,AC78)>1,0,1)","v":1},{"$f":"IF(ROWS(AF$15:AF78)>MAX(AF:AF),\"\",INDEX(AC:AC,MATCH(ROWS(AF$15:AF78),AF:AF,0)))","v":""},{"$f":"IF(AD78=\"\",AH77,AH77+IF(COUNTIF($AD$15:AD78,AD78)>1,0,1))","v":0},{"$f":"IF(ROWS($AH$15:AH78)>MAX(AH:AH),\"\",INDEX(AD:AD,MATCH(ROWS($AH$15:AH78),AH:AH,0)))","v":""}]
[null,null,null,null,null,null,null,null,null,null,null,null,null,null,null,null,15,null,null,null,4,{"$f":"IF($F$54=\"Yes\",1,0)","v":0},0,null,null,null,null,65,1,"","",{"$f":"AF78+IF(COUNTIF($AC$15:AC79,AC79)>1,0,1)","v":1},{"$f":"IF(ROWS(AF$15:AF79)>MAX(AF:AF),\"\",INDEX(AC:AC,MATCH(ROWS(AF$15:AF79),AF:AF,0)))","v":""},{"$f":"IF(AD79=\"\",AH78,AH78+IF(COUNTIF($AD$15:AD79,AD79)>1,0,1))","v":0},{"$f":"IF(ROWS($AH$15:AH79)>MAX(AH:AH),\"\",INDEX(AD:AD,MATCH(ROWS($AH$15:AH79),AH:AH,0)))","v":""}]
[null,null,"Are you reporting in compliance with NQF 0646?",null,null,null,null,null,null,null,null,null,null,null,null,null,15,{"$f":"W80","v":0},{"$f":"W80*COUNTA(G80)","v":0},null,4,0,0,null,null,null,null,66,{"$f":"IF(INDIRECT($AC$1&\"D\"&$AB80+1)=\"\",\"\",INDIRECT($AC$1&\"D\"&$AB80+1))","v":1},{"$f":"IF(AC80=\"\",\"\",IF($E$16=AC80,INDIRECT($AC$1&\"E\"&$AB80+1),\"\"))","v":""},{"$f":"IF(ISBLANK($E$17),\"\",IF($E$17<>AD80,\"\",IF(INDIRECT($AC$1&\"U\"&$AB80+1)=\"Yes\",INDIRECT($AC$1&\"I\"&$AB80+1),\"\")))","v":""},{"$f":"AF79+IF(COUNTIF($AC$15:AC80,AC80)>1,0,1)","v":1},{"$f":"IF(ROWS(AF$15:AF80)>MAX(AF:AF),\"\",INDEX(AC:AC,MATCH(ROWS(AF$15:AF80),AF:AF,0)))","v":""},{"$f":"IF(AD80=\"\",AH79,AH79+IF(COUNTIF($AD$15:AD80,AD80)>1,0,1))","v":0},{"$f":"IF(ROWS($AH$15:AH80)>MAX(AH:AH),\"\",INDEX(AD:AD,MATCH(ROWS($AH$15:AH80),AH:AH,0)))","v":""}]
[null,null,null,null,null,null,null,null,null,null,null,null,null,null,null,null,15,null,null,null,4,0,0,null,null,null,null,{"$f":"AB80+1","v":67},1,"","",{"$f":"AF80+IF(COUNTIF($AC$15:AC81,AC81)>1,0,1)","v":1},{"$f":"IF(ROWS(AF$15:AF81)>MAX(AF:AF),\"\",INDEX(AC:AC,MATCH(ROWS(AF$15:AF81),AF:AF,0)))","v":""},{"$f":"IF(AD81=\"\",AH80,AH80+IF(COUNTIF($AD$15:AD81,AD81)>1,0,1))","v":0},{"$f":"IF(ROWS($AH$15:AH81)>MAX(AH:AH),\"\",INDEX(AD:AD,MATCH(ROWS($AH$15:AH81),AH:AH,0)))","v":""}]
[null,null,{"$f":"IF(G80=\"No\",\"\",\"Numerator: Patients or their caregiver(s) who received a reconciled medication list at the time of discharge including medication specifications outlined in NQF 0646:\")","v":"Numerator: Patients or their caregiver(s) who received a reconciled medication list at the time of discharge including medication specifications outlined in NQF 0646:"},null,null,null,null,null,null,null,null,null,null,null,null,null,60,{"$f":"W82","v":0},{"$f":"W82*COUNTA(G82)","v":0},null,4,0,0,null,null,null,null,68,1,"","",{"$f":"AF81+IF(COUNTIF($AC$15:AC82,AC82)>1,0,1)","v":1},{"$f":"IF(ROWS(AF$15:AF82)>MAX(AF:AF),\"\",INDEX(AC:AC,MATCH(ROWS(AF$15:AF82),AF:AF,0)))","v":""},{"$f":"IF(AD82=\"\",AH81,AH81+IF(COUNTIF($AD$15:AD82,AD82)>1,0,1))","v":0},{"$f":"IF(ROWS($AH$15:AH82)>MAX(AH:AH),\"\",INDEX(AD:AD,MATCH(ROWS($AH$15:AH82),AH:AH,0)))","v":""}]
[null,null,{"$f":"IF(G80=\"No\",\"\",\"Denominator: All patients, regardless of age, discharged from an inpatient facility (eg, hospital inpatient or observation, skilled nursing facility, or rehabilitation facility) to home/self care or any other site of care.\")","v":"Denominator: All patients, regardless of age, discharged from an inpatient facility (eg, hospital inpatient or observation, skilled nursing facility, or rehabilitation facility) to home/self care or any other site of care."},null,null,null,null,null,null,null,null,null,null,null,null,null,60,{"$f":"W83","v":0},{"$f":"W83*COUNTA(G83)","v":0},null,4,0,0,null,null,null,null,69,1,"","",{"$f":"AF82+IF(COUNTIF($AC$15:AC83,AC83)>1,0,1)","v":1},{"$f":"IF(ROWS(AF$15:AF83)>MAX(AF:AF),\"\",INDEX(AC:AC,MATCH(ROWS(AF$15:AF83),AF:AF,0)))","v":""},{"$f":"IF(AD83=\"\",AH82,AH82+IF(COUNTIF($AD$15:AD83,AD83)>1,0,1))","v":0},{"$f":"IF(ROWS($AH$15:AH83)>MAX(AH:AH),\"\",INDEX(AD:AD,MATCH(ROWS($AH$15:AH83),AH:AH,0)))","v":""}]
[null,null,"Provider Rate:",null,null,null,{"$f":"IFERROR(G82/G83,\"\")","v":""},null,null,null,null,null,null,null,null,null,15,null,null,null,4,0,0,null,null,null,null,70,1,"","",{"$f":"AF83+IF(COUNTIF($AC$15:AC84,AC84)>1,0,1)","v":1},{"$f":"IF(ROWS(AF$15:AF84)>MAX(AF:AF),\"\",INDEX(AC:AC,MATCH(ROWS(AF$15:AF84),AF:AF,0)))","v":""},{"$f":"IF(AD84=\"\",AH83,AH83+IF(COUNTIF($AD$15:AD84,AD84)>1,0,1))","v":0},{"$f":"IF(ROWS($AH$15:AH84)>MAX(AH:AH),\"\",INDEX(AD:AD,MATCH(ROWS($AH$15:AH84),AH:AH,0)))","v":""}]
[null,null,null,null,null,null,null,null,null,null,null,null,null,null,null,null,15,null,null,null,4,{"$f":"IF(AND($F$54=\"Yes\",$G$80=\"No\"),1,0)","v":0},0,null,null,null,null,71,1,"","",{"$f":"AF84+IF(COUNTIF($AC$15:AC85,AC85)>1,0,1)","v":1},{"$f":"IF(ROWS(AF$15:AF85)>MAX(AF:AF),\"\",INDEX(AC:AC,MATCH(ROWS(AF$15:AF85),AF:AF,0)))","v":""},{"$f":"IF(AD85=\"\",AH84,AH84+IF(COUNTIF($AD$15:AD85,AD85)>1,0,1))","v":0},{"$f":"IF(ROWS($AH$15:AH85)>MAX(AH:AH),\"\",INDEX(AD:AD,MATCH(ROWS($AH$15:AH85),AH:AH,0)))","v":""}]
[null,null,"For providers not reporting NQF 0646 to specification, please describe the following: \n1. What the quantitative measurement represents\n2. Your facilities current comprehensive reconciliation process, and why you have opted to use this process \n3. What information you have to show that your current medication reconciliation process is effective.",null,null,null,null,null,null,null,null,null,null,null,null,null,66,null,null,null,4,{"$f":"IF(AND($F$54=\"Yes\",$G$80=\"No\"),1,0)","v":0},0,null,null,null,null,72,1,"","",{"$f":"AF85+IF(COUNTIF($AC$15:AC86,AC86)>1,0,1)","v":1},{"$f":"IF(ROWS(AF$15:AF86)>MAX(AF:AF),\"\",INDEX(AC:AC,MATCH(ROWS(AF$15:AF86),AF:AF,0)))","v":""},{"$f":"IF(AD86=\"\",AH85,AH85+IF(COUNTIF($AD$15:AD86,AD86)>1,0,1))","v":0},{"$f":"IF(ROWS($AH$15:AH86)>MAX(AH:AH),\"\",INDEX(AD:AD,MATCH(ROWS($AH$15:AH86),AH:AH,0)))","v":""}]
[null,null,null,null,null,null,null,null,null,null,null,null,null,null,null,null,60,{"$f":"W87","v":0},{"$f":"W87*IF(LEN(TRIM(C87))>0,1,0)","v":0},null,4,0,0,null,null,null,null,73,1,"","",{"$f":"AF86+IF(COUNTIF($AC$15:AC87,AC87)>1,0,1)","v":1},{"$f":"IF(ROWS(AF$15:AF87)>MAX(AF:AF),\"\",INDEX(AC:AC,MATCH(ROWS(AF$15:AF87),AF:AF,0)))","v":""},{"$f":"IF(AD87=\"\",AH86,AH86+IF(COUNTIF($AD$15:AD87,AD87)>1,0,1))","v":0},{"$f":"IF(ROWS($AH$15:AH87)>MAX(AH:AH),\"\",INDEX(AD:AD,MATCH(ROWS($AH$15:AH87),AH:AH,0)))","v":""}]
[null,null,null,null,null,null,null,null,null,null,null,null,null,null,null,null,15,null,null,null,4,{"$f":"IF($F$54=\"Yes\",1,0)","v":0},0,null,null,null,null,74,1,"","",{"$f":"AF87+IF(COUNTIF($AC$15:AC88,AC88)>1,0,1)","v":1},{"$f":"IF(ROWS(AF$15:AF88)>MAX(AF:AF),\"\",INDEX(AC:AC,MATCH(ROWS(AF$15:AF88),AF:AF,0)))","v":""},{"$f":"IF(AD88=\"\",AH87,AH87+IF(COUNTIF($AD$15:AD88,AD88)>1,0,1))","v":0},{"$f":"IF(ROWS($AH$15:AH88)>MAX(AH:AH),\"\",INDEX(AD:AD,MATCH(ROWS($AH$15:AH88),AH:AH,0)))","v":""}]
[null,null,"Do the Medication Management results reported in DY4 represent a change over the prior reporting period? What factors have contributed to any increase or decrease?",null,null,null,null,null,null,null,null,null,null,null,null,null,15,null,null,null,4,{"$f":"IF($F$54=\"Yes\",1,0)","v":0},{"$f":"IF(ISBLANK(V89),INDEX($Y$15:$Y$21,MATCH($U89,$X$15:$X$21,0)),IF(V89+INDEX($Y$15:$Y$21,MATCH($U89,$X$15:$X$21,0))>1,1,0))","v":0},null,null,null,null,75,1,"","",{"$f":"AF88+IF(COUNTIF($AC$15:AC89,AC89)>1,0,1)","v":1},{"$f":"IF(ROWS(AF$15:AF89)>MAX(AF:AF),\"\",INDEX(AC:AC,MATCH(ROWS(AF$15:AF89),AF:AF,0)))","v":""},{"$f":"IF(AD89=\"\",AH88,AH88+IF(COUNTIF($AD$15:AD89,AD89)>1,0,1))","v":0},{"$f":"IF(ROWS($AH$15:AH89)>MAX(AH:AH),\"\",INDEX(AD:AD,MATCH(ROWS($AH$15:AH89),AH:AH,0)))","v":""}]
[null,null,null,null,null,null,null,null,null,null,null,null,null,null,null,null,36,{"$f":"W90","v":0},{"$f":"W90*IF(LEN(TRIM(C90))>0,1,0)","v":0},null,4,{"$f":"IF($F$54=\"Yes\",1,0)","v":0},0,null,null,null,null,76,1,"","",{"$f":"AF89+IF(COUNTIF($AC$15:AC90,AC90)>1,0,1)","v":1},{"$f":"IF(ROWS(AF$15:AF90)>MAX(AF:AF),\"\",INDEX(AC:AC,MATCH(ROWS(AF$15:AF90),AF:AF,0)))","v":""},{"$f":"IF(AD90=\"\",AH89,AH89+IF(COUNTIF($AD$15:AD90,AD90)>1,0,1))","v":0},{"$f":"IF(ROWS($AH$15:AH90)>MAX(AH:AH),\"\",INDEX(AD:AD,MATCH(ROWS($AH$15:AH90),AH:AH,0)))","v":""}]
[null,null,null,null,null,null,null,null,null,null,null,null,null,null,null,null,15,null,null,null,4,{"$f":"IF($F$54=\"Yes\",1,0)","v":0},0,null,null,null,null,77,1,"","",{"$f":"AF90+IF(COUNTIF($AC$15:AC91,AC91)>1,0,1)","v":1},{"$f":"IF(ROWS(AF$15:AF91)>MAX(AF:AF),\"\",INDEX(AC:AC,MATCH(ROWS(AF$15:AF91),AF:AF,0)))","v":""},{"$f":"IF(AD91=\"\",AH90,AH90+IF(COUNTIF($AD$15:AD91,AD91)>1,0,1))","v":0},{"$f":"IF(ROWS($AH$15:AH91)>MAX(AH:AH),\"\",INDEX(AD:AD,MATCH(ROWS($AH$15:AH91),AH:AH,0)))","v":""}]
[null,null,"Are you able to report Medicaid-only rates for Medication Management?",null,null,null,null,null,null,null,null,null,null,null,null,null,15,{"$f":"W92","v":0},{"$f":"W92*COUNTA(G92)","v":0},null,4,{"$f":"IF($F$54=\"Yes\",1,0)","v":0},0,null,null,null,null,78,1,"","",{"$f":"AF91+IF(COUNTIF($AC$15:AC92,AC92)>1,0,1)","v":1},{"$f":"IF(ROWS(AF$15:AF92)>MAX(AF:AF),\"\",INDEX(AC:AC,MATCH(ROWS(AF$15:AF92),AF:AF,0)))","v":""},{"$f":"IF(AD92=\"\",AH91,AH91+IF(COUNTIF($AD$15:AD92,AD92)>1,0,1))","v":0},{"$f":"IF(ROWS($AH$15:AH92)>MAX(AH:AH),\"\",INDEX(AD:AD,MATCH(ROWS($AH$15:AH92),AH:AH,0)))","v":""}]
[null,null,null,null,null,null,null,null,null,null,null,null,null,null,null,null,15,null,null,null,4,{"$f":"IF(AND($F$54=\"Yes\",$G$92=\"Yes\"),1,0)","v":0},0,null,null,null,null,{"$f":"AB92+1","v":79},1,"","",{"$f":"AF92+IF(COUNTIF($AC$15:AC93,AC93)>1,0,1)","v":1},{"$f":"IF(ROWS(AF$15:AF93)>MAX(AF:AF),\"\",INDEX(AC:AC,MATCH(ROWS(AF$15:AF93),AF:AF,0)))","v":""},{"$f":"IF(AD93=\"\",AH92,AH92+IF(COUNTIF($AD$15:AD93,AD93)>1,0,1))","v":0},{"$f":"IF(ROWS($AH$15:AH93)>MAX(AH:AH),\"\",INDEX(AD:AD,MATCH(ROWS($AH$15:AH93),AH:AH,0)))","v":""}]
[null,null,{"$f":"IF(G80=\"No\",\"\",\"Numerator: Patients or their caregiver(s) who received a reconciled medication list at the time of discharge including medication specifications outlined in NQF 0646:\")","v":"Numerator: Patients or their caregiver(s) who received a reconciled medication list at the time of discharge including medication specifications outlined in NQF 0646:"},null,null,null,null,null,null,null,null,null,null,null,null,null,60,{"$f":"W94","v":0},{"$f":"W94*COUNTA(G94)","v":0},null,4,0,0,null,null,null,null,80,1,"","",{"$f":"AF93+IF(COUNTIF($AC$15:AC94,AC94)>1,0,1)","v":1},{"$f":"IF(ROWS(AF$15:AF94)>MAX(AF:AF),\"\",INDEX(AC:AC,MATCH(ROWS(AF$15:AF94),AF:AF,0)))","v":""},{"$f":"IF(AD94=\"\",AH93,AH93+IF(COUNTIF($AD$15:AD94,AD94)>1,0,1))","v":0},{"$f":"IF(ROWS($AH$15:AH94)>MAX(AH:AH),\"\",INDEX(AD:AD,MATCH(ROWS($AH$15:AH94),AH:AH,0)))","v":""}]
[null,null,{"$f":"IF(G80=\"No\",\"\",\"Denominator: All patients, regardless of age, discharged from an inpatient facility (eg, hospital inpatient or observation, skilled nursing facility, or rehabilitation facility) to home/self care or any other site of care.\")","v":"Denominator: All patients, regardless of age, discharged from an inpatient facility (eg, hospital inpatient or observation, skilled nursing facility, or rehabilitation facility) to home/self care or any other site of care."},null,null,null,null,null,null,null,null,null,null,null,null,null,60,{"$f":"W95","v":0},0,null,4,0,0,null,null,null,null,81,1,"","",{"$f":"AF94+IF(COUNTIF($AC$15:AC95,AC95)>1,0,1)","v":1},{"$f":"IF(ROWS(AF$15:AF95)>MAX(AF:AF),\"\",INDEX(AC:AC,MATCH(ROWS(AF$15:AF95),AF:AF,0)))","v":""},{"$f":"IF(AD95=\"\",AH94,AH94+IF(COUNTIF($AD$15:AD95,AD95)>1,0,1))","v":0},{"$f":"IF(ROWS($AH$15:AH95)>MAX(AH:AH),\"\",INDEX(AD:AD,MATCH(ROWS($AH$15:AH95),AH:AH,0)))","v":""}]
[null,null,"Provider Rate:",null,null,null,{"$f":"IFERROR(G94/G95,\"\")","v":""},null,null,null,null,null,null,null,null,null,15,null,null,null,4,0,0,null,null,null,null,82,1,"","",{"$f":"AF95+IF(COUNTIF($AC$15:AC96,AC96)>1,0,1)","v":1},{"$f":"IF(ROWS(AF$15:AF96)>MAX(AF:AF),\"\",INDEX(AC:AC,MATCH(ROWS(AF$15:AF96),AF:AF,0)))","v":""},{"$f":"IF(AD96=\"\",AH95,AH95+IF(COUNTIF($AD$15:AD96,AD96)>1,0,1))","v":0},{"$f":"IF(ROWS($AH$15:AH96)>MAX(AH:AH),\"\",INDEX(AD:AD,MATCH(ROWS($AH$15:AH96),AH:AH,0)))","v":""}]
[null,null,null,null,null,null,null,null,null,null,null,null,null,null,null,null,15,null,null,null,4,0,0,null,null,null,null,83,1,"","",{"$f":"AF96+IF(COUNTIF($AC$15:AC97,AC97)>1,0,1)","v":1},{"$f":"IF(ROWS(AF$15:AF97)>MAX(AF:AF),\"\",INDEX(AC:AC,MATCH(ROWS(AF$15:AF97),AF:AF,0)))","v":""},{"$f":"IF(AD97=\"\",AH96,AH96+IF(COUNTIF($AD$15:AD97,AD97)>1,0,1))","v":0},{"$f":"IF(ROWS($AH$15:AH97)>MAX(AH:AH),\"\",INDEX(AD:AD,MATCH(ROWS($AH$15:AH97),AH:AH,0)))","v":""}]
[null,null,"Additional comments an Medicaid-only rate:",null,null,null,null,null,null,null,null,null,null,null,null,null,15,null,null,null,4,0,0,null,null,null,null,84,1,"","",{"$f":"AF97+IF(COUNTIF($AC$15:AC98,AC98)>1,0,1)","v":1},{"$f":"IF(ROWS(AF$15:AF98)>MAX(AF:AF),\"\",INDEX(AC:AC,MATCH(ROWS(AF$15:AF98),AF:AF,0)))","v":""},{"$f":"IF(AD98=\"\",AH97,AH97+IF(COUNTIF($AD$15:AD98,AD98)>1,0,1))","v":0},{"$f":"IF(ROWS($AH$15:AH98)>MAX(AH:AH),\"\",INDEX(AD:AD,MATCH(ROWS($AH$15:AH98),AH:AH,0)))","v":""}]
[null,null,null,null,null,null,null,null,null,null,null,null,null,null,null,null,60,{"$f":"W99","v":0},{"$f":"W99*IF(LEN(TRIM(C99))>0,1,0)","v":0},null,4,0,0,null,null,null,null,85,1,"","",{"$f":"AF98+IF(COUNTIF($AC$15:AC99,AC99)>1,0,1)","v":1},{"$f":"IF(ROWS(AF$15:AF99)>MAX(AF:AF),\"\",INDEX(AC:AC,MATCH(ROWS(AF$15:AF99),AF:AF,0)))","v":""},{"$f":"IF(AD99=\"\",AH98,AH98+IF(COUNTIF($AD$15:AD99,AD99)>1,0,1))","v":0},{"$f":"IF(ROWS($AH$15:AH99)>MAX(AH:AH),\"\",INDEX(AD:AD,MATCH(ROWS($AH$15:AH99),AH:AH,0)))","v":""}]
[null,null,null,null,null,null,null,null,null,null,null,null,null,null,null,null,15,null,null,null,4,null,0,null,null,null,null,86,1,"","",{"$f":"AF99+IF(COUNTIF($AC$15:AC100,AC100)>1,0,1)","v":1},{"$f":"IF(ROWS(AF$15:AF100)>MAX(AF:AF),\"\",INDEX(AC:AC,MATCH(ROWS(AF$15:AF100),AF:AF,0)))","v":""},{"$f":"IF(AD100=\"\",AH99,AH99+IF(COUNTIF($AD$15:AD100,AD100)>1,0,1))","v":0},{"$f":"IF(ROWS($AH$15:AH100)>MAX(AH:AH),\"\",INDEX(AD:AD,MATCH(ROWS($AH$15:AH100),AH:AH,0)))","v":""}]
[false,null,"RD5 - Emergency Department: Admit Decision Time to ED Departure Time for Admitted Patients",null,null,null,null,null,null,null,null,null,null,null,null,null,15.75,null,null,null,5,null,0,null,null,null,null,87,1,"","",{"$f":"AF100+IF(COUNTIF($AC$15:AC101,AC101)>1,0,1)","v":1},{"$f":"IF(ROWS(AF$15:AF101)>MAX(AF:AF),\"\",INDEX(AC:AC,MATCH(ROWS(AF$15:AF101),AF:AF,0)))","v":""},{"$f":"IF(AD101=\"\",AH100,AH100+IF(COUNTIF($AD$15:AD101,AD101)>1,0,1))","v":0},{"$f":"IF(ROWS($AH$15:AH101)>MAX(AH:AH),\"\",INDEX(AD:AD,MATCH(ROWS($AH$15:AH101),AH:AH,0)))","v":""}]
[null,null,null,null,null,null,null,null,null,null,null,null,null,null,null,null,15,null,null,null,5,null,0,null,null,null,null,88,1,"","",{"$f":"AF101+IF(COUNTIF($AC$15:AC102,AC102)>1,0,1)","v":1},{"$f":"IF(ROWS(AF$15:AF102)>MAX(AF:AF),\"\",INDEX(AC:AC,MATCH(ROWS(AF$15:AF102),AF:AF,0)))","v":""},{"$f":"IF(AD102=\"\",AH101,AH101+IF(COUNTIF($AD$15:AD102,AD102)>1,0,1))","v":0},{"$f":"IF(ROWS($AH$15:AH102)>MAX(AH:AH),\"\",INDEX(AD:AD,MATCH(ROWS($AH$15:AH102),AH:AH,0)))","v":""}]
[false,null,{"$f":"\"Will you be reporting on RD\"&$U103&\" in \"&$AM$4&\"?\"","v":"Will you be reporting on RD5 in April?"},null,null,null,null,null,null,null,null,{"$f":"\"RD\"&U103&\" Reporting Status:\"","v":"RD5 Reporting Status:"},null,null,null,null,15,{"$f":"W103","v":0},{"$f":"W103*COUNTA(F103)","v":0},null,5,null,0,null,null,null,null,89,1,"","",{"$f":"AF102+IF(COUNTIF($AC$15:AC103,AC103)>1,0,1)","v":1},{"$f":"IF(ROWS(AF$15:AF103)>MAX(AF:AF),\"\",INDEX(AC:AC,MATCH(ROWS(AF$15:AF103),AF:AF,0)))","v":""},{"$f":"IF(AD103=\"\",AH102,AH102+IF(COUNTIF($AD$15:AD103,AD103)>1,0,1))","v":0},{"$f":"IF(ROWS($AH$15:AH103)>MAX(AH:AH),\"\",INDEX(AD:AD,MATCH(ROWS($AH$15:AH103),AH:AH,0)))","v":""}]
[null,null,null,null,null,null,null,null,null,null,null,{"$f":"IF(M104=1,\"100% - Complete\",TEXT(M104,\"0%\")&\" - Incomplete\")","v":{"$error":"#DIV/0!"}},{"$f":"SUMIF(U:U,U104,S:S)/SUMIF(U:U,U104,R:R)","v":{"$error":"#DIV/0!"}},null,null,null,15,null,null,null,5,null,0,null,null,null,null,90,1,"","",{"$f":"AF103+IF(COUNTIF($AC$15:AC104,AC104)>1,0,1)","v":1},{"$f":"IF(ROWS(AF$15:AF104)>MAX(AF:AF),\"\",INDEX(AC:AC,MATCH(ROWS(AF$15:AF104),AF:AF,0)))","v":""},{"$f":"IF(AD104=\"\",AH103,AH103+IF(COUNTIF($AD$15:AD104,AD104)>1,0,1))","v":0},{"$f":"IF(ROWS($AH$15:AH104)>MAX(AH:AH),\"\",INDEX(AD:AD,MATCH(ROWS($AH$15:AH104),AH:AH,0)))","v":""}]
[{"$f":"IF(AND(OFFSET(A105,-2,0)=TRUE,OFFSET(A105,-4,0)=TRUE),\"WARNING! Domain marked for multiple NMI periods!\",\"\")","v":""},null,"First Component: ED Admit Decision Time to ED Departure",null,null,null,null,null,null,null,null,null,null,null,null,null,15.75,null,null,null,5,{"$f":"IF($F$103=\"Yes\",1,0)","v":0},0,null,null,null,null,91,1,"","",{"$f":"AF104+IF(COUNTIF($AC$15:AC105,AC105)>1,0,1)","v":1},{"$f":"IF(ROWS(AF$15:AF105)>MAX(AF:AF),\"\",INDEX(AC:AC,MATCH(ROWS(AF$15:AF105),AF:AF,0)))","v":""},{"$f":"IF(AD105=\"\",AH104,AH104+IF(COUNTIF($AD$15:AD105,AD105)>1,0,1))","v":0},{"$f":"IF(ROWS($AH$15:AH105)>MAX(AH:AH),\"\",INDEX(AD:AD,MATCH(ROWS($AH$15:AH105),AH:AH,0)))","v":""}]
[null,null,"DY4 Measurement Period:",null,{"$f":"AL19","v":{"$error":"#N/A"}},null,null,null,null,null,null,null,null,null,null,null,15,null,null,null,5,{"$f":"IF(AND($F$103=\"Yes\",ISERROR(SEARCH(\"TBD\",$AL$19))),1,0)","v":0},0,null,null,null,null,92,1,"","",{"$f":"AF105+IF(COUNTIF($AC$15:AC106,AC106)>1,0,1)","v":1},{"$f":"IF(ROWS(AF$15:AF106)>MAX(AF:AF),\"\",INDEX(AC:AC,MATCH(ROWS(AF$15:AF106),AF:AF,0)))","v":""},{"$f":"IF(AD106=\"\",AH105,AH105+IF(COUNTIF($AD$15:AD106,AD106)>1,0,1))","v":0},{"$f":"IF(ROWS($AH$15:AH106)>MAX(AH:AH),\"\",INDEX(AD:AD,MATCH(ROWS($AH$15:AH106),AH:AH,0)))","v":""}]
[null,null,"Select Component 1 DY4 Measurement Period:",null,null,null,null,null,null,null,null,null,null,null,null,null,15,null,null,null,5,{"$f":"IF(AND($F$103=\"Yes\",NOT(ISERROR(SEARCH(\"TBD\",$AL$19)))),1,0)","v":0},0,null,null,null,null,93,2,"","",{"$f":"AF106+IF(COUNTIF($AC$15:AC107,AC107)>1,0,1)","v":2},{"$f":"IF(ROWS(AF$15:AF107)>MAX(AF:AF),\"\",INDEX(AC:AC,MATCH(ROWS(AF$15:AF107),AF:AF,0)))","v":""},{"$f":"IF(AD107=\"\",AH106,AH106+IF(COUNTIF($AD$15:AD107,AD107)>1,0,1))","v":0},{"$f":"IF(ROWS($AH$15:AH107)>MAX(AH:AH),\"\",INDEX(AD:AD,MATCH(ROWS($AH$15:AH107),AH:AH,0)))","v":""}]
[null,null,"Start:",null,"End:",null,null,null,null,null,null,null,null,null,null,null,15,{"$f":"W108*2","v":0},{"$f":"W108*COUNTA(D108,F108)","v":0},null,5,{"$f":"IF(AND($F$103=\"Yes\",NOT(ISERROR(SEARCH(\"TBD\",$AL$19)))),1,0)","v":0},0,null,null,null,null,94,2,"","",{"$f":"AF107+IF(COUNTIF($AC$15:AC108,AC108)>1,0,1)","v":2},{"$f":"IF(ROWS(AF$15:AF108)>MAX(AF:AF),\"\",INDEX(AC:AC,MATCH(ROWS(AF$15:AF108),AF:AF,0)))","v":""},{"$f":"IF(AD108=\"\",AH107,AH107+IF(COUNTIF($AD$15:AD108,AD108)>1,0,1))","v":0},{"$f":"IF(ROWS($AH$15:AH108)>MAX(AH:AH),\"\",INDEX(AD:AD,MATCH(ROWS($AH$15:AH108),AH:AH,0)))","v":""}]
[null,null,null,null,null,null,null,null,null,null,null,null,null,null,null,null,15,null,null,null,5,{"$f":"IF($F$103=\"Yes\",1,0)","v":0},0,null,null,null,null,95,2,"","",{"$f":"AF108+IF(COUNTIF($AC$15:AC109,AC109)>1,0,1)","v":2},{"$f":"IF(ROWS(AF$15:AF109)>MAX(AF:AF),\"\",INDEX(AC:AC,MATCH(ROWS(AF$15:AF109),AF:AF,0)))","v":""},{"$f":"IF(AD109=\"\",AH108,AH108+IF(COUNTIF($AD$15:AD109,AD109)>1,0,1))","v":0},{"$f":"IF(ROWS($AH$15:AH109)>MAX(AH:AH),\"\",INDEX(AD:AD,MATCH(ROWS($AH$15:AH109),AH:AH,0)))","v":""}]
[null,null,"Median Time (in minutes) from admit decision time to time of departure from the emergency department for admitted patients:",null,null,null,null,null,null,null,null,null,null,null,null,null,60,{"$f":"W110","v":0},{"$f":"W110*COUNTA(G110)","v":0},null,5,0,0,null,null,null,null,96,2,"","",{"$f":"AF109+IF(COUNTIF($AC$15:AC110,AC110)>1,0,1)","v":2},{"$f":"IF(ROWS(AF$15:AF110)>MAX(AF:AF),\"\",INDEX(AC:AC,MATCH(ROWS(AF$15:AF110),AF:AF,0)))","v":""},{"$f":"IF(AD110=\"\",AH109,AH109+IF(COUNTIF($AD$15:AD110,AD110)>1,0,1))","v":0},{"$f":"IF(ROWS($AH$15:AH110)>MAX(AH:AH),\"\",INDEX(AD:AD,MATCH(ROWS($AH$15:AH110),AH:AH,0)))","v":""}]
[null,null,"Number of emergency department (ED) patients seen and used to calculate median time in minutes from admit decision time to time of departure from the ED for admitted patients",null,null,null,null,null,null,null,null,null,null,null,null,null,60,0,{"$f":"W111*COUNTA(G111)","v":0},null,5,0,0,null,null,null,null,97,2,"","",{"$f":"AF110+IF(COUNTIF($AC$15:AC111,AC111)>1,0,1)","v":2},{"$f":"IF(ROWS(AF$15:AF111)>MAX(AF:AF),\"\",INDEX(AC:AC,MATCH(ROWS(AF$15:AF111),AF:AF,0)))","v":""},{"$f":"IF(AD111=\"\",AH110,AH110+IF(COUNTIF($AD$15:AD111,AD111)>1,0,1))","v":0},{"$f":"IF(ROWS($AH$15:AH111)>MAX(AH:AH),\"\",INDEX(AD:AD,MATCH(ROWS($AH$15:AH111),AH:AH,0)))","v":""}]
[null,null,null,null,null,null,null,null,null,null,null,null,null,null,null,null,15,null,null,null,5,0,0,null,null,null,null,98,2,"","",{"$f":"AF111+IF(COUNTIF($AC$15:AC112,AC112)>1,0,1)","v":2},{"$f":"IF(ROWS(AF$15:AF112)>MAX(AF:AF),\"\",INDEX(AC:AC,MATCH(ROWS(AF$15:AF112),AF:AF,0)))","v":""},{"$f":"IF(AD112=\"\",AH111,AH111+IF(COUNTIF($AD$15:AD112,AD112)>1,0,1))","v":0},{"$f":"IF(ROWS($AH$15:AH112)>MAX(AH:AH),\"\",INDEX(AD:AD,MATCH(ROWS($AH$15:AH112),AH:AH,0)))","v":""}]
[null,null,"Does the median time reported in DY4 represent a change over the prior reporting period? What factors have contributed to any increase or decrease?",null,null,null,null,null,null,null,null,null,null,null,null,null,15,null,null,null,5,0,0,null,null,null,null,99,2,"","",{"$f":"AF112+IF(COUNTIF($AC$15:AC113,AC113)>1,0,1)","v":2},{"$f":"IF(ROWS(AF$15:AF113)>MAX(AF:AF),\"\",INDEX(AC:AC,MATCH(ROWS(AF$15:AF113),AF:AF,0)))","v":""},{"$f":"IF(AD113=\"\",AH112,AH112+IF(COUNTIF($AD$15:AD113,AD113)>1,0,1))","v":0},{"$f":"IF(ROWS($AH$15:AH113)>MAX(AH:AH),\"\",INDEX(AD:AD,MATCH(ROWS($AH$15:AH113),AH:AH,0)))","v":""}]
[null,null,null,null,null,null,null,null,null,null,null,null,null,null,null,null,36,{"$f":"W114","v":0},{"$f":"W114*IF(LEN(TRIM(C114))>0,1,0)","v":0},null,5,0,0,null,null,null,null,100,2,"","",{"$f":"AF113+IF(COUNTIF($AC$15:AC114,AC114)>1,0,1)","v":2},{"$f":"IF(ROWS(AF$15:AF114)>MAX(AF:AF),\"\",INDEX(AC:AC,MATCH(ROWS(AF$15:AF114),AF:AF,0)))","v":""},{"$f":"IF(AD114=\"\",AH113,AH113+IF(COUNTIF($AD$15:AD114,AD114)>1,0,1))","v":0},{"$f":"IF(ROWS($AH$15:AH114)>MAX(AH:AH),\"\",INDEX(AD:AD,MATCH(ROWS($AH$15:AH114),AH:AH,0)))","v":""}]
[null,null,null,null,null,null,null,null,null,null,null,null,null,null,null,null,15,null,null,null,5,0,0,null,null,null,null,101,2,"","",{"$f":"AF114+IF(COUNTIF($AC$15:AC115,AC115)>1,0,1)","v":2},{"$f":"IF(ROWS(AF$15:AF115)>MAX(AF:AF),\"\",INDEX(AC:AC,MATCH(ROWS(AF$15:AF115),AF:AF,0)))","v":""},{"$f":"IF(AD115=\"\",AH114,AH114+IF(COUNTIF($AD$15:AD115,AD115)>1,0,1))","v":0},{"$f":"IF(ROWS($AH$15:AH115)>MAX(AH:AH),\"\",INDEX(AD:AD,MATCH(ROWS($AH$15:AH115),AH:AH,0)))","v":""}]
[null,null,"Are you able to report Medicaid-only rates for RD-5?",null,null,null,null,null,null,null,null,null,null,null,null,null,15,{"$f":"W116","v":0},{"$f":"W116*COUNTA(G116)","v":0},null,5,0,0,null,null,null,null,102,2,"","",{"$f":"AF115+IF(COUNTIF($AC$15:AC116,AC116)>1,0,1)","v":2},{"$f":"IF(ROWS(AF$15:AF116)>MAX(AF:AF),\"\",INDEX(AC:AC,MATCH(ROWS(AF$15:AF116),AF:AF,0)))","v":""},{"$f":"IF(AD116=\"\",AH115,AH115+IF(COUNTIF($AD$15:AD116,AD116)>1,0,1))","v":0},{"$f":"IF(ROWS($AH$15:AH116)>MAX(AH:AH),\"\",INDEX(AD:AD,MATCH(ROWS($AH$15:AH116),AH:AH,0)))","v":""}]
[null,null,null,null,null,null,null,null,null,null,null,null,null,null,null,null,15,null,null,null,5,{"$f":"IF(AND($F$103=\"Yes\",$G$116=\"Yes\"),1,0)","v":0},0,null,null,null,null,103,2,"","",{"$f":"AF116+IF(COUNTIF($AC$15:AC117,AC117)>1,0,1)","v":2},{"$f":"IF(ROWS(AF$15:AF117)>MAX(AF:AF),\"\",INDEX(AC:AC,MATCH(ROWS(AF$15:AF117),AF:AF,0)))","v":""},{"$f":"IF(AD117=\"\",AH116,AH116+IF(COUNTIF($AD$15:AD117,AD117)>1,0,1))","v":0},{"$f":"IF(ROWS($AH$15:AH117)>MAX(AH:AH),\"\",INDEX(AD:AD,MATCH(ROWS($AH$15:AH117),AH:AH,0)))","v":""}]
[null,null,"Median Time (in minutes) from admit decision time to time of departure from the emergency department for admitted patients:",null,null,null,null,null,null,null,null,null,null,null,null,null,60,{"$f":"W118","v":0},{"$f":"W118*COUNTA(G118)","v":0},null,5,0,0,null,null,null,null,104,2,"","",{"$f":"AF117+IF(COUNTIF($AC$15:AC118,AC118)>1,0,1)","v":2},{"$f":"IF(ROWS(AF$15:AF118)>MAX(AF:AF),\"\",INDEX(AC:AC,MATCH(ROWS(AF$15:AF118),AF:AF,0)))","v":""},{"$f":"IF(AD118=\"\",AH117,AH117+IF(COUNTIF($AD$15:AD118,AD118)>1,0,1))","v":0},{"$f":"IF(ROWS($AH$15:AH118)>MAX(AH:AH),\"\",INDEX(AD:AD,MATCH(ROWS($AH$15:AH118),AH:AH,0)))","v":""}]
[null,null,"Number of emergency department (ED) patients seen and used to calculate median time in minutes from admit decision time to time of departure from the ED for admitted patients:",null,null,null,null,null,null,null,null,null,null,null,null,null,60,{"$f":"W119","v":0},0,null,5,0,0,null,null,null,null,105,2,"","",{"$f":"AF118+IF(COUNTIF($AC$15:AC119,AC119)>1,0,1)","v":2},{"$f":"IF(ROWS(AF$15:AF119)>MAX(AF:AF),\"\",INDEX(AC:AC,MATCH(ROWS(AF$15:AF119),AF:AF,0)))","v":""},{"$f":"IF(AD119=\"\",AH118,AH118+IF(COUNTIF($AD$15:AD119,AD119)>1,0,1))","v":0},{"$f":"IF(ROWS($AH$15:AH119)>MAX(AH:AH),\"\",INDEX(AD:AD,MATCH(ROWS($AH$15:AH119),AH:AH,0)))","v":""}]
[null,null,null,null,null,null,null,null,null,null,null,null,null,null,null,null,15,null,null,null,5,0,0,null,null,null,null,106,2,"","",{"$f":"AF119+IF(COUNTIF($AC$15:AC120,AC120)>1,0,1)","v":2},{"$f":"IF(ROWS(AF$15:AF120)>MAX(AF:AF),\"\",INDEX(AC:AC,MATCH(ROWS(AF$15:AF120),AF:AF,0)))","v":""},{"$f":"IF(AD120=\"\",AH119,AH119+IF(COUNTIF($AD$15:AD120,AD120)>1,0,1))","v":0},{"$f":"IF(ROWS($AH$15:AH120)>MAX(AH:AH),\"\",INDEX(AD:AD,MATCH(ROWS($AH$15:AH120),AH:AH,0)))","v":""}]
[null,null,"Additional comments an Medicaid-only rate:",null,null,null,null,null,null,null,null,null,null,null,null,null,15,null,null,null,5,0,0,null,null,null,null,107,2,"","",{"$f":"AF120+IF(COUNTIF($AC$15:AC121,AC121)>1,0,1)","v":2},{"$f":"IF(ROWS(AF$15:AF121)>MAX(AF:AF),\"\",INDEX(AC:AC,MATCH(ROWS(AF$15:AF121),AF:AF,0)))","v":""},{"$f":"IF(AD121=\"\",AH120,AH120+IF(COUNTIF($AD$15:AD121,AD121)>1,0,1))","v":0},{"$f":"IF(ROWS($AH$15:AH121)>MAX(AH:AH),\"\",INDEX(AD:AD,MATCH(ROWS($AH$15:AH121),AH:AH,0)))","v":""}]
[null,null,null,null,null,null,null,null,null,null,null,null,null,null,null,null,60,{"$f":"W122","v":0},{"$f":"W122*IF(LEN(TRIM(C122))>0,1,0)","v":0},null,5,0,0,null,null,null,null,108,2,"","",{"$f":"AF121+IF(COUNTIF($AC$15:AC122,AC122)>1,0,1)","v":2},{"$f":"IF(ROWS(AF$15:AF122)>MAX(AF:AF),\"\",INDEX(AC:AC,MATCH(ROWS(AF$15:AF122),AF:AF,0)))","v":""},{"$f":"IF(AD122=\"\",AH121,AH121+IF(COUNTIF($AD$15:AD122,AD122)>1,0,1))","v":0},{"$f":"IF(ROWS($AH$15:AH122)>MAX(AH:AH),\"\",INDEX(AD:AD,MATCH(ROWS($AH$15:AH122),AH:AH,0)))","v":""}]
[null,null,null,null,null,null,null,null,null,null,null,null,null,null,null,null,15,null,null,null,5,null,0,null,null,null,null,109,2,"","",{"$f":"AF122+IF(COUNTIF($AC$15:AC123,AC123)>1,0,1)","v":2},{"$f":"IF(ROWS(AF$15:AF123)>MAX(AF:AF),\"\",INDEX(AC:AC,MATCH(ROWS(AF$15:AF123),AF:AF,0)))","v":""},{"$f":"IF(AD123=\"\",AH122,AH122+IF(COUNTIF($AD$15:AD123,AD123)>1,0,1))","v":0},{"$f":"IF(ROWS($AH$15:AH123)>MAX(AH:AH),\"\",INDEX(AD:AD,MATCH(ROWS($AH$15:AH123),AH:AH,0)))","v":""}]
[false,null,"RD6 - Potentially Preventable Readmissions: Initial Core Set of Health Care Quality Measures",null,null,null,null,null,null,null,null,null,null,null,null,null,15.75,null,null,null,6,null,0,null,null,null,null,110,2,"","",{"$f":"AF123+IF(COUNTIF($AC$15:AC124,AC124)>1,0,1)","v":2},{"$f":"IF(ROWS(AF$15:AF124)>MAX(AF:AF),\"\",INDEX(AC:AC,MATCH(ROWS(AF$15:AF124),AF:AF,0)))","v":""},{"$f":"IF(AD124=\"\",AH123,AH123+IF(COUNTIF($AD$15:AD124,AD124)>1,0,1))","v":0},{"$f":"IF(ROWS($AH$15:AH124)>MAX(AH:AH),\"\",INDEX(AD:AD,MATCH(ROWS($AH$15:AH124),AH:AH,0)))","v":""}]
[null,null,null,null,null,null,null,null,null,null,null,null,null,null,null,null,15,null,null,null,6,null,0,null,null,null,null,111,2,"","",{"$f":"AF124+IF(COUNTIF($AC$15:AC125,AC125)>1,0,1)","v":2},{"$f":"IF(ROWS(AF$15:AF125)>MAX(AF:AF),\"\",INDEX(AC:AC,MATCH(ROWS(AF$15:AF125),AF:AF,0)))","v":""},{"$f":"IF(AD125=\"\",AH124,AH124+IF(COUNTIF($AD$15:AD125,AD125)>1,0,1))","v":0},{"$f":"IF(ROWS($AH$15:AH125)>MAX(AH:AH),\"\",INDEX(AD:AD,MATCH(ROWS($AH$15:AH125),AH:AH,0)))","v":""}]
[false,null,{"$f":"\"Will you be reporting on RD\"&$U126&\" in \"&$AM$4&\"?\"","v":"Will you be reporting on RD6 in April?"},null,null,null,null,null,null,null,null,{"$f":"\"RD\"&U126&\" Reporting Status:\"","v":"RD6 Reporting Status:"},null,null,null,null,15,{"$f":"W126","v":0},{"$f":"W126*COUNTA(F126)","v":0},null,6,null,0,null,null,null,null,112,2,"","",{"$f":"AF125+IF(COUNTIF($AC$15:AC126,AC126)>1,0,1)","v":2},{"$f":"IF(ROWS(AF$15:AF126)>MAX(AF:AF),\"\",INDEX(AC:AC,MATCH(ROWS(AF$15:AF126),AF:AF,0)))","v":""},{"$f":"IF(AD126=\"\",AH125,AH125+IF(COUNTIF($AD$15:AD126,AD126)>1,0,1))","v":0},{"$f":"IF(ROWS($AH$15:AH126)>MAX(AH:AH),\"\",INDEX(AD:AD,MATCH(ROWS($AH$15:AH126),AH:AH,0)))","v":""}]
[null,null,null,null,null,null,null,null,null,null,null,{"$f":"IF(M127=1,\"100% - Complete\",TEXT(M127,\"0%\")&\" - Incomplete\")","v":{"$error":"#DIV/0!"}},{"$f":"SUMIF(U:U,U127,S:S)/SUMIF(U:U,U127,R:R)","v":{"$error":"#DIV/0!"}},null,null,null,15,null,null,null,6,null,0,null,null,null,null,113,2,"","",{"$f":"AF126+IF(COUNTIF($AC$15:AC127,AC127)>1,0,1)","v":2},{"$f":"IF(ROWS(AF$15:AF127)>MAX(AF:AF),\"\",INDEX(AC:AC,MATCH(ROWS(AF$15:AF127),AF:AF,0)))","v":""},{"$f":"IF(AD127=\"\",AH126,AH126+IF(COUNTIF($AD$15:AD127,AD127)>1,0,1))","v":0},{"$f":"IF(ROWS($AH$15:AH127)>MAX(AH:AH),\"\",INDEX(AD:AD,MATCH(ROWS($AH$15:AH127),AH:AH,0)))","v":""}]
[null,null,"First Component: Measures for Adult Population",null,null,null,null,null,null,null,null,null,null,null,null,null,15.75,null,null,null,6,{"$f":"IF($F$126=\"Yes\",1,0)","v":0},0,null,null,null,null,114,2,"","",{"$f":"AF127+IF(COUNTIF($AC$15:AC128,AC128)>1,0,1)","v":2},{"$f":"IF(ROWS(AF$15:AF128)>MAX(AF:AF),\"\",INDEX(AC:AC,MATCH(ROWS(AF$15:AF128),AF:AF,0)))","v":""},{"$f":"IF(AD128=\"\",AH127,AH127+IF(COUNTIF($AD$15:AD128,AD128)>1,0,1))","v":0},{"$f":"IF(ROWS($AH$15:AH128)>MAX(AH:AH),\"\",INDEX(AD:AD,MATCH(ROWS($AH$15:AH128),AH:AH,0)))","v":""}]
[null,null,"DY4 Measurement Period:",null,{"$f":"AL20","v":{"$error":"#N/A"}},null,null,null,null,null,null,null,null,null,null,null,15,null,null,null,6,{"$f":"IF(AND($F$126=\"Yes\",ISERROR(SEARCH(\"TBD\",$AL$20))),1,0)","v":0},0,null,null,null,null,115,2,"","",{"$f":"AF128+IF(COUNTIF($AC$15:AC129,AC129)>1,0,1)","v":2},{"$f":"IF(ROWS(AF$15:AF129)>MAX(AF:AF),\"\",INDEX(AC:AC,MATCH(ROWS(AF$15:AF129),AF:AF,0)))","v":""},{"$f":"IF(AD129=\"\",AH128,AH128+IF(COUNTIF($AD$15:AD129,AD129)>1,0,1))","v":0},{"$f":"IF(ROWS($AH$15:AH129)>MAX(AH:AH),\"\",INDEX(AD:AD,MATCH(ROWS($AH$15:AH129),AH:AH,0)))","v":""}]
[null,null,"Select Component 1 DY4 Measurement Period:",null,null,null,null,null,null,null,null,null,null,null,null,null,15,null,null,null,6,{"$f":"IF(AND($F$126=\"Yes\",NOT(ISERROR(SEARCH(\"TBD\",$AL$20)))),1,0)","v":0},0,null,null,null,null,116,2,"","",{"$f":"AF129+IF(COUNTIF($AC$15:AC130,AC130)>1,0,1)","v":2},{"$f":"IF(ROWS(AF$15:AF130)>MAX(AF:AF),\"\",INDEX(AC:AC,MATCH(ROWS(AF$15:AF130),AF:AF,0)))","v":""},{"$f":"IF(AD130=\"\",AH129,AH129+IF(COUNTIF($AD$15:AD130,AD130)>1,0,1))","v":0},{"$f":"IF(ROWS($AH$15:AH130)>MAX(AH:AH),\"\",INDEX(AD:AD,MATCH(ROWS($AH$15:AH130),AH:AH,0)))","v":""}]
[null,null,"Start:",null,"End:",null,null,null,null,null,null,null,null,null,null,null,15,null,null,null,6,{"$f":"IF(AND($F$126=\"Yes\",NOT(ISERROR(SEARCH(\"TBD\",$AL$20)))),1,0)","v":0},0,null,null,null,null,117,2,"","",{"$f":"AF130+IF(COUNTIF($AC$15:AC131,AC131)>1,0,1)","v":2},{"$f":"IF(ROWS(AF$15:AF131)>MAX(AF:AF),\"\",INDEX(AC:AC,MATCH(ROWS(AF$15:AF131),AF:AF,0)))","v":""},{"$f":"IF(AD131=\"\",AH130,AH130+IF(COUNTIF($AD$15:AD131,AD131)>1,0,1))","v":0},{"$f":"IF(ROWS($AH$15:AH131)>MAX(AH:AH),\"\",INDEX(AD:AD,MATCH(ROWS($AH$15:AH131),AH:AH,0)))","v":""}]
[null,null,null,null,null,null,null,null,null,null,null,null,null,null,null,null,15,null,null,null,6,{"$f":"IF($F$126=\"Yes\",1,0)","v":0},0,null,null,null,null,118,2,"","",{"$f":"AF131+IF(COUNTIF($AC$15:AC132,AC132)>1,0,1)","v":2},{"$f":"IF(ROWS(AF$15:AF132)>MAX(AF:AF),\"\",INDEX(AC:AC,MATCH(ROWS(AF$15:AF132),AF:AF,0)))","v":""},{"$f":"IF(AD132=\"\",AH131,AH131+IF(COUNTIF($AD$15:AD132,AD132)>1,0,1))","v":0},{"$f":"IF(ROWS($AH$15:AH132)>MAX(AH:AH),\"\",INDEX(AD:AD,MATCH(ROWS($AH$15:AH132),AH:AH,0)))","v":""}]
[null,null,"NQF #","Measure Steward","Measure Name ",null,null,"Provider Numerator","Provider Denominator","Provider Rate","If not reporting measure, please provide an explanation of why the measure is not being reported.",null,"Additional information on measures not reported:",null,"Reporting Measure Options",null,30,null,null,null,6,0,0,null,null,null,null,119,2,"","",{"$f":"AF132+IF(COUNTIF($AC$15:AC133,AC133)>1,0,1)","v":2},{"$f":"IF(ROWS(AF$15:AF133)>MAX(AF:AF),\"\",INDEX(AC:AC,MATCH(ROWS(AF$15:AF133),AF:AF,0)))","v":""},{"$f":"IF(AD133=\"\",AH132,AH132+IF(COUNTIF($AD$15:AD133,AD133)>1,0,1))","v":0},{"$f":"IF(ROWS($AH$15:AH133)>MAX(AH:AH),\"\",INDEX(AD:AD,MATCH(ROWS($AH$15:AH133),AH:AH,0)))","v":""}]
[null,null,"0039","NCQA","Flu Shots for Adults Ages 50-64 (Collected as part of HEDIS CAHPS Supplemental Survey)*",null,null,null,null,{"$f":"IFERROR(H134/I134,\"\")","v":""},null,null,null,null,"The hospital does not serve the population that is being measured.",null,47.25,{"$f":"W134*2","v":0},{"$f":"W134*(IF(COUNTBLANK(H134:I134)=2,IF(LEN(TRIM(K134))>0,1,0)+IF(LEN(TRIM(M134))>0,1,0),COUNTA(H134:I134)))","v":0},null,6,0,0,null,null,null,null,120,2,"","",{"$f":"AF133+IF(COUNTIF($AC$15:AC134,AC134)>1,0,1)","v":2},{"$f":"IF(ROWS(AF$15:AF134)>MAX(AF:AF),\"\",INDEX(AC:AC,MATCH(ROWS(AF$15:AF134),AF:AF,0)))","v":""},{"$f":"IF(AD134=\"\",AH133,AH133+IF(COUNTIF($AD$15:AD134,AD134)>1,0,1))","v":0},{"$f":"IF(ROWS($AH$15:AH134)>MAX(AH:AH),\"\",INDEX(AD:AD,MATCH(ROWS($AH$15:AH134),AH:AH,0)))","v":""}]
[null,null,"0421","NCQA","Adult BMI Assessment*,**",null,null,null,null,{"$f":"IFERROR(H135/I135,\"\")","v":""},null,null,null,null,"The hospital does not provide outpatient services that are being measured.",null,47.25,{"$f":"W135*2","v":0},{"$f":"W135*(IF(COUNTBLANK(H135:I135)=2,IF(LEN(TRIM(K135))>0,1,0)+IF(LEN(TRIM(M135))>0,1,0),COUNTA(H135:I135)))","v":0},null,6,0,0,null,null,null,null,121,2,"","",{"$f":"AF134+IF(COUNTIF($AC$15:AC135,AC135)>1,0,1)","v":2},{"$f":"IF(ROWS(AF$15:AF135)>MAX(AF:AF),\"\",INDEX(AC:AC,MATCH(ROWS(AF$15:AF135),AF:AF,0)))","v":""},{"$f":"IF(AD135=\"\",AH134,AH134+IF(COUNTIF($AD$15:AD135,AD135)>1,0,1))","v":0},{"$f":"IF(ROWS($AH$15:AH135)>MAX(AH:AH),\"\",INDEX(AD:AD,MATCH(ROWS($AH$15:AH135),AH:AH,0)))","v":""}]
[null,null,"0031","NCQA","Breast Cancer Screening*, **",null,null,null,null,"",null,null,null,null,"The hospital’s current data systems do not allow for the measure to be reported (must provide additional information)",null,47.25,0,0,null,6,0,0,null,null,null,null,122,2,"","",{"$f":"AF135+IF(COUNTIF($AC$15:AC136,AC136)>1,0,1)","v":2},{"$f":"IF(ROWS(AF$15:AF136)>MAX(AF:AF),\"\",INDEX(AC:AC,MATCH(ROWS(AF$15:AF136),AF:AF,0)))","v":""},{"$f":"IF(AD136=\"\",AH135,AH135+IF(COUNTIF($AD$15:AD136,AD136)>1,0,1))","v":0},{"$f":"IF(ROWS($AH$15:AH136)>MAX(AH:AH),\"\",INDEX(AD:AD,MATCH(ROWS($AH$15:AH136),AH:AH,0)))","v":""}]
[null,null,"0032","NCQA","Cervical Cancer Screening*.**",null,null,null,null,"",null,null,null,null,"There is not a statistically significant population to report the measure – defined as at least 30 cases included in the denominator.",null,47.25,0,0,null,6,0,0,null,null,null,null,123,2,"","",{"$f":"AF136+IF(COUNTIF($AC$15:AC137,AC137)>1,0,1)","v":2},{"$f":"IF(ROWS(AF$15:AF137)>MAX(AF:AF),\"\",INDEX(AC:AC,MATCH(ROWS(AF$15:AF137),AF:AF,0)))","v":""},{"$f":"IF(AD137=\"\",AH136,AH136+IF(COUNTIF($AD$15:AD137,AD137)>1,0,1))","v":0},{"$f":"IF(ROWS($AH$15:AH137)>MAX(AH:AH),\"\",INDEX(AD:AD,MATCH(ROWS($AH$15:AH137),AH:AH,0)))","v":""}]
[null,null,"0027","NCQA","Medical Assistance with Smoking and Tobacco Use Cessation (Collected as part of HEDIS)* ",null,null,null,null,"",null,null,null,null,"The hospital’s current data systems do not allow for the measure to be reported (must provide additional information)",null,47.25,0,0,null,6,0,0,null,null,null,null,124,2,"","",{"$f":"AF137+IF(COUNTIF($AC$15:AC138,AC138)>1,0,1)","v":2},{"$f":"IF(ROWS(AF$15:AF138)>MAX(AF:AF),\"\",INDEX(AC:AC,MATCH(ROWS(AF$15:AF138),AF:AF,0)))","v":""},{"$f":"IF(AD138=\"\",AH137,AH137+IF(COUNTIF($AD$15:AD138,AD138)>1,0,1))","v":0},{"$f":"IF(ROWS($AH$15:AH138)>MAX(AH:AH),\"\",INDEX(AD:AD,MATCH(ROWS($AH$15:AH138),AH:AH,0)))","v":""}]
[null,null,"0418","CMS","Screening for Clinical Depression and Follow-Up Plan",null,null,null,null,"",null,null,null,null,"The identical data is being reported as a Category 3 outcome",null,47.25,0,0,null,6,0,0,null,null,null,null,125,2,"","",{"$f":"AF138+IF(COUNTIF($AC$15:AC139,AC139)>1,0,1)","v":2},{"$f":"IF(ROWS(AF$15:AF139)>MAX(AF:AF),\"\",INDEX(AC:AC,MATCH(ROWS(AF$15:AF139),AF:AF,0)))","v":""},{"$f":"IF(AD139=\"\",AH138,AH138+IF(COUNTIF($AD$15:AD139,AD139)>1,0,1))","v":0},{"$f":"IF(ROWS($AH$15:AH139)>MAX(AH:AH),\"\",INDEX(AD:AD,MATCH(ROWS($AH$15:AH139),AH:AH,0)))","v":""}]
[null,null,"1768","NCQA","Hospital-Wide All-Cause Readmission**",null,null,null,null,"",null,null,null,null,null,null,47.25,0,0,null,6,0,0,null,null,null,null,126,2,"","",{"$f":"AF139+IF(COUNTIF($AC$15:AC140,AC140)>1,0,1)","v":2},{"$f":"IF(ROWS(AF$15:AF140)>MAX(AF:AF),\"\",INDEX(AC:AC,MATCH(ROWS(AF$15:AF140),AF:AF,0)))","v":""},{"$f":"IF(AD140=\"\",AH139,AH139+IF(COUNTIF($AD$15:AD140,AD140)>1,0,1))","v":0},{"$f":"IF(ROWS($AH$15:AH140)>MAX(AH:AH),\"\",INDEX(AD:AD,MATCH(ROWS($AH$15:AH140),AH:AH,0)))","v":""}]
[null,null,"0272","AHRQ","PQI 01: Diabetes, Short-term Complications Admission Rate**",null,null,null,null,"",null,null,null,null,null,null,47.25,0,0,null,6,0,0,null,null,null,null,127,2,"","",{"$f":"AF140+IF(COUNTIF($AC$15:AC141,AC141)>1,0,1)","v":2},{"$f":"IF(ROWS(AF$15:AF141)>MAX(AF:AF),\"\",INDEX(AC:AC,MATCH(ROWS(AF$15:AF141),AF:AF,0)))","v":""},{"$f":"IF(AD141=\"\",AH140,AH140+IF(COUNTIF($AD$15:AD141,AD141)>1,0,1))","v":0},{"$f":"IF(ROWS($AH$15:AH141)>MAX(AH:AH),\"\",INDEX(AD:AD,MATCH(ROWS($AH$15:AH141),AH:AH,0)))","v":""}]
[null,null,"0275","AHRQ","PQI 05: Chronic Obstructive Pulmonary Disease (COPD) Admission Rate**",null,null,null,null,"",null,null,null,null,null,null,47.25,0,0,null,6,0,0,null,null,null,null,128,2,"","",{"$f":"AF141+IF(COUNTIF($AC$15:AC142,AC142)>1,0,1)","v":2},{"$f":"IF(ROWS(AF$15:AF142)>MAX(AF:AF),\"\",INDEX(AC:AC,MATCH(ROWS(AF$15:AF142),AF:AF,0)))","v":""},{"$f":"IF(AD142=\"\",AH141,AH141+IF(COUNTIF($AD$15:AD142,AD142)>1,0,1))","v":0},{"$f":"IF(ROWS($AH$15:AH142)>MAX(AH:AH),\"\",INDEX(AD:AD,MATCH(ROWS($AH$15:AH142),AH:AH,0)))","v":""}]
[null,null,"0277","AHRQ","PQI 08: Congestive Heart Failure Admission Rate**",null,null,null,null,"",null,null,null,null,null,null,47.25,0,0,null,6,0,0,null,null,null,null,129,2,"","",{"$f":"AF142+IF(COUNTIF($AC$15:AC143,AC143)>1,0,1)","v":2},{"$f":"IF(ROWS(AF$15:AF143)>MAX(AF:AF),\"\",INDEX(AC:AC,MATCH(ROWS(AF$15:AF143),AF:AF,0)))","v":""},{"$f":"IF(AD143=\"\",AH142,AH142+IF(COUNTIF($AD$15:AD143,AD143)>1,0,1))","v":0},{"$f":"IF(ROWS($AH$15:AH143)>MAX(AH:AH),\"\",INDEX(AD:AD,MATCH(ROWS($AH$15:AH143),AH:AH,0)))","v":""}]
[null,null,"0283","AHRQ","PQI 15: Adult Asthma Admission Rate*,**",null,null,null,null,"",null,null,null,null,null,null,47.25,0,0,null,6,0,0,null,null,null,null,130,{"$f":"IF(INDIRECT($AC$1&\"D\"&$AB144+1)=\"\",\"\",INDIRECT($AC$1&\"D\"&$AB144+1))","v":2},{"$f":"IF(AC144=\"\",\"\",IF($E$16=AC144,INDIRECT($AC$1&\"E\"&$AB144+1),\"\"))","v":""},{"$f":"IF(ISBLANK($E$17),\"\",IF($E$17<>AD144,\"\",IF(INDIRECT($AC$1&\"U\"&$AB144+1)=\"Yes\",INDIRECT($AC$1&\"I\"&$AB144+1),\"\")))","v":""},{"$f":"AF143+IF(COUNTIF($AC$15:AC144,AC144)>1,0,1)","v":2},{"$f":"IF(ROWS(AF$15:AF144)>MAX(AF:AF),\"\",INDEX(AC:AC,MATCH(ROWS(AF$15:AF144),AF:AF,0)))","v":""},{"$f":"IF(AD144=\"\",AH143,AH143+IF(COUNTIF($AD$15:AD144,AD144)>1,0,1))","v":0},{"$f":"IF(ROWS($AH$15:AH144)>MAX(AH:AH),\"\",INDEX(AD:AD,MATCH(ROWS($AH$15:AH144),AH:AH,0)))","v":""}]
[null,null,"0033","NCQA","Chlamydia Screening in Women Ages 21-24*",null,null,null,null,"",null,null,null,null,null,null,47.25,0,0,null,6,0,0,null,null,null,null,{"$f":"AB144+1","v":131},2,"","",{"$f":"AF144+IF(COUNTIF($AC$15:AC145,AC145)>1,0,1)","v":2},{"$f":"IF(ROWS(AF$15:AF145)>MAX(AF:AF),\"\",INDEX(AC:AC,MATCH(ROWS(AF$15:AF145),AF:AF,0)))","v":""},{"$f":"IF(AD145=\"\",AH144,AH144+IF(COUNTIF($AD$15:AD145,AD145)>1,0,1))","v":0},{"$f":"IF(ROWS($AH$15:AH145)>MAX(AH:AH),\"\",INDEX(AD:AD,MATCH(ROWS($AH$15:AH145),AH:AH,0)))","v":""}]
[null,null,"0576","NCQA","Follow-Up After Hospitalization for Mental Illness* (7-day)",null,null,null,null,"",null,null,null,null,null,null,47.25,0,0,null,6,0,0,null,null,null,null,132,2,"","",{"$f":"AF145+IF(COUNTIF($AC$15:AC146,AC146)>1,0,1)","v":2},{"$f":"IF(ROWS(AF$15:AF146)>MAX(AF:AF),\"\",INDEX(AC:AC,MATCH(ROWS(AF$15:AF146),AF:AF,0)))","v":""},{"$f":"IF(AD146=\"\",AH145,AH145+IF(COUNTIF($AD$15:AD146,AD146)>1,0,1))","v":0},{"$f":"IF(ROWS($AH$15:AH146)>MAX(AH:AH),\"\",INDEX(AD:AD,MATCH(ROWS($AH$15:AH146),AH:AH,0)))","v":""}]
[null,null,null,null,"Follow-Up After Hospitalization for Mental Illness* (30-day)",null,null,null,null,"",null,null,null,null,null,null,47.25,0,0,null,6,0,0,null,null,null,null,133,2,"","",{"$f":"AF146+IF(COUNTIF($AC$15:AC147,AC147)>1,0,1)","v":2},{"$f":"IF(ROWS(AF$15:AF147)>MAX(AF:AF),\"\",INDEX(AC:AC,MATCH(ROWS(AF$15:AF147),AF:AF,0)))","v":""},{"$f":"IF(AD147=\"\",AH146,AH146+IF(COUNTIF($AD$15:AD147,AD147)>1,0,1))","v":0},{"$f":"IF(ROWS($AH$15:AH147)>MAX(AH:AH),\"\",INDEX(AD:AD,MATCH(ROWS($AH$15:AH147),AH:AH,0)))","v":""}]
[null,null,"0469","HCA/TJC","PC-01: Elective Delivery",null,null,null,null,"",null,null,null,null,null,null,47.25,0,0,null,6,0,0,null,null,null,null,134,2,"","",{"$f":"AF147+IF(COUNTIF($AC$15:AC148,AC148)>1,0,1)","v":2},{"$f":"IF(ROWS(AF$15:AF148)>MAX(AF:AF),\"\",INDEX(AC:AC,MATCH(ROWS(AF$15:AF148),AF:AF,0)))","v":""},{"$f":"IF(AD148=\"\",AH147,AH147+IF(COUNTIF($AD$15:AD148,AD148)>1,0,1))","v":0},{"$f":"IF(ROWS($AH$15:AH148)>MAX(AH:AH),\"\",INDEX(AD:AD,MATCH(ROWS($AH$15:AH148),AH:AH,0)))","v":""}]
[null,null,"0476","Prov/\nCWISH/NPIC/ ","PC-03: Antenatal Steroids",null,null,null,null,"",null,null,null,null,null,null,47.25,0,0,null,6,0,0,null,null,null,null,135,3,"","",{"$f":"AF148+IF(COUNTIF($AC$15:AC149,AC149)>1,0,1)","v":3},{"$f":"IF(ROWS(AF$15:AF149)>MAX(AF:AF),\"\",INDEX(AC:AC,MATCH(ROWS(AF$15:AF149),AF:AF,0)))","v":""},{"$f":"IF(AD149=\"\",AH148,AH148+IF(COUNTIF($AD$15:AD149,AD149)>1,0,1))","v":0},{"$f":"IF(ROWS($AH$15:AH149)>MAX(AH:AH),\"\",INDEX(AD:AD,MATCH(ROWS($AH$15:AH149),AH:AH,0)))","v":""}]
[null,null,"0018","NCQA","Controlling High Blood Pressure*,**",null,null,null,null,"",null,null,null,null,null,null,47.25,0,0,null,6,0,0,null,null,null,null,136,3,"","",{"$f":"AF149+IF(COUNTIF($AC$15:AC150,AC150)>1,0,1)","v":3},{"$f":"IF(ROWS(AF$15:AF150)>MAX(AF:AF),\"\",INDEX(AC:AC,MATCH(ROWS(AF$15:AF150),AF:AF,0)))","v":""},{"$f":"IF(AD150=\"\",AH149,AH149+IF(COUNTIF($AD$15:AD150,AD150)>1,0,1))","v":0},{"$f":"IF(ROWS($AH$15:AH150)>MAX(AH:AH),\"\",INDEX(AD:AD,MATCH(ROWS($AH$15:AH150),AH:AH,0)))","v":""}]
[null,null,"0063","NCQA","Comprehensive Diabetes Care: LDL-C Screening*,**",null,null,null,null,"",null,null,null,null,null,null,47.25,0,0,null,6,0,0,null,null,null,null,137,3,"","",{"$f":"AF150+IF(COUNTIF($AC$15:AC151,AC151)>1,0,1)","v":3},{"$f":"IF(ROWS(AF$15:AF151)>MAX(AF:AF),\"\",INDEX(AC:AC,MATCH(ROWS(AF$15:AF151),AF:AF,0)))","v":""},{"$f":"IF(AD151=\"\",AH150,AH150+IF(COUNTIF($AD$15:AD151,AD151)>1,0,1))","v":0},{"$f":"IF(ROWS($AH$15:AH151)>MAX(AH:AH),\"\",INDEX(AD:AD,MATCH(ROWS($AH$15:AH151),AH:AH,0)))","v":""}]
[null,null,"0403","NCQA","Annual HIV/AIDS Medical Visit*( 90 days)",null,null,null,null,"",null,null,null,null,null,null,47.25,0,0,null,6,0,0,null,null,null,null,138,3,"","",{"$f":"AF151+IF(COUNTIF($AC$15:AC152,AC152)>1,0,1)","v":3},{"$f":"IF(ROWS(AF$15:AF152)>MAX(AF:AF),\"\",INDEX(AC:AC,MATCH(ROWS(AF$15:AF152),AF:AF,0)))","v":""},{"$f":"IF(AD152=\"\",AH151,AH151+IF(COUNTIF($AD$15:AD152,AD152)>1,0,1))","v":0},{"$f":"IF(ROWS($AH$15:AH152)>MAX(AH:AH),\"\",INDEX(AD:AD,MATCH(ROWS($AH$15:AH152),AH:AH,0)))","v":""}]
[null,null,null,null,"Annual HIV/AIDS Medical Visit*( 180 days)",null,null,null,null,"",null,null,null,null,null,null,47.25,0,0,null,6,0,0,null,null,null,null,139,3,"","",{"$f":"AF152+IF(COUNTIF($AC$15:AC153,AC153)>1,0,1)","v":3},{"$f":"IF(ROWS(AF$15:AF153)>MAX(AF:AF),\"\",INDEX(AC:AC,MATCH(ROWS(AF$15:AF153),AF:AF,0)))","v":""},{"$f":"IF(AD153=\"\",AH152,AH152+IF(COUNTIF($AD$15:AD153,AD153)>1,0,1))","v":0},{"$f":"IF(ROWS($AH$15:AH153)>MAX(AH:AH),\"\",INDEX(AD:AD,MATCH(ROWS($AH$15:AH153),AH:AH,0)))","v":""}]
[null,null,"0057","NCQA","Comprehensive Diabetes Care: Hemoglobin A1c Testing*",null,null,null,null,"",null,null,null,null,null,null,47.25,0,0,null,6,0,0,null,null,null,null,140,3,"","",{"$f":"AF153+IF(COUNTIF($AC$15:AC154,AC154)>1,0,1)","v":3},{"$f":"IF(ROWS(AF$15:AF154)>MAX(AF:AF),\"\",INDEX(AC:AC,MATCH(ROWS(AF$15:AF154),AF:AF,0)))","v":""},{"$f":"IF(AD154=\"\",AH153,AH153+IF(COUNTIF($AD$15:AD154,AD154)>1,0,1))","v":0},{"$f":"IF(ROWS($AH$15:AH154)>MAX(AH:AH),\"\",INDEX(AD:AD,MATCH(ROWS($AH$15:AH154),AH:AH,0)))","v":""}]
[null,null,"0105","NCQA","Antidepressant Medication Management* (Acute Phase)",null,null,null,null,"",null,null,null,null,null,null,47.25,0,0,null,6,0,0,null,null,null,null,141,3,"","",{"$f":"AF154+IF(COUNTIF($AC$15:AC155,AC155)>1,0,1)","v":3},{"$f":"IF(ROWS(AF$15:AF155)>MAX(AF:AF),\"\",INDEX(AC:AC,MATCH(ROWS(AF$15:AF155),AF:AF,0)))","v":""},{"$f":"IF(AD155=\"\",AH154,AH154+IF(COUNTIF($AD$15:AD155,AD155)>1,0,1))","v":0},{"$f":"IF(ROWS($AH$15:AH155)>MAX(AH:AH),\"\",INDEX(AD:AD,MATCH(ROWS($AH$15:AH155),AH:AH,0)))","v":""}]
[null,null,null,null,"Antidepressant Medication Management* (Continuation Phase)",null,null,null,null,"",null,null,null,null,null,null,47.25,0,0,null,6,0,0,null,null,null,null,142,3,"","",{"$f":"AF155+IF(COUNTIF($AC$15:AC156,AC156)>1,0,1)","v":3},{"$f":"IF(ROWS(AF$15:AF156)>MAX(AF:AF),\"\",INDEX(AC:AC,MATCH(ROWS(AF$15:AF156),AF:AF,0)))","v":""},{"$f":"IF(AD156=\"\",AH155,AH155+IF(COUNTIF($AD$15:AD156,AD156)>1,0,1))","v":0},{"$f":"IF(ROWS($AH$15:AH156)>MAX(AH:AH),\"\",INDEX(AD:AD,MATCH(ROWS($AH$15:AH156),AH:AH,0)))","v":""}]
[null,null,"NA","CMS-QMHAG","Adherence to Antipsychotics for Individuals with Schizophrenia*,**",null,null,null,null,"",null,null,null,null,null,null,47.25,0,0,null,6,0,{"$f":"IF(ISBLANK(V157),INDEX($Y$15:$Y$21,MATCH($U157,$X$15:$X$21,0)),IF(V157+INDEX($Y$15:$Y$21,MATCH($U157,$X$15:$X$21,0))>1,1,0))","v":0},null,null,null,null,143,3,"","",{"$f":"AF156+IF(COUNTIF($AC$15:AC157,AC157)>1,0,1)","v":3},{"$f":"IF(ROWS(AF$15:AF157)>MAX(AF:AF),\"\",INDEX(AC:AC,MATCH(ROWS(AF$15:AF157),AF:AF,0)))","v":""},{"$f":"IF(AD157=\"\",AH156,AH156+IF(COUNTIF($AD$15:AD157,AD157)>1,0,1))","v":0},{"$f":"IF(ROWS($AH$15:AH157)>MAX(AH:AH),\"\",INDEX(AD:AD,MATCH(ROWS($AH$15:AH157),AH:AH,0)))","v":""}]
[null,null,"0021","NCQA","Annual Monitoring for Patients on Persistent Medications*.**",null,null,null,null,"",null,null,null,null,null,null,47.25,0,0,null,6,0,0,null,null,null,null,144,3,"","",{"$f":"AF157+IF(COUNTIF($AC$15:AC158,AC158)>1,0,1)","v":3},{"$f":"IF(ROWS(AF$15:AF158)>MAX(AF:AF),\"\",INDEX(AC:AC,MATCH(ROWS(AF$15:AF158),AF:AF,0)))","v":""},{"$f":"IF(AD158=\"\",AH157,AH157+IF(COUNTIF($AD$15:AD158,AD158)>1,0,1))","v":0},{"$f":"IF(ROWS($AH$15:AH158)>MAX(AH:AH),\"\",INDEX(AD:AD,MATCH(ROWS($AH$15:AH158),AH:AH,0)))","v":""}]
[null,null,null,null,"Annual monitoring for patients on (ACE) or (ARB)",null,null,null,null,"",null,null,null,null,null,null,47.25,0,0,null,6,0,0,null,null,null,null,145,3,"","",{"$f":"AF158+IF(COUNTIF($AC$15:AC159,AC159)>1,0,1)","v":3},{"$f":"IF(ROWS(AF$15:AF159)>MAX(AF:AF),\"\",INDEX(AC:AC,MATCH(ROWS(AF$15:AF159),AF:AF,0)))","v":""},{"$f":"IF(AD159=\"\",AH158,AH158+IF(COUNTIF($AD$15:AD159,AD159)>1,0,1))","v":0},{"$f":"IF(ROWS($AH$15:AH159)>MAX(AH:AH),\"\",INDEX(AD:AD,MATCH(ROWS($AH$15:AH159),AH:AH,0)))","v":""}]
[null,null,null,null,"Annual monitoring for patients on persistent medications - Digoxin*. **",null,null,null,null,"",null,null,null,null,null,null,47.25,0,0,null,6,0,0,null,null,null,null,146,3,"","",{"$f":"AF159+IF(COUNTIF($AC$15:AC160,AC160)>1,0,1)","v":3},{"$f":"IF(ROWS(AF$15:AF160)>MAX(AF:AF),\"\",INDEX(AC:AC,MATCH(ROWS(AF$15:AF160),AF:AF,0)))","v":""},{"$f":"IF(AD160=\"\",AH159,AH159+IF(COUNTIF($AD$15:AD160,AD160)>1,0,1))","v":0},{"$f":"IF(ROWS($AH$15:AH160)>MAX(AH:AH),\"\",INDEX(AD:AD,MATCH(ROWS($AH$15:AH160),AH:AH,0)))","v":""}]
[null,null,null,null,"Annual monitoring for patients on persistent medications - Diuretic*. **",null,null,null,null,"",null,null,null,null,null,null,47.25,0,0,null,6,0,0,null,null,null,null,147,3,"","",{"$f":"AF160+IF(COUNTIF($AC$15:AC161,AC161)>1,0,1)","v":3},{"$f":"IF(ROWS(AF$15:AF161)>MAX(AF:AF),\"\",INDEX(AC:AC,MATCH(ROWS(AF$15:AF161),AF:AF,0)))","v":""},{"$f":"IF(AD161=\"\",AH160,AH160+IF(COUNTIF($AD$15:AD161,AD161)>1,0,1))","v":0},{"$f":"IF(ROWS($AH$15:AH161)>MAX(AH:AH),\"\",INDEX(AD:AD,MATCH(ROWS($AH$15:AH161),AH:AH,0)))","v":""}]
[null,null,null,null,"Annual monitoring for patients on persistent medications - Anticonvulsant*. **",null,null,null,null,"",null,null,null,null,null,null,47.25,0,0,null,6,0,0,null,null,null,null,148,3,"","",{"$f":"AF161+IF(COUNTIF($AC$15:AC162,AC162)>1,0,1)","v":3},{"$f":"IF(ROWS(AF$15:AF162)>MAX(AF:AF),\"\",INDEX(AC:AC,MATCH(ROWS(AF$15:AF162),AF:AF,0)))","v":""},{"$f":"IF(AD162=\"\",AH161,AH161+IF(COUNTIF($AD$15:AD162,AD162)>1,0,1))","v":0},{"$f":"IF(ROWS($AH$15:AH162)>MAX(AH:AH),\"\",INDEX(AD:AD,MATCH(ROWS($AH$15:AH162),AH:AH,0)))","v":""}]
[null,null,"0006 & 0007","AHRQ & NCQA","CAHPS® Health Plan Survey v 4.0—Adult Questionnaire with CAHPS® Health Plan Survey* ",null,null,null,null,"",null,null,null,null,null,null,47.25,0,0,null,6,0,0,null,null,null,null,149,3,"","",{"$f":"AF162+IF(COUNTIF($AC$15:AC163,AC163)>1,0,1)","v":3},{"$f":"IF(ROWS(AF$15:AF163)>MAX(AF:AF),\"\",INDEX(AC:AC,MATCH(ROWS(AF$15:AF163),AF:AF,0)))","v":""},{"$f":"IF(AD163=\"\",AH162,AH162+IF(COUNTIF($AD$15:AD163,AD163)>1,0,1))","v":0},{"$f":"IF(ROWS($AH$15:AH163)>MAX(AH:AH),\"\",INDEX(AD:AD,MATCH(ROWS($AH$15:AH163),AH:AH,0)))","v":""}]
[null,null,"648","AMA-PCPI","Care Transition–Transition Record Transmitted to Health Care Professional",null,null,null,null,"",null,null,null,null,null,null,47.25,0,0,null,6,{"$f":"IF($F$126=\"Yes\",1,0)","v":0},0,null,null,null,null,150,3,"","",{"$f":"AF163+IF(COUNTIF($AC$15:AC164,AC164)>1,0,1)","v":3},{"$f":"IF(ROWS(AF$15:AF164)>MAX(AF:AF),\"\",INDEX(AC:AC,MATCH(ROWS(AF$15:AF164),AF:AF,0)))","v":""},{"$f":"IF(AD164=\"\",AH163,AH163+IF(COUNTIF($AD$15:AD164,AD164)>1,0,1))","v":0},{"$f":"IF(ROWS($AH$15:AH164)>MAX(AH:AH),\"\",INDEX(AD:AD,MATCH(ROWS($AH$15:AH164),AH:AH,0)))","v":""}]
[null,null,"0004","NCQA","Initiation and Engagement of Alcohol and Other Drug Dependence Treatment*,**",null,null,null,null,"",null,null,null,null,null,null,47.25,0,0,null,6,0,0,null,null,null,null,151,3,"","",{"$f":"AF164+IF(COUNTIF($AC$15:AC165,AC165)>1,0,1)","v":3},{"$f":"IF(ROWS(AF$15:AF165)>MAX(AF:AF),\"\",INDEX(AC:AC,MATCH(ROWS(AF$15:AF165),AF:AF,0)))","v":""},{"$f":"IF(AD165=\"\",AH164,AH164+IF(COUNTIF($AD$15:AD165,AD165)>1,0,1))","v":0},{"$f":"IF(ROWS($AH$15:AH165)>MAX(AH:AH),\"\",INDEX(AD:AD,MATCH(ROWS($AH$15:AH165),AH:AH,0)))","v":""}]
[null,null,"1517","NCQA","Prenatal and Postpartum Care: Postpartum Care Rate* ",null,null,null,null,"",null,null,null,null,null,null,47.25,0,0,null,6,0,0,null,null,null,null,152,3,"","",{"$f":"AF165+IF(COUNTIF($AC$15:AC166,AC166)>1,0,1)","v":3},{"$f":"IF(ROWS(AF$15:AF166)>MAX(AF:AF),\"\",INDEX(AC:AC,MATCH(ROWS(AF$15:AF166),AF:AF,0)))","v":""},{"$f":"IF(AD166=\"\",AH165,AH165+IF(COUNTIF($AD$15:AD166,AD166)>1,0,1))","v":0},{"$f":"IF(ROWS($AH$15:AH166)>MAX(AH:AH),\"\",INDEX(AD:AD,MATCH(ROWS($AH$15:AH166),AH:AH,0)))","v":""}]
[null,null,null,null,null,null,null,null,null,null,null,null,null,null,null,null,15,null,null,null,6,0,0,null,null,null,null,153,3,"","",{"$f":"AF166+IF(COUNTIF($AC$15:AC167,AC167)>1,0,1)","v":3},{"$f":"IF(ROWS(AF$15:AF167)>MAX(AF:AF),\"\",INDEX(AC:AC,MATCH(ROWS(AF$15:AF167),AF:AF,0)))","v":""},{"$f":"IF(AD167=\"\",AH166,AH166+IF(COUNTIF($AD$15:AD167,AD167)>1,0,1))","v":0},{"$f":"IF(ROWS($AH$15:AH167)>MAX(AH:AH),\"\",INDEX(AD:AD,MATCH(ROWS($AH$15:AH167),AH:AH,0)))","v":""}]
[null,null,"Second Component: Measures for Child Population",null,null,null,null,null,null,null,null,null,null,null,null,null,15.75,null,null,null,6,0,0,null,null,null,null,154,3,"","",{"$f":"AF167+IF(COUNTIF($AC$15:AC168,AC168)>1,0,1)","v":3},{"$f":"IF(ROWS(AF$15:AF168)>MAX(AF:AF),\"\",INDEX(AC:AC,MATCH(ROWS(AF$15:AF168),AF:AF,0)))","v":""},{"$f":"IF(AD168=\"\",AH167,AH167+IF(COUNTIF($AD$15:AD168,AD168)>1,0,1))","v":0},{"$f":"IF(ROWS($AH$15:AH168)>MAX(AH:AH),\"\",INDEX(AD:AD,MATCH(ROWS($AH$15:AH168),AH:AH,0)))","v":""}]
[null,null,"DY4 Measurement Period:",null,{"$f":"AL20","v":{"$error":"#N/A"}},null,null,null,null,null,null,null,null,null,null,null,15,null,null,null,6,0,0,null,null,null,null,155,3,"","",{"$f":"AF168+IF(COUNTIF($AC$15:AC169,AC169)>1,0,1)","v":3},{"$f":"IF(ROWS(AF$15:AF169)>MAX(AF:AF),\"\",INDEX(AC:AC,MATCH(ROWS(AF$15:AF169),AF:AF,0)))","v":""},{"$f":"IF(AD169=\"\",AH168,AH168+IF(COUNTIF($AD$15:AD169,AD169)>1,0,1))","v":0},{"$f":"IF(ROWS($AH$15:AH169)>MAX(AH:AH),\"\",INDEX(AD:AD,MATCH(ROWS($AH$15:AH169),AH:AH,0)))","v":""}]
[null,null,null,null,null,null,null,null,null,null,null,null,null,null,null,null,15,null,null,null,6,0,0,null,null,null,null,156,3,"","",{"$f":"AF169+IF(COUNTIF($AC$15:AC170,AC170)>1,0,1)","v":3},{"$f":"IF(ROWS(AF$15:AF170)>MAX(AF:AF),\"\",INDEX(AC:AC,MATCH(ROWS(AF$15:AF170),AF:AF,0)))","v":""},{"$f":"IF(AD170=\"\",AH169,AH169+IF(COUNTIF($AD$15:AD170,AD170)>1,0,1))","v":0},{"$f":"IF(ROWS($AH$15:AH170)>MAX(AH:AH),\"\",INDEX(AD:AD,MATCH(ROWS($AH$15:AH170),AH:AH,0)))","v":""}]
[null,null,"NQF #","Measure Steward","Measure Name ",null,null,"Provider Numerator","Provider Denominator","Provider Rate","If not reporting measure, please provide an explanation of why the measure is not being reported.",null,"Additional information on measures not reported:",null,null,null,30,null,null,null,6,0,0,null,null,null,null,157,3,"","",{"$f":"AF170+IF(COUNTIF($AC$15:AC171,AC171)>1,0,1)","v":3},{"$f":"IF(ROWS(AF$15:AF171)>MAX(AF:AF),\"\",INDEX(AC:AC,MATCH(ROWS(AF$15:AF171),AF:AF,0)))","v":""},{"$f":"IF(AD171=\"\",AH170,AH170+IF(COUNTIF($AD$15:AD171,AD171)>1,0,1))","v":0},{"$f":"IF(ROWS($AH$15:AH171)>MAX(AH:AH),\"\",INDEX(AD:AD,MATCH(ROWS($AH$15:AH171),AH:AH,0)))","v":""}]
[null,null,"0108","NCQA","Follow-Up Care for Children Prescribed Attention Deficit Hyperactivity Disorder*,**",null,null,null,null,{"$f":"IFERROR(H172/I172,\"\")","v":""},null,null,null,null,null,null,47.25,{"$f":"W172*2","v":0},{"$f":"W172*(IF(COUNTBLANK(H172:I172)=2,IF(LEN(TRIM(K172))>0,1,0)+IF(LEN(TRIM(M172))>0,1,0),COUNTA(H172:I172)))","v":0},null,6,0,0,null,null,null,null,158,3,"","",{"$f":"AF171+IF(COUNTIF($AC$15:AC172,AC172)>1,0,1)","v":3},{"$f":"IF(ROWS(AF$15:AF172)>MAX(AF:AF),\"\",INDEX(AC:AC,MATCH(ROWS(AF$15:AF172),AF:AF,0)))","v":""},{"$f":"IF(AD172=\"\",AH171,AH171+IF(COUNTIF($AD$15:AD172,AD172)>1,0,1))","v":0},{"$f":"IF(ROWS($AH$15:AH172)>MAX(AH:AH),\"\",INDEX(AD:AD,MATCH(ROWS($AH$15:AH172),AH:AH,0)))","v":""}]
[null,null,null,null,"     Initiation Phase",null,null,null,null,{"$f":"IFERROR(H173/I173,\"\")","v":""},null,null,null,null,null,null,47.25,0,0,null,6,0,0,null,null,null,null,159,3,"","",{"$f":"AF172+IF(COUNTIF($AC$15:AC173,AC173)>1,0,1)","v":3},{"$f":"IF(ROWS(AF$15:AF173)>MAX(AF:AF),\"\",INDEX(AC:AC,MATCH(ROWS(AF$15:AF173),AF:AF,0)))","v":""},{"$f":"IF(AD173=\"\",AH172,AH172+IF(COUNTIF($AD$15:AD173,AD173)>1,0,1))","v":0},{"$f":"IF(ROWS($AH$15:AH173)>MAX(AH:AH),\"\",INDEX(AD:AD,MATCH(ROWS($AH$15:AH173),AH:AH,0)))","v":""}]
[null,null,null,null,"     Continuation and Maintenance Phase ",null,null,null,null,"",null,null,null,null,null,null,47.25,0,0,null,6,0,0,null,null,null,null,160,3,"","",{"$f":"AF173+IF(COUNTIF($AC$15:AC174,AC174)>1,0,1)","v":3},{"$f":"IF(ROWS(AF$15:AF174)>MAX(AF:AF),\"\",INDEX(AC:AC,MATCH(ROWS(AF$15:AF174),AF:AF,0)))","v":""},{"$f":"IF(AD174=\"\",AH173,AH173+IF(COUNTIF($AD$15:AD174,AD174)>1,0,1))","v":0},{"$f":"IF(ROWS($AH$15:AH174)>MAX(AH:AH),\"\",INDEX(AD:AD,MATCH(ROWS($AH$15:AH174),AH:AH,0)))","v":""}]
[null,null,"NA","NCQA","Ambulatory Care - Emergency Department (ED) Visits** (Overall)",null,null,null,null,"",null,null,null,null,null,null,47.25,0,0,null,6,0,0,null,null,null,null,161,3,"","",{"$f":"AF174+IF(COUNTIF($AC$15:AC175,AC175)>1,0,1)","v":3},{"$f":"IF(ROWS(AF$15:AF175)>MAX(AF:AF),\"\",INDEX(AC:AC,MATCH(ROWS(AF$15:AF175),AF:AF,0)))","v":""},{"$f":"IF(AD175=\"\",AH174,AH174+IF(COUNTIF($AD$15:AD175,AD175)>1,0,1))","v":0},{"$f":"IF(ROWS($AH$15:AH175)>MAX(AH:AH),\"\",INDEX(AD:AD,MATCH(ROWS($AH$15:AH175),AH:AH,0)))","v":""}]
[null,null,null,null,"Ambulatory Care - Emergency Department (ED) Visits** (less than 1 year of age)",null,null,null,null,"",null,null,null,null,null,null,47.25,0,0,null,6,0,0,null,null,null,null,162,3,"","",{"$f":"AF175+IF(COUNTIF($AC$15:AC176,AC176)>1,0,1)","v":3},{"$f":"IF(ROWS(AF$15:AF176)>MAX(AF:AF),\"\",INDEX(AC:AC,MATCH(ROWS(AF$15:AF176),AF:AF,0)))","v":""},{"$f":"IF(AD176=\"\",AH175,AH175+IF(COUNTIF($AD$15:AD176,AD176)>1,0,1))","v":0},{"$f":"IF(ROWS($AH$15:AH176)>MAX(AH:AH),\"\",INDEX(AD:AD,MATCH(ROWS($AH$15:AH176),AH:AH,0)))","v":""}]
[null,null,null,null,"Ambulatory Care - Emergency Department (ED) Visits** (1-9 years of age)",null,null,null,null,"",null,null,null,null,null,null,47.25,0,0,null,6,0,0,null,null,null,null,163,3,"","",{"$f":"AF176+IF(COUNTIF($AC$15:AC177,AC177)>1,0,1)","v":3},{"$f":"IF(ROWS(AF$15:AF177)>MAX(AF:AF),\"\",INDEX(AC:AC,MATCH(ROWS(AF$15:AF177),AF:AF,0)))","v":""},{"$f":"IF(AD177=\"\",AH176,AH176+IF(COUNTIF($AD$15:AD177,AD177)>1,0,1))","v":0},{"$f":"IF(ROWS($AH$15:AH177)>MAX(AH:AH),\"\",INDEX(AD:AD,MATCH(ROWS($AH$15:AH177),AH:AH,0)))","v":""}]
[null,null,null,null,"Ambulatory Care - Emergency Department (ED) Visits** (10-19 years of age)",null,null,null,null,"",null,null,null,null,null,null,47.25,0,0,null,6,0,0,null,null,null,null,164,3,"","",{"$f":"AF177+IF(COUNTIF($AC$15:AC178,AC178)>1,0,1)","v":3},{"$f":"IF(ROWS(AF$15:AF178)>MAX(AF:AF),\"\",INDEX(AC:AC,MATCH(ROWS(AF$15:AF178),AF:AF,0)))","v":""},{"$f":"IF(AD178=\"\",AH177,AH177+IF(COUNTIF($AD$15:AD178,AD178)>1,0,1))","v":0},{"$f":"IF(ROWS($AH$15:AH178)>MAX(AH:AH),\"\",INDEX(AD:AD,MATCH(ROWS($AH$15:AH178),AH:AH,0)))","v":""}]
[null,null,"NA","NCQA","Adolescent Well-Care Visit**",null,null,null,null,"",null,null,null,null,null,null,47.25,0,0,null,6,0,0,null,null,null,null,165,3,"","",{"$f":"AF178+IF(COUNTIF($AC$15:AC179,AC179)>1,0,1)","v":3},{"$f":"IF(ROWS(AF$15:AF179)>MAX(AF:AF),\"\",INDEX(AC:AC,MATCH(ROWS(AF$15:AF179),AF:AF,0)))","v":""},{"$f":"IF(AD179=\"\",AH178,AH178+IF(COUNTIF($AD$15:AD179,AD179)>1,0,1))","v":0},{"$f":"IF(ROWS($AH$15:AH179)>MAX(AH:AH),\"\",INDEX(AD:AD,MATCH(ROWS($AH$15:AH179),AH:AH,0)))","v":""}]
[null,null,"NA","AMA-PCPI","Behavioral Health Risk Assessment (for Pregnant Women)*",null,null,null,null,"",null,null,null,null,null,null,47.25,0,0,null,6,0,0,null,null,null,null,166,3,"","",{"$f":"AF179+IF(COUNTIF($AC$15:AC180,AC180)>1,0,1)","v":3},{"$f":"IF(ROWS(AF$15:AF180)>MAX(AF:AF),\"\",INDEX(AC:AC,MATCH(ROWS(AF$15:AF180),AF:AF,0)))","v":""},{"$f":"IF(AD180=\"\",AH179,AH179+IF(COUNTIF($AD$15:AD180,AD180)>1,0,1))","v":0},{"$f":"IF(ROWS($AH$15:AH180)>MAX(AH:AH),\"\",INDEX(AD:AD,MATCH(ROWS($AH$15:AH180),AH:AH,0)))","v":""}]
[null,null,"NA","NCQA","Child and Adolescents’ Access to Primary Care Practitioners*,**",null,null,null,null,"",null,null,null,null,null,null,47.25,0,0,null,6,0,0,null,null,null,null,167,3,"","",{"$f":"AF180+IF(COUNTIF($AC$15:AC181,AC181)>1,0,1)","v":3},{"$f":"IF(ROWS(AF$15:AF181)>MAX(AF:AF),\"\",INDEX(AC:AC,MATCH(ROWS(AF$15:AF181),AF:AF,0)))","v":""},{"$f":"IF(AD181=\"\",AH180,AH180+IF(COUNTIF($AD$15:AD181,AD181)>1,0,1))","v":0},{"$f":"IF(ROWS($AH$15:AH181)>MAX(AH:AH),\"\",INDEX(AD:AD,MATCH(ROWS($AH$15:AH181),AH:AH,0)))","v":""}]
[null,null,"0033","NCQA","Chlamydia Screening in Women*,**",null,null,null,null,"",null,null,null,null,null,null,47.25,0,0,null,6,0,0,null,null,null,null,168,3,"","",{"$f":"AF181+IF(COUNTIF($AC$15:AC182,AC182)>1,0,1)","v":3},{"$f":"IF(ROWS(AF$15:AF182)>MAX(AF:AF),\"\",INDEX(AC:AC,MATCH(ROWS(AF$15:AF182),AF:AF,0)))","v":""},{"$f":"IF(AD182=\"\",AH181,AH181+IF(COUNTIF($AD$15:AD182,AD182)>1,0,1))","v":0},{"$f":"IF(ROWS($AH$15:AH182)>MAX(AH:AH),\"\",INDEX(AD:AD,MATCH(ROWS($AH$15:AH182),AH:AH,0)))","v":""}]
[null,null,"0038","NCQA","Childhood Immunization Status*,**",null,null,null,null,"",null,null,null,null,null,null,47.25,0,0,null,6,0,0,null,null,null,null,169,3,"","",{"$f":"AF182+IF(COUNTIF($AC$15:AC183,AC183)>1,0,1)","v":3},{"$f":"IF(ROWS(AF$15:AF183)>MAX(AF:AF),\"\",INDEX(AC:AC,MATCH(ROWS(AF$15:AF183),AF:AF,0)))","v":""},{"$f":"IF(AD183=\"\",AH182,AH182+IF(COUNTIF($AD$15:AD183,AD183)>1,0,1))","v":0},{"$f":"IF(ROWS($AH$15:AH183)>MAX(AH:AH),\"\",INDEX(AD:AD,MATCH(ROWS($AH$15:AH183),AH:AH,0)))","v":""}]
[null,null,"0139","CDC","Pediatric Central-line Associated Bloodstream Infections–Neonatal Intensive Care Unit ",null,null,null,null,"",null,null,null,null,null,null,47.25,0,0,null,6,0,0,null,null,null,null,170,3,"","",{"$f":"AF183+IF(COUNTIF($AC$15:AC184,AC184)>1,0,1)","v":3},{"$f":"IF(ROWS(AF$15:AF184)>MAX(AF:AF),\"\",INDEX(AC:AC,MATCH(ROWS(AF$15:AF184),AF:AF,0)))","v":""},{"$f":"IF(AD184=\"\",AH183,AH183+IF(COUNTIF($AD$15:AD184,AD184)>1,0,1))","v":0},{"$f":"IF(ROWS($AH$15:AH184)>MAX(AH:AH),\"\",INDEX(AD:AD,MATCH(ROWS($AH$15:AH184),AH:AH,0)))","v":""}]
[null,null,"NA","NCQA","Consumer Assessment of Healthcare Providers and Systems® CAHPS 5.0H (Child Version*",null,null,null,null,"",null,null,null,null,null,null,47.25,0,0,null,6,0,0,null,null,null,null,171,3,"","",{"$f":"AF184+IF(COUNTIF($AC$15:AC185,AC185)>1,0,1)","v":3},{"$f":"IF(ROWS(AF$15:AF185)>MAX(AF:AF),\"\",INDEX(AC:AC,MATCH(ROWS(AF$15:AF185),AF:AF,0)))","v":""},{"$f":"IF(AD185=\"\",AH184,AH184+IF(COUNTIF($AD$15:AD185,AD185)>1,0,1))","v":0},{"$f":"IF(ROWS($AH$15:AH185)>MAX(AH:AH),\"\",INDEX(AD:AD,MATCH(ROWS($AH$15:AH185),AH:AH,0)))","v":""}]
[null,null,"0471","CMQCC","Cesarean Rate for Nulliparous Singleton Vertex",null,null,null,null,"",null,null,null,null,null,null,47.25,0,0,null,6,0,0,null,null,null,null,172,3,"","",{"$f":"AF185+IF(COUNTIF($AC$15:AC186,AC186)>1,0,1)","v":3},{"$f":"IF(ROWS(AF$15:AF186)>MAX(AF:AF),\"\",INDEX(AC:AC,MATCH(ROWS(AF$15:AF186),AF:AF,0)))","v":""},{"$f":"IF(AD186=\"\",AH185,AH185+IF(COUNTIF($AD$15:AD186,AD186)>1,0,1))","v":0},{"$f":"IF(ROWS($AH$15:AH186)>MAX(AH:AH),\"\",INDEX(AD:AD,MATCH(ROWS($AH$15:AH186),AH:AH,0)))","v":""}]
[null,null,"1448","OHSU","Developmental Screening in the First Three Years of Life*",null,null,null,null,"",null,null,null,null,null,null,47.25,0,0,null,6,0,0,null,null,null,null,173,3,"","",{"$f":"AF186+IF(COUNTIF($AC$15:AC187,AC187)>1,0,1)","v":3},{"$f":"IF(ROWS(AF$15:AF187)>MAX(AF:AF),\"\",INDEX(AC:AC,MATCH(ROWS(AF$15:AF187),AF:AF,0)))","v":""},{"$f":"IF(AD187=\"\",AH186,AH186+IF(COUNTIF($AD$15:AD187,AD187)>1,0,1))","v":0},{"$f":"IF(ROWS($AH$15:AH187)>MAX(AH:AH),\"\",INDEX(AD:AD,MATCH(ROWS($AH$15:AH187),AH:AH,0)))","v":""}]
[null,null,null,null,"    Indicator 1: Screened by 12 Months of Age",null,null,null,null,"",null,null,null,null,null,null,47.25,0,0,null,6,0,0,null,null,null,null,174,3,"","",{"$f":"AF187+IF(COUNTIF($AC$15:AC188,AC188)>1,0,1)","v":3},{"$f":"IF(ROWS(AF$15:AF188)>MAX(AF:AF),\"\",INDEX(AC:AC,MATCH(ROWS(AF$15:AF188),AF:AF,0)))","v":""},{"$f":"IF(AD188=\"\",AH187,AH187+IF(COUNTIF($AD$15:AD188,AD188)>1,0,1))","v":0},{"$f":"IF(ROWS($AH$15:AH188)>MAX(AH:AH),\"\",INDEX(AD:AD,MATCH(ROWS($AH$15:AH188),AH:AH,0)))","v":""}]
[null,null,null,null,"    Indicator 2: Screened by 24 Months of Age",null,null,null,null,"",null,null,null,null,null,null,47.25,0,0,null,6,0,0,null,null,null,null,175,3,"","",{"$f":"AF188+IF(COUNTIF($AC$15:AC189,AC189)>1,0,1)","v":3},{"$f":"IF(ROWS(AF$15:AF189)>MAX(AF:AF),\"\",INDEX(AC:AC,MATCH(ROWS(AF$15:AF189),AF:AF,0)))","v":""},{"$f":"IF(AD189=\"\",AH188,AH188+IF(COUNTIF($AD$15:AD189,AD189)>1,0,1))","v":0},{"$f":"IF(ROWS($AH$15:AH189)>MAX(AH:AH),\"\",INDEX(AD:AD,MATCH(ROWS($AH$15:AH189),AH:AH,0)))","v":""}]
[null,null,null,null,"    Indicator 3: Screened by 36 Months of Age ",null,null,null,null,"",null,null,null,null,null,null,47.25,0,0,null,6,0,0,null,null,null,null,176,3,"","",{"$f":"AF189+IF(COUNTIF($AC$15:AC190,AC190)>1,0,1)","v":3},{"$f":"IF(ROWS(AF$15:AF190)>MAX(AF:AF),\"\",INDEX(AC:AC,MATCH(ROWS(AF$15:AF190),AF:AF,0)))","v":""},{"$f":"IF(AD190=\"\",AH189,AH189+IF(COUNTIF($AD$15:AD190,AD190)>1,0,1))","v":0},{"$f":"IF(ROWS($AH$15:AH190)>MAX(AH:AH),\"\",INDEX(AD:AD,MATCH(ROWS($AH$15:AH190),AH:AH,0)))","v":""}]
[null,null,"1391","NCQA","Frequency of Ongoing Prenatal Care* ",null,null,null,null,"",null,null,null,null,null,null,47.25,0,0,null,6,0,0,null,null,null,null,177,3,"","",{"$f":"AF190+IF(COUNTIF($AC$15:AC191,AC191)>1,0,1)","v":3},{"$f":"IF(ROWS(AF$15:AF191)>MAX(AF:AF),\"\",INDEX(AC:AC,MATCH(ROWS(AF$15:AF191),AF:AF,0)))","v":""},{"$f":"IF(AD191=\"\",AH190,AH190+IF(COUNTIF($AD$15:AD191,AD191)>1,0,1))","v":0},{"$f":"IF(ROWS($AH$15:AH191)>MAX(AH:AH),\"\",INDEX(AD:AD,MATCH(ROWS($AH$15:AH191),AH:AH,0)))","v":""}]
[null,null,null,null,"    •<21 percent of expected visits",null,null,null,null,"",null,null,null,null,null,null,47.25,0,0,null,6,0,0,null,null,null,null,178,3,"","",{"$f":"AF191+IF(COUNTIF($AC$15:AC192,AC192)>1,0,1)","v":3},{"$f":"IF(ROWS(AF$15:AF192)>MAX(AF:AF),\"\",INDEX(AC:AC,MATCH(ROWS(AF$15:AF192),AF:AF,0)))","v":""},{"$f":"IF(AD192=\"\",AH191,AH191+IF(COUNTIF($AD$15:AD192,AD192)>1,0,1))","v":0},{"$f":"IF(ROWS($AH$15:AH192)>MAX(AH:AH),\"\",INDEX(AD:AD,MATCH(ROWS($AH$15:AH192),AH:AH,0)))","v":""}]
[null,null,null,null,"    •21 percent–40 percent of expected visits",null,null,null,null,"",null,null,null,null,null,null,47.25,0,0,null,6,0,0,null,null,null,null,179,3,"","",{"$f":"AF192+IF(COUNTIF($AC$15:AC193,AC193)>1,0,1)","v":3},{"$f":"IF(ROWS(AF$15:AF193)>MAX(AF:AF),\"\",INDEX(AC:AC,MATCH(ROWS(AF$15:AF193),AF:AF,0)))","v":""},{"$f":"IF(AD193=\"\",AH192,AH192+IF(COUNTIF($AD$15:AD193,AD193)>1,0,1))","v":0},{"$f":"IF(ROWS($AH$15:AH193)>MAX(AH:AH),\"\",INDEX(AD:AD,MATCH(ROWS($AH$15:AH193),AH:AH,0)))","v":""}]
[null,null,null,null,"    •41 percent–60 percent of expected visits",null,null,null,null,"",null,null,null,null,null,null,47.25,0,0,null,6,0,0,null,null,null,null,180,3,"","",{"$f":"AF193+IF(COUNTIF($AC$15:AC194,AC194)>1,0,1)","v":3},{"$f":"IF(ROWS(AF$15:AF194)>MAX(AF:AF),\"\",INDEX(AC:AC,MATCH(ROWS(AF$15:AF194),AF:AF,0)))","v":""},{"$f":"IF(AD194=\"\",AH193,AH193+IF(COUNTIF($AD$15:AD194,AD194)>1,0,1))","v":0},{"$f":"IF(ROWS($AH$15:AH194)>MAX(AH:AH),\"\",INDEX(AD:AD,MATCH(ROWS($AH$15:AH194),AH:AH,0)))","v":""}]
[null,null,null,null,"    •61 percent–80 percent of expected visits",null,null,null,null,"",null,null,null,null,null,null,47.25,0,0,null,6,0,0,null,null,null,null,181,3,"","",{"$f":"AF194+IF(COUNTIF($AC$15:AC195,AC195)>1,0,1)","v":3},{"$f":"IF(ROWS(AF$15:AF195)>MAX(AF:AF),\"\",INDEX(AC:AC,MATCH(ROWS(AF$15:AF195),AF:AF,0)))","v":""},{"$f":"IF(AD195=\"\",AH194,AH194+IF(COUNTIF($AD$15:AD195,AD195)>1,0,1))","v":0},{"$f":"IF(ROWS($AH$15:AH195)>MAX(AH:AH),\"\",INDEX(AD:AD,MATCH(ROWS($AH$15:AH195),AH:AH,0)))","v":""}]
[null,null,null,null,"    •> or =81 percent of expected visits",null,null,null,null,"",null,null,null,null,null,null,47.25,0,0,null,6,{"$f":"IF($F$126=\"Yes\",1,0)","v":0},0,null,null,null,null,182,3,"","",{"$f":"AF195+IF(COUNTIF($AC$15:AC196,AC196)>1,0,1)","v":3},{"$f":"IF(ROWS(AF$15:AF196)>MAX(AF:AF),\"\",INDEX(AC:AC,MATCH(ROWS(AF$15:AF196),AF:AF,0)))","v":""},{"$f":"IF(AD196=\"\",AH195,AH195+IF(COUNTIF($AD$15:AD196,AD196)>1,0,1))","v":0},{"$f":"IF(ROWS($AH$15:AH196)>MAX(AH:AH),\"\",INDEX(AD:AD,MATCH(ROWS($AH$15:AH196),AH:AH,0)))","v":""}]
[null,null,"0576","NCQA","Follow-up After Hospitalization for Mental Illness*",null,null,null,null,"",null,null,null,null,null,null,47.25,0,0,null,6,0,0,null,null,null,null,183,3,"","",{"$f":"AF196+IF(COUNTIF($AC$15:AC197,AC197)>1,0,1)","v":3},{"$f":"IF(ROWS(AF$15:AF197)>MAX(AF:AF),\"\",INDEX(AC:AC,MATCH(ROWS(AF$15:AF197),AF:AF,0)))","v":""},{"$f":"IF(AD197=\"\",AH196,AH196+IF(COUNTIF($AD$15:AD197,AD197)>1,0,1))","v":0},{"$f":"IF(ROWS($AH$15:AH197)>MAX(AH:AH),\"\",INDEX(AD:AD,MATCH(ROWS($AH$15:AH197),AH:AH,0)))","v":""}]
[null,null,null,null,"    Percentage of discharges for which the patient received follow-up within 30 days of discharge",null,null,null,null,"",null,null,null,null,null,null,47.25,0,0,null,6,0,0,null,null,null,null,184,3,"","",{"$f":"AF197+IF(COUNTIF($AC$15:AC198,AC198)>1,0,1)","v":3},{"$f":"IF(ROWS(AF$15:AF198)>MAX(AF:AF),\"\",INDEX(AC:AC,MATCH(ROWS(AF$15:AF198),AF:AF,0)))","v":""},{"$f":"IF(AD198=\"\",AH197,AH197+IF(COUNTIF($AD$15:AD198,AD198)>1,0,1))","v":0},{"$f":"IF(ROWS($AH$15:AH198)>MAX(AH:AH),\"\",INDEX(AD:AD,MATCH(ROWS($AH$15:AH198),AH:AH,0)))","v":""}]
[null,null,null,null,"     Percentage of discharges for which the patient received follow-up within 7 days of discharge.",null,null,null,null,"",null,null,null,null,null,null,47.25,0,0,null,6,0,0,null,null,null,null,185,3,"","",{"$f":"AF198+IF(COUNTIF($AC$15:AC199,AC199)>1,0,1)","v":3},{"$f":"IF(ROWS(AF$15:AF199)>MAX(AF:AF),\"\",INDEX(AC:AC,MATCH(ROWS(AF$15:AF199),AF:AF,0)))","v":""},{"$f":"IF(AD199=\"\",AH198,AH198+IF(COUNTIF($AD$15:AD199,AD199)>1,0,1))","v":0},{"$f":"IF(ROWS($AH$15:AH199)>MAX(AH:AH),\"\",INDEX(AD:AD,MATCH(ROWS($AH$15:AH199),AH:AH,0)))","v":""}]
[null,null,"1959","NCQA","Human Papillomavirus (HPV) Vaccine for Female Adolescents*",null,null,null,null,"",null,null,null,null,null,null,47.25,0,0,null,6,0,0,null,null,null,null,186,3,"","",{"$f":"AF199+IF(COUNTIF($AC$15:AC200,AC200)>1,0,1)","v":3},{"$f":"IF(ROWS(AF$15:AF200)>MAX(AF:AF),\"\",INDEX(AC:AC,MATCH(ROWS(AF$15:AF200),AF:AF,0)))","v":""},{"$f":"IF(AD200=\"\",AH199,AH199+IF(COUNTIF($AD$15:AD200,AD200)>1,0,1))","v":0},{"$f":"IF(ROWS($AH$15:AH200)>MAX(AH:AH),\"\",INDEX(AD:AD,MATCH(ROWS($AH$15:AH200),AH:AH,0)))","v":""}]
[null,null,"1407","NCQA","Immunization Status for Adolescents*",null,null,null,null,"",null,null,null,null,null,null,47.25,0,0,null,6,0,0,null,null,null,null,187,3,"","",{"$f":"AF200+IF(COUNTIF($AC$15:AC201,AC201)>1,0,1)","v":3},{"$f":"IF(ROWS(AF$15:AF201)>MAX(AF:AF),\"\",INDEX(AC:AC,MATCH(ROWS(AF$15:AF201),AF:AF,0)))","v":""},{"$f":"IF(AD201=\"\",AH200,AH200+IF(COUNTIF($AD$15:AD201,AD201)>1,0,1))","v":0},{"$f":"IF(ROWS($AH$15:AH201)>MAX(AH:AH),\"\",INDEX(AD:AD,MATCH(ROWS($AH$15:AH201),AH:AH,0)))","v":""}]
[null,null,"1382","CDC","Live Births Weighing Less than 2,500 Grams** ",null,null,null,null,"",null,null,null,null,null,null,47.25,0,0,null,6,0,0,null,null,null,null,188,3,"","",{"$f":"AF201+IF(COUNTIF($AC$15:AC202,AC202)>1,0,1)","v":3},{"$f":"IF(ROWS(AF$15:AF202)>MAX(AF:AF),\"\",INDEX(AC:AC,MATCH(ROWS(AF$15:AF202),AF:AF,0)))","v":""},{"$f":"IF(AD202=\"\",AH201,AH201+IF(COUNTIF($AD$15:AD202,AD202)>1,0,1))","v":0},{"$f":"IF(ROWS($AH$15:AH202)>MAX(AH:AH),\"\",INDEX(AD:AD,MATCH(ROWS($AH$15:AH202),AH:AH,0)))","v":""}]
[null,null,"1799","NCQA","Medication Management for People with Asthma* (PDC 50% of treatment time)",null,null,null,null,"",null,null,null,null,null,null,47.25,0,0,null,6,0,0,null,null,null,null,189,3,"","",{"$f":"AF202+IF(COUNTIF($AC$15:AC203,AC203)>1,0,1)","v":3},{"$f":"IF(ROWS(AF$15:AF203)>MAX(AF:AF),\"\",INDEX(AC:AC,MATCH(ROWS(AF$15:AF203),AF:AF,0)))","v":""},{"$f":"IF(AD203=\"\",AH202,AH202+IF(COUNTIF($AD$15:AD203,AD203)>1,0,1))","v":0},{"$f":"IF(ROWS($AH$15:AH203)>MAX(AH:AH),\"\",INDEX(AD:AD,MATCH(ROWS($AH$15:AH203),AH:AH,0)))","v":""}]
[null,null,null,null,"Medication Management for People with Asthma* (PDC 75 of treatment time)",null,null,null,null,"",null,null,null,null,null,null,47.25,0,0,null,6,0,0,null,null,null,null,190,3,"","",{"$f":"AF203+IF(COUNTIF($AC$15:AC204,AC204)>1,0,1)","v":3},{"$f":"IF(ROWS(AF$15:AF204)>MAX(AF:AF),\"\",INDEX(AC:AC,MATCH(ROWS(AF$15:AF204),AF:AF,0)))","v":""},{"$f":"IF(AD204=\"\",AH203,AH203+IF(COUNTIF($AD$15:AD204,AD204)>1,0,1))","v":0},{"$f":"IF(ROWS($AH$15:AH204)>MAX(AH:AH),\"\",INDEX(AD:AD,MATCH(ROWS($AH$15:AH204),AH:AH,0)))","v":""}]
[null,null,"NA","CMS","Percentage of Eligibles That Received Preventive Dental Services* ",null,null,null,null,"",null,null,null,null,null,null,47.25,0,0,null,6,0,0,null,null,null,null,191,3,"","",{"$f":"AF204+IF(COUNTIF($AC$15:AC205,AC205)>1,0,1)","v":3},{"$f":"IF(ROWS(AF$15:AF205)>MAX(AF:AF),\"\",INDEX(AC:AC,MATCH(ROWS(AF$15:AF205),AF:AF,0)))","v":""},{"$f":"IF(AD205=\"\",AH204,AH204+IF(COUNTIF($AD$15:AD205,AD205)>1,0,1))","v":0},{"$f":"IF(ROWS($AH$15:AH205)>MAX(AH:AH),\"\",INDEX(AD:AD,MATCH(ROWS($AH$15:AH205),AH:AH,0)))","v":""}]
[null,null,"1517","NCQA","Timeliness of Prenatal Care*,** (Rate 1)",null,null,null,null,"",null,null,null,null,null,null,47.25,0,0,null,6,0,0,null,null,null,null,192,3,"","",{"$f":"AF205+IF(COUNTIF($AC$15:AC206,AC206)>1,0,1)","v":3},{"$f":"IF(ROWS(AF$15:AF206)>MAX(AF:AF),\"\",INDEX(AC:AC,MATCH(ROWS(AF$15:AF206),AF:AF,0)))","v":""},{"$f":"IF(AD206=\"\",AH205,AH205+IF(COUNTIF($AD$15:AD206,AD206)>1,0,1))","v":0},{"$f":"IF(ROWS($AH$15:AH206)>MAX(AH:AH),\"\",INDEX(AD:AD,MATCH(ROWS($AH$15:AH206),AH:AH,0)))","v":""}]
[null,null,"0024","NCQA","Weight Assessment and Counseling for Nutrition and Physical Activity for Children*",null,null,null,null,"",null,null,null,null,null,null,47.25,0,0,null,6,0,0,null,null,null,null,193,3,"","",{"$f":"AF206+IF(COUNTIF($AC$15:AC207,AC207)>1,0,1)","v":3},{"$f":"IF(ROWS(AF$15:AF207)>MAX(AF:AF),\"\",INDEX(AC:AC,MATCH(ROWS(AF$15:AF207),AF:AF,0)))","v":""},{"$f":"IF(AD207=\"\",AH206,AH206+IF(COUNTIF($AD$15:AD207,AD207)>1,0,1))","v":0},{"$f":"IF(ROWS($AH$15:AH207)>MAX(AH:AH),\"\",INDEX(AD:AD,MATCH(ROWS($AH$15:AH207),AH:AH,0)))","v":""}]
[null,null,"1392","NCQA","Well-Child Visits in the First 15 Months of Life*,**",null,null,null,null,"",null,null,null,null,null,null,47.25,0,0,null,6,0,0,null,null,null,null,194,{"$f":"IF(INDIRECT($AC$1&\"D\"&$AB208+1)=\"\",\"\",INDIRECT($AC$1&\"D\"&$AB208+1))","v":3},{"$f":"IF(AC208=\"\",\"\",IF($E$16=AC208,INDIRECT($AC$1&\"E\"&$AB208+1),\"\"))","v":""},{"$f":"IF(ISBLANK($E$17),\"\",IF($E$17<>AD208,\"\",IF(INDIRECT($AC$1&\"U\"&$AB208+1)=\"Yes\",INDIRECT($AC$1&\"I\"&$AB208+1),\"\")))","v":""},{"$f":"AF207+IF(COUNTIF($AC$15:AC208,AC208)>1,0,1)","v":3},{"$f":"IF(ROWS(AF$15:AF208)>MAX(AF:AF),\"\",INDEX(AC:AC,MATCH(ROWS(AF$15:AF208),AF:AF,0)))","v":""},{"$f":"IF(AD208=\"\",AH207,AH207+IF(COUNTIF($AD$15:AD208,AD208)>1,0,1))","v":0},{"$f":"IF(ROWS($AH$15:AH208)>MAX(AH:AH),\"\",INDEX(AD:AD,MATCH(ROWS($AH$15:AH208),AH:AH,0)))","v":""}]
[null,null,null,null,"Well-Child Visits in the First 15 Months of Life*,** (Zero visits)",null,null,null,null,"",null,null,null,null,null,null,47.25,0,0,null,6,0,0,null,null,null,null,{"$f":"AB208+1","v":195},3,"","",{"$f":"AF208+IF(COUNTIF($AC$15:AC209,AC209)>1,0,1)","v":3},{"$f":"IF(ROWS(AF$15:AF209)>MAX(AF:AF),\"\",INDEX(AC:AC,MATCH(ROWS(AF$15:AF209),AF:AF,0)))","v":""},{"$f":"IF(AD209=\"\",AH208,AH208+IF(COUNTIF($AD$15:AD209,AD209)>1,0,1))","v":0},{"$f":"IF(ROWS($AH$15:AH209)>MAX(AH:AH),\"\",INDEX(AD:AD,MATCH(ROWS($AH$15:AH209),AH:AH,0)))","v":""}]
[null,null,null,null,"Well-Child Visits in the First 15 Months of Life*,**(one visit)",null,null,null,null,"",null,null,null,null,null,null,47.25,0,0,null,6,0,0,null,null,null,null,196,3,"","",{"$f":"AF209+IF(COUNTIF($AC$15:AC210,AC210)>1,0,1)","v":3},{"$f":"IF(ROWS(AF$15:AF210)>MAX(AF:AF),\"\",INDEX(AC:AC,MATCH(ROWS(AF$15:AF210),AF:AF,0)))","v":""},{"$f":"IF(AD210=\"\",AH209,AH209+IF(COUNTIF($AD$15:AD210,AD210)>1,0,1))","v":0},{"$f":"IF(ROWS($AH$15:AH210)>MAX(AH:AH),\"\",INDEX(AD:AD,MATCH(ROWS($AH$15:AH210),AH:AH,0)))","v":""}]
[null,null,null,null,"Well-Child Visits in the First 15 Months of Life*,** (Two visits)",null,null,null,null,"",null,null,null,null,null,null,47.25,0,0,null,6,0,0,null,null,null,null,197,3,"","",{"$f":"AF210+IF(COUNTIF($AC$15:AC211,AC211)>1,0,1)","v":3},{"$f":"IF(ROWS(AF$15:AF211)>MAX(AF:AF),\"\",INDEX(AC:AC,MATCH(ROWS(AF$15:AF211),AF:AF,0)))","v":""},{"$f":"IF(AD211=\"\",AH210,AH210+IF(COUNTIF($AD$15:AD211,AD211)>1,0,1))","v":0},{"$f":"IF(ROWS($AH$15:AH211)>MAX(AH:AH),\"\",INDEX(AD:AD,MATCH(ROWS($AH$15:AH211),AH:AH,0)))","v":""}]
[null,null,null,null,"Well-Child Visits in the First 15 Months of Life*,** (Three visits)",null,null,null,null,"",null,null,null,null,null,null,47.25,0,0,null,6,0,0,null,null,null,null,198,3,"","",{"$f":"AF211+IF(COUNTIF($AC$15:AC212,AC212)>1,0,1)","v":3},{"$f":"IF(ROWS(AF$15:AF212)>MAX(AF:AF),\"\",INDEX(AC:AC,MATCH(ROWS(AF$15:AF212),AF:AF,0)))","v":""},{"$f":"IF(AD212=\"\",AH211,AH211+IF(COUNTIF($AD$15:AD212,AD212)>1,0,1))","v":0},{"$f":"IF(ROWS($AH$15:AH212)>MAX(AH:AH),\"\",INDEX(AD:AD,MATCH(ROWS($AH$15:AH212),AH:AH,0)))","v":""}]
[null,null,null,null,"Well-Child Visits in the First 15 Months of Life*,** (Four visits)",null,null,null,null,"",null,null,null,null,null,null,47.25,0,0,null,6,0,0,null,null,null,null,199,3,"","",{"$f":"AF212+IF(COUNTIF($AC$15:AC213,AC213)>1,0,1)","v":3},{"$f":"IF(ROWS(AF$15:AF213)>MAX(AF:AF),\"\",INDEX(AC:AC,MATCH(ROWS(AF$15:AF213),AF:AF,0)))","v":""},{"$f":"IF(AD213=\"\",AH212,AH212+IF(COUNTIF($AD$15:AD213,AD213)>1,0,1))","v":0},{"$f":"IF(ROWS($AH$15:AH213)>MAX(AH:AH),\"\",INDEX(AD:AD,MATCH(ROWS($AH$15:AH213),AH:AH,0)))","v":""}]
[null,null,null,null,"Well-Child Visits in the First 15 Months of Life*,** (Five visits)",null,null,null,null,"",null,null,null,null,null,null,47.25,0,0,null,6,0,0,null,null,null,null,200,3,"","",{"$f":"AF213+IF(COUNTIF($AC$15:AC214,AC214)>1,0,1)","v":3},{"$f":"IF(ROWS(AF$15:AF214)>MAX(AF:AF),\"\",INDEX(AC:AC,MATCH(ROWS(AF$15:AF214),AF:AF,0)))","v":""},{"$f":"IF(AD214=\"\",AH213,AH213+IF(COUNTIF($AD$15:AD214,AD214)>1,0,1))","v":0},{"$f":"IF(ROWS($AH$15:AH214)>MAX(AH:AH),\"\",INDEX(AD:AD,MATCH(ROWS($AH$15:AH214),AH:AH,0)))","v":""}]
[null,null,null,null,"Well-Child Visits in the First 15 Months of Life*,** (Six or more visits)",null,null,null,null,"",null,null,null,null,null,null,47.25,0,0,null,6,0,0,null,null,null,null,201,3,"","",{"$f":"AF214+IF(COUNTIF($AC$15:AC215,AC215)>1,0,1)","v":3},{"$f":"IF(ROWS(AF$15:AF215)>MAX(AF:AF),\"\",INDEX(AC:AC,MATCH(ROWS(AF$15:AF215),AF:AF,0)))","v":""},{"$f":"IF(AD215=\"\",AH214,AH214+IF(COUNTIF($AD$15:AD215,AD215)>1,0,1))","v":0},{"$f":"IF(ROWS($AH$15:AH215)>MAX(AH:AH),\"\",INDEX(AD:AD,MATCH(ROWS($AH$15:AH215),AH:AH,0)))","v":""}]
[null,null,"1516","NCQA","Well-Child Visits in the 3rd, 4th, 5th, and 6th Years of Life* ",null,null,null,null,"",null,null,null,null,null,null,47.25,0,0,null,6,0,0,null,null,null,null,202,3,"","",{"$f":"AF215+IF(COUNTIF($AC$15:AC216,AC216)>1,0,1)","v":3},{"$f":"IF(ROWS(AF$15:AF216)>MAX(AF:AF),\"\",INDEX(AC:AC,MATCH(ROWS(AF$15:AF216),AF:AF,0)))","v":""},{"$f":"IF(AD216=\"\",AH215,AH215+IF(COUNTIF($AD$15:AD216,AD216)>1,0,1))","v":0},{"$f":"IF(ROWS($AH$15:AH216)>MAX(AH:AH),\"\",INDEX(AD:AD,MATCH(ROWS($AH$15:AH216),AH:AH,0)))","v":""}]
[null,null,null,null,null,null,null,null,null,null,null,null,null,null,null,null,25.5,null,null,null,6,0,0,null,null,null,null,203,3,"","",{"$f":"AF216+IF(COUNTIF($AC$15:AC217,AC217)>1,0,1)","v":3},{"$f":"IF(ROWS(AF$15:AF217)>MAX(AF:AF),\"\",INDEX(AC:AC,MATCH(ROWS(AF$15:AF217),AF:AF,0)))","v":""},{"$f":"IF(AD217=\"\",AH216,AH216+IF(COUNTIF($AD$15:AD217,AD217)>1,0,1))","v":0},{"$f":"IF(ROWS($AH$15:AH217)>MAX(AH:AH),\"\",INDEX(AD:AD,MATCH(ROWS($AH$15:AH217),AH:AH,0)))","v":""}]
[null,null,"What trends have you observed over the prior time period? What factors have contributed to any decrease? How is your organization using this information to inform service delivery?",null,null,null,null,null,null,null,null,null,null,null,null,null,15,null,null,null,6,0,0,null,null,null,null,204,3,"","",{"$f":"AF217+IF(COUNTIF($AC$15:AC218,AC218)>1,0,1)","v":3},{"$f":"IF(ROWS(AF$15:AF218)>MAX(AF:AF),\"\",INDEX(AC:AC,MATCH(ROWS(AF$15:AF218),AF:AF,0)))","v":""},{"$f":"IF(AD218=\"\",AH217,AH217+IF(COUNTIF($AD$15:AD218,AD218)>1,0,1))","v":0},{"$f":"IF(ROWS($AH$15:AH218)>MAX(AH:AH),\"\",INDEX(AD:AD,MATCH(ROWS($AH$15:AH218),AH:AH,0)))","v":""}]
[null,null,null,null,null,null,null,null,null,null,null,null,null,null,null,null,60,{"$f":"W219","v":0},{"$f":"W219*IF(LEN(TRIM(C219))>0,1,0)","v":0},null,6,0,0,null,null,null,null,205,3,"","",{"$f":"AF218+IF(COUNTIF($AC$15:AC219,AC219)>1,0,1)","v":3},{"$f":"IF(ROWS(AF$15:AF219)>MAX(AF:AF),\"\",INDEX(AC:AC,MATCH(ROWS(AF$15:AF219),AF:AF,0)))","v":""},{"$f":"IF(AD219=\"\",AH218,AH218+IF(COUNTIF($AD$15:AD219,AD219)>1,0,1))","v":0},{"$f":"IF(ROWS($AH$15:AH219)>MAX(AH:AH),\"\",INDEX(AD:AD,MATCH(ROWS($AH$15:AH219),AH:AH,0)))","v":""}]
[null,null,null,null,null,null,null,null,null,null,null,null,null,null,null,null,21,null,null,null,6,0,0,null,null,null,null,206,3,"","",{"$f":"AF219+IF(COUNTIF($AC$15:AC220,AC220)>1,0,1)","v":3},{"$f":"IF(ROWS(AF$15:AF220)>MAX(AF:AF),\"\",INDEX(AC:AC,MATCH(ROWS(AF$15:AF220),AF:AF,0)))","v":""},{"$f":"IF(AD220=\"\",AH219,AH219+IF(COUNTIF($AD$15:AD220,AD220)>1,0,1))","v":0},{"$f":"IF(ROWS($AH$15:AH220)>MAX(AH:AH),\"\",INDEX(AD:AD,MATCH(ROWS($AH$15:AH220),AH:AH,0)))","v":""}]
[null,null,"Are you able to report Medicaid-only rates?",null,null,null,null,null,null,null,null,null,null,null,null,null,15,{"$f":"W221","v":0},{"$f":"W221*COUNTA(G221)","v":0},null,6,0,0,null,null,null,null,207,3,"","",{"$f":"AF220+IF(COUNTIF($AC$15:AC221,AC221)>1,0,1)","v":3},{"$f":"IF(ROWS(AF$15:AF221)>MAX(AF:AF),\"\",INDEX(AC:AC,MATCH(ROWS(AF$15:AF221),AF:AF,0)))","v":""},{"$f":"IF(AD221=\"\",AH220,AH220+IF(COUNTIF($AD$15:AD221,AD221)>1,0,1))","v":0},{"$f":"IF(ROWS($AH$15:AH221)>MAX(AH:AH),\"\",INDEX(AD:AD,MATCH(ROWS($AH$15:AH221),AH:AH,0)))","v":""}]
[null,null,null,null,null,null,null,null,null,null,null,null,null,null,null,null,15,null,null,null,6,{"$f":"IF(AND($F$126=\"Yes\",$G$221=\"Yes\"),1,0)","v":0},0,null,null,null,null,208,3,"","",{"$f":"AF221+IF(COUNTIF($AC$15:AC222,AC222)>1,0,1)","v":3},{"$f":"IF(ROWS(AF$15:AF222)>MAX(AF:AF),\"\",INDEX(AC:AC,MATCH(ROWS(AF$15:AF222),AF:AF,0)))","v":""},{"$f":"IF(AD222=\"\",AH221,AH221+IF(COUNTIF($AD$15:AD222,AD222)>1,0,1))","v":0},{"$f":"IF(ROWS($AH$15:AH222)>MAX(AH:AH),\"\",INDEX(AD:AD,MATCH(ROWS($AH$15:AH222),AH:AH,0)))","v":""}]
[null,null,"First Component: Measures for Medicaid-Only Adult Population",null,null,null,null,null,null,null,null,null,null,null,null,null,15,null,null,null,6,0,0,null,null,null,null,209,3,"","",{"$f":"AF222+IF(COUNTIF($AC$15:AC223,AC223)>1,0,1)","v":3},{"$f":"IF(ROWS(AF$15:AF223)>MAX(AF:AF),\"\",INDEX(AC:AC,MATCH(ROWS(AF$15:AF223),AF:AF,0)))","v":""},{"$f":"IF(AD223=\"\",AH222,AH222+IF(COUNTIF($AD$15:AD223,AD223)>1,0,1))","v":0},{"$f":"IF(ROWS($AH$15:AH223)>MAX(AH:AH),\"\",INDEX(AD:AD,MATCH(ROWS($AH$15:AH223),AH:AH,0)))","v":""}]
[null,null,"NQF #","Measure Steward","Measure Name ",null,null,"Provider Numerator","Provider Denominator","Provider Rate","If not reporting measure, please provide an explanation of why the measure is not being reported.",null,"Additional information on measures not reported:",null,null,null,30,null,null,null,6,0,0,null,null,null,null,210,3,"","",{"$f":"AF223+IF(COUNTIF($AC$15:AC224,AC224)>1,0,1)","v":3},{"$f":"IF(ROWS(AF$15:AF224)>MAX(AF:AF),\"\",INDEX(AC:AC,MATCH(ROWS(AF$15:AF224),AF:AF,0)))","v":""},{"$f":"IF(AD224=\"\",AH223,AH223+IF(COUNTIF($AD$15:AD224,AD224)>1,0,1))","v":0},{"$f":"IF(ROWS($AH$15:AH224)>MAX(AH:AH),\"\",INDEX(AD:AD,MATCH(ROWS($AH$15:AH224),AH:AH,0)))","v":""}]
[null,null,"0039","NCQA","Flu Shots for Adults Ages 50-64 (Collected as part of HEDIS CAHPS Supplemental Survey)*",null,null,null,null,{"$f":"IFERROR(H225/I225,\"\")","v":""},null,null,null,null,null,null,47.25,{"$f":"W225*2","v":0},{"$f":"W225*(IF(COUNTBLANK(H225:I225)=2,IF(LEN(TRIM(K225))>0,1,0)+IF(LEN(TRIM(M225))>0,1,0),COUNTA(H225:I225)))","v":0},null,6,0,0,null,null,null,null,211,3,"","",{"$f":"AF224+IF(COUNTIF($AC$15:AC225,AC225)>1,0,1)","v":3},{"$f":"IF(ROWS(AF$15:AF225)>MAX(AF:AF),\"\",INDEX(AC:AC,MATCH(ROWS(AF$15:AF225),AF:AF,0)))","v":""},{"$f":"IF(AD225=\"\",AH224,AH224+IF(COUNTIF($AD$15:AD225,AD225)>1,0,1))","v":0},{"$f":"IF(ROWS($AH$15:AH225)>MAX(AH:AH),\"\",INDEX(AD:AD,MATCH(ROWS($AH$15:AH225),AH:AH,0)))","v":""}]
[null,null,"0421","NCQA","Adult BMI Assessment*,**",null,null,null,null,{"$f":"IFERROR(H226/I226,\"\")","v":""},null,null,null,null,null,null,47.25,0,0,null,6,0,{"$f":"IF(ISBLANK(V226),INDEX($Y$15:$Y$21,MATCH($U226,$X$15:$X$21,0)),IF(V226+INDEX($Y$15:$Y$21,MATCH($U226,$X$15:$X$21,0))>1,1,0))","v":0},null,null,null,null,212,3,"","",{"$f":"AF225+IF(COUNTIF($AC$15:AC226,AC226)>1,0,1)","v":3},{"$f":"IF(ROWS(AF$15:AF226)>MAX(AF:AF),\"\",INDEX(AC:AC,MATCH(ROWS(AF$15:AF226),AF:AF,0)))","v":""},{"$f":"IF(AD226=\"\",AH225,AH225+IF(COUNTIF($AD$15:AD226,AD226)>1,0,1))","v":0},{"$f":"IF(ROWS($AH$15:AH226)>MAX(AH:AH),\"\",INDEX(AD:AD,MATCH(ROWS($AH$15:AH226),AH:AH,0)))","v":""}]
[null,null,"0031","NCQA","Breast Cancer Screening*, **",null,null,null,null,"",null,null,null,null,null,null,47.25,0,0,null,6,0,0,null,null,null,null,213,3,"","",{"$f":"AF226+IF(COUNTIF($AC$15:AC227,AC227)>1,0,1)","v":3},{"$f":"IF(ROWS(AF$15:AF227)>MAX(AF:AF),\"\",INDEX(AC:AC,MATCH(ROWS(AF$15:AF227),AF:AF,0)))","v":""},{"$f":"IF(AD227=\"\",AH226,AH226+IF(COUNTIF($AD$15:AD227,AD227)>1,0,1))","v":0},{"$f":"IF(ROWS($AH$15:AH227)>MAX(AH:AH),\"\",INDEX(AD:AD,MATCH(ROWS($AH$15:AH227),AH:AH,0)))","v":""}]
[null,null,"0032","NCQA","Cervical Cancer Screening*.**",null,null,null,null,"",null,null,null,null,null,null,47.25,0,0,null,6,0,0,null,null,null,null,214,3,"","",{"$f":"AF227+IF(COUNTIF($AC$15:AC228,AC228)>1,0,1)","v":3},{"$f":"IF(ROWS(AF$15:AF228)>MAX(AF:AF),\"\",INDEX(AC:AC,MATCH(ROWS(AF$15:AF228),AF:AF,0)))","v":""},{"$f":"IF(AD228=\"\",AH227,AH227+IF(COUNTIF($AD$15:AD228,AD228)>1,0,1))","v":0},{"$f":"IF(ROWS($AH$15:AH228)>MAX(AH:AH),\"\",INDEX(AD:AD,MATCH(ROWS($AH$15:AH228),AH:AH,0)))","v":""}]
[null,null,"0027","NCQA","Medical Assistance with Smoking and Tobacco Use Cessation (Collected as part of HEDIS)* ",null,null,null,null,"",null,null,null,null,null,null,47.25,0,0,null,6,0,0,null,null,null,null,215,4,"","",{"$f":"AF228+IF(COUNTIF($AC$15:AC229,AC229)>1,0,1)","v":4},{"$f":"IF(ROWS(AF$15:AF229)>MAX(AF:AF),\"\",INDEX(AC:AC,MATCH(ROWS(AF$15:AF229),AF:AF,0)))","v":""},{"$f":"IF(AD229=\"\",AH228,AH228+IF(COUNTIF($AD$15:AD229,AD229)>1,0,1))","v":0},{"$f":"IF(ROWS($AH$15:AH229)>MAX(AH:AH),\"\",INDEX(AD:AD,MATCH(ROWS($AH$15:AH229),AH:AH,0)))","v":""}]
[null,null,"0418","CMS","Screening for Clinical Depression and Follow-Up Plan",null,null,null,null,"",null,null,null,null,null,null,47.25,0,0,null,6,0,0,null,null,null,null,216,4,"","",{"$f":"AF229+IF(COUNTIF($AC$15:AC230,AC230)>1,0,1)","v":4},{"$f":"IF(ROWS(AF$15:AF230)>MAX(AF:AF),\"\",INDEX(AC:AC,MATCH(ROWS(AF$15:AF230),AF:AF,0)))","v":""},{"$f":"IF(AD230=\"\",AH229,AH229+IF(COUNTIF($AD$15:AD230,AD230)>1,0,1))","v":0},{"$f":"IF(ROWS($AH$15:AH230)>MAX(AH:AH),\"\",INDEX(AD:AD,MATCH(ROWS($AH$15:AH230),AH:AH,0)))","v":""}]
[null,null,"1768","NCQA","Hospital-Wide All-Cause Readmission**",null,null,null,null,"",null,null,null,null,null,null,47.25,0,0,null,6,0,0,null,null,null,null,217,4,"","",{"$f":"AF230+IF(COUNTIF($AC$15:AC231,AC231)>1,0,1)","v":4},{"$f":"IF(ROWS(AF$15:AF231)>MAX(AF:AF),\"\",INDEX(AC:AC,MATCH(ROWS(AF$15:AF231),AF:AF,0)))","v":""},{"$f":"IF(AD231=\"\",AH230,AH230+IF(COUNTIF($AD$15:AD231,AD231)>1,0,1))","v":0},{"$f":"IF(ROWS($AH$15:AH231)>MAX(AH:AH),\"\",INDEX(AD:AD,MATCH(ROWS($AH$15:AH231),AH:AH,0)))","v":""}]
[null,null,"0272","AHRQ","PQI 01: Diabetes, Short-term Complications Admission Rate**",null,null,null,null,"",null,null,null,null,null,null,47.25,0,0,null,6,0,0,null,null,null,null,218,4,"","",{"$f":"AF231+IF(COUNTIF($AC$15:AC232,AC232)>1,0,1)","v":4},{"$f":"IF(ROWS(AF$15:AF232)>MAX(AF:AF),\"\",INDEX(AC:AC,MATCH(ROWS(AF$15:AF232),AF:AF,0)))","v":""},{"$f":"IF(AD232=\"\",AH231,AH231+IF(COUNTIF($AD$15:AD232,AD232)>1,0,1))","v":0},{"$f":"IF(ROWS($AH$15:AH232)>MAX(AH:AH),\"\",INDEX(AD:AD,MATCH(ROWS($AH$15:AH232),AH:AH,0)))","v":""}]
[null,null,"0275","AHRQ","PQI 05: Chronic Obstructive Pulmonary Disease (COPD) Admission Rate**",null,null,null,null,"",null,null,null,null,null,null,47.25,0,0,null,6,0,0,null,null,null,null,219,4,"","",{"$f":"AF232+IF(COUNTIF($AC$15:AC233,AC233)>1,0,1)","v":4},{"$f":"IF(ROWS(AF$15:AF233)>MAX(AF:AF),\"\",INDEX(AC:AC,MATCH(ROWS(AF$15:AF233),AF:AF,0)))","v":""},{"$f":"IF(AD233=\"\",AH232,AH232+IF(COUNTIF($AD$15:AD233,AD233)>1,0,1))","v":0},{"$f":"IF(ROWS($AH$15:AH233)>MAX(AH:AH),\"\",INDEX(AD:AD,MATCH(ROWS($AH$15:AH233),AH:AH,0)))","v":""}]
[null,null,"0277","AHRQ","PQI 08: Congestive Heart Failure Admission Rate**",null,null,null,null,"",null,null,null,null,null,null,47.25,0,0,null,6,0,0,null,null,null,null,220,4,"","",{"$f":"AF233+IF(COUNTIF($AC$15:AC234,AC234)>1,0,1)","v":4},{"$f":"IF(ROWS(AF$15:AF234)>MAX(AF:AF),\"\",INDEX(AC:AC,MATCH(ROWS(AF$15:AF234),AF:AF,0)))","v":""},{"$f":"IF(AD234=\"\",AH233,AH233+IF(COUNTIF($AD$15:AD234,AD234)>1,0,1))","v":0},{"$f":"IF(ROWS($AH$15:AH234)>MAX(AH:AH),\"\",INDEX(AD:AD,MATCH(ROWS($AH$15:AH234),AH:AH,0)))","v":""}]
[null,null,"0283","AHRQ","PQI 15: Adult Asthma Admission Rate*,**",null,null,null,null,"",null,null,null,null,null,null,47.25,0,0,null,6,0,0,null,null,null,null,221,4,"","",{"$f":"AF234+IF(COUNTIF($AC$15:AC235,AC235)>1,0,1)","v":4},{"$f":"IF(ROWS(AF$15:AF235)>MAX(AF:AF),\"\",INDEX(AC:AC,MATCH(ROWS(AF$15:AF235),AF:AF,0)))","v":""},{"$f":"IF(AD235=\"\",AH234,AH234+IF(COUNTIF($AD$15:AD235,AD235)>1,0,1))","v":0},{"$f":"IF(ROWS($AH$15:AH235)>MAX(AH:AH),\"\",INDEX(AD:AD,MATCH(ROWS($AH$15:AH235),AH:AH,0)))","v":""}]
[null,null,"0033","NCQA","Chlamydia Screening in Women Ages 21-24*",null,null,null,null,"",null,null,null,null,null,null,47.25,0,0,null,6,0,0,null,null,null,null,222,4,"","",{"$f":"AF235+IF(COUNTIF($AC$15:AC236,AC236)>1,0,1)","v":4},{"$f":"IF(ROWS(AF$15:AF236)>MAX(AF:AF),\"\",INDEX(AC:AC,MATCH(ROWS(AF$15:AF236),AF:AF,0)))","v":""},{"$f":"IF(AD236=\"\",AH235,AH235+IF(COUNTIF($AD$15:AD236,AD236)>1,0,1))","v":0},{"$f":"IF(ROWS($AH$15:AH236)>MAX(AH:AH),\"\",INDEX(AD:AD,MATCH(ROWS($AH$15:AH236),AH:AH,0)))","v":""}]
[null,null,"0576","NCQA","Follow-Up After Hospitalization for Mental Illness* (7-day)",null,null,null,null,"",null,null,null,null,null,null,47.25,0,0,null,6,0,0,null,null,null,null,223,4,"","",{"$f":"AF236+IF(COUNTIF($AC$15:AC237,AC237)>1,0,1)","v":4},{"$f":"IF(ROWS(AF$15:AF237)>MAX(AF:AF),\"\",INDEX(AC:AC,MATCH(ROWS(AF$15:AF237),AF:AF,0)))","v":""},{"$f":"IF(AD237=\"\",AH236,AH236+IF(COUNTIF($AD$15:AD237,AD237)>1,0,1))","v":0},{"$f":"IF(ROWS($AH$15:AH237)>MAX(AH:AH),\"\",INDEX(AD:AD,MATCH(ROWS($AH$15:AH237),AH:AH,0)))","v":""}]
[null,null,null,null,"Follow-Up After Hospitalization for Mental Illness* (30-day)",null,null,null,null,"",null,null,null,null,null,null,47.25,0,0,null,6,0,0,null,null,null,null,224,4,"","",{"$f":"AF237+IF(COUNTIF($AC$15:AC238,AC238)>1,0,1)","v":4},{"$f":"IF(ROWS(AF$15:AF238)>MAX(AF:AF),\"\",INDEX(AC:AC,MATCH(ROWS(AF$15:AF238),AF:AF,0)))","v":""},{"$f":"IF(AD238=\"\",AH237,AH237+IF(COUNTIF($AD$15:AD238,AD238)>1,0,1))","v":0},{"$f":"IF(ROWS($AH$15:AH238)>MAX(AH:AH),\"\",INDEX(AD:AD,MATCH(ROWS($AH$15:AH238),AH:AH,0)))","v":""}]
[null,null,"0469","HCA/TJC","PC-01: Elective Delivery",null,null,null,null,"",null,null,null,null,null,null,47.25,0,0,null,6,0,0,null,null,null,null,225,4,"","",{"$f":"AF238+IF(COUNTIF($AC$15:AC239,AC239)>1,0,1)","v":4},{"$f":"IF(ROWS(AF$15:AF239)>MAX(AF:AF),\"\",INDEX(AC:AC,MATCH(ROWS(AF$15:AF239),AF:AF,0)))","v":""},{"$f":"IF(AD239=\"\",AH238,AH238+IF(COUNTIF($AD$15:AD239,AD239)>1,0,1))","v":0},{"$f":"IF(ROWS($AH$15:AH239)>MAX(AH:AH),\"\",INDEX(AD:AD,MATCH(ROWS($AH$15:AH239),AH:AH,0)))","v":""}]
[null,null,"0476","Prov/\nCWISH/NPIC/ ","PC-03: Antenatal Steroids",null,null,null,null,"",null,null,null,null,null,null,47.25,0,0,null,6,0,0,null,null,null,null,226,4,"","",{"$f":"AF239+IF(COUNTIF($AC$15:AC240,AC240)>1,0,1)","v":4},{"$f":"IF(ROWS(AF$15:AF240)>MAX(AF:AF),\"\",INDEX(AC:AC,MATCH(ROWS(AF$15:AF240),AF:AF,0)))","v":""},{"$f":"IF(AD240=\"\",AH239,AH239+IF(COUNTIF($AD$15:AD240,AD240)>1,0,1))","v":0},{"$f":"IF(ROWS($AH$15:AH240)>MAX(AH:AH),\"\",INDEX(AD:AD,MATCH(ROWS($AH$15:AH240),AH:AH,0)))","v":""}]
[null,null,"0018","NCQA","Controlling High Blood Pressure*,**",null,null,null,null,"",null,null,null,null,null,null,47.25,0,0,null,6,0,0,null,null,null,null,227,4,"","",{"$f":"AF240+IF(COUNTIF($AC$15:AC241,AC241)>1,0,1)","v":4},{"$f":"IF(ROWS(AF$15:AF241)>MAX(AF:AF),\"\",INDEX(AC:AC,MATCH(ROWS(AF$15:AF241),AF:AF,0)))","v":""},{"$f":"IF(AD241=\"\",AH240,AH240+IF(COUNTIF($AD$15:AD241,AD241)>1,0,1))","v":0},{"$f":"IF(ROWS($AH$15:AH241)>MAX(AH:AH),\"\",INDEX(AD:AD,MATCH(ROWS($AH$15:AH241),AH:AH,0)))","v":""}]
[null,null,"0063","NCQA","Comprehensive Diabetes Care: LDL-C Screening*,**",null,null,null,null,"",null,null,null,null,null,null,47.25,0,0,null,6,0,0,null,null,null,null,228,4,"","",{"$f":"AF241+IF(COUNTIF($AC$15:AC242,AC242)>1,0,1)","v":4},{"$f":"IF(ROWS(AF$15:AF242)>MAX(AF:AF),\"\",INDEX(AC:AC,MATCH(ROWS(AF$15:AF242),AF:AF,0)))","v":""},{"$f":"IF(AD242=\"\",AH241,AH241+IF(COUNTIF($AD$15:AD242,AD242)>1,0,1))","v":0},{"$f":"IF(ROWS($AH$15:AH242)>MAX(AH:AH),\"\",INDEX(AD:AD,MATCH(ROWS($AH$15:AH242),AH:AH,0)))","v":""}]
[null,null,"0403","NCQA","Annual HIV/AIDS Medical Visit*( 90 days)",null,null,null,null,"",null,null,null,null,null,null,47.25,0,0,null,6,0,0,null,null,null,null,229,4,"","",{"$f":"AF242+IF(COUNTIF($AC$15:AC243,AC243)>1,0,1)","v":4},{"$f":"IF(ROWS(AF$15:AF243)>MAX(AF:AF),\"\",INDEX(AC:AC,MATCH(ROWS(AF$15:AF243),AF:AF,0)))","v":""},{"$f":"IF(AD243=\"\",AH242,AH242+IF(COUNTIF($AD$15:AD243,AD243)>1,0,1))","v":0},{"$f":"IF(ROWS($AH$15:AH243)>MAX(AH:AH),\"\",INDEX(AD:AD,MATCH(ROWS($AH$15:AH243),AH:AH,0)))","v":""}]
[null,null,null,null,"Annual HIV/AIDS Medical Visit*( 180 days)",null,null,null,null,"",null,null,null,null,null,null,47.25,0,0,null,6,0,0,null,null,null,null,230,4,"","",{"$f":"AF243+IF(COUNTIF($AC$15:AC244,AC244)>1,0,1)","v":4},{"$f":"IF(ROWS(AF$15:AF244)>MAX(AF:AF),\"\",INDEX(AC:AC,MATCH(ROWS(AF$15:AF244),AF:AF,0)))","v":""},{"$f":"IF(AD244=\"\",AH243,AH243+IF(COUNTIF($AD$15:AD244,AD244)>1,0,1))","v":0},{"$f":"IF(ROWS($AH$15:AH244)>MAX(AH:AH),\"\",INDEX(AD:AD,MATCH(ROWS($AH$15:AH244),AH:AH,0)))","v":""}]
[null,null,"0057","NCQA","Comprehensive Diabetes Care: Hemoglobin A1c Testing*",null,null,null,null,"",null,null,null,null,null,null,47.25,0,0,null,6,0,0,null,null,null,null,231,4,"","",{"$f":"AF244+IF(COUNTIF($AC$15:AC245,AC245)>1,0,1)","v":4},{"$f":"IF(ROWS(AF$15:AF245)>MAX(AF:AF),\"\",INDEX(AC:AC,MATCH(ROWS(AF$15:AF245),AF:AF,0)))","v":""},{"$f":"IF(AD245=\"\",AH244,AH244+IF(COUNTIF($AD$15:AD245,AD245)>1,0,1))","v":0},{"$f":"IF(ROWS($AH$15:AH245)>MAX(AH:AH),\"\",INDEX(AD:AD,MATCH(ROWS($AH$15:AH245),AH:AH,0)))","v":""}]
[null,null,"0105","NCQA","Antidepressant Medication Management* (Acute Phase)",null,null,null,null,"",null,null,null,null,null,null,47.25,0,0,null,6,0,0,null,null,null,null,232,4,"","",{"$f":"AF245+IF(COUNTIF($AC$15:AC246,AC246)>1,0,1)","v":4},{"$f":"IF(ROWS(AF$15:AF246)>MAX(AF:AF),\"\",INDEX(AC:AC,MATCH(ROWS(AF$15:AF246),AF:AF,0)))","v":""},{"$f":"IF(AD246=\"\",AH245,AH245+IF(COUNTIF($AD$15:AD246,AD246)>1,0,1))","v":0},{"$f":"IF(ROWS($AH$15:AH246)>MAX(AH:AH),\"\",INDEX(AD:AD,MATCH(ROWS($AH$15:AH246),AH:AH,0)))","v":""}]
[null,null,null,null,"Antidepressant Medication Management* (Continuation Phase)",null,null,null,null,"",null,null,null,null,null,null,47.25,0,0,null,6,0,0,null,null,null,null,233,4,"","",{"$f":"AF246+IF(COUNTIF($AC$15:AC247,AC247)>1,0,1)","v":4},{"$f":"IF(ROWS(AF$15:AF247)>MAX(AF:AF),\"\",INDEX(AC:AC,MATCH(ROWS(AF$15:AF247),AF:AF,0)))","v":""},{"$f":"IF(AD247=\"\",AH246,AH246+IF(COUNTIF($AD$15:AD247,AD247)>1,0,1))","v":0},{"$f":"IF(ROWS($AH$15:AH247)>MAX(AH:AH),\"\",INDEX(AD:AD,MATCH(ROWS($AH$15:AH247),AH:AH,0)))","v":""}]
[null,null,"NA","CMS-QMHAG","Adherence to Antipsychotics for Individuals with Schizophrenia*,**",null,null,null,null,"",null,null,null,null,null,null,47.25,0,0,null,6,0,0,null,null,null,null,234,4,"","",{"$f":"AF247+IF(COUNTIF($AC$15:AC248,AC248)>1,0,1)","v":4},{"$f":"IF(ROWS(AF$15:AF248)>MAX(AF:AF),\"\",INDEX(AC:AC,MATCH(ROWS(AF$15:AF248),AF:AF,0)))","v":""},{"$f":"IF(AD248=\"\",AH247,AH247+IF(COUNTIF($AD$15:AD248,AD248)>1,0,1))","v":0},{"$f":"IF(ROWS($AH$15:AH248)>MAX(AH:AH),\"\",INDEX(AD:AD,MATCH(ROWS($AH$15:AH248),AH:AH,0)))","v":""}]
[null,null,"0021","NCQA","Annual Monitoring for Patients on Persistent Medications*.**",null,null,null,null,"",null,null,null,null,null,null,47.25,0,0,null,6,0,0,null,null,null,null,235,4,"","",{"$f":"AF248+IF(COUNTIF($AC$15:AC249,AC249)>1,0,1)","v":4},{"$f":"IF(ROWS(AF$15:AF249)>MAX(AF:AF),\"\",INDEX(AC:AC,MATCH(ROWS(AF$15:AF249),AF:AF,0)))","v":""},{"$f":"IF(AD249=\"\",AH248,AH248+IF(COUNTIF($AD$15:AD249,AD249)>1,0,1))","v":0},{"$f":"IF(ROWS($AH$15:AH249)>MAX(AH:AH),\"\",INDEX(AD:AD,MATCH(ROWS($AH$15:AH249),AH:AH,0)))","v":""}]
[null,null,null,null,"Annual monitoring for patients on (ACE) or (ARB)",null,null,null,null,"",null,null,null,null,null,null,47.25,0,0,null,6,0,0,null,null,null,null,236,4,"","",{"$f":"AF249+IF(COUNTIF($AC$15:AC250,AC250)>1,0,1)","v":4},{"$f":"IF(ROWS(AF$15:AF250)>MAX(AF:AF),\"\",INDEX(AC:AC,MATCH(ROWS(AF$15:AF250),AF:AF,0)))","v":""},{"$f":"IF(AD250=\"\",AH249,AH249+IF(COUNTIF($AD$15:AD250,AD250)>1,0,1))","v":0},{"$f":"IF(ROWS($AH$15:AH250)>MAX(AH:AH),\"\",INDEX(AD:AD,MATCH(ROWS($AH$15:AH250),AH:AH,0)))","v":""}]
[null,null,null,null,"Annual monitoring for patients on persistent medications - Digoxin*. **",null,null,null,null,"",null,null,null,null,null,null,47.25,0,0,null,6,0,0,null,null,null,null,237,4,"","",{"$f":"AF250+IF(COUNTIF($AC$15:AC251,AC251)>1,0,1)","v":4},{"$f":"IF(ROWS(AF$15:AF251)>MAX(AF:AF),\"\",INDEX(AC:AC,MATCH(ROWS(AF$15:AF251),AF:AF,0)))","v":""},{"$f":"IF(AD251=\"\",AH250,AH250+IF(COUNTIF($AD$15:AD251,AD251)>1,0,1))","v":0},{"$f":"IF(ROWS($AH$15:AH251)>MAX(AH:AH),\"\",INDEX(AD:AD,MATCH(ROWS($AH$15:AH251),AH:AH,0)))","v":""}]
[null,null,null,null,"Annual monitoring for patients on persistent medications - Diuretic*. **",null,null,null,null,"",null,null,null,null,null,null,47.25,0,0,null,6,0,0,null,null,null,null,238,4,"","",{"$f":"AF251+IF(COUNTIF($AC$15:AC252,AC252)>1,0,1)","v":4},{"$f":"IF(ROWS(AF$15:AF252)>MAX(AF:AF),\"\",INDEX(AC:AC,MATCH(ROWS(AF$15:AF252),AF:AF,0)))","v":""},{"$f":"IF(AD252=\"\",AH251,AH251+IF(COUNTIF($AD$15:AD252,AD252)>1,0,1))","v":0},{"$f":"IF(ROWS($AH$15:AH252)>MAX(AH:AH),\"\",INDEX(AD:AD,MATCH(ROWS($AH$15:AH252),AH:AH,0)))","v":""}]
[null,null,null,null,"Annual monitoring for patients on persistent medications - Anticonvulsant*. **",null,null,null,null,"",null,null,null,null,null,null,47.25,0,0,null,6,0,0,null,null,null,null,239,4,"","",{"$f":"AF252+IF(COUNTIF($AC$15:AC253,AC253)>1,0,1)","v":4},{"$f":"IF(ROWS(AF$15:AF253)>MAX(AF:AF),\"\",INDEX(AC:AC,MATCH(ROWS(AF$15:AF253),AF:AF,0)))","v":""},{"$f":"IF(AD253=\"\",AH252,AH252+IF(COUNTIF($AD$15:AD253,AD253)>1,0,1))","v":0},{"$f":"IF(ROWS($AH$15:AH253)>MAX(AH:AH),\"\",INDEX(AD:AD,MATCH(ROWS($AH$15:AH253),AH:AH,0)))","v":""}]
[null,null,"0006 & 0007","AHRQ & NCQA","CAHPS® Health Plan Survey v 4.0—Adult Questionnaire with CAHPS® Health Plan Survey* ",null,null,null,null,"",null,null,null,null,null,null,47.25,0,0,null,6,{"$f":"IF(AND($F$126=\"Yes\",$G$221=\"Yes\"),1,0)","v":0},0,null,null,null,null,240,4,"","",{"$f":"AF253+IF(COUNTIF($AC$15:AC254,AC254)>1,0,1)","v":4},{"$f":"IF(ROWS(AF$15:AF254)>MAX(AF:AF),\"\",INDEX(AC:AC,MATCH(ROWS(AF$15:AF254),AF:AF,0)))","v":""},{"$f":"IF(AD254=\"\",AH253,AH253+IF(COUNTIF($AD$15:AD254,AD254)>1,0,1))","v":0},{"$f":"IF(ROWS($AH$15:AH254)>MAX(AH:AH),\"\",INDEX(AD:AD,MATCH(ROWS($AH$15:AH254),AH:AH,0)))","v":""}]
[null,null,"648","AMA-PCPI","Care Transition–Transition Record Transmitted to Health Care Professional",null,null,null,null,"",null,null,null,null,null,null,47.25,0,0,null,6,0,0,null,null,null,null,241,4,"","",{"$f":"AF254+IF(COUNTIF($AC$15:AC255,AC255)>1,0,1)","v":4},{"$f":"IF(ROWS(AF$15:AF255)>MAX(AF:AF),\"\",INDEX(AC:AC,MATCH(ROWS(AF$15:AF255),AF:AF,0)))","v":""},{"$f":"IF(AD255=\"\",AH254,AH254+IF(COUNTIF($AD$15:AD255,AD255)>1,0,1))","v":0},{"$f":"IF(ROWS($AH$15:AH255)>MAX(AH:AH),\"\",INDEX(AD:AD,MATCH(ROWS($AH$15:AH255),AH:AH,0)))","v":""}]
[null,null,"0004","NCQA","Initiation and Engagement of Alcohol and Other Drug Dependence Treatment*,**",null,null,null,null,"",null,null,null,null,null,null,47.25,0,0,null,6,0,0,null,null,null,null,242,4,"","",{"$f":"AF255+IF(COUNTIF($AC$15:AC256,AC256)>1,0,1)","v":4},{"$f":"IF(ROWS(AF$15:AF256)>MAX(AF:AF),\"\",INDEX(AC:AC,MATCH(ROWS(AF$15:AF256),AF:AF,0)))","v":""},{"$f":"IF(AD256=\"\",AH255,AH255+IF(COUNTIF($AD$15:AD256,AD256)>1,0,1))","v":0},{"$f":"IF(ROWS($AH$15:AH256)>MAX(AH:AH),\"\",INDEX(AD:AD,MATCH(ROWS($AH$15:AH256),AH:AH,0)))","v":""}]
[null,null,"1517","NCQA","Prenatal and Postpartum Care: Postpartum Care Rate* ",null,null,null,null,"",null,null,null,null,null,null,47.25,0,0,null,6,0,0,null,null,null,null,243,4,"","",{"$f":"AF256+IF(COUNTIF($AC$15:AC257,AC257)>1,0,1)","v":4},{"$f":"IF(ROWS(AF$15:AF257)>MAX(AF:AF),\"\",INDEX(AC:AC,MATCH(ROWS(AF$15:AF257),AF:AF,0)))","v":""},{"$f":"IF(AD257=\"\",AH256,AH256+IF(COUNTIF($AD$15:AD257,AD257)>1,0,1))","v":0},{"$f":"IF(ROWS($AH$15:AH257)>MAX(AH:AH),\"\",INDEX(AD:AD,MATCH(ROWS($AH$15:AH257),AH:AH,0)))","v":""}]
[null,null,null,null,null,null,null,null,null,null,null,null,null,null,null,null,25.5,null,null,null,6,0,0,null,null,null,null,244,4,"","",{"$f":"AF257+IF(COUNTIF($AC$15:AC258,AC258)>1,0,1)","v":4},{"$f":"IF(ROWS(AF$15:AF258)>MAX(AF:AF),\"\",INDEX(AC:AC,MATCH(ROWS(AF$15:AF258),AF:AF,0)))","v":""},{"$f":"IF(AD258=\"\",AH257,AH257+IF(COUNTIF($AD$15:AD258,AD258)>1,0,1))","v":0},{"$f":"IF(ROWS($AH$15:AH258)>MAX(AH:AH),\"\",INDEX(AD:AD,MATCH(ROWS($AH$15:AH258),AH:AH,0)))","v":""}]
[null,null,"Second Component: Measures for Medicaid-Only Child Population",null,null,null,null,null,null,null,null,null,null,null,null,null,15,null,null,null,6,0,0,null,null,null,null,245,4,"","",{"$f":"AF258+IF(COUNTIF($AC$15:AC259,AC259)>1,0,1)","v":4},{"$f":"IF(ROWS(AF$15:AF259)>MAX(AF:AF),\"\",INDEX(AC:AC,MATCH(ROWS(AF$15:AF259),AF:AF,0)))","v":""},{"$f":"IF(AD259=\"\",AH258,AH258+IF(COUNTIF($AD$15:AD259,AD259)>1,0,1))","v":0},{"$f":"IF(ROWS($AH$15:AH259)>MAX(AH:AH),\"\",INDEX(AD:AD,MATCH(ROWS($AH$15:AH259),AH:AH,0)))","v":""}]
[null,null,"NQF #","Measure Steward","Measure Name ",null,null,"Provider Numerator","Provider Denominator","Provider Rate","If not reporting measure, please provide an explanation of why the measure is not being reported.",null,"[Qualitative Prompt]",null,null,null,30,null,null,null,6,0,0,null,null,null,null,246,4,"","",{"$f":"AF259+IF(COUNTIF($AC$15:AC260,AC260)>1,0,1)","v":4},{"$f":"IF(ROWS(AF$15:AF260)>MAX(AF:AF),\"\",INDEX(AC:AC,MATCH(ROWS(AF$15:AF260),AF:AF,0)))","v":""},{"$f":"IF(AD260=\"\",AH259,AH259+IF(COUNTIF($AD$15:AD260,AD260)>1,0,1))","v":0},{"$f":"IF(ROWS($AH$15:AH260)>MAX(AH:AH),\"\",INDEX(AD:AD,MATCH(ROWS($AH$15:AH260),AH:AH,0)))","v":""}]
[null,null,"0108","NCQA","Follow-Up Care for Children Prescribed Attention Deficit Hyperactivity Disorder*,**",null,null,null,null,{"$f":"IFERROR(H261/I261,\"\")","v":""},null,null,null,null,null,null,47.25,{"$f":"W261*2","v":0},{"$f":"W261*(IF(COUNTBLANK(H261:I261)=2,IF(LEN(TRIM(K261))>0,1,0)+IF(LEN(TRIM(M261))>0,1,0),COUNTA(H261:I261)))","v":0},null,6,0,0,null,null,null,null,247,4,"","",{"$f":"AF260+IF(COUNTIF($AC$15:AC261,AC261)>1,0,1)","v":4},{"$f":"IF(ROWS(AF$15:AF261)>MAX(AF:AF),\"\",INDEX(AC:AC,MATCH(ROWS(AF$15:AF261),AF:AF,0)))","v":""},{"$f":"IF(AD261=\"\",AH260,AH260+IF(COUNTIF($AD$15:AD261,AD261)>1,0,1))","v":0},{"$f":"IF(ROWS($AH$15:AH261)>MAX(AH:AH),\"\",INDEX(AD:AD,MATCH(ROWS($AH$15:AH261),AH:AH,0)))","v":""}]
[null,null,null,null,"     Initiation Phase",null,null,null,null,{"$f":"IFERROR(H262/I262,\"\")","v":""},null,null,null,null,null,null,47.25,0,0,null,6,0,0,null,null,null,null,248,4,"","",{"$f":"AF261+IF(COUNTIF($AC$15:AC262,AC262)>1,0,1)","v":4},{"$f":"IF(ROWS(AF$15:AF262)>MAX(AF:AF),\"\",INDEX(AC:AC,MATCH(ROWS(AF$15:AF262),AF:AF,0)))","v":""},{"$f":"IF(AD262=\"\",AH261,AH261+IF(COUNTIF($AD$15:AD262,AD262)>1,0,1))","v":0},{"$f":"IF(ROWS($AH$15:AH262)>MAX(AH:AH),\"\",INDEX(AD:AD,MATCH(ROWS($AH$15:AH262),AH:AH,0)))","v":""}]
[null,null,null,null,"     Continuation and Maintenance Phase ",null,null,null,null,"",null,null,null,null,null,null,47.25,0,0,null,6,0,0,null,null,null,null,249,4,"","",{"$f":"AF262+IF(COUNTIF($AC$15:AC263,AC263)>1,0,1)","v":4},{"$f":"IF(ROWS(AF$15:AF263)>MAX(AF:AF),\"\",INDEX(AC:AC,MATCH(ROWS(AF$15:AF263),AF:AF,0)))","v":""},{"$f":"IF(AD263=\"\",AH262,AH262+IF(COUNTIF($AD$15:AD263,AD263)>1,0,1))","v":0},{"$f":"IF(ROWS($AH$15:AH263)>MAX(AH:AH),\"\",INDEX(AD:AD,MATCH(ROWS($AH$15:AH263),AH:AH,0)))","v":""}]
[null,null,"NA","NCQA","Ambulatory Care - Emergency Department (ED) Visits** (Overall)",null,null,null,null,"",null,null,null,null,null,null,47.25,0,0,null,6,0,0,null,null,null,null,250,4,"","",{"$f":"AF263+IF(COUNTIF($AC$15:AC264,AC264)>1,0,1)","v":4},{"$f":"IF(ROWS(AF$15:AF264)>MAX(AF:AF),\"\",INDEX(AC:AC,MATCH(ROWS(AF$15:AF264),AF:AF,0)))","v":""},{"$f":"IF(AD264=\"\",AH263,AH263+IF(COUNTIF($AD$15:AD264,AD264)>1,0,1))","v":0},{"$f":"IF(ROWS($AH$15:AH264)>MAX(AH:AH),\"\",INDEX(AD:AD,MATCH(ROWS($AH$15:AH264),AH:AH,0)))","v":""}]
[null,null,null,null,"Ambulatory Care - Emergency Department (ED) Visits** (less than 1 year of age)",null,null,null,null,"",null,null,null,null,null,null,47.25,0,0,null,6,0,0,null,null,null,null,251,4,"","",{"$f":"AF264+IF(COUNTIF($AC$15:AC265,AC265)>1,0,1)","v":4},{"$f":"IF(ROWS(AF$15:AF265)>MAX(AF:AF),\"\",INDEX(AC:AC,MATCH(ROWS(AF$15:AF265),AF:AF,0)))","v":""},{"$f":"IF(AD265=\"\",AH264,AH264+IF(COUNTIF($AD$15:AD265,AD265)>1,0,1))","v":0},{"$f":"IF(ROWS($AH$15:AH265)>MAX(AH:AH),\"\",INDEX(AD:AD,MATCH(ROWS($AH$15:AH265),AH:AH,0)))","v":""}]
[null,null,null,null,"Ambulatory Care - Emergency Department (ED) Visits** (1-9 years of age)",null,null,null,null,"",null,null,null,null,null,null,47.25,0,0,null,6,0,0,null,null,null,null,252,4,"","",{"$f":"AF265+IF(COUNTIF($AC$15:AC266,AC266)>1,0,1)","v":4},{"$f":"IF(ROWS(AF$15:AF266)>MAX(AF:AF),\"\",INDEX(AC:AC,MATCH(ROWS(AF$15:AF266),AF:AF,0)))","v":""},{"$f":"IF(AD266=\"\",AH265,AH265+IF(COUNTIF($AD$15:AD266,AD266)>1,0,1))","v":0},{"$f":"IF(ROWS($AH$15:AH266)>MAX(AH:AH),\"\",INDEX(AD:AD,MATCH(ROWS($AH$15:AH266),AH:AH,0)))","v":""}]
[null,null,null,null,"Ambulatory Care - Emergency Department (ED) Visits** (10-19 years of age)",null,null,null,null,"",null,null,null,null,null,null,47.25,0,0,null,6,0,0,null,null,null,null,253,4,"","",{"$f":"AF266+IF(COUNTIF($AC$15:AC267,AC267)>1,0,1)","v":4},{"$f":"IF(ROWS(AF$15:AF267)>MAX(AF:AF),\"\",INDEX(AC:AC,MATCH(ROWS(AF$15:AF267),AF:AF,0)))","v":""},{"$f":"IF(AD267=\"\",AH266,AH266+IF(COUNTIF($AD$15:AD267,AD267)>1,0,1))","v":0},{"$f":"IF(ROWS($AH$15:AH267)>MAX(AH:AH),\"\",INDEX(AD:AD,MATCH(ROWS($AH$15:AH267),AH:AH,0)))","v":""}]
[null,null,"NA","NCQA","Adolescent Well-Care Visit**",null,null,null,null,"",null,null,null,null,null,null,47.25,0,0,null,6,0,0,null,null,null,null,254,4,"","",{"$f":"AF267+IF(COUNTIF($AC$15:AC268,AC268)>1,0,1)","v":4},{"$f":"IF(ROWS(AF$15:AF268)>MAX(AF:AF),\"\",INDEX(AC:AC,MATCH(ROWS(AF$15:AF268),AF:AF,0)))","v":""},{"$f":"IF(AD268=\"\",AH267,AH267+IF(COUNTIF($AD$15:AD268,AD268)>1,0,1))","v":0},{"$f":"IF(ROWS($AH$15:AH268)>MAX(AH:AH),\"\",INDEX(AD:AD,MATCH(ROWS($AH$15:AH268),AH:AH,0)))","v":""}]
[null,null,"NA","AMA-PCPI","Behavioral Health Risk Assessment (for Pregnant Women)*",null,null,null,null,"",null,null,null,null,null,null,47.25,0,0,null,6,0,0,null,null,null,null,255,4,"","",{"$f":"AF268+IF(COUNTIF($AC$15:AC269,AC269)>1,0,1)","v":4},{"$f":"IF(ROWS(AF$15:AF269)>MAX(AF:AF),\"\",INDEX(AC:AC,MATCH(ROWS(AF$15:AF269),AF:AF,0)))","v":""},{"$f":"IF(AD269=\"\",AH268,AH268+IF(COUNTIF($AD$15:AD269,AD269)>1,0,1))","v":0},{"$f":"IF(ROWS($AH$15:AH269)>MAX(AH:AH),\"\",INDEX(AD:AD,MATCH(ROWS($AH$15:AH269),AH:AH,0)))","v":""}]
[null,null,"NA","NCQA","Child and Adolescents’ Access to Primary Care Practitioners*,**",null,null,null,null,"",null,null,null,null,null,null,47.25,0,0,null,6,0,0,null,null,null,null,256,4,"","",{"$f":"AF269+IF(COUNTIF($AC$15:AC270,AC270)>1,0,1)","v":4},{"$f":"IF(ROWS(AF$15:AF270)>MAX(AF:AF),\"\",INDEX(AC:AC,MATCH(ROWS(AF$15:AF270),AF:AF,0)))","v":""},{"$f":"IF(AD270=\"\",AH269,AH269+IF(COUNTIF($AD$15:AD270,AD270)>1,0,1))","v":0},{"$f":"IF(ROWS($AH$15:AH270)>MAX(AH:AH),\"\",INDEX(AD:AD,MATCH(ROWS($AH$15:AH270),AH:AH,0)))","v":""}]
[null,null,"0033","NCQA","Chlamydia Screening in Women*,**",null,null,null,null,"",null,null,null,null,null,null,47.25,0,0,null,6,0,0,null,null,null,null,257,4,"","",{"$f":"AF270+IF(COUNTIF($AC$15:AC271,AC271)>1,0,1)","v":4},{"$f":"IF(ROWS(AF$15:AF271)>MAX(AF:AF),\"\",INDEX(AC:AC,MATCH(ROWS(AF$15:AF271),AF:AF,0)))","v":""},{"$f":"IF(AD271=\"\",AH270,AH270+IF(COUNTIF($AD$15:AD271,AD271)>1,0,1))","v":0},{"$f":"IF(ROWS($AH$15:AH271)>MAX(AH:AH),\"\",INDEX(AD:AD,MATCH(ROWS($AH$15:AH271),AH:AH,0)))","v":""}]
[null,null,"0038","NCQA","Childhood Immunization Status*,**",null,null,null,null,"",null,null,null,null,null,null,47.25,0,0,null,6,0,0,null,null,null,null,258,{"$f":"IF(INDIRECT($AC$1&\"D\"&$AB272+1)=\"\",\"\",INDIRECT($AC$1&\"D\"&$AB272+1))","v":4},{"$f":"IF(AC272=\"\",\"\",IF($E$16=AC272,INDIRECT($AC$1&\"E\"&$AB272+1),\"\"))","v":""},{"$f":"IF(ISBLANK($E$17),\"\",IF($E$17<>AD272,\"\",IF(INDIRECT($AC$1&\"U\"&$AB272+1)=\"Yes\",INDIRECT($AC$1&\"I\"&$AB272+1),\"\")))","v":""},{"$f":"AF271+IF(COUNTIF($AC$15:AC272,AC272)>1,0,1)","v":4},{"$f":"IF(ROWS(AF$15:AF272)>MAX(AF:AF),\"\",INDEX(AC:AC,MATCH(ROWS(AF$15:AF272),AF:AF,0)))","v":""},{"$f":"IF(AD272=\"\",AH271,AH271+IF(COUNTIF($AD$15:AD272,AD272)>1,0,1))","v":0},{"$f":"IF(ROWS($AH$15:AH272)>MAX(AH:AH),\"\",INDEX(AD:AD,MATCH(ROWS($AH$15:AH272),AH:AH,0)))","v":""}]
[null,null,"0139","CDC","Pediatric Central-line Associated Bloodstream Infections–Neonatal Intensive Care Unit ",null,null,null,null,"",null,null,null,null,null,null,47.25,0,0,null,6,0,0,null,null,null,null,{"$f":"AB272+1","v":259},4,"","",{"$f":"AF272+IF(COUNTIF($AC$15:AC273,AC273)>1,0,1)","v":4},{"$f":"IF(ROWS(AF$15:AF273)>MAX(AF:AF),\"\",INDEX(AC:AC,MATCH(ROWS(AF$15:AF273),AF:AF,0)))","v":""},{"$f":"IF(AD273=\"\",AH272,AH272+IF(COUNTIF($AD$15:AD273,AD273)>1,0,1))","v":0},{"$f":"IF(ROWS($AH$15:AH273)>MAX(AH:AH),\"\",INDEX(AD:AD,MATCH(ROWS($AH$15:AH273),AH:AH,0)))","v":""}]
[null,null,"NA","NCQA","Consumer Assessment of Healthcare Providers and Systems® CAHPS 5.0H (Child Version*",null,null,null,null,"",null,null,null,null,null,null,47.25,0,0,null,6,0,0,null,null,null,null,260,4,"","",{"$f":"AF273+IF(COUNTIF($AC$15:AC274,AC274)>1,0,1)","v":4},{"$f":"IF(ROWS(AF$15:AF274)>MAX(AF:AF),\"\",INDEX(AC:AC,MATCH(ROWS(AF$15:AF274),AF:AF,0)))","v":""},{"$f":"IF(AD274=\"\",AH273,AH273+IF(COUNTIF($AD$15:AD274,AD274)>1,0,1))","v":0},{"$f":"IF(ROWS($AH$15:AH274)>MAX(AH:AH),\"\",INDEX(AD:AD,MATCH(ROWS($AH$15:AH274),AH:AH,0)))","v":""}]
[null,null,"0471","CMQCC","Cesarean Rate for Nulliparous Singleton Vertex",null,null,null,null,"",null,null,null,null,null,null,47.25,0,0,null,6,0,0,null,null,null,null,261,4,"","",{"$f":"AF274+IF(COUNTIF($AC$15:AC275,AC275)>1,0,1)","v":4},{"$f":"IF(ROWS(AF$15:AF275)>MAX(AF:AF),\"\",INDEX(AC:AC,MATCH(ROWS(AF$15:AF275),AF:AF,0)))","v":""},{"$f":"IF(AD275=\"\",AH274,AH274+IF(COUNTIF($AD$15:AD275,AD275)>1,0,1))","v":0},{"$f":"IF(ROWS($AH$15:AH275)>MAX(AH:AH),\"\",INDEX(AD:AD,MATCH(ROWS($AH$15:AH275),AH:AH,0)))","v":""}]
[null,null,"1448","OHSU","Developmental Screening in the First Three Years of Life*",null,null,null,null,"",null,null,null,null,null,null,47.25,0,0,null,6,0,0,null,null,null,null,262,4,"","",{"$f":"AF275+IF(COUNTIF($AC$15:AC276,AC276)>1,0,1)","v":4},{"$f":"IF(ROWS(AF$15:AF276)>MAX(AF:AF),\"\",INDEX(AC:AC,MATCH(ROWS(AF$15:AF276),AF:AF,0)))","v":""},{"$f":"IF(AD276=\"\",AH275,AH275+IF(COUNTIF($AD$15:AD276,AD276)>1,0,1))","v":0},{"$f":"IF(ROWS($AH$15:AH276)>MAX(AH:AH),\"\",INDEX(AD:AD,MATCH(ROWS($AH$15:AH276),AH:AH,0)))","v":""}]
[null,null,null,null,"    Indicator 1: Screened by 12 Months of Age",null,null,null,null,"",null,null,null,null,null,null,47.25,0,0,null,6,0,0,null,null,null,null,263,4,"","",{"$f":"AF276+IF(COUNTIF($AC$15:AC277,AC277)>1,0,1)","v":4},{"$f":"IF(ROWS(AF$15:AF277)>MAX(AF:AF),\"\",INDEX(AC:AC,MATCH(ROWS(AF$15:AF277),AF:AF,0)))","v":""},{"$f":"IF(AD277=\"\",AH276,AH276+IF(COUNTIF($AD$15:AD277,AD277)>1,0,1))","v":0},{"$f":"IF(ROWS($AH$15:AH277)>MAX(AH:AH),\"\",INDEX(AD:AD,MATCH(ROWS($AH$15:AH277),AH:AH,0)))","v":""}]
[null,null,null,null,"    Indicator 2: Screened by 24 Months of Age",null,null,null,null,"",null,null,null,null,null,null,47.25,0,0,null,6,0,0,null,null,null,null,264,4,"","",{"$f":"AF277+IF(COUNTIF($AC$15:AC278,AC278)>1,0,1)","v":4},{"$f":"IF(ROWS(AF$15:AF278)>MAX(AF:AF),\"\",INDEX(AC:AC,MATCH(ROWS(AF$15:AF278),AF:AF,0)))","v":""},{"$f":"IF(AD278=\"\",AH277,AH277+IF(COUNTIF($AD$15:AD278,AD278)>1,0,1))","v":0},{"$f":"IF(ROWS($AH$15:AH278)>MAX(AH:AH),\"\",INDEX(AD:AD,MATCH(ROWS($AH$15:AH278),AH:AH,0)))","v":""}]
[null,null,null,null,"    Indicator 3: Screened by 36 Months of Age ",null,null,null,null,"",null,null,null,null,null,null,47.25,0,0,null,6,0,0,null,null,null,null,265,5,"","",{"$f":"AF278+IF(COUNTIF($AC$15:AC279,AC279)>1,0,1)","v":5},{"$f":"IF(ROWS(AF$15:AF279)>MAX(AF:AF),\"\",INDEX(AC:AC,MATCH(ROWS(AF$15:AF279),AF:AF,0)))","v":""},{"$f":"IF(AD279=\"\",AH278,AH278+IF(COUNTIF($AD$15:AD279,AD279)>1,0,1))","v":0},{"$f":"IF(ROWS($AH$15:AH279)>MAX(AH:AH),\"\",INDEX(AD:AD,MATCH(ROWS($AH$15:AH279),AH:AH,0)))","v":""}]
[null,null,"1391","NCQA","Frequency of Ongoing Prenatal Care* ",null,null,null,null,"",null,null,null,null,null,null,47.25,0,0,null,6,0,0,null,null,null,null,266,5,"","",{"$f":"AF279+IF(COUNTIF($AC$15:AC280,AC280)>1,0,1)","v":5},{"$f":"IF(ROWS(AF$15:AF280)>MAX(AF:AF),\"\",INDEX(AC:AC,MATCH(ROWS(AF$15:AF280),AF:AF,0)))","v":""},{"$f":"IF(AD280=\"\",AH279,AH279+IF(COUNTIF($AD$15:AD280,AD280)>1,0,1))","v":0},{"$f":"IF(ROWS($AH$15:AH280)>MAX(AH:AH),\"\",INDEX(AD:AD,MATCH(ROWS($AH$15:AH280),AH:AH,0)))","v":""}]
[null,null,null,null,"    •<21 percent of expected visits",null,null,null,null,"",null,null,null,null,null,null,47.25,0,0,null,6,0,0,null,null,null,null,267,5,"","",{"$f":"AF280+IF(COUNTIF($AC$15:AC281,AC281)>1,0,1)","v":5},{"$f":"IF(ROWS(AF$15:AF281)>MAX(AF:AF),\"\",INDEX(AC:AC,MATCH(ROWS(AF$15:AF281),AF:AF,0)))","v":""},{"$f":"IF(AD281=\"\",AH280,AH280+IF(COUNTIF($AD$15:AD281,AD281)>1,0,1))","v":0},{"$f":"IF(ROWS($AH$15:AH281)>MAX(AH:AH),\"\",INDEX(AD:AD,MATCH(ROWS($AH$15:AH281),AH:AH,0)))","v":""}]
[null,null,null,null,"    •21 percent–40 percent of expected visits",null,null,null,null,"",null,null,null,null,null,null,47.25,0,0,null,6,0,0,null,null,null,null,268,5,"","",{"$f":"AF281+IF(COUNTIF($AC$15:AC282,AC282)>1,0,1)","v":5},{"$f":"IF(ROWS(AF$15:AF282)>MAX(AF:AF),\"\",INDEX(AC:AC,MATCH(ROWS(AF$15:AF282),AF:AF,0)))","v":""},{"$f":"IF(AD282=\"\",AH281,AH281+IF(COUNTIF($AD$15:AD282,AD282)>1,0,1))","v":0},{"$f":"IF(ROWS($AH$15:AH282)>MAX(AH:AH),\"\",INDEX(AD:AD,MATCH(ROWS($AH$15:AH282),AH:AH,0)))","v":""}]
[null,null,null,null,"    •41 percent–60 percent of expected visits",null,null,null,null,"",null,null,null,null,null,null,47.25,0,0,null,6,0,0,null,null,null,null,269,5,"","",{"$f":"AF282+IF(COUNTIF($AC$15:AC283,AC283)>1,0,1)","v":5},{"$f":"IF(ROWS(AF$15:AF283)>MAX(AF:AF),\"\",INDEX(AC:AC,MATCH(ROWS(AF$15:AF283),AF:AF,0)))","v":""},{"$f":"IF(AD283=\"\",AH282,AH282+IF(COUNTIF($AD$15:AD283,AD283)>1,0,1))","v":0},{"$f":"IF(ROWS($AH$15:AH283)>MAX(AH:AH),\"\",INDEX(AD:AD,MATCH(ROWS($AH$15:AH283),AH:AH,0)))","v":""}]
[null,null,null,null,"    •61 percent–80 percent of expected visits",null,null,null,null,"",null,null,null,null,null,null,47.25,0,0,null,6,0,0,null,null,null,null,270,5,"","",{"$f":"AF283+IF(COUNTIF($AC$15:AC284,AC284)>1,0,1)","v":5},{"$f":"IF(ROWS(AF$15:AF284)>MAX(AF:AF),\"\",INDEX(AC:AC,MATCH(ROWS(AF$15:AF284),AF:AF,0)))","v":""},{"$f":"IF(AD284=\"\",AH283,AH283+IF(COUNTIF($AD$15:AD284,AD284)>1,0,1))","v":0},{"$f":"IF(ROWS($AH$15:AH284)>MAX(AH:AH),\"\",INDEX(AD:AD,MATCH(ROWS($AH$15:AH284),AH:AH,0)))","v":""}]
[null,null,null,null,"    •> or =81 percent of expected visits",null,null,null,null,"",null,null,null,null,null,null,47.25,0,0,null,6,0,0,null,null,null,null,271,5,"","",{"$f":"AF284+IF(COUNTIF($AC$15:AC285,AC285)>1,0,1)","v":5},{"$f":"IF(ROWS(AF$15:AF285)>MAX(AF:AF),\"\",INDEX(AC:AC,MATCH(ROWS(AF$15:AF285),AF:AF,0)))","v":""},{"$f":"IF(AD285=\"\",AH284,AH284+IF(COUNTIF($AD$15:AD285,AD285)>1,0,1))","v":0},{"$f":"IF(ROWS($AH$15:AH285)>MAX(AH:AH),\"\",INDEX(AD:AD,MATCH(ROWS($AH$15:AH285),AH:AH,0)))","v":""}]
[null,null,"0576","NCQA","Follow-up After Hospitalization for Mental Illness*",null,null,null,null,"",null,null,null,null,null,null,47.25,0,0,null,6,{"$f":"IF(AND($F$126=\"Yes\",$G$221=\"Yes\"),1,0)","v":0},0,null,null,null,null,272,5,"","",{"$f":"AF285+IF(COUNTIF($AC$15:AC286,AC286)>1,0,1)","v":5},{"$f":"IF(ROWS(AF$15:AF286)>MAX(AF:AF),\"\",INDEX(AC:AC,MATCH(ROWS(AF$15:AF286),AF:AF,0)))","v":""},{"$f":"IF(AD286=\"\",AH285,AH285+IF(COUNTIF($AD$15:AD286,AD286)>1,0,1))","v":0},{"$f":"IF(ROWS($AH$15:AH286)>MAX(AH:AH),\"\",INDEX(AD:AD,MATCH(ROWS($AH$15:AH286),AH:AH,0)))","v":""}]
[null,null,null,null,"    Percentage of discharges for which the patient received follow-up within 30 days of discharge",null,null,null,null,"",null,null,null,null,null,null,47.25,0,0,null,6,0,0,null,null,null,null,273,5,"","",{"$f":"AF286+IF(COUNTIF($AC$15:AC287,AC287)>1,0,1)","v":5},{"$f":"IF(ROWS(AF$15:AF287)>MAX(AF:AF),\"\",INDEX(AC:AC,MATCH(ROWS(AF$15:AF287),AF:AF,0)))","v":""},{"$f":"IF(AD287=\"\",AH286,AH286+IF(COUNTIF($AD$15:AD287,AD287)>1,0,1))","v":0},{"$f":"IF(ROWS($AH$15:AH287)>MAX(AH:AH),\"\",INDEX(AD:AD,MATCH(ROWS($AH$15:AH287),AH:AH,0)))","v":""}]
[null,null,null,null,"     Percentage of discharges for which the patient received follow-up within 7 days of discharge.",null,null,null,null,"",null,null,null,null,null,null,47.25,0,0,null,6,0,0,null,null,null,null,274,5,"","",{"$f":"AF287+IF(COUNTIF($AC$15:AC288,AC288)>1,0,1)","v":5},{"$f":"IF(ROWS(AF$15:AF288)>MAX(AF:AF),\"\",INDEX(AC:AC,MATCH(ROWS(AF$15:AF288),AF:AF,0)))","v":""},{"$f":"IF(AD288=\"\",AH287,AH287+IF(COUNTIF($AD$15:AD288,AD288)>1,0,1))","v":0},{"$f":"IF(ROWS($AH$15:AH288)>MAX(AH:AH),\"\",INDEX(AD:AD,MATCH(ROWS($AH$15:AH288),AH:AH,0)))","v":""}]
[null,null,"1959","NCQA","Human Papillomavirus (HPV) Vaccine for Female Adolescents*",null,null,null,null,"",null,null,null,null,null,null,47.25,0,0,null,6,0,0,null,null,null,null,275,5,"","",{"$f":"AF288+IF(COUNTIF($AC$15:AC289,AC289)>1,0,1)","v":5},{"$f":"IF(ROWS(AF$15:AF289)>MAX(AF:AF),\"\",INDEX(AC:AC,MATCH(ROWS(AF$15:AF289),AF:AF,0)))","v":""},{"$f":"IF(AD289=\"\",AH288,AH288+IF(COUNTIF($AD$15:AD289,AD289)>1,0,1))","v":0},{"$f":"IF(ROWS($AH$15:AH289)>MAX(AH:AH),\"\",INDEX(AD:AD,MATCH(ROWS($AH$15:AH289),AH:AH,0)))","v":""}]
[null,null,"1407","NCQA","Immunization Status for Adolescents*",null,null,null,null,"",null,null,null,null,null,null,47.25,0,0,null,6,0,{"$f":"IF(ISBLANK(V290),INDEX($Y$15:$Y$21,MATCH($U290,$X$15:$X$21,0)),IF(V290+INDEX($Y$15:$Y$21,MATCH($U290,$X$15:$X$21,0))>1,1,0))","v":0},null,null,null,null,276,5,"","",{"$f":"AF289+IF(COUNTIF($AC$15:AC290,AC290)>1,0,1)","v":5},{"$f":"IF(ROWS(AF$15:AF290)>MAX(AF:AF),\"\",INDEX(AC:AC,MATCH(ROWS(AF$15:AF290),AF:AF,0)))","v":""},{"$f":"IF(AD290=\"\",AH289,AH289+IF(COUNTIF($AD$15:AD290,AD290)>1,0,1))","v":0},{"$f":"IF(ROWS($AH$15:AH290)>MAX(AH:AH),\"\",INDEX(AD:AD,MATCH(ROWS($AH$15:AH290),AH:AH,0)))","v":""}]
[null,null,"1382","CDC","Live Births Weighing Less than 2,500 Grams** ",null,null,null,null,"",null,null,null,null,null,null,47.25,0,0,null,6,0,0,null,null,null,null,277,5,"","",{"$f":"AF290+IF(COUNTIF($AC$15:AC291,AC291)>1,0,1)","v":5},{"$f":"IF(ROWS(AF$15:AF291)>MAX(AF:AF),\"\",INDEX(AC:AC,MATCH(ROWS(AF$15:AF291),AF:AF,0)))","v":""},{"$f":"IF(AD291=\"\",AH290,AH290+IF(COUNTIF($AD$15:AD291,AD291)>1,0,1))","v":0},{"$f":"IF(ROWS($AH$15:AH291)>MAX(AH:AH),\"\",INDEX(AD:AD,MATCH(ROWS($AH$15:AH291),AH:AH,0)))","v":""}]
[null,null,"1799","NCQA","Medication Management for People with Asthma* (PDC 50% of treatment time)",null,null,null,null,"",null,null,null,null,null,null,47.25,0,0,null,6,0,0,null,null,null,null,278,5,"","",{"$f":"AF291+IF(COUNTIF($AC$15:AC292,AC292)>1,0,1)","v":5},{"$f":"IF(ROWS(AF$15:AF292)>MAX(AF:AF),\"\",INDEX(AC:AC,MATCH(ROWS(AF$15:AF292),AF:AF,0)))","v":""},{"$f":"IF(AD292=\"\",AH291,AH291+IF(COUNTIF($AD$15:AD292,AD292)>1,0,1))","v":0},{"$f":"IF(ROWS($AH$15:AH292)>MAX(AH:AH),\"\",INDEX(AD:AD,MATCH(ROWS($AH$15:AH292),AH:AH,0)))","v":""}]
[null,null,null,null,"Medication Management for People with Asthma* (PDC 75 of treatment time)",null,null,null,null,"",null,null,null,null,null,null,47.25,0,0,null,6,0,0,null,null,null,null,279,5,"","",{"$f":"AF292+IF(COUNTIF($AC$15:AC293,AC293)>1,0,1)","v":5},{"$f":"IF(ROWS(AF$15:AF293)>MAX(AF:AF),\"\",INDEX(AC:AC,MATCH(ROWS(AF$15:AF293),AF:AF,0)))","v":""},{"$f":"IF(AD293=\"\",AH292,AH292+IF(COUNTIF($AD$15:AD293,AD293)>1,0,1))","v":0},{"$f":"IF(ROWS($AH$15:AH293)>MAX(AH:AH),\"\",INDEX(AD:AD,MATCH(ROWS($AH$15:AH293),AH:AH,0)))","v":""}]
[null,null,"NA","CMS","Percentage of Eligibles That Received Preventive Dental Services* ",null,null,null,null,"",null,null,null,null,null,null,47.25,0,0,null,6,0,0,null,null,null,null,280,5,"","",{"$f":"AF293+IF(COUNTIF($AC$15:AC294,AC294)>1,0,1)","v":5},{"$f":"IF(ROWS(AF$15:AF294)>MAX(AF:AF),\"\",INDEX(AC:AC,MATCH(ROWS(AF$15:AF294),AF:AF,0)))","v":""},{"$f":"IF(AD294=\"\",AH293,AH293+IF(COUNTIF($AD$15:AD294,AD294)>1,0,1))","v":0},{"$f":"IF(ROWS($AH$15:AH294)>MAX(AH:AH),\"\",INDEX(AD:AD,MATCH(ROWS($AH$15:AH294),AH:AH,0)))","v":""}]
[null,null,"1517","NCQA","Timeliness of Prenatal Care*,** (Rate 1)",null,null,null,null,"",null,null,null,null,null,null,47.25,0,0,null,6,0,0,null,null,null,null,281,5,"","",{"$f":"AF294+IF(COUNTIF($AC$15:AC295,AC295)>1,0,1)","v":5},{"$f":"IF(ROWS(AF$15:AF295)>MAX(AF:AF),\"\",INDEX(AC:AC,MATCH(ROWS(AF$15:AF295),AF:AF,0)))","v":""},{"$f":"IF(AD295=\"\",AH294,AH294+IF(COUNTIF($AD$15:AD295,AD295)>1,0,1))","v":0},{"$f":"IF(ROWS($AH$15:AH295)>MAX(AH:AH),\"\",INDEX(AD:AD,MATCH(ROWS($AH$15:AH295),AH:AH,0)))","v":""}]
[null,null,"0024","NCQA","Weight Assessment and Counseling for Nutrition and Physical Activity for Children*",null,null,null,null,"",null,null,null,null,null,null,47.25,0,0,null,6,0,0,null,null,null,null,282,5,"","",{"$f":"AF295+IF(COUNTIF($AC$15:AC296,AC296)>1,0,1)","v":5},{"$f":"IF(ROWS(AF$15:AF296)>MAX(AF:AF),\"\",INDEX(AC:AC,MATCH(ROWS(AF$15:AF296),AF:AF,0)))","v":""},{"$f":"IF(AD296=\"\",AH295,AH295+IF(COUNTIF($AD$15:AD296,AD296)>1,0,1))","v":0},{"$f":"IF(ROWS($AH$15:AH296)>MAX(AH:AH),\"\",INDEX(AD:AD,MATCH(ROWS($AH$15:AH296),AH:AH,0)))","v":""}]
[null,null,"1392","NCQA","Well-Child Visits in the First 15 Months of Life*,**",null,null,null,null,"",null,null,null,null,null,null,47.25,0,0,null,6,0,0,null,null,null,null,283,5,"","",{"$f":"AF296+IF(COUNTIF($AC$15:AC297,AC297)>1,0,1)","v":5},{"$f":"IF(ROWS(AF$15:AF297)>MAX(AF:AF),\"\",INDEX(AC:AC,MATCH(ROWS(AF$15:AF297),AF:AF,0)))","v":""},{"$f":"IF(AD297=\"\",AH296,AH296+IF(COUNTIF($AD$15:AD297,AD297)>1,0,1))","v":0},{"$f":"IF(ROWS($AH$15:AH297)>MAX(AH:AH),\"\",INDEX(AD:AD,MATCH(ROWS($AH$15:AH297),AH:AH,0)))","v":""}]
[null,null,null,null,"Well-Child Visits in the First 15 Months of Life*,** (Zero visits)",null,null,null,null,"",null,null,null,null,null,null,47.25,0,0,null,6,0,0,null,null,null,null,284,5,"","",{"$f":"AF297+IF(COUNTIF($AC$15:AC298,AC298)>1,0,1)","v":5},{"$f":"IF(ROWS(AF$15:AF298)>MAX(AF:AF),\"\",INDEX(AC:AC,MATCH(ROWS(AF$15:AF298),AF:AF,0)))","v":""},{"$f":"IF(AD298=\"\",AH297,AH297+IF(COUNTIF($AD$15:AD298,AD298)>1,0,1))","v":0},{"$f":"IF(ROWS($AH$15:AH298)>MAX(AH:AH),\"\",INDEX(AD:AD,MATCH(ROWS($AH$15:AH298),AH:AH,0)))","v":""}]
[null,null,null,null,"Well-Child Visits in the First 15 Months of Life*,**(one visit)",null,null,null,null,"",null,null,null,null,null,null,47.25,0,0,null,6,0,0,null,null,null,null,285,5,"","",{"$f":"AF298+IF(COUNTIF($AC$15:AC299,AC299)>1,0,1)","v":5},{"$f":"IF(ROWS(AF$15:AF299)>MAX(AF:AF),\"\",INDEX(AC:AC,MATCH(ROWS(AF$15:AF299),AF:AF,0)))","v":""},{"$f":"IF(AD299=\"\",AH298,AH298+IF(COUNTIF($AD$15:AD299,AD299)>1,0,1))","v":0},{"$f":"IF(ROWS($AH$15:AH299)>MAX(AH:AH),\"\",INDEX(AD:AD,MATCH(ROWS($AH$15:AH299),AH:AH,0)))","v":""}]
[null,null,null,null,"Well-Child Visits in the First 15 Months of Life*,** (Two visits)",null,null,null,null,"",null,null,null,null,null,null,47.25,0,0,null,6,0,0,null,null,null,null,286,5,"","",{"$f":"AF299+IF(COUNTIF($AC$15:AC300,AC300)>1,0,1)","v":5},{"$f":"IF(ROWS(AF$15:AF300)>MAX(AF:AF),\"\",INDEX(AC:AC,MATCH(ROWS(AF$15:AF300),AF:AF,0)))","v":""},{"$f":"IF(AD300=\"\",AH299,AH299+IF(COUNTIF($AD$15:AD300,AD300)>1,0,1))","v":0},{"$f":"IF(ROWS($AH$15:AH300)>MAX(AH:AH),\"\",INDEX(AD:AD,MATCH(ROWS($AH$15:AH300),AH:AH,0)))","v":""}]
[null,null,null,null,"Well-Child Visits in the First 15 Months of Life*,** (Three visits)",null,null,null,null,"",null,null,null,null,null,null,47.25,0,0,null,6,0,0,null,null,null,null,287,5,"","",{"$f":"AF300+IF(COUNTIF($AC$15:AC301,AC301)>1,0,1)","v":5},{"$f":"IF(ROWS(AF$15:AF301)>MAX(AF:AF),\"\",INDEX(AC:AC,MATCH(ROWS(AF$15:AF301),AF:AF,0)))","v":""},{"$f":"IF(AD301=\"\",AH300,AH300+IF(COUNTIF($AD$15:AD301,AD301)>1,0,1))","v":0},{"$f":"IF(ROWS($AH$15:AH301)>MAX(AH:AH),\"\",INDEX(AD:AD,MATCH(ROWS($AH$15:AH301),AH:AH,0)))","v":""}]
[null,null,null,null,"Well-Child Visits in the First 15 Months of Life*,** (Four visits)",null,null,null,null,"",null,null,null,null,null,null,47.25,0,0,null,6,0,0,null,null,null,null,288,5,"","",{"$f":"AF301+IF(COUNTIF($AC$15:AC302,AC302)>1,0,1)","v":5},{"$f":"IF(ROWS(AF$15:AF302)>MAX(AF:AF),\"\",INDEX(AC:AC,MATCH(ROWS(AF$15:AF302),AF:AF,0)))","v":""},{"$f":"IF(AD302=\"\",AH301,AH301+IF(COUNTIF($AD$15:AD302,AD302)>1,0,1))","v":0},{"$f":"IF(ROWS($AH$15:AH302)>MAX(AH:AH),\"\",INDEX(AD:AD,MATCH(ROWS($AH$15:AH302),AH:AH,0)))","v":""}]
[null,null,null,null,"Well-Child Visits in the First 15 Months of Life*,** (Five visits)",null,null,null,null,"",null,null,null,null,null,null,47.25,0,0,null,6,0,0,null,null,null,null,289,5,"","",{"$f":"AF302+IF(COUNTIF($AC$15:AC303,AC303)>1,0,1)","v":5},{"$f":"IF(ROWS(AF$15:AF303)>MAX(AF:AF),\"\",INDEX(AC:AC,MATCH(ROWS(AF$15:AF303),AF:AF,0)))","v":""},{"$f":"IF(AD303=\"\",AH302,AH302+IF(COUNTIF($AD$15:AD303,AD303)>1,0,1))","v":0},{"$f":"IF(ROWS($AH$15:AH303)>MAX(AH:AH),\"\",INDEX(AD:AD,MATCH(ROWS($AH$15:AH303),AH:AH,0)))","v":""}]
[null,null,null,null,"Well-Child Visits in the First 15 Months of Life*,** (Six or more visits)",null,null,null,null,"",null,null,null,null,null,null,47.25,0,0,null,6,0,0,null,null,null,null,290,5,"","",{"$f":"AF303+IF(COUNTIF($AC$15:AC304,AC304)>1,0,1)","v":5},{"$f":"IF(ROWS(AF$15:AF304)>MAX(AF:AF),\"\",INDEX(AC:AC,MATCH(ROWS(AF$15:AF304),AF:AF,0)))","v":""},{"$f":"IF(AD304=\"\",AH303,AH303+IF(COUNTIF($AD$15:AD304,AD304)>1,0,1))","v":0},{"$f":"IF(ROWS($AH$15:AH304)>MAX(AH:AH),\"\",INDEX(AD:AD,MATCH(ROWS($AH$15:AH304),AH:AH,0)))","v":""}]
[null,null,"1516","NCQA","Well-Child Visits in the 3rd, 4th, 5th, and 6th Years of Life* ",null,null,null,null,"",null,null,null,null,null,null,47.25,0,0,null,6,0,0,null,null,null,null,291,5,"","",{"$f":"AF304+IF(COUNTIF($AC$15:AC305,AC305)>1,0,1)","v":5},{"$f":"IF(ROWS(AF$15:AF305)>MAX(AF:AF),\"\",INDEX(AC:AC,MATCH(ROWS(AF$15:AF305),AF:AF,0)))","v":""},{"$f":"IF(AD305=\"\",AH304,AH304+IF(COUNTIF($AD$15:AD305,AD305)>1,0,1))","v":0},{"$f":"IF(ROWS($AH$15:AH305)>MAX(AH:AH),\"\",INDEX(AD:AD,MATCH(ROWS($AH$15:AH305),AH:AH,0)))","v":""}]
[null,null,null,null,null,null,null,null,null,null,null,null,null,null,null,null,15,null,null,null,6,0,0,null,null,null,null,292,5,"","",{"$f":"AF305+IF(COUNTIF($AC$15:AC306,AC306)>1,0,1)","v":5},{"$f":"IF(ROWS(AF$15:AF306)>MAX(AF:AF),\"\",INDEX(AC:AC,MATCH(ROWS(AF$15:AF306),AF:AF,0)))","v":""},{"$f":"IF(AD306=\"\",AH305,AH305+IF(COUNTIF($AD$15:AD306,AD306)>1,0,1))","v":0},{"$f":"IF(ROWS($AH$15:AH306)>MAX(AH:AH),\"\",INDEX(AD:AD,MATCH(ROWS($AH$15:AH306),AH:AH,0)))","v":""}]
[null,null,"What trends have you observed over the prior time period? What factors have contributed to any decrease? How is your organization using this information to inform service delivery?",null,null,null,null,null,null,null,null,null,null,null,null,null,15,null,null,null,6,0,0,null,null,null,null,293,5,"","",{"$f":"AF306+IF(COUNTIF($AC$15:AC307,AC307)>1,0,1)","v":5},{"$f":"IF(ROWS(AF$15:AF307)>MAX(AF:AF),\"\",INDEX(AC:AC,MATCH(ROWS(AF$15:AF307),AF:AF,0)))","v":""},{"$f":"IF(AD307=\"\",AH306,AH306+IF(COUNTIF($AD$15:AD307,AD307)>1,0,1))","v":0},{"$f":"IF(ROWS($AH$15:AH307)>MAX(AH:AH),\"\",INDEX(AD:AD,MATCH(ROWS($AH$15:AH307),AH:AH,0)))","v":""}]
[null,null,null,null,null,null,null,null,null,null,null,null,null,null,null,null,60,{"$f":"W308","v":0},{"$f":"W308*IF(LEN(TRIM(C308))>0,1,0)","v":0},null,6,0,0,null,null,null,null,294,5,"","",{"$f":"AF307+IF(COUNTIF($AC$15:AC308,AC308)>1,0,1)","v":5},{"$f":"IF(ROWS(AF$15:AF308)>MAX(AF:AF),\"\",INDEX(AC:AC,MATCH(ROWS(AF$15:AF308),AF:AF,0)))","v":""},{"$f":"IF(AD308=\"\",AH307,AH307+IF(COUNTIF($AD$15:AD308,AD308)>1,0,1))","v":0},{"$f":"IF(ROWS($AH$15:AH308)>MAX(AH:AH),\"\",INDEX(AD:AD,MATCH(ROWS($AH$15:AH308),AH:AH,0)))","v":""}]
[null,null,null,null,null,null,null,null,null,null,null,null,null,null,null,null,15,null,null,null,6,0,{"$f":"IF(ISBLANK(V309),INDEX($Y$15:$Y$21,MATCH($U309,$X$15:$X$21,0)),IF(V309+INDEX($Y$15:$Y$21,MATCH($U309,$X$15:$X$21,0))>1,1,0))","v":0},null,null,null,null,295,5,"","",{"$f":"AF308+IF(COUNTIF($AC$15:AC309,AC309)>1,0,1)","v":5},{"$f":"IF(ROWS(AF$15:AF309)>MAX(AF:AF),\"\",INDEX(AC:AC,MATCH(ROWS(AF$15:AF309),AF:AF,0)))","v":""},{"$f":"IF(AD309=\"\",AH308,AH308+IF(COUNTIF($AD$15:AD309,AD309)>1,0,1))","v":0},{"$f":"IF(ROWS($AH$15:AH309)>MAX(AH:AH),\"\",INDEX(AD:AD,MATCH(ROWS($AH$15:AH309),AH:AH,0)))","v":""}]
[null,null,"Overall Reporting",null,null,null,null,null,null,null,null,null,null,null,null,null,15.75,null,null,null,0,{"$f":"IF(OR(ISBLANK(RHP),ISBLANK(TPI)),0,1)","v":0},0,null,null,null,null,296,5,"","",{"$f":"AF309+IF(COUNTIF($AC$15:AC310,AC310)>1,0,1)","v":5},{"$f":"IF(ROWS(AF$15:AF310)>MAX(AF:AF),\"\",INDEX(AC:AC,MATCH(ROWS(AF$15:AF310),AF:AF,0)))","v":""},{"$f":"IF(AD310=\"\",AH309,AH309+IF(COUNTIF($AD$15:AD310,AD310)>1,0,1))","v":0},{"$f":"IF(ROWS($AH$15:AH310)>MAX(AH:AH),\"\",INDEX(AD:AD,MATCH(ROWS($AH$15:AH310),AH:AH,0)))","v":""}]
[null,null,null,null,null,null,null,null,null,null,null,null,null,null,null,null,15,null,null,null,0,{"$f":"IF(OR(ISBLANK(RHP),ISBLANK(TPI)),0,1)","v":0},0,null,null,null,null,297,5,"","",{"$f":"AF310+IF(COUNTIF($AC$15:AC311,AC311)>1,0,1)","v":5},{"$f":"IF(ROWS(AF$15:AF311)>MAX(AF:AF),\"\",INDEX(AC:AC,MATCH(ROWS(AF$15:AF311),AF:AF,0)))","v":""},{"$f":"IF(AD311=\"\",AH310,AH310+IF(COUNTIF($AD$15:AD311,AD311)>1,0,1))","v":0},{"$f":"IF(ROWS($AH$15:AH311)>MAX(AH:AH),\"\",INDEX(AD:AD,MATCH(ROWS($AH$15:AH311),AH:AH,0)))","v":""}]
[null,null,"Please use the space below to provide any additional comments related to your submission:",null,null,null,null,null,null,null,null,null,null,null,null,null,15,null,null,null,0,{"$f":"IF(OR(ISBLANK(RHP),ISBLANK(TPI)),0,1)","v":0},0,null,null,null,null,298,5,"","",{"$f":"AF311+IF(COUNTIF($AC$15:AC312,AC312)>1,0,1)","v":5},{"$f":"IF(ROWS(AF$15:AF312)>MAX(AF:AF),\"\",INDEX(AC:AC,MATCH(ROWS(AF$15:AF312),AF:AF,0)))","v":""},{"$f":"IF(AD312=\"\",AH311,AH311+IF(COUNTIF($AD$15:AD312,AD312)>1,0,1))","v":0},{"$f":"IF(ROWS($AH$15:AH312)>MAX(AH:AH),\"\",INDEX(AD:AD,MATCH(ROWS($AH$15:AH312),AH:AH,0)))","v":""}]
[null,null,null,null,null,null,null,null,null,null,null,null,null,null,null,null,60,null,null,null,0,{"$f":"IF(OR(ISBLANK(RHP),ISBLANK(TPI)),0,1)","v":0},0,null,null,null,null,299,5,"","",{"$f":"AF312+IF(COUNTIF($AC$15:AC313,AC313)>1,0,1)","v":5},{"$f":"IF(ROWS(AF$15:AF313)>MAX(AF:AF),\"\",INDEX(AC:AC,MATCH(ROWS(AF$15:AF313),AF:AF,0)))","v":""},{"$f":"IF(AD313=\"\",AH312,AH312+IF(COUNTIF($AD$15:AD313,AD313)>1,0,1))","v":0},{"$f":"IF(ROWS($AH$15:AH313)>MAX(AH:AH),\"\",INDEX(AD:AD,MATCH(ROWS($AH$15:AH313),AH:AH,0)))","v":""}]
[null,null,null,null,null,null,null,null,null,null,null,null,null,null,null,null,null,null,null,null,null,null,null,null,null,null,null,300,5,"","",{"$f":"AF313+IF(COUNTIF($AC$15:AC314,AC314)>1,0,1)","v":5},{"$f":"IF(ROWS(AF$15:AF314)>MAX(AF:AF),\"\",INDEX(AC:AC,MATCH(ROWS(AF$15:AF314),AF:AF,0)))","v":""},{"$f":"IF(AD314=\"\",AH313,AH313+IF(COUNTIF($AD$15:AD314,AD314)>1,0,1))","v":0},{"$f":"IF(ROWS($AH$15:AH314)>MAX(AH:AH),\"\",INDEX(AD:AD,MATCH(ROWS($AH$15:AH314),AH:AH,0)))","v":""}]
[null,null,null,null,null,null,null,null,null,null,null,null,null,null,null,null,null,null,null,null,null,null,null,null,null,null,null,301,5,"","",{"$f":"AF314+IF(COUNTIF($AC$15:AC315,AC315)>1,0,1)","v":5},{"$f":"IF(ROWS(AF$15:AF315)>MAX(AF:AF),\"\",INDEX(AC:AC,MATCH(ROWS(AF$15:AF315),AF:AF,0)))","v":""},{"$f":"IF(AD315=\"\",AH314,AH314+IF(COUNTIF($AD$15:AD315,AD315)>1,0,1))","v":0},{"$f":"IF(ROWS($AH$15:AH315)>MAX(AH:AH),\"\",INDEX(AD:AD,MATCH(ROWS($AH$15:AH315),AH:AH,0)))","v":""}]
[null,null,null,null,null,null,null,null,null,null,null,null,null,null,null,null,null,null,null,null,null,null,null,null,null,null,null,302,5,"","",{"$f":"AF315+IF(COUNTIF($AC$15:AC316,AC316)>1,0,1)","v":5},{"$f":"IF(ROWS(AF$15:AF316)>MAX(AF:AF),\"\",INDEX(AC:AC,MATCH(ROWS(AF$15:AF316),AF:AF,0)))","v":""},{"$f":"IF(AD316=\"\",AH315,AH315+IF(COUNTIF($AD$15:AD316,AD316)>1,0,1))","v":0},{"$f":"IF(ROWS($AH$15:AH316)>MAX(AH:AH),\"\",INDEX(AD:AD,MATCH(ROWS($AH$15:AH316),AH:AH,0)))","v":""}]
[null,null,null,null,null,null,null,null,null,null,null,null,null,null,null,null,null,null,null,null,null,null,null,null,null,null,null,303,5,"","",{"$f":"AF316+IF(COUNTIF($AC$15:AC317,AC317)>1,0,1)","v":5},{"$f":"IF(ROWS(AF$15:AF317)>MAX(AF:AF),\"\",INDEX(AC:AC,MATCH(ROWS(AF$15:AF317),AF:AF,0)))","v":""},{"$f":"IF(AD317=\"\",AH316,AH316+IF(COUNTIF($AD$15:AD317,AD317)>1,0,1))","v":0},{"$f":"IF(ROWS($AH$15:AH317)>MAX(AH:AH),\"\",INDEX(AD:AD,MATCH(ROWS($AH$15:AH317),AH:AH,0)))","v":""}]
[null,null,null,null,null,null,null,null,null,null,null,null,null,null,null,null,null,null,null,null,null,null,null,null,null,null,null,304,5,"","",{"$f":"AF317+IF(COUNTIF($AC$15:AC318,AC318)>1,0,1)","v":5},{"$f":"IF(ROWS(AF$15:AF318)>MAX(AF:AF),\"\",INDEX(AC:AC,MATCH(ROWS(AF$15:AF318),AF:AF,0)))","v":""},{"$f":"IF(AD318=\"\",AH317,AH317+IF(COUNTIF($AD$15:AD318,AD318)>1,0,1))","v":0},{"$f":"IF(ROWS($AH$15:AH318)>MAX(AH:AH),\"\",INDEX(AD:AD,MATCH(ROWS($AH$15:AH318),AH:AH,0)))","v":""}]
[null,null,null,null,null,null,null,null,null,null,null,null,null,null,null,null,null,null,null,null,null,null,null,null,null,null,null,305,6,"","",{"$f":"AF318+IF(COUNTIF($AC$15:AC319,AC319)>1,0,1)","v":6},{"$f":"IF(ROWS(AF$15:AF319)>MAX(AF:AF),\"\",INDEX(AC:AC,MATCH(ROWS(AF$15:AF319),AF:AF,0)))","v":""},{"$f":"IF(AD319=\"\",AH318,AH318+IF(COUNTIF($AD$15:AD319,AD319)>1,0,1))","v":0},{"$f":"IF(ROWS($AH$15:AH319)>MAX(AH:AH),\"\",INDEX(AD:AD,MATCH(ROWS($AH$15:AH319),AH:AH,0)))","v":""}]
[null,null,null,null,null,null,null,null,null,null,null,null,null,null,null,null,null,null,null,null,null,null,null,null,null,null,null,306,6,"","",{"$f":"AF319+IF(COUNTIF($AC$15:AC320,AC320)>1,0,1)","v":6},{"$f":"IF(ROWS(AF$15:AF320)>MAX(AF:AF),\"\",INDEX(AC:AC,MATCH(ROWS(AF$15:AF320),AF:AF,0)))","v":""},{"$f":"IF(AD320=\"\",AH319,AH319+IF(COUNTIF($AD$15:AD320,AD320)>1,0,1))","v":0},{"$f":"IF(ROWS($AH$15:AH320)>MAX(AH:AH),\"\",INDEX(AD:AD,MATCH(ROWS($AH$15:AH320),AH:AH,0)))","v":""}]
[null,null,null,null,null,null,null,null,null,null,null,null,null,null,null,null,null,null,null,null,null,null,null,null,null,null,null,307,6,"","",{"$f":"AF320+IF(COUNTIF($AC$15:AC321,AC321)>1,0,1)","v":6},{"$f":"IF(ROWS(AF$15:AF321)>MAX(AF:AF),\"\",INDEX(AC:AC,MATCH(ROWS(AF$15:AF321),AF:AF,0)))","v":""},{"$f":"IF(AD321=\"\",AH320,AH320+IF(COUNTIF($AD$15:AD321,AD321)>1,0,1))","v":0},{"$f":"IF(ROWS($AH$15:AH321)>MAX(AH:AH),\"\",INDEX(AD:AD,MATCH(ROWS($AH$15:AH321),AH:AH,0)))","v":""}]
[null,null,null,null,null,null,null,null,null,null,null,null,null,null,null,null,null,null,null,null,null,null,null,null,null,null,null,308,6,"","",{"$f":"AF321+IF(COUNTIF($AC$15:AC322,AC322)>1,0,1)","v":6},{"$f":"IF(ROWS(AF$15:AF322)>MAX(AF:AF),\"\",INDEX(AC:AC,MATCH(ROWS(AF$15:AF322),AF:AF,0)))","v":""},{"$f":"IF(AD322=\"\",AH321,AH321+IF(COUNTIF($AD$15:AD322,AD322)>1,0,1))","v":0},{"$f":"IF(ROWS($AH$15:AH322)>MAX(AH:AH),\"\",INDEX(AD:AD,MATCH(ROWS($AH$15:AH322),AH:AH,0)))","v":""}]
[null,null,null,null,null,null,null,null,null,null,null,null,null,null,null,null,null,null,null,null,null,null,null,null,null,null,null,309,6,"","",{"$f":"AF322+IF(COUNTIF($AC$15:AC323,AC323)>1,0,1)","v":6},{"$f":"IF(ROWS(AF$15:AF323)>MAX(AF:AF),\"\",INDEX(AC:AC,MATCH(ROWS(AF$15:AF323),AF:AF,0)))","v":""},{"$f":"IF(AD323=\"\",AH322,AH322+IF(COUNTIF($AD$15:AD323,AD323)>1,0,1))","v":0},{"$f":"IF(ROWS($AH$15:AH323)>MAX(AH:AH),\"\",INDEX(AD:AD,MATCH(ROWS($AH$15:AH323),AH:AH,0)))","v":""}]
[null,null,null,null,null,null,null,null,null,null,null,null,null,null,null,null,null,null,null,null,null,null,null,null,null,null,null,310,6,"","",{"$f":"AF323+IF(COUNTIF($AC$15:AC324,AC324)>1,0,1)","v":6},{"$f":"IF(ROWS(AF$15:AF324)>MAX(AF:AF),\"\",INDEX(AC:AC,MATCH(ROWS(AF$15:AF324),AF:AF,0)))","v":""},{"$f":"IF(AD324=\"\",AH323,AH323+IF(COUNTIF($AD$15:AD324,AD324)>1,0,1))","v":0},{"$f":"IF(ROWS($AH$15:AH324)>MAX(AH:AH),\"\",INDEX(AD:AD,MATCH(ROWS($AH$15:AH324),AH:AH,0)))","v":""}]
[null,null,null,null,null,null,null,null,null,null,null,null,null,null,null,null,null,null,null,null,null,null,null,null,null,null,null,311,6,"","",{"$f":"AF324+IF(COUNTIF($AC$15:AC325,AC325)>1,0,1)","v":6},{"$f":"IF(ROWS(AF$15:AF325)>MAX(AF:AF),\"\",INDEX(AC:AC,MATCH(ROWS(AF$15:AF325),AF:AF,0)))","v":""},{"$f":"IF(AD325=\"\",AH324,AH324+IF(COUNTIF($AD$15:AD325,AD325)>1,0,1))","v":0},{"$f":"IF(ROWS($AH$15:AH325)>MAX(AH:AH),\"\",INDEX(AD:AD,MATCH(ROWS($AH$15:AH325),AH:AH,0)))","v":""}]
[null,null,null,null,null,null,null,null,null,null,null,null,null,null,null,null,null,null,null,null,null,null,null,null,null,null,null,312,6,"","",{"$f":"AF325+IF(COUNTIF($AC$15:AC326,AC326)>1,0,1)","v":6},{"$f":"IF(ROWS(AF$15:AF326)>MAX(AF:AF),\"\",INDEX(AC:AC,MATCH(ROWS(AF$15:AF326),AF:AF,0)))","v":""},{"$f":"IF(AD326=\"\",AH325,AH325+IF(COUNTIF($AD$15:AD326,AD326)>1,0,1))","v":0},{"$f":"IF(ROWS($AH$15:AH326)>MAX(AH:AH),\"\",INDEX(AD:AD,MATCH(ROWS($AH$15:AH326),AH:AH,0)))","v":""}]
[null,null,null,null,null,null,null,null,null,null,null,null,null,null,null,null,null,null,null,null,null,null,null,null,null,null,null,313,6,"","",{"$f":"AF326+IF(COUNTIF($AC$15:AC327,AC327)>1,0,1)","v":6},{"$f":"IF(ROWS(AF$15:AF327)>MAX(AF:AF),\"\",INDEX(AC:AC,MATCH(ROWS(AF$15:AF327),AF:AF,0)))","v":""},{"$f":"IF(AD327=\"\",AH326,AH326+IF(COUNTIF($AD$15:AD327,AD327)>1,0,1))","v":0},{"$f":"IF(ROWS($AH$15:AH327)>MAX(AH:AH),\"\",INDEX(AD:AD,MATCH(ROWS($AH$15:AH327),AH:AH,0)))","v":""}]
[null,null,null,null,null,null,null,null,null,null,null,null,null,null,null,null,null,null,null,null,null,null,null,null,null,null,null,314,6,"","",{"$f":"AF327+IF(COUNTIF($AC$15:AC328,AC328)>1,0,1)","v":6},{"$f":"IF(ROWS(AF$15:AF328)>MAX(AF:AF),\"\",INDEX(AC:AC,MATCH(ROWS(AF$15:AF328),AF:AF,0)))","v":""},{"$f":"IF(AD328=\"\",AH327,AH327+IF(COUNTIF($AD$15:AD328,AD328)>1,0,1))","v":0},{"$f":"IF(ROWS($AH$15:AH328)>MAX(AH:AH),\"\",INDEX(AD:AD,MATCH(ROWS($AH$15:AH328),AH:AH,0)))","v":""}]
[null,null,null,null,null,null,null,null,null,null,null,null,null,null,null,null,null,null,null,null,null,null,null,null,null,null,null,315,6,"","",{"$f":"AF328+IF(COUNTIF($AC$15:AC329,AC329)>1,0,1)","v":6},{"$f":"IF(ROWS(AF$15:AF329)>MAX(AF:AF),\"\",INDEX(AC:AC,MATCH(ROWS(AF$15:AF329),AF:AF,0)))","v":""},{"$f":"IF(AD329=\"\",AH328,AH328+IF(COUNTIF($AD$15:AD329,AD329)>1,0,1))","v":0},{"$f":"IF(ROWS($AH$15:AH329)>MAX(AH:AH),\"\",INDEX(AD:AD,MATCH(ROWS($AH$15:AH329),AH:AH,0)))","v":""}]
[null,null,null,null,null,null,null,null,null,null,null,null,null,null,null,null,null,null,null,null,null,null,null,null,null,null,null,316,6,"","",{"$f":"AF329+IF(COUNTIF($AC$15:AC330,AC330)>1,0,1)","v":6},{"$f":"IF(ROWS(AF$15:AF330)>MAX(AF:AF),\"\",INDEX(AC:AC,MATCH(ROWS(AF$15:AF330),AF:AF,0)))","v":""},{"$f":"IF(AD330=\"\",AH329,AH329+IF(COUNTIF($AD$15:AD330,AD330)>1,0,1))","v":0},{"$f":"IF(ROWS($AH$15:AH330)>MAX(AH:AH),\"\",INDEX(AD:AD,MATCH(ROWS($AH$15:AH330),AH:AH,0)))","v":""}]
[null,null,null,null,null,null,null,null,null,null,null,null,null,null,null,null,null,null,null,null,null,null,null,null,null,null,null,317,6,"","",{"$f":"AF330+IF(COUNTIF($AC$15:AC331,AC331)>1,0,1)","v":6},{"$f":"IF(ROWS(AF$15:AF331)>MAX(AF:AF),\"\",INDEX(AC:AC,MATCH(ROWS(AF$15:AF331),AF:AF,0)))","v":""},{"$f":"IF(AD331=\"\",AH330,AH330+IF(COUNTIF($AD$15:AD331,AD331)>1,0,1))","v":0},{"$f":"IF(ROWS($AH$15:AH331)>MAX(AH:AH),\"\",INDEX(AD:AD,MATCH(ROWS($AH$15:AH331),AH:AH,0)))","v":""}]
[null,null,null,null,null,null,null,null,null,null,null,null,null,null,null,null,null,null,null,null,null,null,null,null,null,null,null,318,6,"","",{"$f":"AF331+IF(COUNTIF($AC$15:AC332,AC332)>1,0,1)","v":6},{"$f":"IF(ROWS(AF$15:AF332)>MAX(AF:AF),\"\",INDEX(AC:AC,MATCH(ROWS(AF$15:AF332),AF:AF,0)))","v":""},{"$f":"IF(AD332=\"\",AH331,AH331+IF(COUNTIF($AD$15:AD332,AD332)>1,0,1))","v":0},{"$f":"IF(ROWS($AH$15:AH332)>MAX(AH:AH),\"\",INDEX(AD:AD,MATCH(ROWS($AH$15:AH332),AH:AH,0)))","v":""}]
[null,null,null,null,null,null,null,null,null,null,null,null,null,null,null,null,null,null,null,null,null,null,null,null,null,null,null,319,6,"","",{"$f":"AF332+IF(COUNTIF($AC$15:AC333,AC333)>1,0,1)","v":6},{"$f":"IF(ROWS(AF$15:AF333)>MAX(AF:AF),\"\",INDEX(AC:AC,MATCH(ROWS(AF$15:AF333),AF:AF,0)))","v":""},{"$f":"IF(AD333=\"\",AH332,AH332+IF(COUNTIF($AD$15:AD333,AD333)>1,0,1))","v":0},{"$f":"IF(ROWS($AH$15:AH333)>MAX(AH:AH),\"\",INDEX(AD:AD,MATCH(ROWS($AH$15:AH333),AH:AH,0)))","v":""}]
[null,null,null,null,null,null,null,null,null,null,null,null,null,null,null,null,null,null,null,null,null,null,null,null,null,null,null,320,6,"","",{"$f":"AF333+IF(COUNTIF($AC$15:AC334,AC334)>1,0,1)","v":6},{"$f":"IF(ROWS(AF$15:AF334)>MAX(AF:AF),\"\",INDEX(AC:AC,MATCH(ROWS(AF$15:AF334),AF:AF,0)))","v":""},{"$f":"IF(AD334=\"\",AH333,AH333+IF(COUNTIF($AD$15:AD334,AD334)>1,0,1))","v":0},{"$f":"IF(ROWS($AH$15:AH334)>MAX(AH:AH),\"\",INDEX(AD:AD,MATCH(ROWS($AH$15:AH334),AH:AH,0)))","v":""}]
[null,null,null,null,null,null,null,null,null,null,null,null,null,null,null,null,null,null,null,null,null,null,null,null,null,null,null,321,6,"","",{"$f":"AF334+IF(COUNTIF($AC$15:AC335,AC335)>1,0,1)","v":6},{"$f":"IF(ROWS(AF$15:AF335)>MAX(AF:AF),\"\",INDEX(AC:AC,MATCH(ROWS(AF$15:AF335),AF:AF,0)))","v":""},{"$f":"IF(AD335=\"\",AH334,AH334+IF(COUNTIF($AD$15:AD335,AD335)>1,0,1))","v":0},{"$f":"IF(ROWS($AH$15:AH335)>MAX(AH:AH),\"\",INDEX(AD:AD,MATCH(ROWS($AH$15:AH335),AH:AH,0)))","v":""}]
[null,null,null,null,null,null,null,null,null,null,null,null,null,null,null,null,null,null,null,null,null,null,null,null,null,null,null,322,{"$f":"IF(INDIRECT($AC$1&\"D\"&$AB336+1)=\"\",\"\",INDIRECT($AC$1&\"D\"&$AB336+1))","v":6},{"$f":"IF(AC336=\"\",\"\",IF($E$16=AC336,INDIRECT($AC$1&\"E\"&$AB336+1),\"\"))","v":""},{"$f":"IF(ISBLANK($E$17),\"\",IF($E$17<>AD336,\"\",IF(INDIRECT($AC$1&\"U\"&$AB336+1)=\"Yes\",INDIRECT($AC$1&\"I\"&$AB336+1),\"\")))","v":""},{"$f":"AF335+IF(COUNTIF($AC$15:AC336,AC336)>1,0,1)","v":6},{"$f":"IF(ROWS(AF$15:AF336)>MAX(AF:AF),\"\",INDEX(AC:AC,MATCH(ROWS(AF$15:AF336),AF:AF,0)))","v":""},{"$f":"IF(AD336=\"\",AH335,AH335+IF(COUNTIF($AD$15:AD336,AD336)>1,0,1))","v":0},{"$f":"IF(ROWS($AH$15:AH336)>MAX(AH:AH),\"\",INDEX(AD:AD,MATCH(ROWS($AH$15:AH336),AH:AH,0)))","v":""}]
[null,null,null,null,null,null,null,null,null,null,null,null,null,null,null,null,null,null,null,null,null,null,null,null,null,null,null,{"$f":"AB336+1","v":323},6,"","",{"$f":"AF336+IF(COUNTIF($AC$15:AC337,AC337)>1,0,1)","v":6},{"$f":"IF(ROWS(AF$15:AF337)>MAX(AF:AF),\"\",INDEX(AC:AC,MATCH(ROWS(AF$15:AF337),AF:AF,0)))","v":""},{"$f":"IF(AD337=\"\",AH336,AH336+IF(COUNTIF($AD$15:AD337,AD337)>1,0,1))","v":0},{"$f":"IF(ROWS($AH$15:AH337)>MAX(AH:AH),\"\",INDEX(AD:AD,MATCH(ROWS($AH$15:AH337),AH:AH,0)))","v":""}]
[null,null,null,null,null,null,null,null,null,null,null,null,null,null,null,null,null,null,null,null,null,null,null,null,null,null,null,324,6,"","",{"$f":"AF337+IF(COUNTIF($AC$15:AC338,AC338)>1,0,1)","v":6},{"$f":"IF(ROWS(AF$15:AF338)>MAX(AF:AF),\"\",INDEX(AC:AC,MATCH(ROWS(AF$15:AF338),AF:AF,0)))","v":""},{"$f":"IF(AD338=\"\",AH337,AH337+IF(COUNTIF($AD$15:AD338,AD338)>1,0,1))","v":0},{"$f":"IF(ROWS($AH$15:AH338)>MAX(AH:AH),\"\",INDEX(AD:AD,MATCH(ROWS($AH$15:AH338),AH:AH,0)))","v":""}]
[null,null,null,null,null,null,null,null,null,null,null,null,null,null,null,null,null,null,null,null,null,null,null,null,null,null,null,325,6,"","",{"$f":"AF338+IF(COUNTIF($AC$15:AC339,AC339)>1,0,1)","v":6},{"$f":"IF(ROWS(AF$15:AF339)>MAX(AF:AF),\"\",INDEX(AC:AC,MATCH(ROWS(AF$15:AF339),AF:AF,0)))","v":""},{"$f":"IF(AD339=\"\",AH338,AH338+IF(COUNTIF($AD$15:AD339,AD339)>1,0,1))","v":0},{"$f":"IF(ROWS($AH$15:AH339)>MAX(AH:AH),\"\",INDEX(AD:AD,MATCH(ROWS($AH$15:AH339),AH:AH,0)))","v":""}]
[null,null,null,null,null,null,null,null,null,null,null,null,null,null,null,null,null,null,null,null,null,null,null,null,null,null,null,326,6,"","",{"$f":"AF339+IF(COUNTIF($AC$15:AC340,AC340)>1,0,1)","v":6},{"$f":"IF(ROWS(AF$15:AF340)>MAX(AF:AF),\"\",INDEX(AC:AC,MATCH(ROWS(AF$15:AF340),AF:AF,0)))","v":""},{"$f":"IF(AD340=\"\",AH339,AH339+IF(COUNTIF($AD$15:AD340,AD340)>1,0,1))","v":0},{"$f":"IF(ROWS($AH$15:AH340)>MAX(AH:AH),\"\",INDEX(AD:AD,MATCH(ROWS($AH$15:AH340),AH:AH,0)))","v":""}]
[null,null,null,null,null,null,null,null,null,null,null,null,null,null,null,null,null,null,null,null,null,null,null,null,null,null,null,327,6,"","",{"$f":"AF340+IF(COUNTIF($AC$15:AC341,AC341)>1,0,1)","v":6},{"$f":"IF(ROWS(AF$15:AF341)>MAX(AF:AF),\"\",INDEX(AC:AC,MATCH(ROWS(AF$15:AF341),AF:AF,0)))","v":""},{"$f":"IF(AD341=\"\",AH340,AH340+IF(COUNTIF($AD$15:AD341,AD341)>1,0,1))","v":0},{"$f":"IF(ROWS($AH$15:AH341)>MAX(AH:AH),\"\",INDEX(AD:AD,MATCH(ROWS($AH$15:AH341),AH:AH,0)))","v":""}]
[null,null,null,null,null,null,null,null,null,null,null,null,null,null,null,null,null,null,null,null,null,null,null,null,null,null,null,328,6,"","",{"$f":"AF341+IF(COUNTIF($AC$15:AC342,AC342)>1,0,1)","v":6},{"$f":"IF(ROWS(AF$15:AF342)>MAX(AF:AF),\"\",INDEX(AC:AC,MATCH(ROWS(AF$15:AF342),AF:AF,0)))","v":""},{"$f":"IF(AD342=\"\",AH341,AH341+IF(COUNTIF($AD$15:AD342,AD342)>1,0,1))","v":0},{"$f":"IF(ROWS($AH$15:AH342)>MAX(AH:AH),\"\",INDEX(AD:AD,MATCH(ROWS($AH$15:AH342),AH:AH,0)))","v":""}]
[null,null,null,null,null,null,null,null,null,null,null,null,null,null,null,null,null,null,null,null,null,null,null,null,null,null,null,329,6,"","",{"$f":"AF342+IF(COUNTIF($AC$15:AC343,AC343)>1,0,1)","v":6},{"$f":"IF(ROWS(AF$15:AF343)>MAX(AF:AF),\"\",INDEX(AC:AC,MATCH(ROWS(AF$15:AF343),AF:AF,0)))","v":""},{"$f":"IF(AD343=\"\",AH342,AH342+IF(COUNTIF($AD$15:AD343,AD343)>1,0,1))","v":0},{"$f":"IF(ROWS($AH$15:AH343)>MAX(AH:AH),\"\",INDEX(AD:AD,MATCH(ROWS($AH$15:AH343),AH:AH,0)))","v":""}]
[null,null,null,null,null,null,null,null,null,null,null,null,null,null,null,null,null,null,null,null,null,null,null,null,null,null,null,330,6,"","",{"$f":"AF343+IF(COUNTIF($AC$15:AC344,AC344)>1,0,1)","v":6},{"$f":"IF(ROWS(AF$15:AF344)>MAX(AF:AF),\"\",INDEX(AC:AC,MATCH(ROWS(AF$15:AF344),AF:AF,0)))","v":""},{"$f":"IF(AD344=\"\",AH343,AH343+IF(COUNTIF($AD$15:AD344,AD344)>1,0,1))","v":0},{"$f":"IF(ROWS($AH$15:AH344)>MAX(AH:AH),\"\",INDEX(AD:AD,MATCH(ROWS($AH$15:AH344),AH:AH,0)))","v":""}]
[null,null,null,null,null,null,null,null,null,null,null,null,null,null,null,null,null,null,null,null,null,null,null,null,null,null,null,331,6,"","",{"$f":"AF344+IF(COUNTIF($AC$15:AC345,AC345)>1,0,1)","v":6},{"$f":"IF(ROWS(AF$15:AF345)>MAX(AF:AF),\"\",INDEX(AC:AC,MATCH(ROWS(AF$15:AF345),AF:AF,0)))","v":""},{"$f":"IF(AD345=\"\",AH344,AH344+IF(COUNTIF($AD$15:AD345,AD345)>1,0,1))","v":0},{"$f":"IF(ROWS($AH$15:AH345)>MAX(AH:AH),\"\",INDEX(AD:AD,MATCH(ROWS($AH$15:AH345),AH:AH,0)))","v":""}]
[null,null,null,null,null,null,null,null,null,null,null,null,null,null,null,null,null,null,null,null,null,null,null,null,null,null,null,332,6,"","",{"$f":"AF345+IF(COUNTIF($AC$15:AC346,AC346)>1,0,1)","v":6},{"$f":"IF(ROWS(AF$15:AF346)>MAX(AF:AF),\"\",INDEX(AC:AC,MATCH(ROWS(AF$15:AF346),AF:AF,0)))","v":""},{"$f":"IF(AD346=\"\",AH345,AH345+IF(COUNTIF($AD$15:AD346,AD346)>1,0,1))","v":0},{"$f":"IF(ROWS($AH$15:AH346)>MAX(AH:AH),\"\",INDEX(AD:AD,MATCH(ROWS($AH$15:AH346),AH:AH,0)))","v":""}]
[null,null,null,null,null,null,null,null,null,null,null,null,null,null,null,null,null,null,null,null,null,null,null,null,null,null,null,333,6,"","",{"$f":"AF346+IF(COUNTIF($AC$15:AC347,AC347)>1,0,1)","v":6},{"$f":"IF(ROWS(AF$15:AF347)>MAX(AF:AF),\"\",INDEX(AC:AC,MATCH(ROWS(AF$15:AF347),AF:AF,0)))","v":""},{"$f":"IF(AD347=\"\",AH346,AH346+IF(COUNTIF($AD$15:AD347,AD347)>1,0,1))","v":0},{"$f":"IF(ROWS($AH$15:AH347)>MAX(AH:AH),\"\",INDEX(AD:AD,MATCH(ROWS($AH$15:AH347),AH:AH,0)))","v":""}]
[null,null,null,null,null,null,null,null,null,null,null,null,null,null,null,null,null,null,null,null,null,null,null,null,null,null,null,334,6,"","",{"$f":"AF347+IF(COUNTIF($AC$15:AC348,AC348)>1,0,1)","v":6},{"$f":"IF(ROWS(AF$15:AF348)>MAX(AF:AF),\"\",INDEX(AC:AC,MATCH(ROWS(AF$15:AF348),AF:AF,0)))","v":""},{"$f":"IF(AD348=\"\",AH347,AH347+IF(COUNTIF($AD$15:AD348,AD348)>1,0,1))","v":0},{"$f":"IF(ROWS($AH$15:AH348)>MAX(AH:AH),\"\",INDEX(AD:AD,MATCH(ROWS($AH$15:AH348),AH:AH,0)))","v":""}]
[null,null,null,null,null,null,null,null,null,null,null,null,null,null,null,null,null,null,null,null,null,null,null,null,null,null,null,335,6,"","",{"$f":"AF348+IF(COUNTIF($AC$15:AC349,AC349)>1,0,1)","v":6},{"$f":"IF(ROWS(AF$15:AF349)>MAX(AF:AF),\"\",INDEX(AC:AC,MATCH(ROWS(AF$15:AF349),AF:AF,0)))","v":""},{"$f":"IF(AD349=\"\",AH348,AH348+IF(COUNTIF($AD$15:AD349,AD349)>1,0,1))","v":0},{"$f":"IF(ROWS($AH$15:AH349)>MAX(AH:AH),\"\",INDEX(AD:AD,MATCH(ROWS($AH$15:AH349),AH:AH,0)))","v":""}]
[null,null,null,null,null,null,null,null,null,null,null,null,null,null,null,null,null,null,null,null,null,null,null,null,null,null,null,336,6,"","",{"$f":"AF349+IF(COUNTIF($AC$15:AC350,AC350)>1,0,1)","v":6},{"$f":"IF(ROWS(AF$15:AF350)>MAX(AF:AF),\"\",INDEX(AC:AC,MATCH(ROWS(AF$15:AF350),AF:AF,0)))","v":""},{"$f":"IF(AD350=\"\",AH349,AH349+IF(COUNTIF($AD$15:AD350,AD350)>1,0,1))","v":0},{"$f":"IF(ROWS($AH$15:AH350)>MAX(AH:AH),\"\",INDEX(AD:AD,MATCH(ROWS($AH$15:AH350),AH:AH,0)))","v":""}]
[null,null,null,null,null,null,null,null,null,null,null,null,null,null,null,null,null,null,null,null,null,null,null,null,null,null,null,337,6,"","",{"$f":"AF350+IF(COUNTIF($AC$15:AC351,AC351)>1,0,1)","v":6},{"$f":"IF(ROWS(AF$15:AF351)>MAX(AF:AF),\"\",INDEX(AC:AC,MATCH(ROWS(AF$15:AF351),AF:AF,0)))","v":""},{"$f":"IF(AD351=\"\",AH350,AH350+IF(COUNTIF($AD$15:AD351,AD351)>1,0,1))","v":0},{"$f":"IF(ROWS($AH$15:AH351)>MAX(AH:AH),\"\",INDEX(AD:AD,MATCH(ROWS($AH$15:AH351),AH:AH,0)))","v":""}]
[null,null,null,null,null,null,null,null,null,null,null,null,null,null,null,null,null,null,null,null,null,null,null,null,null,null,null,338,6,"","",{"$f":"AF351+IF(COUNTIF($AC$15:AC352,AC352)>1,0,1)","v":6},{"$f":"IF(ROWS(AF$15:AF352)>MAX(AF:AF),\"\",INDEX(AC:AC,MATCH(ROWS(AF$15:AF352),AF:AF,0)))","v":""},{"$f":"IF(AD352=\"\",AH351,AH351+IF(COUNTIF($AD$15:AD352,AD352)>1,0,1))","v":0},{"$f":"IF(ROWS($AH$15:AH352)>MAX(AH:AH),\"\",INDEX(AD:AD,MATCH(ROWS($AH$15:AH352),AH:AH,0)))","v":""}]
[null,null,null,null,null,null,null,null,null,null,null,null,null,null,null,null,null,null,null,null,null,null,null,null,null,null,null,339,6,"","",{"$f":"AF352+IF(COUNTIF($AC$15:AC353,AC353)>1,0,1)","v":6},{"$f":"IF(ROWS(AF$15:AF353)>MAX(AF:AF),\"\",INDEX(AC:AC,MATCH(ROWS(AF$15:AF353),AF:AF,0)))","v":""},{"$f":"IF(AD353=\"\",AH352,AH352+IF(COUNTIF($AD$15:AD353,AD353)>1,0,1))","v":0},{"$f":"IF(ROWS($AH$15:AH353)>MAX(AH:AH),\"\",INDEX(AD:AD,MATCH(ROWS($AH$15:AH353),AH:AH,0)))","v":""}]
[null,null,null,null,null,null,null,null,null,null,null,null,null,null,null,null,null,null,null,null,null,null,null,null,null,null,null,340,6,"","",{"$f":"AF353+IF(COUNTIF($AC$15:AC354,AC354)>1,0,1)","v":6},{"$f":"IF(ROWS(AF$15:AF354)>MAX(AF:AF),\"\",INDEX(AC:AC,MATCH(ROWS(AF$15:AF354),AF:AF,0)))","v":""},{"$f":"IF(AD354=\"\",AH353,AH353+IF(COUNTIF($AD$15:AD354,AD354)>1,0,1))","v":0},{"$f":"IF(ROWS($AH$15:AH354)>MAX(AH:AH),\"\",INDEX(AD:AD,MATCH(ROWS($AH$15:AH354),AH:AH,0)))","v":""}]
[null,null,null,null,null,null,null,null,null,null,null,null,null,null,null,null,null,null,null,null,null,null,null,null,null,null,null,341,6,"","",{"$f":"AF354+IF(COUNTIF($AC$15:AC355,AC355)>1,0,1)","v":6},{"$f":"IF(ROWS(AF$15:AF355)>MAX(AF:AF),\"\",INDEX(AC:AC,MATCH(ROWS(AF$15:AF355),AF:AF,0)))","v":""},{"$f":"IF(AD355=\"\",AH354,AH354+IF(COUNTIF($AD$15:AD355,AD355)>1,0,1))","v":0},{"$f":"IF(ROWS($AH$15:AH355)>MAX(AH:AH),\"\",INDEX(AD:AD,MATCH(ROWS($AH$15:AH355),AH:AH,0)))","v":""}]
[null,null,null,null,null,null,null,null,null,null,null,null,null,null,null,null,null,null,null,null,null,null,null,null,null,null,null,342,6,"","",{"$f":"AF355+IF(COUNTIF($AC$15:AC356,AC356)>1,0,1)","v":6},{"$f":"IF(ROWS(AF$15:AF356)>MAX(AF:AF),\"\",INDEX(AC:AC,MATCH(ROWS(AF$15:AF356),AF:AF,0)))","v":""},{"$f":"IF(AD356=\"\",AH355,AH355+IF(COUNTIF($AD$15:AD356,AD356)>1,0,1))","v":0},{"$f":"IF(ROWS($AH$15:AH356)>MAX(AH:AH),\"\",INDEX(AD:AD,MATCH(ROWS($AH$15:AH356),AH:AH,0)))","v":""}]
[null,null,null,null,null,null,null,null,null,null,null,null,null,null,null,null,null,null,null,null,null,null,null,null,null,null,null,343,6,"","",{"$f":"AF356+IF(COUNTIF($AC$15:AC357,AC357)>1,0,1)","v":6},{"$f":"IF(ROWS(AF$15:AF357)>MAX(AF:AF),\"\",INDEX(AC:AC,MATCH(ROWS(AF$15:AF357),AF:AF,0)))","v":""},{"$f":"IF(AD357=\"\",AH356,AH356+IF(COUNTIF($AD$15:AD357,AD357)>1,0,1))","v":0},{"$f":"IF(ROWS($AH$15:AH357)>MAX(AH:AH),\"\",INDEX(AD:AD,MATCH(ROWS($AH$15:AH357),AH:AH,0)))","v":""}]
[null,null,null,null,null,null,null,null,null,null,null,null,null,null,null,null,null,null,null,null,null,null,null,null,null,null,null,344,6,"","",{"$f":"AF357+IF(COUNTIF($AC$15:AC358,AC358)>1,0,1)","v":6},{"$f":"IF(ROWS(AF$15:AF358)>MAX(AF:AF),\"\",INDEX(AC:AC,MATCH(ROWS(AF$15:AF358),AF:AF,0)))","v":""},{"$f":"IF(AD358=\"\",AH357,AH357+IF(COUNTIF($AD$15:AD358,AD358)>1,0,1))","v":0},{"$f":"IF(ROWS($AH$15:AH358)>MAX(AH:AH),\"\",INDEX(AD:AD,MATCH(ROWS($AH$15:AH358),AH:AH,0)))","v":""}]
[null,null,null,null,null,null,null,null,null,null,null,null,null,null,null,null,null,null,null,null,null,null,null,null,null,null,null,345,6,"","",{"$f":"AF358+IF(COUNTIF($AC$15:AC359,AC359)>1,0,1)","v":6},{"$f":"IF(ROWS(AF$15:AF359)>MAX(AF:AF),\"\",INDEX(AC:AC,MATCH(ROWS(AF$15:AF359),AF:AF,0)))","v":""},{"$f":"IF(AD359=\"\",AH358,AH358+IF(COUNTIF($AD$15:AD359,AD359)>1,0,1))","v":0},{"$f":"IF(ROWS($AH$15:AH359)>MAX(AH:AH),\"\",INDEX(AD:AD,MATCH(ROWS($AH$15:AH359),AH:AH,0)))","v":""}]
[null,null,null,null,null,null,null,null,null,null,null,null,null,null,null,null,null,null,null,null,null,null,null,null,null,null,null,346,6,"","",{"$f":"AF359+IF(COUNTIF($AC$15:AC360,AC360)>1,0,1)","v":6},{"$f":"IF(ROWS(AF$15:AF360)>MAX(AF:AF),\"\",INDEX(AC:AC,MATCH(ROWS(AF$15:AF360),AF:AF,0)))","v":""},{"$f":"IF(AD360=\"\",AH359,AH359+IF(COUNTIF($AD$15:AD360,AD360)>1,0,1))","v":0},{"$f":"IF(ROWS($AH$15:AH360)>MAX(AH:AH),\"\",INDEX(AD:AD,MATCH(ROWS($AH$15:AH360),AH:AH,0)))","v":""}]
[null,null,null,null,null,null,null,null,null,null,null,null,null,null,null,null,null,null,null,null,null,null,null,null,null,null,null,347,6,"","",{"$f":"AF360+IF(COUNTIF($AC$15:AC361,AC361)>1,0,1)","v":6},{"$f":"IF(ROWS(AF$15:AF361)>MAX(AF:AF),\"\",INDEX(AC:AC,MATCH(ROWS(AF$15:AF361),AF:AF,0)))","v":""},{"$f":"IF(AD361=\"\",AH360,AH360+IF(COUNTIF($AD$15:AD361,AD361)>1,0,1))","v":0},{"$f":"IF(ROWS($AH$15:AH361)>MAX(AH:AH),\"\",INDEX(AD:AD,MATCH(ROWS($AH$15:AH361),AH:AH,0)))","v":""}]
[null,null,null,null,null,null,null,null,null,null,null,null,null,null,null,null,null,null,null,null,null,null,null,null,null,null,null,348,6,"","",{"$f":"AF361+IF(COUNTIF($AC$15:AC362,AC362)>1,0,1)","v":6},{"$f":"IF(ROWS(AF$15:AF362)>MAX(AF:AF),\"\",INDEX(AC:AC,MATCH(ROWS(AF$15:AF362),AF:AF,0)))","v":""},{"$f":"IF(AD362=\"\",AH361,AH361+IF(COUNTIF($AD$15:AD362,AD362)>1,0,1))","v":0},{"$f":"IF(ROWS($AH$15:AH362)>MAX(AH:AH),\"\",INDEX(AD:AD,MATCH(ROWS($AH$15:AH362),AH:AH,0)))","v":""}]
[null,null,null,null,null,null,null,null,null,null,null,null,null,null,null,null,null,null,null,null,null,null,null,null,null,null,null,349,6,"","",{"$f":"AF362+IF(COUNTIF($AC$15:AC363,AC363)>1,0,1)","v":6},{"$f":"IF(ROWS(AF$15:AF363)>MAX(AF:AF),\"\",INDEX(AC:AC,MATCH(ROWS(AF$15:AF363),AF:AF,0)))","v":""},{"$f":"IF(AD363=\"\",AH362,AH362+IF(COUNTIF($AD$15:AD363,AD363)>1,0,1))","v":0},{"$f":"IF(ROWS($AH$15:AH363)>MAX(AH:AH),\"\",INDEX(AD:AD,MATCH(ROWS($AH$15:AH363),AH:AH,0)))","v":""}]
[null,null,null,null,null,null,null,null,null,null,null,null,null,null,null,null,null,null,null,null,null,null,null,null,null,null,null,350,6,"","",{"$f":"AF363+IF(COUNTIF($AC$15:AC364,AC364)>1,0,1)","v":6},{"$f":"IF(ROWS(AF$15:AF364)>MAX(AF:AF),\"\",INDEX(AC:AC,MATCH(ROWS(AF$15:AF364),AF:AF,0)))","v":""},{"$f":"IF(AD364=\"\",AH363,AH363+IF(COUNTIF($AD$15:AD364,AD364)>1,0,1))","v":0},{"$f":"IF(ROWS($AH$15:AH364)>MAX(AH:AH),\"\",INDEX(AD:AD,MATCH(ROWS($AH$15:AH364),AH:AH,0)))","v":""}]
[null,null,null,null,null,null,null,null,null,null,null,null,null,null,null,null,null,null,null,null,null,null,null,null,null,null,null,351,6,"","",{"$f":"AF364+IF(COUNTIF($AC$15:AC365,AC365)>1,0,1)","v":6},{"$f":"IF(ROWS(AF$15:AF365)>MAX(AF:AF),\"\",INDEX(AC:AC,MATCH(ROWS(AF$15:AF365),AF:AF,0)))","v":""},{"$f":"IF(AD365=\"\",AH364,AH364+IF(COUNTIF($AD$15:AD365,AD365)>1,0,1))","v":0},{"$f":"IF(ROWS($AH$15:AH365)>MAX(AH:AH),\"\",INDEX(AD:AD,MATCH(ROWS($AH$15:AH365),AH:AH,0)))","v":""}]
[null,null,null,null,null,null,null,null,null,null,null,null,null,null,null,null,null,null,null,null,null,null,null,null,null,null,null,352,6,"","",{"$f":"AF365+IF(COUNTIF($AC$15:AC366,AC366)>1,0,1)","v":6},{"$f":"IF(ROWS(AF$15:AF366)>MAX(AF:AF),\"\",INDEX(AC:AC,MATCH(ROWS(AF$15:AF366),AF:AF,0)))","v":""},{"$f":"IF(AD366=\"\",AH365,AH365+IF(COUNTIF($AD$15:AD366,AD366)>1,0,1))","v":0},{"$f":"IF(ROWS($AH$15:AH366)>MAX(AH:AH),\"\",INDEX(AD:AD,MATCH(ROWS($AH$15:AH366),AH:AH,0)))","v":""}]
[null,null,null,null,null,null,null,null,null,null,null,null,null,null,null,null,null,null,null,null,null,null,null,null,null,null,null,353,6,"","",{"$f":"AF366+IF(COUNTIF($AC$15:AC367,AC367)>1,0,1)","v":6},{"$f":"IF(ROWS(AF$15:AF367)>MAX(AF:AF),\"\",INDEX(AC:AC,MATCH(ROWS(AF$15:AF367),AF:AF,0)))","v":""},{"$f":"IF(AD367=\"\",AH366,AH366+IF(COUNTIF($AD$15:AD367,AD367)>1,0,1))","v":0},{"$f":"IF(ROWS($AH$15:AH367)>MAX(AH:AH),\"\",INDEX(AD:AD,MATCH(ROWS($AH$15:AH367),AH:AH,0)))","v":""}]
[null,null,null,null,null,null,null,null,null,null,null,null,null,null,null,null,null,null,null,null,null,null,null,null,null,null,null,354,6,"","",{"$f":"AF367+IF(COUNTIF($AC$15:AC368,AC368)>1,0,1)","v":6},{"$f":"IF(ROWS(AF$15:AF368)>MAX(AF:AF),\"\",INDEX(AC:AC,MATCH(ROWS(AF$15:AF368),AF:AF,0)))","v":""},{"$f":"IF(AD368=\"\",AH367,AH367+IF(COUNTIF($AD$15:AD368,AD368)>1,0,1))","v":0},{"$f":"IF(ROWS($AH$15:AH368)>MAX(AH:AH),\"\",INDEX(AD:AD,MATCH(ROWS($AH$15:AH368),AH:AH,0)))","v":""}]
[null,null,null,null,null,null,null,null,null,null,null,null,null,null,null,null,null,null,null,null,null,null,null,null,null,null,null,355,6,"","",{"$f":"AF368+IF(COUNTIF($AC$15:AC369,AC369)>1,0,1)","v":6},{"$f":"IF(ROWS(AF$15:AF369)>MAX(AF:AF),\"\",INDEX(AC:AC,MATCH(ROWS(AF$15:AF369),AF:AF,0)))","v":""},{"$f":"IF(AD369=\"\",AH368,AH368+IF(COUNTIF($AD$15:AD369,AD369)>1,0,1))","v":0},{"$f":"IF(ROWS($AH$15:AH369)>MAX(AH:AH),\"\",INDEX(AD:AD,MATCH(ROWS($AH$15:AH369),AH:AH,0)))","v":""}]
[null,null,null,null,null,null,null,null,null,null,null,null,null,null,null,null,null,null,null,null,null,null,null,null,null,null,null,356,6,"","",{"$f":"AF369+IF(COUNTIF($AC$15:AC370,AC370)>1,0,1)","v":6},{"$f":"IF(ROWS(AF$15:AF370)>MAX(AF:AF),\"\",INDEX(AC:AC,MATCH(ROWS(AF$15:AF370),AF:AF,0)))","v":""},{"$f":"IF(AD370=\"\",AH369,AH369+IF(COUNTIF($AD$15:AD370,AD370)>1,0,1))","v":0},{"$f":"IF(ROWS($AH$15:AH370)>MAX(AH:AH),\"\",INDEX(AD:AD,MATCH(ROWS($AH$15:AH370),AH:AH,0)))","v":""}]
[null,null,null,null,null,null,null,null,null,null,null,null,null,null,null,null,null,null,null,null,null,null,null,null,null,null,null,357,6,"","",{"$f":"AF370+IF(COUNTIF($AC$15:AC371,AC371)>1,0,1)","v":6},{"$f":"IF(ROWS(AF$15:AF371)>MAX(AF:AF),\"\",INDEX(AC:AC,MATCH(ROWS(AF$15:AF371),AF:AF,0)))","v":""},{"$f":"IF(AD371=\"\",AH370,AH370+IF(COUNTIF($AD$15:AD371,AD371)>1,0,1))","v":0},{"$f":"IF(ROWS($AH$15:AH371)>MAX(AH:AH),\"\",INDEX(AD:AD,MATCH(ROWS($AH$15:AH371),AH:AH,0)))","v":""}]
[null,null,null,null,null,null,null,null,null,null,null,null,null,null,null,null,null,null,null,null,null,null,null,null,null,null,null,358,6,"","",{"$f":"AF371+IF(COUNTIF($AC$15:AC372,AC372)>1,0,1)","v":6},{"$f":"IF(ROWS(AF$15:AF372)>MAX(AF:AF),\"\",INDEX(AC:AC,MATCH(ROWS(AF$15:AF372),AF:AF,0)))","v":""},{"$f":"IF(AD372=\"\",AH371,AH371+IF(COUNTIF($AD$15:AD372,AD372)>1,0,1))","v":0},{"$f":"IF(ROWS($AH$15:AH372)>MAX(AH:AH),\"\",INDEX(AD:AD,MATCH(ROWS($AH$15:AH372),AH:AH,0)))","v":""}]
[null,null,null,null,null,null,null,null,null,null,null,null,null,null,null,null,null,null,null,null,null,null,null,null,null,null,null,359,6,"","",{"$f":"AF372+IF(COUNTIF($AC$15:AC373,AC373)>1,0,1)","v":6},{"$f":"IF(ROWS(AF$15:AF373)>MAX(AF:AF),\"\",INDEX(AC:AC,MATCH(ROWS(AF$15:AF373),AF:AF,0)))","v":""},{"$f":"IF(AD373=\"\",AH372,AH372+IF(COUNTIF($AD$15:AD373,AD373)>1,0,1))","v":0},{"$f":"IF(ROWS($AH$15:AH373)>MAX(AH:AH),\"\",INDEX(AD:AD,MATCH(ROWS($AH$15:AH373),AH:AH,0)))","v":""}]
[null,null,null,null,null,null,null,null,null,null,null,null,null,null,null,null,null,null,null,null,null,null,null,null,null,null,null,360,6,"","",{"$f":"AF373+IF(COUNTIF($AC$15:AC374,AC374)>1,0,1)","v":6},{"$f":"IF(ROWS(AF$15:AF374)>MAX(AF:AF),\"\",INDEX(AC:AC,MATCH(ROWS(AF$15:AF374),AF:AF,0)))","v":""},{"$f":"IF(AD374=\"\",AH373,AH373+IF(COUNTIF($AD$15:AD374,AD374)>1,0,1))","v":0},{"$f":"IF(ROWS($AH$15:AH374)>MAX(AH:AH),\"\",INDEX(AD:AD,MATCH(ROWS($AH$15:AH374),AH:AH,0)))","v":""}]
[null,null,null,null,null,null,null,null,null,null,null,null,null,null,null,null,null,null,null,null,null,null,null,null,null,null,null,361,6,"","",{"$f":"AF374+IF(COUNTIF($AC$15:AC375,AC375)>1,0,1)","v":6},{"$f":"IF(ROWS(AF$15:AF375)>MAX(AF:AF),\"\",INDEX(AC:AC,MATCH(ROWS(AF$15:AF375),AF:AF,0)))","v":""},{"$f":"IF(AD375=\"\",AH374,AH374+IF(COUNTIF($AD$15:AD375,AD375)>1,0,1))","v":0},{"$f":"IF(ROWS($AH$15:AH375)>MAX(AH:AH),\"\",INDEX(AD:AD,MATCH(ROWS($AH$15:AH375),AH:AH,0)))","v":""}]
[null,null,null,null,null,null,null,null,null,null,null,null,null,null,null,null,null,null,null,null,null,null,null,null,null,null,null,362,6,"","",{"$f":"AF375+IF(COUNTIF($AC$15:AC376,AC376)>1,0,1)","v":6},{"$f":"IF(ROWS(AF$15:AF376)>MAX(AF:AF),\"\",INDEX(AC:AC,MATCH(ROWS(AF$15:AF376),AF:AF,0)))","v":""},{"$f":"IF(AD376=\"\",AH375,AH375+IF(COUNTIF($AD$15:AD376,AD376)>1,0,1))","v":0},{"$f":"IF(ROWS($AH$15:AH376)>MAX(AH:AH),\"\",INDEX(AD:AD,MATCH(ROWS($AH$15:AH376),AH:AH,0)))","v":""}]
[null,null,null,null,null,null,null,null,null,null,null,null,null,null,null,null,null,null,null,null,null,null,null,null,null,null,null,363,6,"","",{"$f":"AF376+IF(COUNTIF($AC$15:AC377,AC377)>1,0,1)","v":6},{"$f":"IF(ROWS(AF$15:AF377)>MAX(AF:AF),\"\",INDEX(AC:AC,MATCH(ROWS(AF$15:AF377),AF:AF,0)))","v":""},{"$f":"IF(AD377=\"\",AH376,AH376+IF(COUNTIF($AD$15:AD377,AD377)>1,0,1))","v":0},{"$f":"IF(ROWS($AH$15:AH377)>MAX(AH:AH),\"\",INDEX(AD:AD,MATCH(ROWS($AH$15:AH377),AH:AH,0)))","v":""}]
[null,null,null,null,null,null,null,null,null,null,null,null,null,null,null,null,null,null,null,null,null,null,null,null,null,null,null,364,6,"","",{"$f":"AF377+IF(COUNTIF($AC$15:AC378,AC378)>1,0,1)","v":6},{"$f":"IF(ROWS(AF$15:AF378)>MAX(AF:AF),\"\",INDEX(AC:AC,MATCH(ROWS(AF$15:AF378),AF:AF,0)))","v":""},{"$f":"IF(AD378=\"\",AH377,AH377+IF(COUNTIF($AD$15:AD378,AD378)>1,0,1))","v":0},{"$f":"IF(ROWS($AH$15:AH378)>MAX(AH:AH),\"\",INDEX(AD:AD,MATCH(ROWS($AH$15:AH378),AH:AH,0)))","v":""}]
[null,null,null,null,null,null,null,null,null,null,null,null,null,null,null,null,null,null,null,null,null,null,null,null,null,null,null,365,6,"","",{"$f":"AF378+IF(COUNTIF($AC$15:AC379,AC379)>1,0,1)","v":6},{"$f":"IF(ROWS(AF$15:AF379)>MAX(AF:AF),\"\",INDEX(AC:AC,MATCH(ROWS(AF$15:AF379),AF:AF,0)))","v":""},{"$f":"IF(AD379=\"\",AH378,AH378+IF(COUNTIF($AD$15:AD379,AD379)>1,0,1))","v":0},{"$f":"IF(ROWS($AH$15:AH379)>MAX(AH:AH),\"\",INDEX(AD:AD,MATCH(ROWS($AH$15:AH379),AH:AH,0)))","v":""}]
[null,null,null,null,null,null,null,null,null,null,null,null,null,null,null,null,null,null,null,null,null,null,null,null,null,null,null,366,6,"","",{"$f":"AF379+IF(COUNTIF($AC$15:AC380,AC380)>1,0,1)","v":6},{"$f":"IF(ROWS(AF$15:AF380)>MAX(AF:AF),\"\",INDEX(AC:AC,MATCH(ROWS(AF$15:AF380),AF:AF,0)))","v":""},{"$f":"IF(AD380=\"\",AH379,AH379+IF(COUNTIF($AD$15:AD380,AD380)>1,0,1))","v":0},{"$f":"IF(ROWS($AH$15:AH380)>MAX(AH:AH),\"\",INDEX(AD:AD,MATCH(ROWS($AH$15:AH380),AH:AH,0)))","v":""}]
[null,null,null,null,null,null,null,null,null,null,null,null,null,null,null,null,null,null,null,null,null,null,null,null,null,null,null,367,6,"","",{"$f":"AF380+IF(COUNTIF($AC$15:AC381,AC381)>1,0,1)","v":6},{"$f":"IF(ROWS(AF$15:AF381)>MAX(AF:AF),\"\",INDEX(AC:AC,MATCH(ROWS(AF$15:AF381),AF:AF,0)))","v":""},{"$f":"IF(AD381=\"\",AH380,AH380+IF(COUNTIF($AD$15:AD381,AD381)>1,0,1))","v":0},{"$f":"IF(ROWS($AH$15:AH381)>MAX(AH:AH),\"\",INDEX(AD:AD,MATCH(ROWS($AH$15:AH381),AH:AH,0)))","v":""}]
[null,null,null,null,null,null,null,null,null,null,null,null,null,null,null,null,null,null,null,null,null,null,null,null,null,null,null,368,6,"","",{"$f":"AF381+IF(COUNTIF($AC$15:AC382,AC382)>1,0,1)","v":6},{"$f":"IF(ROWS(AF$15:AF382)>MAX(AF:AF),\"\",INDEX(AC:AC,MATCH(ROWS(AF$15:AF382),AF:AF,0)))","v":""},{"$f":"IF(AD382=\"\",AH381,AH381+IF(COUNTIF($AD$15:AD382,AD382)>1,0,1))","v":0},{"$f":"IF(ROWS($AH$15:AH382)>MAX(AH:AH),\"\",INDEX(AD:AD,MATCH(ROWS($AH$15:AH382),AH:AH,0)))","v":""}]
[null,null,null,null,null,null,null,null,null,null,null,null,null,null,null,null,null,null,null,null,null,null,null,null,null,null,null,369,6,"","",{"$f":"AF382+IF(COUNTIF($AC$15:AC383,AC383)>1,0,1)","v":6},{"$f":"IF(ROWS(AF$15:AF383)>MAX(AF:AF),\"\",INDEX(AC:AC,MATCH(ROWS(AF$15:AF383),AF:AF,0)))","v":""},{"$f":"IF(AD383=\"\",AH382,AH382+IF(COUNTIF($AD$15:AD383,AD383)>1,0,1))","v":0},{"$f":"IF(ROWS($AH$15:AH383)>MAX(AH:AH),\"\",INDEX(AD:AD,MATCH(ROWS($AH$15:AH383),AH:AH,0)))","v":""}]
[null,null,null,null,null,null,null,null,null,null,null,null,null,null,null,null,null,null,null,null,null,null,null,null,null,null,null,370,6,"","",{"$f":"AF383+IF(COUNTIF($AC$15:AC384,AC384)>1,0,1)","v":6},{"$f":"IF(ROWS(AF$15:AF384)>MAX(AF:AF),\"\",INDEX(AC:AC,MATCH(ROWS(AF$15:AF384),AF:AF,0)))","v":""},{"$f":"IF(AD384=\"\",AH383,AH383+IF(COUNTIF($AD$15:AD384,AD384)>1,0,1))","v":0},{"$f":"IF(ROWS($AH$15:AH384)>MAX(AH:AH),\"\",INDEX(AD:AD,MATCH(ROWS($AH$15:AH384),AH:AH,0)))","v":""}]
[null,null,null,null,null,null,null,null,null,null,null,null,null,null,null,null,null,null,null,null,null,null,null,null,null,null,null,371,6,"","",{"$f":"AF384+IF(COUNTIF($AC$15:AC385,AC385)>1,0,1)","v":6},{"$f":"IF(ROWS(AF$15:AF385)>MAX(AF:AF),\"\",INDEX(AC:AC,MATCH(ROWS(AF$15:AF385),AF:AF,0)))","v":""},{"$f":"IF(AD385=\"\",AH384,AH384+IF(COUNTIF($AD$15:AD385,AD385)>1,0,1))","v":0},{"$f":"IF(ROWS($AH$15:AH385)>MAX(AH:AH),\"\",INDEX(AD:AD,MATCH(ROWS($AH$15:AH385),AH:AH,0)))","v":""}]
[null,null,null,null,null,null,null,null,null,null,null,null,null,null,null,null,null,null,null,null,null,null,null,null,null,null,null,372,6,"","",{"$f":"AF385+IF(COUNTIF($AC$15:AC386,AC386)>1,0,1)","v":6},{"$f":"IF(ROWS(AF$15:AF386)>MAX(AF:AF),\"\",INDEX(AC:AC,MATCH(ROWS(AF$15:AF386),AF:AF,0)))","v":""},{"$f":"IF(AD386=\"\",AH385,AH385+IF(COUNTIF($AD$15:AD386,AD386)>1,0,1))","v":0},{"$f":"IF(ROWS($AH$15:AH386)>MAX(AH:AH),\"\",INDEX(AD:AD,MATCH(ROWS($AH$15:AH386),AH:AH,0)))","v":""}]
[null,null,null,null,null,null,null,null,null,null,null,null,null,null,null,null,null,null,null,null,null,null,null,null,null,null,null,373,6,"","",{"$f":"AF386+IF(COUNTIF($AC$15:AC387,AC387)>1,0,1)","v":6},{"$f":"IF(ROWS(AF$15:AF387)>MAX(AF:AF),\"\",INDEX(AC:AC,MATCH(ROWS(AF$15:AF387),AF:AF,0)))","v":""},{"$f":"IF(AD387=\"\",AH386,AH386+IF(COUNTIF($AD$15:AD387,AD387)>1,0,1))","v":0},{"$f":"IF(ROWS($AH$15:AH387)>MAX(AH:AH),\"\",INDEX(AD:AD,MATCH(ROWS($AH$15:AH387),AH:AH,0)))","v":""}]
[null,null,null,null,null,null,null,null,null,null,null,null,null,null,null,null,null,null,null,null,null,null,null,null,null,null,null,374,6,"","",{"$f":"AF387+IF(COUNTIF($AC$15:AC388,AC388)>1,0,1)","v":6},{"$f":"IF(ROWS(AF$15:AF388)>MAX(AF:AF),\"\",INDEX(AC:AC,MATCH(ROWS(AF$15:AF388),AF:AF,0)))","v":""},{"$f":"IF(AD388=\"\",AH387,AH387+IF(COUNTIF($AD$15:AD388,AD388)>1,0,1))","v":0},{"$f":"IF(ROWS($AH$15:AH388)>MAX(AH:AH),\"\",INDEX(AD:AD,MATCH(ROWS($AH$15:AH388),AH:AH,0)))","v":""}]
[null,null,null,null,null,null,null,null,null,null,null,null,null,null,null,null,null,null,null,null,null,null,null,null,null,null,null,375,6,"","",{"$f":"AF388+IF(COUNTIF($AC$15:AC389,AC389)>1,0,1)","v":6},{"$f":"IF(ROWS(AF$15:AF389)>MAX(AF:AF),\"\",INDEX(AC:AC,MATCH(ROWS(AF$15:AF389),AF:AF,0)))","v":""},{"$f":"IF(AD389=\"\",AH388,AH388+IF(COUNTIF($AD$15:AD389,AD389)>1,0,1))","v":0},{"$f":"IF(ROWS($AH$15:AH389)>MAX(AH:AH),\"\",INDEX(AD:AD,MATCH(ROWS($AH$15:AH389),AH:AH,0)))","v":""}]
[null,null,null,null,null,null,null,null,null,null,null,null,null,null,null,null,null,null,null,null,null,null,null,null,null,null,null,376,6,"","",{"$f":"AF389+IF(COUNTIF($AC$15:AC390,AC390)>1,0,1)","v":6},{"$f":"IF(ROWS(AF$15:AF390)>MAX(AF:AF),\"\",INDEX(AC:AC,MATCH(ROWS(AF$15:AF390),AF:AF,0)))","v":""},{"$f":"IF(AD390=\"\",AH389,AH389+IF(COUNTIF($AD$15:AD390,AD390)>1,0,1))","v":0},{"$f":"IF(ROWS($AH$15:AH390)>MAX(AH:AH),\"\",INDEX(AD:AD,MATCH(ROWS($AH$15:AH390),AH:AH,0)))","v":""}]
[null,null,null,null,null,null,null,null,null,null,null,null,null,null,null,null,null,null,null,null,null,null,null,null,null,null,null,377,7,"","",{"$f":"AF390+IF(COUNTIF($AC$15:AC391,AC391)>1,0,1)","v":7},{"$f":"IF(ROWS(AF$15:AF391)>MAX(AF:AF),\"\",INDEX(AC:AC,MATCH(ROWS(AF$15:AF391),AF:AF,0)))","v":""},{"$f":"IF(AD391=\"\",AH390,AH390+IF(COUNTIF($AD$15:AD391,AD391)>1,0,1))","v":0},{"$f":"IF(ROWS($AH$15:AH391)>MAX(AH:AH),\"\",INDEX(AD:AD,MATCH(ROWS($AH$15:AH391),AH:AH,0)))","v":""}]
[null,null,null,null,null,null,null,null,null,null,null,null,null,null,null,null,null,null,null,null,null,null,null,null,null,null,null,378,7,"","",{"$f":"AF391+IF(COUNTIF($AC$15:AC392,AC392)>1,0,1)","v":7},{"$f":"IF(ROWS(AF$15:AF392)>MAX(AF:AF),\"\",INDEX(AC:AC,MATCH(ROWS(AF$15:AF392),AF:AF,0)))","v":""},{"$f":"IF(AD392=\"\",AH391,AH391+IF(COUNTIF($AD$15:AD392,AD392)>1,0,1))","v":0},{"$f":"IF(ROWS($AH$15:AH392)>MAX(AH:AH),\"\",INDEX(AD:AD,MATCH(ROWS($AH$15:AH392),AH:AH,0)))","v":""}]
[null,null,null,null,null,null,null,null,null,null,null,null,null,null,null,null,null,null,null,null,null,null,null,null,null,null,null,379,7,"","",{"$f":"AF392+IF(COUNTIF($AC$15:AC393,AC393)>1,0,1)","v":7},{"$f":"IF(ROWS(AF$15:AF393)>MAX(AF:AF),\"\",INDEX(AC:AC,MATCH(ROWS(AF$15:AF393),AF:AF,0)))","v":""},{"$f":"IF(AD393=\"\",AH392,AH392+IF(COUNTIF($AD$15:AD393,AD393)>1,0,1))","v":0},{"$f":"IF(ROWS($AH$15:AH393)>MAX(AH:AH),\"\",INDEX(AD:AD,MATCH(ROWS($AH$15:AH393),AH:AH,0)))","v":""}]
[null,null,null,null,null,null,null,null,null,null,null,null,null,null,null,null,null,null,null,null,null,null,null,null,null,null,null,380,7,"","",{"$f":"AF393+IF(COUNTIF($AC$15:AC394,AC394)>1,0,1)","v":7},{"$f":"IF(ROWS(AF$15:AF394)>MAX(AF:AF),\"\",INDEX(AC:AC,MATCH(ROWS(AF$15:AF394),AF:AF,0)))","v":""},{"$f":"IF(AD394=\"\",AH393,AH393+IF(COUNTIF($AD$15:AD394,AD394)>1,0,1))","v":0},{"$f":"IF(ROWS($AH$15:AH394)>MAX(AH:AH),\"\",INDEX(AD:AD,MATCH(ROWS($AH$15:AH394),AH:AH,0)))","v":""}]
[null,null,null,null,null,null,null,null,null,null,null,null,null,null,null,null,null,null,null,null,null,null,null,null,null,null,null,381,7,"","",{"$f":"AF394+IF(COUNTIF($AC$15:AC395,AC395)>1,0,1)","v":7},{"$f":"IF(ROWS(AF$15:AF395)>MAX(AF:AF),\"\",INDEX(AC:AC,MATCH(ROWS(AF$15:AF395),AF:AF,0)))","v":""},{"$f":"IF(AD395=\"\",AH394,AH394+IF(COUNTIF($AD$15:AD395,AD395)>1,0,1))","v":0},{"$f":"IF(ROWS($AH$15:AH395)>MAX(AH:AH),\"\",INDEX(AD:AD,MATCH(ROWS($AH$15:AH395),AH:AH,0)))","v":""}]
[null,null,null,null,null,null,null,null,null,null,null,null,null,null,null,null,null,null,null,null,null,null,null,null,null,null,null,382,7,"","",{"$f":"AF395+IF(COUNTIF($AC$15:AC396,AC396)>1,0,1)","v":7},{"$f":"IF(ROWS(AF$15:AF396)>MAX(AF:AF),\"\",INDEX(AC:AC,MATCH(ROWS(AF$15:AF396),AF:AF,0)))","v":""},{"$f":"IF(AD396=\"\",AH395,AH395+IF(COUNTIF($AD$15:AD396,AD396)>1,0,1))","v":0},{"$f":"IF(ROWS($AH$15:AH396)>MAX(AH:AH),\"\",INDEX(AD:AD,MATCH(ROWS($AH$15:AH396),AH:AH,0)))","v":""}]
[null,null,null,null,null,null,null,null,null,null,null,null,null,null,null,null,null,null,null,null,null,null,null,null,null,null,null,383,7,"","",{"$f":"AF396+IF(COUNTIF($AC$15:AC397,AC397)>1,0,1)","v":7},{"$f":"IF(ROWS(AF$15:AF397)>MAX(AF:AF),\"\",INDEX(AC:AC,MATCH(ROWS(AF$15:AF397),AF:AF,0)))","v":""},{"$f":"IF(AD397=\"\",AH396,AH396+IF(COUNTIF($AD$15:AD397,AD397)>1,0,1))","v":0},{"$f":"IF(ROWS($AH$15:AH397)>MAX(AH:AH),\"\",INDEX(AD:AD,MATCH(ROWS($AH$15:AH397),AH:AH,0)))","v":""}]
[null,null,null,null,null,null,null,null,null,null,null,null,null,null,null,null,null,null,null,null,null,null,null,null,null,null,null,384,7,"","",{"$f":"AF397+IF(COUNTIF($AC$15:AC398,AC398)>1,0,1)","v":7},{"$f":"IF(ROWS(AF$15:AF398)>MAX(AF:AF),\"\",INDEX(AC:AC,MATCH(ROWS(AF$15:AF398),AF:AF,0)))","v":""},{"$f":"IF(AD398=\"\",AH397,AH397+IF(COUNTIF($AD$15:AD398,AD398)>1,0,1))","v":0},{"$f":"IF(ROWS($AH$15:AH398)>MAX(AH:AH),\"\",INDEX(AD:AD,MATCH(ROWS($AH$15:AH398),AH:AH,0)))","v":""}]
[null,null,null,null,null,null,null,null,null,null,null,null,null,null,null,null,null,null,null,null,null,null,null,null,null,null,null,385,7,"","",{"$f":"AF398+IF(COUNTIF($AC$15:AC399,AC399)>1,0,1)","v":7},{"$f":"IF(ROWS(AF$15:AF399)>MAX(AF:AF),\"\",INDEX(AC:AC,MATCH(ROWS(AF$15:AF399),AF:AF,0)))","v":""},{"$f":"IF(AD399=\"\",AH398,AH398+IF(COUNTIF($AD$15:AD399,AD399)>1,0,1))","v":0},{"$f":"IF(ROWS($AH$15:AH399)>MAX(AH:AH),\"\",INDEX(AD:AD,MATCH(ROWS($AH$15:AH399),AH:AH,0)))","v":""}]
[null,null,null,null,null,null,null,null,null,null,null,null,null,null,null,null,null,null,null,null,null,null,null,null,null,null,null,386,{"$f":"IF(INDIRECT($AC$1&\"D\"&$AB400+1)=\"\",\"\",INDIRECT($AC$1&\"D\"&$AB400+1))","v":7},{"$f":"IF(AC400=\"\",\"\",IF($E$16=AC400,INDIRECT($AC$1&\"E\"&$AB400+1),\"\"))","v":""},{"$f":"IF(ISBLANK($E$17),\"\",IF($E$17<>AD400,\"\",IF(INDIRECT($AC$1&\"U\"&$AB400+1)=\"Yes\",INDIRECT($AC$1&\"I\"&$AB400+1),\"\")))","v":""},{"$f":"AF399+IF(COUNTIF($AC$15:AC400,AC400)>1,0,1)","v":7},{"$f":"IF(ROWS(AF$15:AF400)>MAX(AF:AF),\"\",INDEX(AC:AC,MATCH(ROWS(AF$15:AF400),AF:AF,0)))","v":""},{"$f":"IF(AD400=\"\",AH399,AH399+IF(COUNTIF($AD$15:AD400,AD400)>1,0,1))","v":0},{"$f":"IF(ROWS($AH$15:AH400)>MAX(AH:AH),\"\",INDEX(AD:AD,MATCH(ROWS($AH$15:AH400),AH:AH,0)))","v":""}]
[null,null,null,null,null,null,null,null,null,null,null,null,null,null,null,null,null,null,null,null,null,null,null,null,null,null,null,{"$f":"AB400+1","v":387},7,"","",{"$f":"AF400+IF(COUNTIF($AC$15:AC401,AC401)>1,0,1)","v":7},{"$f":"IF(ROWS(AF$15:AF401)>MAX(AF:AF),\"\",INDEX(AC:AC,MATCH(ROWS(AF$15:AF401),AF:AF,0)))","v":""},{"$f":"IF(AD401=\"\",AH400,AH400+IF(COUNTIF($AD$15:AD401,AD401)>1,0,1))","v":0},{"$f":"IF(ROWS($AH$15:AH401)>MAX(AH:AH),\"\",INDEX(AD:AD,MATCH(ROWS($AH$15:AH401),AH:AH,0)))","v":""}]
[null,null,null,null,null,null,null,null,null,null,null,null,null,null,null,null,null,null,null,null,null,null,null,null,null,null,null,388,7,"","",{"$f":"AF401+IF(COUNTIF($AC$15:AC402,AC402)>1,0,1)","v":7},{"$f":"IF(ROWS(AF$15:AF402)>MAX(AF:AF),\"\",INDEX(AC:AC,MATCH(ROWS(AF$15:AF402),AF:AF,0)))","v":""},{"$f":"IF(AD402=\"\",AH401,AH401+IF(COUNTIF($AD$15:AD402,AD402)>1,0,1))","v":0},{"$f":"IF(ROWS($AH$15:AH402)>MAX(AH:AH),\"\",INDEX(AD:AD,MATCH(ROWS($AH$15:AH402),AH:AH,0)))","v":""}]
[null,null,null,null,null,null,null,null,null,null,null,null,null,null,null,null,null,null,null,null,null,null,null,null,null,null,null,389,7,"","",{"$f":"AF402+IF(COUNTIF($AC$15:AC403,AC403)>1,0,1)","v":7},{"$f":"IF(ROWS(AF$15:AF403)>MAX(AF:AF),\"\",INDEX(AC:AC,MATCH(ROWS(AF$15:AF403),AF:AF,0)))","v":""},{"$f":"IF(AD403=\"\",AH402,AH402+IF(COUNTIF($AD$15:AD403,AD403)>1,0,1))","v":0},{"$f":"IF(ROWS($AH$15:AH403)>MAX(AH:AH),\"\",INDEX(AD:AD,MATCH(ROWS($AH$15:AH403),AH:AH,0)))","v":""}]
[null,null,null,null,null,null,null,null,null,null,null,null,null,null,null,null,null,null,null,null,null,null,null,null,null,null,null,390,7,"","",{"$f":"AF403+IF(COUNTIF($AC$15:AC404,AC404)>1,0,1)","v":7},{"$f":"IF(ROWS(AF$15:AF404)>MAX(AF:AF),\"\",INDEX(AC:AC,MATCH(ROWS(AF$15:AF404),AF:AF,0)))","v":""},{"$f":"IF(AD404=\"\",AH403,AH403+IF(COUNTIF($AD$15:AD404,AD404)>1,0,1))","v":0},{"$f":"IF(ROWS($AH$15:AH404)>MAX(AH:AH),\"\",INDEX(AD:AD,MATCH(ROWS($AH$15:AH404),AH:AH,0)))","v":""}]
[null,null,null,null,null,null,null,null,null,null,null,null,null,null,null,null,null,null,null,null,null,null,null,null,null,null,null,391,7,"","",{"$f":"AF404+IF(COUNTIF($AC$15:AC405,AC405)>1,0,1)","v":7},{"$f":"IF(ROWS(AF$15:AF405)>MAX(AF:AF),\"\",INDEX(AC:AC,MATCH(ROWS(AF$15:AF405),AF:AF,0)))","v":""},{"$f":"IF(AD405=\"\",AH404,AH404+IF(COUNTIF($AD$15:AD405,AD405)>1,0,1))","v":0},{"$f":"IF(ROWS($AH$15:AH405)>MAX(AH:AH),\"\",INDEX(AD:AD,MATCH(ROWS($AH$15:AH405),AH:AH,0)))","v":""}]
[null,null,null,null,null,null,null,null,null,null,null,null,null,null,null,null,null,null,null,null,null,null,null,null,null,null,null,392,7,"","",{"$f":"AF405+IF(COUNTIF($AC$15:AC406,AC406)>1,0,1)","v":7},{"$f":"IF(ROWS(AF$15:AF406)>MAX(AF:AF),\"\",INDEX(AC:AC,MATCH(ROWS(AF$15:AF406),AF:AF,0)))","v":""},{"$f":"IF(AD406=\"\",AH405,AH405+IF(COUNTIF($AD$15:AD406,AD406)>1,0,1))","v":0},{"$f":"IF(ROWS($AH$15:AH406)>MAX(AH:AH),\"\",INDEX(AD:AD,MATCH(ROWS($AH$15:AH406),AH:AH,0)))","v":""}]
[null,null,null,null,null,null,null,null,null,null,null,null,null,null,null,null,null,null,null,null,null,null,null,null,null,null,null,393,7,"","",{"$f":"AF406+IF(COUNTIF($AC$15:AC407,AC407)>1,0,1)","v":7},{"$f":"IF(ROWS(AF$15:AF407)>MAX(AF:AF),\"\",INDEX(AC:AC,MATCH(ROWS(AF$15:AF407),AF:AF,0)))","v":""},{"$f":"IF(AD407=\"\",AH406,AH406+IF(COUNTIF($AD$15:AD407,AD407)>1,0,1))","v":0},{"$f":"IF(ROWS($AH$15:AH407)>MAX(AH:AH),\"\",INDEX(AD:AD,MATCH(ROWS($AH$15:AH407),AH:AH,0)))","v":""}]
[null,null,null,null,null,null,null,null,null,null,null,null,null,null,null,null,null,null,null,null,null,null,null,null,null,null,null,394,7,"","",{"$f":"AF407+IF(COUNTIF($AC$15:AC408,AC408)>1,0,1)","v":7},{"$f":"IF(ROWS(AF$15:AF408)>MAX(AF:AF),\"\",INDEX(AC:AC,MATCH(ROWS(AF$15:AF408),AF:AF,0)))","v":""},{"$f":"IF(AD408=\"\",AH407,AH407+IF(COUNTIF($AD$15:AD408,AD408)>1,0,1))","v":0},{"$f":"IF(ROWS($AH$15:AH408)>MAX(AH:AH),\"\",INDEX(AD:AD,MATCH(ROWS($AH$15:AH408),AH:AH,0)))","v":""}]
[null,null,null,null,null,null,null,null,null,null,null,null,null,null,null,null,null,null,null,null,null,null,null,null,null,null,null,395,7,"","",{"$f":"AF408+IF(COUNTIF($AC$15:AC409,AC409)>1,0,1)","v":7},{"$f":"IF(ROWS(AF$15:AF409)>MAX(AF:AF),\"\",INDEX(AC:AC,MATCH(ROWS(AF$15:AF409),AF:AF,0)))","v":""},{"$f":"IF(AD409=\"\",AH408,AH408+IF(COUNTIF($AD$15:AD409,AD409)>1,0,1))","v":0},{"$f":"IF(ROWS($AH$15:AH409)>MAX(AH:AH),\"\",INDEX(AD:AD,MATCH(ROWS($AH$15:AH409),AH:AH,0)))","v":""}]
[null,null,null,null,null,null,null,null,null,null,null,null,null,null,null,null,null,null,null,null,null,null,null,null,null,null,null,396,7,"","",{"$f":"AF409+IF(COUNTIF($AC$15:AC410,AC410)>1,0,1)","v":7},{"$f":"IF(ROWS(AF$15:AF410)>MAX(AF:AF),\"\",INDEX(AC:AC,MATCH(ROWS(AF$15:AF410),AF:AF,0)))","v":""},{"$f":"IF(AD410=\"\",AH409,AH409+IF(COUNTIF($AD$15:AD410,AD410)>1,0,1))","v":0},{"$f":"IF(ROWS($AH$15:AH410)>MAX(AH:AH),\"\",INDEX(AD:AD,MATCH(ROWS($AH$15:AH410),AH:AH,0)))","v":""}]
[null,null,null,null,null,null,null,null,null,null,null,null,null,null,null,null,null,null,null,null,null,null,null,null,null,null,null,397,7,"","",{"$f":"AF410+IF(COUNTIF($AC$15:AC411,AC411)>1,0,1)","v":7},{"$f":"IF(ROWS(AF$15:AF411)>MAX(AF:AF),\"\",INDEX(AC:AC,MATCH(ROWS(AF$15:AF411),AF:AF,0)))","v":""},{"$f":"IF(AD411=\"\",AH410,AH410+IF(COUNTIF($AD$15:AD411,AD411)>1,0,1))","v":0},{"$f":"IF(ROWS($AH$15:AH411)>MAX(AH:AH),\"\",INDEX(AD:AD,MATCH(ROWS($AH$15:AH411),AH:AH,0)))","v":""}]
[null,null,null,null,null,null,null,null,null,null,null,null,null,null,null,null,null,null,null,null,null,null,null,null,null,null,null,398,7,"","",{"$f":"AF411+IF(COUNTIF($AC$15:AC412,AC412)>1,0,1)","v":7},{"$f":"IF(ROWS(AF$15:AF412)>MAX(AF:AF),\"\",INDEX(AC:AC,MATCH(ROWS(AF$15:AF412),AF:AF,0)))","v":""},{"$f":"IF(AD412=\"\",AH411,AH411+IF(COUNTIF($AD$15:AD412,AD412)>1,0,1))","v":0},{"$f":"IF(ROWS($AH$15:AH412)>MAX(AH:AH),\"\",INDEX(AD:AD,MATCH(ROWS($AH$15:AH412),AH:AH,0)))","v":""}]
[null,null,null,null,null,null,null,null,null,null,null,null,null,null,null,null,null,null,null,null,null,null,null,null,null,null,null,399,7,"","",{"$f":"AF412+IF(COUNTIF($AC$15:AC413,AC413)>1,0,1)","v":7},{"$f":"IF(ROWS(AF$15:AF413)>MAX(AF:AF),\"\",INDEX(AC:AC,MATCH(ROWS(AF$15:AF413),AF:AF,0)))","v":""},{"$f":"IF(AD413=\"\",AH412,AH412+IF(COUNTIF($AD$15:AD413,AD413)>1,0,1))","v":0},{"$f":"IF(ROWS($AH$15:AH413)>MAX(AH:AH),\"\",INDEX(AD:AD,MATCH(ROWS($AH$15:AH413),AH:AH,0)))","v":""}]
[null,null,null,null,null,null,null,null,null,null,null,null,null,null,null,null,null,null,null,null,null,null,null,null,null,null,null,400,7,"","",{"$f":"AF413+IF(COUNTIF($AC$15:AC414,AC414)>1,0,1)","v":7},{"$f":"IF(ROWS(AF$15:AF414)>MAX(AF:AF),\"\",INDEX(AC:AC,MATCH(ROWS(AF$15:AF414),AF:AF,0)))","v":""},{"$f":"IF(AD414=\"\",AH413,AH413+IF(COUNTIF($AD$15:AD414,AD414)>1,0,1))","v":0},{"$f":"IF(ROWS($AH$15:AH414)>MAX(AH:AH),\"\",INDEX(AD:AD,MATCH(ROWS($AH$15:AH414),AH:AH,0)))","v":""}]
[null,null,null,null,null,null,null,null,null,null,null,null,null,null,null,null,null,null,null,null,null,null,null,null,null,null,null,401,7,"","",{"$f":"AF414+IF(COUNTIF($AC$15:AC415,AC415)>1,0,1)","v":7},{"$f":"IF(ROWS(AF$15:AF415)>MAX(AF:AF),\"\",INDEX(AC:AC,MATCH(ROWS(AF$15:AF415),AF:AF,0)))","v":""},{"$f":"IF(AD415=\"\",AH414,AH414+IF(COUNTIF($AD$15:AD415,AD415)>1,0,1))","v":0},{"$f":"IF(ROWS($AH$15:AH415)>MAX(AH:AH),\"\",INDEX(AD:AD,MATCH(ROWS($AH$15:AH415),AH:AH,0)))","v":""}]
[null,null,null,null,null,null,null,null,null,null,null,null,null,null,null,null,null,null,null,null,null,null,null,null,null,null,null,402,7,"","",{"$f":"AF415+IF(COUNTIF($AC$15:AC416,AC416)>1,0,1)","v":7},{"$f":"IF(ROWS(AF$15:AF416)>MAX(AF:AF),\"\",INDEX(AC:AC,MATCH(ROWS(AF$15:AF416),AF:AF,0)))","v":""},{"$f":"IF(AD416=\"\",AH415,AH415+IF(COUNTIF($AD$15:AD416,AD416)>1,0,1))","v":0},{"$f":"IF(ROWS($AH$15:AH416)>MAX(AH:AH),\"\",INDEX(AD:AD,MATCH(ROWS($AH$15:AH416),AH:AH,0)))","v":""}]
[null,null,null,null,null,null,null,null,null,null,null,null,null,null,null,null,null,null,null,null,null,null,null,null,null,null,null,403,7,"","",{"$f":"AF416+IF(COUNTIF($AC$15:AC417,AC417)>1,0,1)","v":7},{"$f":"IF(ROWS(AF$15:AF417)>MAX(AF:AF),\"\",INDEX(AC:AC,MATCH(ROWS(AF$15:AF417),AF:AF,0)))","v":""},{"$f":"IF(AD417=\"\",AH416,AH416+IF(COUNTIF($AD$15:AD417,AD417)>1,0,1))","v":0},{"$f":"IF(ROWS($AH$15:AH417)>MAX(AH:AH),\"\",INDEX(AD:AD,MATCH(ROWS($AH$15:AH417),AH:AH,0)))","v":""}]
[null,null,null,null,null,null,null,null,null,null,null,null,null,null,null,null,null,null,null,null,null,null,null,null,null,null,null,404,7,"","",{"$f":"AF417+IF(COUNTIF($AC$15:AC418,AC418)>1,0,1)","v":7},{"$f":"IF(ROWS(AF$15:AF418)>MAX(AF:AF),\"\",INDEX(AC:AC,MATCH(ROWS(AF$15:AF418),AF:AF,0)))","v":""},{"$f":"IF(AD418=\"\",AH417,AH417+IF(COUNTIF($AD$15:AD418,AD418)>1,0,1))","v":0},{"$f":"IF(ROWS($AH$15:AH418)>MAX(AH:AH),\"\",INDEX(AD:AD,MATCH(ROWS($AH$15:AH418),AH:AH,0)))","v":""}]
[null,null,null,null,null,null,null,null,null,null,null,null,null,null,null,null,null,null,null,null,null,null,null,null,null,null,null,405,7,"","",{"$f":"AF418+IF(COUNTIF($AC$15:AC419,AC419)>1,0,1)","v":7},{"$f":"IF(ROWS(AF$15:AF419)>MAX(AF:AF),\"\",INDEX(AC:AC,MATCH(ROWS(AF$15:AF419),AF:AF,0)))","v":""},{"$f":"IF(AD419=\"\",AH418,AH418+IF(COUNTIF($AD$15:AD419,AD419)>1,0,1))","v":0},{"$f":"IF(ROWS($AH$15:AH419)>MAX(AH:AH),\"\",INDEX(AD:AD,MATCH(ROWS($AH$15:AH419),AH:AH,0)))","v":""}]
[null,null,null,null,null,null,null,null,null,null,null,null,null,null,null,null,null,null,null,null,null,null,null,null,null,null,null,406,8,"","",{"$f":"AF419+IF(COUNTIF($AC$15:AC420,AC420)>1,0,1)","v":8},{"$f":"IF(ROWS(AF$15:AF420)>MAX(AF:AF),\"\",INDEX(AC:AC,MATCH(ROWS(AF$15:AF420),AF:AF,0)))","v":""},{"$f":"IF(AD420=\"\",AH419,AH419+IF(COUNTIF($AD$15:AD420,AD420)>1,0,1))","v":0},{"$f":"IF(ROWS($AH$15:AH420)>MAX(AH:AH),\"\",INDEX(AD:AD,MATCH(ROWS($AH$15:AH420),AH:AH,0)))","v":""}]
[null,null,null,null,null,null,null,null,null,null,null,null,null,null,null,null,null,null,null,null,null,null,null,null,null,null,null,407,8,"","",{"$f":"AF420+IF(COUNTIF($AC$15:AC421,AC421)>1,0,1)","v":8},{"$f":"IF(ROWS(AF$15:AF421)>MAX(AF:AF),\"\",INDEX(AC:AC,MATCH(ROWS(AF$15:AF421),AF:AF,0)))","v":""},{"$f":"IF(AD421=\"\",AH420,AH420+IF(COUNTIF($AD$15:AD421,AD421)>1,0,1))","v":0},{"$f":"IF(ROWS($AH$15:AH421)>MAX(AH:AH),\"\",INDEX(AD:AD,MATCH(ROWS($AH$15:AH421),AH:AH,0)))","v":""}]
[null,null,null,null,null,null,null,null,null,null,null,null,null,null,null,null,null,null,null,null,null,null,null,null,null,null,null,408,8,"","",{"$f":"AF421+IF(COUNTIF($AC$15:AC422,AC422)>1,0,1)","v":8},{"$f":"IF(ROWS(AF$15:AF422)>MAX(AF:AF),\"\",INDEX(AC:AC,MATCH(ROWS(AF$15:AF422),AF:AF,0)))","v":""},{"$f":"IF(AD422=\"\",AH421,AH421+IF(COUNTIF($AD$15:AD422,AD422)>1,0,1))","v":0},{"$f":"IF(ROWS($AH$15:AH422)>MAX(AH:AH),\"\",INDEX(AD:AD,MATCH(ROWS($AH$15:AH422),AH:AH,0)))","v":""}]
[null,null,null,null,null,null,null,null,null,null,null,null,null,null,null,null,null,null,null,null,null,null,null,null,null,null,null,409,8,"","",{"$f":"AF422+IF(COUNTIF($AC$15:AC423,AC423)>1,0,1)","v":8},{"$f":"IF(ROWS(AF$15:AF423)>MAX(AF:AF),\"\",INDEX(AC:AC,MATCH(ROWS(AF$15:AF423),AF:AF,0)))","v":""},{"$f":"IF(AD423=\"\",AH422,AH422+IF(COUNTIF($AD$15:AD423,AD423)>1,0,1))","v":0},{"$f":"IF(ROWS($AH$15:AH423)>MAX(AH:AH),\"\",INDEX(AD:AD,MATCH(ROWS($AH$15:AH423),AH:AH,0)))","v":""}]
[null,null,null,null,null,null,null,null,null,null,null,null,null,null,null,null,null,null,null,null,null,null,null,null,null,null,null,410,8,"","",{"$f":"AF423+IF(COUNTIF($AC$15:AC424,AC424)>1,0,1)","v":8},{"$f":"IF(ROWS(AF$15:AF424)>MAX(AF:AF),\"\",INDEX(AC:AC,MATCH(ROWS(AF$15:AF424),AF:AF,0)))","v":""},{"$f":"IF(AD424=\"\",AH423,AH423+IF(COUNTIF($AD$15:AD424,AD424)>1,0,1))","v":0},{"$f":"IF(ROWS($AH$15:AH424)>MAX(AH:AH),\"\",INDEX(AD:AD,MATCH(ROWS($AH$15:AH424),AH:AH,0)))","v":""}]
[null,null,null,null,null,null,null,null,null,null,null,null,null,null,null,null,null,null,null,null,null,null,null,null,null,null,null,411,8,"","",{"$f":"AF424+IF(COUNTIF($AC$15:AC425,AC425)>1,0,1)","v":8},{"$f":"IF(ROWS(AF$15:AF425)>MAX(AF:AF),\"\",INDEX(AC:AC,MATCH(ROWS(AF$15:AF425),AF:AF,0)))","v":""},{"$f":"IF(AD425=\"\",AH424,AH424+IF(COUNTIF($AD$15:AD425,AD425)>1,0,1))","v":0},{"$f":"IF(ROWS($AH$15:AH425)>MAX(AH:AH),\"\",INDEX(AD:AD,MATCH(ROWS($AH$15:AH425),AH:AH,0)))","v":""}]
[null,null,null,null,null,null,null,null,null,null,null,null,null,null,null,null,null,null,null,null,null,null,null,null,null,null,null,412,8,"","",{"$f":"AF425+IF(COUNTIF($AC$15:AC426,AC426)>1,0,1)","v":8},{"$f":"IF(ROWS(AF$15:AF426)>MAX(AF:AF),\"\",INDEX(AC:AC,MATCH(ROWS(AF$15:AF426),AF:AF,0)))","v":""},{"$f":"IF(AD426=\"\",AH425,AH425+IF(COUNTIF($AD$15:AD426,AD426)>1,0,1))","v":0},{"$f":"IF(ROWS($AH$15:AH426)>MAX(AH:AH),\"\",INDEX(AD:AD,MATCH(ROWS($AH$15:AH426),AH:AH,0)))","v":""}]
[null,null,null,null,null,null,null,null,null,null,null,null,null,null,null,null,null,null,null,null,null,null,null,null,null,null,null,413,8,"","",{"$f":"AF426+IF(COUNTIF($AC$15:AC427,AC427)>1,0,1)","v":8},{"$f":"IF(ROWS(AF$15:AF427)>MAX(AF:AF),\"\",INDEX(AC:AC,MATCH(ROWS(AF$15:AF427),AF:AF,0)))","v":""},{"$f":"IF(AD427=\"\",AH426,AH426+IF(COUNTIF($AD$15:AD427,AD427)>1,0,1))","v":0},{"$f":"IF(ROWS($AH$15:AH427)>MAX(AH:AH),\"\",INDEX(AD:AD,MATCH(ROWS($AH$15:AH427),AH:AH,0)))","v":""}]
[null,null,null,null,null,null,null,null,null,null,null,null,null,null,null,null,null,null,null,null,null,null,null,null,null,null,null,414,8,"","",{"$f":"AF427+IF(COUNTIF($AC$15:AC428,AC428)>1,0,1)","v":8},{"$f":"IF(ROWS(AF$15:AF428)>MAX(AF:AF),\"\",INDEX(AC:AC,MATCH(ROWS(AF$15:AF428),AF:AF,0)))","v":""},{"$f":"IF(AD428=\"\",AH427,AH427+IF(COUNTIF($AD$15:AD428,AD428)>1,0,1))","v":0},{"$f":"IF(ROWS($AH$15:AH428)>MAX(AH:AH),\"\",INDEX(AD:AD,MATCH(ROWS($AH$15:AH428),AH:AH,0)))","v":""}]
[null,null,null,null,null,null,null,null,null,null,null,null,null,null,null,null,null,null,null,null,null,null,null,null,null,null,null,415,8,"","",{"$f":"AF428+IF(COUNTIF($AC$15:AC429,AC429)>1,0,1)","v":8},{"$f":"IF(ROWS(AF$15:AF429)>MAX(AF:AF),\"\",INDEX(AC:AC,MATCH(ROWS(AF$15:AF429),AF:AF,0)))","v":""},{"$f":"IF(AD429=\"\",AH428,AH428+IF(COUNTIF($AD$15:AD429,AD429)>1,0,1))","v":0},{"$f":"IF(ROWS($AH$15:AH429)>MAX(AH:AH),\"\",INDEX(AD:AD,MATCH(ROWS($AH$15:AH429),AH:AH,0)))","v":""}]
[null,null,null,null,null,null,null,null,null,null,null,null,null,null,null,null,null,null,null,null,null,null,null,null,null,null,null,416,8,"","",{"$f":"AF429+IF(COUNTIF($AC$15:AC430,AC430)>1,0,1)","v":8},{"$f":"IF(ROWS(AF$15:AF430)>MAX(AF:AF),\"\",INDEX(AC:AC,MATCH(ROWS(AF$15:AF430),AF:AF,0)))","v":""},{"$f":"IF(AD430=\"\",AH429,AH429+IF(COUNTIF($AD$15:AD430,AD430)>1,0,1))","v":0},{"$f":"IF(ROWS($AH$15:AH430)>MAX(AH:AH),\"\",INDEX(AD:AD,MATCH(ROWS($AH$15:AH430),AH:AH,0)))","v":""}]
[null,null,null,null,null,null,null,null,null,null,null,null,null,null,null,null,null,null,null,null,null,null,null,null,null,null,null,417,8,"","",{"$f":"AF430+IF(COUNTIF($AC$15:AC431,AC431)>1,0,1)","v":8},{"$f":"IF(ROWS(AF$15:AF431)>MAX(AF:AF),\"\",INDEX(AC:AC,MATCH(ROWS(AF$15:AF431),AF:AF,0)))","v":""},{"$f":"IF(AD431=\"\",AH430,AH430+IF(COUNTIF($AD$15:AD431,AD431)>1,0,1))","v":0},{"$f":"IF(ROWS($AH$15:AH431)>MAX(AH:AH),\"\",INDEX(AD:AD,MATCH(ROWS($AH$15:AH431),AH:AH,0)))","v":""}]
[null,null,null,null,null,null,null,null,null,null,null,null,null,null,null,null,null,null,null,null,null,null,null,null,null,null,null,418,8,"","",{"$f":"AF431+IF(COUNTIF($AC$15:AC432,AC432)>1,0,1)","v":8},{"$f":"IF(ROWS(AF$15:AF432)>MAX(AF:AF),\"\",INDEX(AC:AC,MATCH(ROWS(AF$15:AF432),AF:AF,0)))","v":""},{"$f":"IF(AD432=\"\",AH431,AH431+IF(COUNTIF($AD$15:AD432,AD432)>1,0,1))","v":0},{"$f":"IF(ROWS($AH$15:AH432)>MAX(AH:AH),\"\",INDEX(AD:AD,MATCH(ROWS($AH$15:AH432),AH:AH,0)))","v":""}]
[null,null,null,null,null,null,null,null,null,null,null,null,null,null,null,null,null,null,null,null,null,null,null,null,null,null,null,419,8,"","",{"$f":"AF432+IF(COUNTIF($AC$15:AC433,AC433)>1,0,1)","v":8},{"$f":"IF(ROWS(AF$15:AF433)>MAX(AF:AF),\"\",INDEX(AC:AC,MATCH(ROWS(AF$15:AF433),AF:AF,0)))","v":""},{"$f":"IF(AD433=\"\",AH432,AH432+IF(COUNTIF($AD$15:AD433,AD433)>1,0,1))","v":0},{"$f":"IF(ROWS($AH$15:AH433)>MAX(AH:AH),\"\",INDEX(AD:AD,MATCH(ROWS($AH$15:AH433),AH:AH,0)))","v":""}]
[null,null,null,null,null,null,null,null,null,null,null,null,null,null,null,null,null,null,null,null,null,null,null,null,null,null,null,420,8,"","",{"$f":"AF433+IF(COUNTIF($AC$15:AC434,AC434)>1,0,1)","v":8},{"$f":"IF(ROWS(AF$15:AF434)>MAX(AF:AF),\"\",INDEX(AC:AC,MATCH(ROWS(AF$15:AF434),AF:AF,0)))","v":""},{"$f":"IF(AD434=\"\",AH433,AH433+IF(COUNTIF($AD$15:AD434,AD434)>1,0,1))","v":0},{"$f":"IF(ROWS($AH$15:AH434)>MAX(AH:AH),\"\",INDEX(AD:AD,MATCH(ROWS($AH$15:AH434),AH:AH,0)))","v":""}]
[null,null,null,null,null,null,null,null,null,null,null,null,null,null,null,null,null,null,null,null,null,null,null,null,null,null,null,421,8,"","",{"$f":"AF434+IF(COUNTIF($AC$15:AC435,AC435)>1,0,1)","v":8},{"$f":"IF(ROWS(AF$15:AF435)>MAX(AF:AF),\"\",INDEX(AC:AC,MATCH(ROWS(AF$15:AF435),AF:AF,0)))","v":""},{"$f":"IF(AD435=\"\",AH434,AH434+IF(COUNTIF($AD$15:AD435,AD435)>1,0,1))","v":0},{"$f":"IF(ROWS($AH$15:AH435)>MAX(AH:AH),\"\",INDEX(AD:AD,MATCH(ROWS($AH$15:AH435),AH:AH,0)))","v":""}]
[null,null,null,null,null,null,null,null,null,null,null,null,null,null,null,null,null,null,null,null,null,null,null,null,null,null,null,422,8,"","",{"$f":"AF435+IF(COUNTIF($AC$15:AC436,AC436)>1,0,1)","v":8},{"$f":"IF(ROWS(AF$15:AF436)>MAX(AF:AF),\"\",INDEX(AC:AC,MATCH(ROWS(AF$15:AF436),AF:AF,0)))","v":""},{"$f":"IF(AD436=\"\",AH435,AH435+IF(COUNTIF($AD$15:AD436,AD436)>1,0,1))","v":0},{"$f":"IF(ROWS($AH$15:AH436)>MAX(AH:AH),\"\",INDEX(AD:AD,MATCH(ROWS($AH$15:AH436),AH:AH,0)))","v":""}]
[null,null,null,null,null,null,null,null,null,null,null,null,null,null,null,null,null,null,null,null,null,null,null,null,null,null,null,423,8,"","",{"$f":"AF436+IF(COUNTIF($AC$15:AC437,AC437)>1,0,1)","v":8},{"$f":"IF(ROWS(AF$15:AF437)>MAX(AF:AF),\"\",INDEX(AC:AC,MATCH(ROWS(AF$15:AF437),AF:AF,0)))","v":""},{"$f":"IF(AD437=\"\",AH436,AH436+IF(COUNTIF($AD$15:AD437,AD437)>1,0,1))","v":0},{"$f":"IF(ROWS($AH$15:AH437)>MAX(AH:AH),\"\",INDEX(AD:AD,MATCH(ROWS($AH$15:AH437),AH:AH,0)))","v":""}]
[null,null,null,null,null,null,null,null,null,null,null,null,null,null,null,null,null,null,null,null,null,null,null,null,null,null,null,424,8,"","",{"$f":"AF437+IF(COUNTIF($AC$15:AC438,AC438)>1,0,1)","v":8},{"$f":"IF(ROWS(AF$15:AF438)>MAX(AF:AF),\"\",INDEX(AC:AC,MATCH(ROWS(AF$15:AF438),AF:AF,0)))","v":""},{"$f":"IF(AD438=\"\",AH437,AH437+IF(COUNTIF($AD$15:AD438,AD438)>1,0,1))","v":0},{"$f":"IF(ROWS($AH$15:AH438)>MAX(AH:AH),\"\",INDEX(AD:AD,MATCH(ROWS($AH$15:AH438),AH:AH,0)))","v":""}]
[null,null,null,null,null,null,null,null,null,null,null,null,null,null,null,null,null,null,null,null,null,null,null,null,null,null,null,425,8,"","",{"$f":"AF438+IF(COUNTIF($AC$15:AC439,AC439)>1,0,1)","v":8},{"$f":"IF(ROWS(AF$15:AF439)>MAX(AF:AF),\"\",INDEX(AC:AC,MATCH(ROWS(AF$15:AF439),AF:AF,0)))","v":""},{"$f":"IF(AD439=\"\",AH438,AH438+IF(COUNTIF($AD$15:AD439,AD439)>1,0,1))","v":0},{"$f":"IF(ROWS($AH$15:AH439)>MAX(AH:AH),\"\",INDEX(AD:AD,MATCH(ROWS($AH$15:AH439),AH:AH,0)))","v":""}]
[null,null,null,null,null,null,null,null,null,null,null,null,null,null,null,null,null,null,null,null,null,null,null,null,null,null,null,426,8,"","",{"$f":"AF439+IF(COUNTIF($AC$15:AC440,AC440)>1,0,1)","v":8},{"$f":"IF(ROWS(AF$15:AF440)>MAX(AF:AF),\"\",INDEX(AC:AC,MATCH(ROWS(AF$15:AF440),AF:AF,0)))","v":""},{"$f":"IF(AD440=\"\",AH439,AH439+IF(COUNTIF($AD$15:AD440,AD440)>1,0,1))","v":0},{"$f":"IF(ROWS($AH$15:AH440)>MAX(AH:AH),\"\",INDEX(AD:AD,MATCH(ROWS($AH$15:AH440),AH:AH,0)))","v":""}]
[null,null,null,null,null,null,null,null,null,null,null,null,null,null,null,null,null,null,null,null,null,null,null,null,null,null,null,427,8,"","",{"$f":"AF440+IF(COUNTIF($AC$15:AC441,AC441)>1,0,1)","v":8},{"$f":"IF(ROWS(AF$15:AF441)>MAX(AF:AF),\"\",INDEX(AC:AC,MATCH(ROWS(AF$15:AF441),AF:AF,0)))","v":""},{"$f":"IF(AD441=\"\",AH440,AH440+IF(COUNTIF($AD$15:AD441,AD441)>1,0,1))","v":0},{"$f":"IF(ROWS($AH$15:AH441)>MAX(AH:AH),\"\",INDEX(AD:AD,MATCH(ROWS($AH$15:AH441),AH:AH,0)))","v":""}]
[null,null,null,null,null,null,null,null,null,null,null,null,null,null,null,null,null,null,null,null,null,null,null,null,null,null,null,428,8,"","",{"$f":"AF441+IF(COUNTIF($AC$15:AC442,AC442)>1,0,1)","v":8},{"$f":"IF(ROWS(AF$15:AF442)>MAX(AF:AF),\"\",INDEX(AC:AC,MATCH(ROWS(AF$15:AF442),AF:AF,0)))","v":""},{"$f":"IF(AD442=\"\",AH441,AH441+IF(COUNTIF($AD$15:AD442,AD442)>1,0,1))","v":0},{"$f":"IF(ROWS($AH$15:AH442)>MAX(AH:AH),\"\",INDEX(AD:AD,MATCH(ROWS($AH$15:AH442),AH:AH,0)))","v":""}]
[null,null,null,null,null,null,null,null,null,null,null,null,null,null,null,null,null,null,null,null,null,null,null,null,null,null,null,429,8,"","",{"$f":"AF442+IF(COUNTIF($AC$15:AC443,AC443)>1,0,1)","v":8},{"$f":"IF(ROWS(AF$15:AF443)>MAX(AF:AF),\"\",INDEX(AC:AC,MATCH(ROWS(AF$15:AF443),AF:AF,0)))","v":""},{"$f":"IF(AD443=\"\",AH442,AH442+IF(COUNTIF($AD$15:AD443,AD443)>1,0,1))","v":0},{"$f":"IF(ROWS($AH$15:AH443)>MAX(AH:AH),\"\",INDEX(AD:AD,MATCH(ROWS($AH$15:AH443),AH:AH,0)))","v":""}]
[null,null,null,null,null,null,null,null,null,null,null,null,null,null,null,null,null,null,null,null,null,null,null,null,null,null,null,430,8,"","",{"$f":"AF443+IF(COUNTIF($AC$15:AC444,AC444)>1,0,1)","v":8},{"$f":"IF(ROWS(AF$15:AF444)>MAX(AF:AF),\"\",INDEX(AC:AC,MATCH(ROWS(AF$15:AF444),AF:AF,0)))","v":""},{"$f":"IF(AD444=\"\",AH443,AH443+IF(COUNTIF($AD$15:AD444,AD444)>1,0,1))","v":0},{"$f":"IF(ROWS($AH$15:AH444)>MAX(AH:AH),\"\",INDEX(AD:AD,MATCH(ROWS($AH$15:AH444),AH:AH,0)))","v":""}]
[null,null,null,null,null,null,null,null,null,null,null,null,null,null,null,null,null,null,null,null,null,null,null,null,null,null,null,431,8,"","",{"$f":"AF444+IF(COUNTIF($AC$15:AC445,AC445)>1,0,1)","v":8},{"$f":"IF(ROWS(AF$15:AF445)>MAX(AF:AF),\"\",INDEX(AC:AC,MATCH(ROWS(AF$15:AF445),AF:AF,0)))","v":""},{"$f":"IF(AD445=\"\",AH444,AH444+IF(COUNTIF($AD$15:AD445,AD445)>1,0,1))","v":0},{"$f":"IF(ROWS($AH$15:AH445)>MAX(AH:AH),\"\",INDEX(AD:AD,MATCH(ROWS($AH$15:AH445),AH:AH,0)))","v":""}]
[null,null,null,null,null,null,null,null,null,null,null,null,null,null,null,null,null,null,null,null,null,null,null,null,null,null,null,432,8,"","",{"$f":"AF445+IF(COUNTIF($AC$15:AC446,AC446)>1,0,1)","v":8},{"$f":"IF(ROWS(AF$15:AF446)>MAX(AF:AF),\"\",INDEX(AC:AC,MATCH(ROWS(AF$15:AF446),AF:AF,0)))","v":""},{"$f":"IF(AD446=\"\",AH445,AH445+IF(COUNTIF($AD$15:AD446,AD446)>1,0,1))","v":0},{"$f":"IF(ROWS($AH$15:AH446)>MAX(AH:AH),\"\",INDEX(AD:AD,MATCH(ROWS($AH$15:AH446),AH:AH,0)))","v":""}]
[null,null,null,null,null,null,null,null,null,null,null,null,null,null,null,null,null,null,null,null,null,null,null,null,null,null,null,433,8,"","",{"$f":"AF446+IF(COUNTIF($AC$15:AC447,AC447)>1,0,1)","v":8},{"$f":"IF(ROWS(AF$15:AF447)>MAX(AF:AF),\"\",INDEX(AC:AC,MATCH(ROWS(AF$15:AF447),AF:AF,0)))","v":""},{"$f":"IF(AD447=\"\",AH446,AH446+IF(COUNTIF($AD$15:AD447,AD447)>1,0,1))","v":0},{"$f":"IF(ROWS($AH$15:AH447)>MAX(AH:AH),\"\",INDEX(AD:AD,MATCH(ROWS($AH$15:AH447),AH:AH,0)))","v":""}]
[null,null,null,null,null,null,null,null,null,null,null,null,null,null,null,null,null,null,null,null,null,null,null,null,null,null,null,434,8,"","",{"$f":"AF447+IF(COUNTIF($AC$15:AC448,AC448)>1,0,1)","v":8},{"$f":"IF(ROWS(AF$15:AF448)>MAX(AF:AF),\"\",INDEX(AC:AC,MATCH(ROWS(AF$15:AF448),AF:AF,0)))","v":""},{"$f":"IF(AD448=\"\",AH447,AH447+IF(COUNTIF($AD$15:AD448,AD448)>1,0,1))","v":0},{"$f":"IF(ROWS($AH$15:AH448)>MAX(AH:AH),\"\",INDEX(AD:AD,MATCH(ROWS($AH$15:AH448),AH:AH,0)))","v":""}]
[null,null,null,null,null,null,null,null,null,null,null,null,null,null,null,null,null,null,null,null,null,null,null,null,null,null,null,435,8,"","",{"$f":"AF448+IF(COUNTIF($AC$15:AC449,AC449)>1,0,1)","v":8},{"$f":"IF(ROWS(AF$15:AF449)>MAX(AF:AF),\"\",INDEX(AC:AC,MATCH(ROWS(AF$15:AF449),AF:AF,0)))","v":""},{"$f":"IF(AD449=\"\",AH448,AH448+IF(COUNTIF($AD$15:AD449,AD449)>1,0,1))","v":0},{"$f":"IF(ROWS($AH$15:AH449)>MAX(AH:AH),\"\",INDEX(AD:AD,MATCH(ROWS($AH$15:AH449),AH:AH,0)))","v":""}]
[null,null,null,null,null,null,null,null,null,null,null,null,null,null,null,null,null,null,null,null,null,null,null,null,null,null,null,436,9,"","",{"$f":"AF449+IF(COUNTIF($AC$15:AC450,AC450)>1,0,1)","v":9},{"$f":"IF(ROWS(AF$15:AF450)>MAX(AF:AF),\"\",INDEX(AC:AC,MATCH(ROWS(AF$15:AF450),AF:AF,0)))","v":""},{"$f":"IF(AD450=\"\",AH449,AH449+IF(COUNTIF($AD$15:AD450,AD450)>1,0,1))","v":0},{"$f":"IF(ROWS($AH$15:AH450)>MAX(AH:AH),\"\",INDEX(AD:AD,MATCH(ROWS($AH$15:AH450),AH:AH,0)))","v":""}]
[null,null,null,null,null,null,null,null,null,null,null,null,null,null,null,null,null,null,null,null,null,null,null,null,null,null,null,437,9,"","",{"$f":"AF450+IF(COUNTIF($AC$15:AC451,AC451)>1,0,1)","v":9},{"$f":"IF(ROWS(AF$15:AF451)>MAX(AF:AF),\"\",INDEX(AC:AC,MATCH(ROWS(AF$15:AF451),AF:AF,0)))","v":""},{"$f":"IF(AD451=\"\",AH450,AH450+IF(COUNTIF($AD$15:AD451,AD451)>1,0,1))","v":0},{"$f":"IF(ROWS($AH$15:AH451)>MAX(AH:AH),\"\",INDEX(AD:AD,MATCH(ROWS($AH$15:AH451),AH:AH,0)))","v":""}]
[null,null,null,null,null,null,null,null,null,null,null,null,null,null,null,null,null,null,null,null,null,null,null,null,null,null,null,438,9,"","",{"$f":"AF451+IF(COUNTIF($AC$15:AC452,AC452)>1,0,1)","v":9},{"$f":"IF(ROWS(AF$15:AF452)>MAX(AF:AF),\"\",INDEX(AC:AC,MATCH(ROWS(AF$15:AF452),AF:AF,0)))","v":""},{"$f":"IF(AD452=\"\",AH451,AH451+IF(COUNTIF($AD$15:AD452,AD452)>1,0,1))","v":0},{"$f":"IF(ROWS($AH$15:AH452)>MAX(AH:AH),\"\",INDEX(AD:AD,MATCH(ROWS($AH$15:AH452),AH:AH,0)))","v":""}]
[null,null,null,null,null,null,null,null,null,null,null,null,null,null,null,null,null,null,null,null,null,null,null,null,null,null,null,439,9,"","",{"$f":"AF452+IF(COUNTIF($AC$15:AC453,AC453)>1,0,1)","v":9},{"$f":"IF(ROWS(AF$15:AF453)>MAX(AF:AF),\"\",INDEX(AC:AC,MATCH(ROWS(AF$15:AF453),AF:AF,0)))","v":""},{"$f":"IF(AD453=\"\",AH452,AH452+IF(COUNTIF($AD$15:AD453,AD453)>1,0,1))","v":0},{"$f":"IF(ROWS($AH$15:AH453)>MAX(AH:AH),\"\",INDEX(AD:AD,MATCH(ROWS($AH$15:AH453),AH:AH,0)))","v":""}]
[null,null,null,null,null,null,null,null,null,null,null,null,null,null,null,null,null,null,null,null,null,null,null,null,null,null,null,440,9,"","",{"$f":"AF453+IF(COUNTIF($AC$15:AC454,AC454)>1,0,1)","v":9},{"$f":"IF(ROWS(AF$15:AF454)>MAX(AF:AF),\"\",INDEX(AC:AC,MATCH(ROWS(AF$15:AF454),AF:AF,0)))","v":""},{"$f":"IF(AD454=\"\",AH453,AH453+IF(COUNTIF($AD$15:AD454,AD454)>1,0,1))","v":0},{"$f":"IF(ROWS($AH$15:AH454)>MAX(AH:AH),\"\",INDEX(AD:AD,MATCH(ROWS($AH$15:AH454),AH:AH,0)))","v":""}]
[null,null,null,null,null,null,null,null,null,null,null,null,null,null,null,null,null,null,null,null,null,null,null,null,null,null,null,441,9,"","",{"$f":"AF454+IF(COUNTIF($AC$15:AC455,AC455)>1,0,1)","v":9},{"$f":"IF(ROWS(AF$15:AF455)>MAX(AF:AF),\"\",INDEX(AC:AC,MATCH(ROWS(AF$15:AF455),AF:AF,0)))","v":""},{"$f":"IF(AD455=\"\",AH454,AH454+IF(COUNTIF($AD$15:AD455,AD455)>1,0,1))","v":0},{"$f":"IF(ROWS($AH$15:AH455)>MAX(AH:AH),\"\",INDEX(AD:AD,MATCH(ROWS($AH$15:AH455),AH:AH,0)))","v":""}]
[null,null,null,null,null,null,null,null,null,null,null,null,null,null,null,null,null,null,null,null,null,null,null,null,null,null,null,442,9,"","",{"$f":"AF455+IF(COUNTIF($AC$15:AC456,AC456)>1,0,1)","v":9},{"$f":"IF(ROWS(AF$15:AF456)>MAX(AF:AF),\"\",INDEX(AC:AC,MATCH(ROWS(AF$15:AF456),AF:AF,0)))","v":""},{"$f":"IF(AD456=\"\",AH455,AH455+IF(COUNTIF($AD$15:AD456,AD456)>1,0,1))","v":0},{"$f":"IF(ROWS($AH$15:AH456)>MAX(AH:AH),\"\",INDEX(AD:AD,MATCH(ROWS($AH$15:AH456),AH:AH,0)))","v":""}]
[null,null,null,null,null,null,null,null,null,null,null,null,null,null,null,null,null,null,null,null,null,null,null,null,null,null,null,443,9,"","",{"$f":"AF456+IF(COUNTIF($AC$15:AC457,AC457)>1,0,1)","v":9},{"$f":"IF(ROWS(AF$15:AF457)>MAX(AF:AF),\"\",INDEX(AC:AC,MATCH(ROWS(AF$15:AF457),AF:AF,0)))","v":""},{"$f":"IF(AD457=\"\",AH456,AH456+IF(COUNTIF($AD$15:AD457,AD457)>1,0,1))","v":0},{"$f":"IF(ROWS($AH$15:AH457)>MAX(AH:AH),\"\",INDEX(AD:AD,MATCH(ROWS($AH$15:AH457),AH:AH,0)))","v":""}]
[null,null,null,null,null,null,null,null,null,null,null,null,null,null,null,null,null,null,null,null,null,null,null,null,null,null,null,444,9,"","",{"$f":"AF457+IF(COUNTIF($AC$15:AC458,AC458)>1,0,1)","v":9},{"$f":"IF(ROWS(AF$15:AF458)>MAX(AF:AF),\"\",INDEX(AC:AC,MATCH(ROWS(AF$15:AF458),AF:AF,0)))","v":""},{"$f":"IF(AD458=\"\",AH457,AH457+IF(COUNTIF($AD$15:AD458,AD458)>1,0,1))","v":0},{"$f":"IF(ROWS($AH$15:AH458)>MAX(AH:AH),\"\",INDEX(AD:AD,MATCH(ROWS($AH$15:AH458),AH:AH,0)))","v":""}]
[null,null,null,null,null,null,null,null,null,null,null,null,null,null,null,null,null,null,null,null,null,null,null,null,null,null,null,445,9,"","",{"$f":"AF458+IF(COUNTIF($AC$15:AC459,AC459)>1,0,1)","v":9},{"$f":"IF(ROWS(AF$15:AF459)>MAX(AF:AF),\"\",INDEX(AC:AC,MATCH(ROWS(AF$15:AF459),AF:AF,0)))","v":""},{"$f":"IF(AD459=\"\",AH458,AH458+IF(COUNTIF($AD$15:AD459,AD459)>1,0,1))","v":0},{"$f":"IF(ROWS($AH$15:AH459)>MAX(AH:AH),\"\",INDEX(AD:AD,MATCH(ROWS($AH$15:AH459),AH:AH,0)))","v":""}]
[null,null,null,null,null,null,null,null,null,null,null,null,null,null,null,null,null,null,null,null,null,null,null,null,null,null,null,446,9,"","",{"$f":"AF459+IF(COUNTIF($AC$15:AC460,AC460)>1,0,1)","v":9},{"$f":"IF(ROWS(AF$15:AF460)>MAX(AF:AF),\"\",INDEX(AC:AC,MATCH(ROWS(AF$15:AF460),AF:AF,0)))","v":""},{"$f":"IF(AD460=\"\",AH459,AH459+IF(COUNTIF($AD$15:AD460,AD460)>1,0,1))","v":0},{"$f":"IF(ROWS($AH$15:AH460)>MAX(AH:AH),\"\",INDEX(AD:AD,MATCH(ROWS($AH$15:AH460),AH:AH,0)))","v":""}]
[null,null,null,null,null,null,null,null,null,null,null,null,null,null,null,null,null,null,null,null,null,null,null,null,null,null,null,447,9,"","",{"$f":"AF460+IF(COUNTIF($AC$15:AC461,AC461)>1,0,1)","v":9},{"$f":"IF(ROWS(AF$15:AF461)>MAX(AF:AF),\"\",INDEX(AC:AC,MATCH(ROWS(AF$15:AF461),AF:AF,0)))","v":""},{"$f":"IF(AD461=\"\",AH460,AH460+IF(COUNTIF($AD$15:AD461,AD461)>1,0,1))","v":0},{"$f":"IF(ROWS($AH$15:AH461)>MAX(AH:AH),\"\",INDEX(AD:AD,MATCH(ROWS($AH$15:AH461),AH:AH,0)))","v":""}]
[null,null,null,null,null,null,null,null,null,null,null,null,null,null,null,null,null,null,null,null,null,null,null,null,null,null,null,448,9,"","",{"$f":"AF461+IF(COUNTIF($AC$15:AC462,AC462)>1,0,1)","v":9},{"$f":"IF(ROWS(AF$15:AF462)>MAX(AF:AF),\"\",INDEX(AC:AC,MATCH(ROWS(AF$15:AF462),AF:AF,0)))","v":""},{"$f":"IF(AD462=\"\",AH461,AH461+IF(COUNTIF($AD$15:AD462,AD462)>1,0,1))","v":0},{"$f":"IF(ROWS($AH$15:AH462)>MAX(AH:AH),\"\",INDEX(AD:AD,MATCH(ROWS($AH$15:AH462),AH:AH,0)))","v":""}]
[null,null,null,null,null,null,null,null,null,null,null,null,null,null,null,null,null,null,null,null,null,null,null,null,null,null,null,449,9,"","",{"$f":"AF462+IF(COUNTIF($AC$15:AC463,AC463)>1,0,1)","v":9},{"$f":"IF(ROWS(AF$15:AF463)>MAX(AF:AF),\"\",INDEX(AC:AC,MATCH(ROWS(AF$15:AF463),AF:AF,0)))","v":""},{"$f":"IF(AD463=\"\",AH462,AH462+IF(COUNTIF($AD$15:AD463,AD463)>1,0,1))","v":0},{"$f":"IF(ROWS($AH$15:AH463)>MAX(AH:AH),\"\",INDEX(AD:AD,MATCH(ROWS($AH$15:AH463),AH:AH,0)))","v":""}]
[null,null,null,null,null,null,null,null,null,null,null,null,null,null,null,null,null,null,null,null,null,null,null,null,null,null,null,450,{"$f":"IF(INDIRECT($AC$1&\"D\"&$AB464+1)=\"\",\"\",INDIRECT($AC$1&\"D\"&$AB464+1))","v":9},{"$f":"IF(AC464=\"\",\"\",IF($E$16=AC464,INDIRECT($AC$1&\"E\"&$AB464+1),\"\"))","v":""},{"$f":"IF(ISBLANK($E$17),\"\",IF($E$17<>AD464,\"\",IF(INDIRECT($AC$1&\"U\"&$AB464+1)=\"Yes\",INDIRECT($AC$1&\"I\"&$AB464+1),\"\")))","v":""},{"$f":"AF463+IF(COUNTIF($AC$15:AC464,AC464)>1,0,1)","v":9},{"$f":"IF(ROWS(AF$15:AF464)>MAX(AF:AF),\"\",INDEX(AC:AC,MATCH(ROWS(AF$15:AF464),AF:AF,0)))","v":""},{"$f":"IF(AD464=\"\",AH463,AH463+IF(COUNTIF($AD$15:AD464,AD464)>1,0,1))","v":0},{"$f":"IF(ROWS($AH$15:AH464)>MAX(AH:AH),\"\",INDEX(AD:AD,MATCH(ROWS($AH$15:AH464),AH:AH,0)))","v":""}]
[null,null,null,null,null,null,null,null,null,null,null,null,null,null,null,null,null,null,null,null,null,null,null,null,null,null,null,{"$f":"AB464+1","v":451},9,"","",{"$f":"AF464+IF(COUNTIF($AC$15:AC465,AC465)>1,0,1)","v":9},{"$f":"IF(ROWS(AF$15:AF465)>MAX(AF:AF),\"\",INDEX(AC:AC,MATCH(ROWS(AF$15:AF465),AF:AF,0)))","v":""},{"$f":"IF(AD465=\"\",AH464,AH464+IF(COUNTIF($AD$15:AD465,AD465)>1,0,1))","v":0},{"$f":"IF(ROWS($AH$15:AH465)>MAX(AH:AH),\"\",INDEX(AD:AD,MATCH(ROWS($AH$15:AH465),AH:AH,0)))","v":""}]
[null,null,null,null,null,null,null,null,null,null,null,null,null,null,null,null,null,null,null,null,null,null,null,null,null,null,null,452,9,"","",{"$f":"AF465+IF(COUNTIF($AC$15:AC466,AC466)>1,0,1)","v":9},{"$f":"IF(ROWS(AF$15:AF466)>MAX(AF:AF),\"\",INDEX(AC:AC,MATCH(ROWS(AF$15:AF466),AF:AF,0)))","v":""},{"$f":"IF(AD466=\"\",AH465,AH465+IF(COUNTIF($AD$15:AD466,AD466)>1,0,1))","v":0},{"$f":"IF(ROWS($AH$15:AH466)>MAX(AH:AH),\"\",INDEX(AD:AD,MATCH(ROWS($AH$15:AH466),AH:AH,0)))","v":""}]
[null,null,null,null,null,null,null,null,null,null,null,null,null,null,null,null,null,null,null,null,null,null,null,null,null,null,null,453,9,"","",{"$f":"AF466+IF(COUNTIF($AC$15:AC467,AC467)>1,0,1)","v":9},{"$f":"IF(ROWS(AF$15:AF467)>MAX(AF:AF),\"\",INDEX(AC:AC,MATCH(ROWS(AF$15:AF467),AF:AF,0)))","v":""},{"$f":"IF(AD467=\"\",AH466,AH466+IF(COUNTIF($AD$15:AD467,AD467)>1,0,1))","v":0},{"$f":"IF(ROWS($AH$15:AH467)>MAX(AH:AH),\"\",INDEX(AD:AD,MATCH(ROWS($AH$15:AH467),AH:AH,0)))","v":""}]
[null,null,null,null,null,null,null,null,null,null,null,null,null,null,null,null,null,null,null,null,null,null,null,null,null,null,null,454,9,"","",{"$f":"AF467+IF(COUNTIF($AC$15:AC468,AC468)>1,0,1)","v":9},{"$f":"IF(ROWS(AF$15:AF468)>MAX(AF:AF),\"\",INDEX(AC:AC,MATCH(ROWS(AF$15:AF468),AF:AF,0)))","v":""},{"$f":"IF(AD468=\"\",AH467,AH467+IF(COUNTIF($AD$15:AD468,AD468)>1,0,1))","v":0},{"$f":"IF(ROWS($AH$15:AH468)>MAX(AH:AH),\"\",INDEX(AD:AD,MATCH(ROWS($AH$15:AH468),AH:AH,0)))","v":""}]
[null,null,null,null,null,null,null,null,null,null,null,null,null,null,null,null,null,null,null,null,null,null,null,null,null,null,null,455,9,"","",{"$f":"AF468+IF(COUNTIF($AC$15:AC469,AC469)>1,0,1)","v":9},{"$f":"IF(ROWS(AF$15:AF469)>MAX(AF:AF),\"\",INDEX(AC:AC,MATCH(ROWS(AF$15:AF469),AF:AF,0)))","v":""},{"$f":"IF(AD469=\"\",AH468,AH468+IF(COUNTIF($AD$15:AD469,AD469)>1,0,1))","v":0},{"$f":"IF(ROWS($AH$15:AH469)>MAX(AH:AH),\"\",INDEX(AD:AD,MATCH(ROWS($AH$15:AH469),AH:AH,0)))","v":""}]
[null,null,null,null,null,null,null,null,null,null,null,null,null,null,null,null,null,null,null,null,null,null,null,null,null,null,null,456,9,"","",{"$f":"AF469+IF(COUNTIF($AC$15:AC470,AC470)>1,0,1)","v":9},{"$f":"IF(ROWS(AF$15:AF470)>MAX(AF:AF),\"\",INDEX(AC:AC,MATCH(ROWS(AF$15:AF470),AF:AF,0)))","v":""},{"$f":"IF(AD470=\"\",AH469,AH469+IF(COUNTIF($AD$15:AD470,AD470)>1,0,1))","v":0},{"$f":"IF(ROWS($AH$15:AH470)>MAX(AH:AH),\"\",INDEX(AD:AD,MATCH(ROWS($AH$15:AH470),AH:AH,0)))","v":""}]
[null,null,null,null,null,null,null,null,null,null,null,null,null,null,null,null,null,null,null,null,null,null,null,null,null,null,null,457,9,"","",{"$f":"AF470+IF(COUNTIF($AC$15:AC471,AC471)>1,0,1)","v":9},{"$f":"IF(ROWS(AF$15:AF471)>MAX(AF:AF),\"\",INDEX(AC:AC,MATCH(ROWS(AF$15:AF471),AF:AF,0)))","v":""},{"$f":"IF(AD471=\"\",AH470,AH470+IF(COUNTIF($AD$15:AD471,AD471)>1,0,1))","v":0},{"$f":"IF(ROWS($AH$15:AH471)>MAX(AH:AH),\"\",INDEX(AD:AD,MATCH(ROWS($AH$15:AH471),AH:AH,0)))","v":""}]
[null,null,null,null,null,null,null,null,null,null,null,null,null,null,null,null,null,null,null,null,null,null,null,null,null,null,null,458,9,"","",{"$f":"AF471+IF(COUNTIF($AC$15:AC472,AC472)>1,0,1)","v":9},{"$f":"IF(ROWS(AF$15:AF472)>MAX(AF:AF),\"\",INDEX(AC:AC,MATCH(ROWS(AF$15:AF472),AF:AF,0)))","v":""},{"$f":"IF(AD472=\"\",AH471,AH471+IF(COUNTIF($AD$15:AD472,AD472)>1,0,1))","v":0},{"$f":"IF(ROWS($AH$15:AH472)>MAX(AH:AH),\"\",INDEX(AD:AD,MATCH(ROWS($AH$15:AH472),AH:AH,0)))","v":""}]
[null,null,null,null,null,null,null,null,null,null,null,null,null,null,null,null,null,null,null,null,null,null,null,null,null,null,null,459,9,"","",{"$f":"AF472+IF(COUNTIF($AC$15:AC473,AC473)>1,0,1)","v":9},{"$f":"IF(ROWS(AF$15:AF473)>MAX(AF:AF),\"\",INDEX(AC:AC,MATCH(ROWS(AF$15:AF473),AF:AF,0)))","v":""},{"$f":"IF(AD473=\"\",AH472,AH472+IF(COUNTIF($AD$15:AD473,AD473)>1,0,1))","v":0},{"$f":"IF(ROWS($AH$15:AH473)>MAX(AH:AH),\"\",INDEX(AD:AD,MATCH(ROWS($AH$15:AH473),AH:AH,0)))","v":""}]
[null,null,null,null,null,null,null,null,null,null,null,null,null,null,null,null,null,null,null,null,null,null,null,null,null,null,null,460,9,"","",{"$f":"AF473+IF(COUNTIF($AC$15:AC474,AC474)>1,0,1)","v":9},{"$f":"IF(ROWS(AF$15:AF474)>MAX(AF:AF),\"\",INDEX(AC:AC,MATCH(ROWS(AF$15:AF474),AF:AF,0)))","v":""},{"$f":"IF(AD474=\"\",AH473,AH473+IF(COUNTIF($AD$15:AD474,AD474)>1,0,1))","v":0},{"$f":"IF(ROWS($AH$15:AH474)>MAX(AH:AH),\"\",INDEX(AD:AD,MATCH(ROWS($AH$15:AH474),AH:AH,0)))","v":""}]
[null,null,null,null,null,null,null,null,null,null,null,null,null,null,null,null,null,null,null,null,null,null,null,null,null,null,null,461,9,"","",{"$f":"AF474+IF(COUNTIF($AC$15:AC475,AC475)>1,0,1)","v":9},{"$f":"IF(ROWS(AF$15:AF475)>MAX(AF:AF),\"\",INDEX(AC:AC,MATCH(ROWS(AF$15:AF475),AF:AF,0)))","v":""},{"$f":"IF(AD475=\"\",AH474,AH474+IF(COUNTIF($AD$15:AD475,AD475)>1,0,1))","v":0},{"$f":"IF(ROWS($AH$15:AH475)>MAX(AH:AH),\"\",INDEX(AD:AD,MATCH(ROWS($AH$15:AH475),AH:AH,0)))","v":""}]
[null,null,null,null,null,null,null,null,null,null,null,null,null,null,null,null,null,null,null,null,null,null,null,null,null,null,null,462,9,"","",{"$f":"AF475+IF(COUNTIF($AC$15:AC476,AC476)>1,0,1)","v":9},{"$f":"IF(ROWS(AF$15:AF476)>MAX(AF:AF),\"\",INDEX(AC:AC,MATCH(ROWS(AF$15:AF476),AF:AF,0)))","v":""},{"$f":"IF(AD476=\"\",AH475,AH475+IF(COUNTIF($AD$15:AD476,AD476)>1,0,1))","v":0},{"$f":"IF(ROWS($AH$15:AH476)>MAX(AH:AH),\"\",INDEX(AD:AD,MATCH(ROWS($AH$15:AH476),AH:AH,0)))","v":""}]
[null,null,null,null,null,null,null,null,null,null,null,null,null,null,null,null,null,null,null,null,null,null,null,null,null,null,null,463,9,"","",{"$f":"AF476+IF(COUNTIF($AC$15:AC477,AC477)>1,0,1)","v":9},{"$f":"IF(ROWS(AF$15:AF477)>MAX(AF:AF),\"\",INDEX(AC:AC,MATCH(ROWS(AF$15:AF477),AF:AF,0)))","v":""},{"$f":"IF(AD477=\"\",AH476,AH476+IF(COUNTIF($AD$15:AD477,AD477)>1,0,1))","v":0},{"$f":"IF(ROWS($AH$15:AH477)>MAX(AH:AH),\"\",INDEX(AD:AD,MATCH(ROWS($AH$15:AH477),AH:AH,0)))","v":""}]
[null,null,null,null,null,null,null,null,null,null,null,null,null,null,null,null,null,null,null,null,null,null,null,null,null,null,null,464,9,"","",{"$f":"AF477+IF(COUNTIF($AC$15:AC478,AC478)>1,0,1)","v":9},{"$f":"IF(ROWS(AF$15:AF478)>MAX(AF:AF),\"\",INDEX(AC:AC,MATCH(ROWS(AF$15:AF478),AF:AF,0)))","v":""},{"$f":"IF(AD478=\"\",AH477,AH477+IF(COUNTIF($AD$15:AD478,AD478)>1,0,1))","v":0},{"$f":"IF(ROWS($AH$15:AH478)>MAX(AH:AH),\"\",INDEX(AD:AD,MATCH(ROWS($AH$15:AH478),AH:AH,0)))","v":""}]
[null,null,null,null,null,null,null,null,null,null,null,null,null,null,null,null,null,null,null,null,null,null,null,null,null,null,null,465,9,"","",{"$f":"AF478+IF(COUNTIF($AC$15:AC479,AC479)>1,0,1)","v":9},{"$f":"IF(ROWS(AF$15:AF479)>MAX(AF:AF),\"\",INDEX(AC:AC,MATCH(ROWS(AF$15:AF479),AF:AF,0)))","v":""},{"$f":"IF(AD479=\"\",AH478,AH478+IF(COUNTIF($AD$15:AD479,AD479)>1,0,1))","v":0},{"$f":"IF(ROWS($AH$15:AH479)>MAX(AH:AH),\"\",INDEX(AD:AD,MATCH(ROWS($AH$15:AH479),AH:AH,0)))","v":""}]
[null,null,null,null,null,null,null,null,null,null,null,null,null,null,null,null,null,null,null,null,null,null,null,null,null,null,null,466,9,"","",{"$f":"AF479+IF(COUNTIF($AC$15:AC480,AC480)>1,0,1)","v":9},{"$f":"IF(ROWS(AF$15:AF480)>MAX(AF:AF),\"\",INDEX(AC:AC,MATCH(ROWS(AF$15:AF480),AF:AF,0)))","v":""},{"$f":"IF(AD480=\"\",AH479,AH479+IF(COUNTIF($AD$15:AD480,AD480)>1,0,1))","v":0},{"$f":"IF(ROWS($AH$15:AH480)>MAX(AH:AH),\"\",INDEX(AD:AD,MATCH(ROWS($AH$15:AH480),AH:AH,0)))","v":""}]
[null,null,null,null,null,null,null,null,null,null,null,null,null,null,null,null,null,null,null,null,null,null,null,null,null,null,null,467,9,"","",{"$f":"AF480+IF(COUNTIF($AC$15:AC481,AC481)>1,0,1)","v":9},{"$f":"IF(ROWS(AF$15:AF481)>MAX(AF:AF),\"\",INDEX(AC:AC,MATCH(ROWS(AF$15:AF481),AF:AF,0)))","v":""},{"$f":"IF(AD481=\"\",AH480,AH480+IF(COUNTIF($AD$15:AD481,AD481)>1,0,1))","v":0},{"$f":"IF(ROWS($AH$15:AH481)>MAX(AH:AH),\"\",INDEX(AD:AD,MATCH(ROWS($AH$15:AH481),AH:AH,0)))","v":""}]
[null,null,null,null,null,null,null,null,null,null,null,null,null,null,null,null,null,null,null,null,null,null,null,null,null,null,null,468,9,"","",{"$f":"AF481+IF(COUNTIF($AC$15:AC482,AC482)>1,0,1)","v":9},{"$f":"IF(ROWS(AF$15:AF482)>MAX(AF:AF),\"\",INDEX(AC:AC,MATCH(ROWS(AF$15:AF482),AF:AF,0)))","v":""},{"$f":"IF(AD482=\"\",AH481,AH481+IF(COUNTIF($AD$15:AD482,AD482)>1,0,1))","v":0},{"$f":"IF(ROWS($AH$15:AH482)>MAX(AH:AH),\"\",INDEX(AD:AD,MATCH(ROWS($AH$15:AH482),AH:AH,0)))","v":""}]
[null,null,null,null,null,null,null,null,null,null,null,null,null,null,null,null,null,null,null,null,null,null,null,null,null,null,null,469,9,"","",{"$f":"AF482+IF(COUNTIF($AC$15:AC483,AC483)>1,0,1)","v":9},{"$f":"IF(ROWS(AF$15:AF483)>MAX(AF:AF),\"\",INDEX(AC:AC,MATCH(ROWS(AF$15:AF483),AF:AF,0)))","v":""},{"$f":"IF(AD483=\"\",AH482,AH482+IF(COUNTIF($AD$15:AD483,AD483)>1,0,1))","v":0},{"$f":"IF(ROWS($AH$15:AH483)>MAX(AH:AH),\"\",INDEX(AD:AD,MATCH(ROWS($AH$15:AH483),AH:AH,0)))","v":""}]
[null,null,null,null,null,null,null,null,null,null,null,null,null,null,null,null,null,null,null,null,null,null,null,null,null,null,null,470,9,"","",{"$f":"AF483+IF(COUNTIF($AC$15:AC484,AC484)>1,0,1)","v":9},{"$f":"IF(ROWS(AF$15:AF484)>MAX(AF:AF),\"\",INDEX(AC:AC,MATCH(ROWS(AF$15:AF484),AF:AF,0)))","v":""},{"$f":"IF(AD484=\"\",AH483,AH483+IF(COUNTIF($AD$15:AD484,AD484)>1,0,1))","v":0},{"$f":"IF(ROWS($AH$15:AH484)>MAX(AH:AH),\"\",INDEX(AD:AD,MATCH(ROWS($AH$15:AH484),AH:AH,0)))","v":""}]
[null,null,null,null,null,null,null,null,null,null,null,null,null,null,null,null,null,null,null,null,null,null,null,null,null,null,null,471,9,"","",{"$f":"AF484+IF(COUNTIF($AC$15:AC485,AC485)>1,0,1)","v":9},{"$f":"IF(ROWS(AF$15:AF485)>MAX(AF:AF),\"\",INDEX(AC:AC,MATCH(ROWS(AF$15:AF485),AF:AF,0)))","v":""},{"$f":"IF(AD485=\"\",AH484,AH484+IF(COUNTIF($AD$15:AD485,AD485)>1,0,1))","v":0},{"$f":"IF(ROWS($AH$15:AH485)>MAX(AH:AH),\"\",INDEX(AD:AD,MATCH(ROWS($AH$15:AH485),AH:AH,0)))","v":""}]
[null,null,null,null,null,null,null,null,null,null,null,null,null,null,null,null,null,null,null,null,null,null,null,null,null,null,null,472,9,"","",{"$f":"AF485+IF(COUNTIF($AC$15:AC486,AC486)>1,0,1)","v":9},{"$f":"IF(ROWS(AF$15:AF486)>MAX(AF:AF),\"\",INDEX(AC:AC,MATCH(ROWS(AF$15:AF486),AF:AF,0)))","v":""},{"$f":"IF(AD486=\"\",AH485,AH485+IF(COUNTIF($AD$15:AD486,AD486)>1,0,1))","v":0},{"$f":"IF(ROWS($AH$15:AH486)>MAX(AH:AH),\"\",INDEX(AD:AD,MATCH(ROWS($AH$15:AH486),AH:AH,0)))","v":""}]
[null,null,null,null,null,null,null,null,null,null,null,null,null,null,null,null,null,null,null,null,null,null,null,null,null,null,null,473,9,"","",{"$f":"AF486+IF(COUNTIF($AC$15:AC487,AC487)>1,0,1)","v":9},{"$f":"IF(ROWS(AF$15:AF487)>MAX(AF:AF),\"\",INDEX(AC:AC,MATCH(ROWS(AF$15:AF487),AF:AF,0)))","v":""},{"$f":"IF(AD487=\"\",AH486,AH486+IF(COUNTIF($AD$15:AD487,AD487)>1,0,1))","v":0},{"$f":"IF(ROWS($AH$15:AH487)>MAX(AH:AH),\"\",INDEX(AD:AD,MATCH(ROWS($AH$15:AH487),AH:AH,0)))","v":""}]
[null,null,null,null,null,null,null,null,null,null,null,null,null,null,null,null,null,null,null,null,null,null,null,null,null,null,null,474,9,"","",{"$f":"AF487+IF(COUNTIF($AC$15:AC488,AC488)>1,0,1)","v":9},{"$f":"IF(ROWS(AF$15:AF488)>MAX(AF:AF),\"\",INDEX(AC:AC,MATCH(ROWS(AF$15:AF488),AF:AF,0)))","v":""},{"$f":"IF(AD488=\"\",AH487,AH487+IF(COUNTIF($AD$15:AD488,AD488)>1,0,1))","v":0},{"$f":"IF(ROWS($AH$15:AH488)>MAX(AH:AH),\"\",INDEX(AD:AD,MATCH(ROWS($AH$15:AH488),AH:AH,0)))","v":""}]
[null,null,null,null,null,null,null,null,null,null,null,null,null,null,null,null,null,null,null,null,null,null,null,null,null,null,null,475,9,"","",{"$f":"AF488+IF(COUNTIF($AC$15:AC489,AC489)>1,0,1)","v":9},{"$f":"IF(ROWS(AF$15:AF489)>MAX(AF:AF),\"\",INDEX(AC:AC,MATCH(ROWS(AF$15:AF489),AF:AF,0)))","v":""},{"$f":"IF(AD489=\"\",AH488,AH488+IF(COUNTIF($AD$15:AD489,AD489)>1,0,1))","v":0},{"$f":"IF(ROWS($AH$15:AH489)>MAX(AH:AH),\"\",INDEX(AD:AD,MATCH(ROWS($AH$15:AH489),AH:AH,0)))","v":""}]
[null,null,null,null,null,null,null,null,null,null,null,null,null,null,null,null,null,null,null,null,null,null,null,null,null,null,null,476,9,"","",{"$f":"AF489+IF(COUNTIF($AC$15:AC490,AC490)>1,0,1)","v":9},{"$f":"IF(ROWS(AF$15:AF490)>MAX(AF:AF),\"\",INDEX(AC:AC,MATCH(ROWS(AF$15:AF490),AF:AF,0)))","v":""},{"$f":"IF(AD490=\"\",AH489,AH489+IF(COUNTIF($AD$15:AD490,AD490)>1,0,1))","v":0},{"$f":"IF(ROWS($AH$15:AH490)>MAX(AH:AH),\"\",INDEX(AD:AD,MATCH(ROWS($AH$15:AH490),AH:AH,0)))","v":""}]
[null,null,null,null,null,null,null,null,null,null,null,null,null,null,null,null,null,null,null,null,null,null,null,null,null,null,null,477,9,"","",{"$f":"AF490+IF(COUNTIF($AC$15:AC491,AC491)>1,0,1)","v":9},{"$f":"IF(ROWS(AF$15:AF491)>MAX(AF:AF),\"\",INDEX(AC:AC,MATCH(ROWS(AF$15:AF491),AF:AF,0)))","v":""},{"$f":"IF(AD491=\"\",AH490,AH490+IF(COUNTIF($AD$15:AD491,AD491)>1,0,1))","v":0},{"$f":"IF(ROWS($AH$15:AH491)>MAX(AH:AH),\"\",INDEX(AD:AD,MATCH(ROWS($AH$15:AH491),AH:AH,0)))","v":""}]
[null,null,null,null,null,null,null,null,null,null,null,null,null,null,null,null,null,null,null,null,null,null,null,null,null,null,null,478,9,"","",{"$f":"AF491+IF(COUNTIF($AC$15:AC492,AC492)>1,0,1)","v":9},{"$f":"IF(ROWS(AF$15:AF492)>MAX(AF:AF),\"\",INDEX(AC:AC,MATCH(ROWS(AF$15:AF492),AF:AF,0)))","v":""},{"$f":"IF(AD492=\"\",AH491,AH491+IF(COUNTIF($AD$15:AD492,AD492)>1,0,1))","v":0},{"$f":"IF(ROWS($AH$15:AH492)>MAX(AH:AH),\"\",INDEX(AD:AD,MATCH(ROWS($AH$15:AH492),AH:AH,0)))","v":""}]
[null,null,null,null,null,null,null,null,null,null,null,null,null,null,null,null,null,null,null,null,null,null,null,null,null,null,null,479,9,"","",{"$f":"AF492+IF(COUNTIF($AC$15:AC493,AC493)>1,0,1)","v":9},{"$f":"IF(ROWS(AF$15:AF493)>MAX(AF:AF),\"\",INDEX(AC:AC,MATCH(ROWS(AF$15:AF493),AF:AF,0)))","v":""},{"$f":"IF(AD493=\"\",AH492,AH492+IF(COUNTIF($AD$15:AD493,AD493)>1,0,1))","v":0},{"$f":"IF(ROWS($AH$15:AH493)>MAX(AH:AH),\"\",INDEX(AD:AD,MATCH(ROWS($AH$15:AH493),AH:AH,0)))","v":""}]
[null,null,null,null,null,null,null,null,null,null,null,null,null,null,null,null,null,null,null,null,null,null,null,null,null,null,null,480,9,"","",{"$f":"AF493+IF(COUNTIF($AC$15:AC494,AC494)>1,0,1)","v":9},{"$f":"IF(ROWS(AF$15:AF494)>MAX(AF:AF),\"\",INDEX(AC:AC,MATCH(ROWS(AF$15:AF494),AF:AF,0)))","v":""},{"$f":"IF(AD494=\"\",AH493,AH493+IF(COUNTIF($AD$15:AD494,AD494)>1,0,1))","v":0},{"$f":"IF(ROWS($AH$15:AH494)>MAX(AH:AH),\"\",INDEX(AD:AD,MATCH(ROWS($AH$15:AH494),AH:AH,0)))","v":""}]
[null,null,null,null,null,null,null,null,null,null,null,null,null,null,null,null,null,null,null,null,null,null,null,null,null,null,null,481,9,"","",{"$f":"AF494+IF(COUNTIF($AC$15:AC495,AC495)>1,0,1)","v":9},{"$f":"IF(ROWS(AF$15:AF495)>MAX(AF:AF),\"\",INDEX(AC:AC,MATCH(ROWS(AF$15:AF495),AF:AF,0)))","v":""},{"$f":"IF(AD495=\"\",AH494,AH494+IF(COUNTIF($AD$15:AD495,AD495)>1,0,1))","v":0},{"$f":"IF(ROWS($AH$15:AH495)>MAX(AH:AH),\"\",INDEX(AD:AD,MATCH(ROWS($AH$15:AH495),AH:AH,0)))","v":""}]
[null,null,null,null,null,null,null,null,null,null,null,null,null,null,null,null,null,null,null,null,null,null,null,null,null,null,null,482,9,"","",{"$f":"AF495+IF(COUNTIF($AC$15:AC496,AC496)>1,0,1)","v":9},{"$f":"IF(ROWS(AF$15:AF496)>MAX(AF:AF),\"\",INDEX(AC:AC,MATCH(ROWS(AF$15:AF496),AF:AF,0)))","v":""},{"$f":"IF(AD496=\"\",AH495,AH495+IF(COUNTIF($AD$15:AD496,AD496)>1,0,1))","v":0},{"$f":"IF(ROWS($AH$15:AH496)>MAX(AH:AH),\"\",INDEX(AD:AD,MATCH(ROWS($AH$15:AH496),AH:AH,0)))","v":""}]
[null,null,null,null,null,null,null,null,null,null,null,null,null,null,null,null,null,null,null,null,null,null,null,null,null,null,null,483,9,"","",{"$f":"AF496+IF(COUNTIF($AC$15:AC497,AC497)>1,0,1)","v":9},{"$f":"IF(ROWS(AF$15:AF497)>MAX(AF:AF),\"\",INDEX(AC:AC,MATCH(ROWS(AF$15:AF497),AF:AF,0)))","v":""},{"$f":"IF(AD497=\"\",AH496,AH496+IF(COUNTIF($AD$15:AD497,AD497)>1,0,1))","v":0},{"$f":"IF(ROWS($AH$15:AH497)>MAX(AH:AH),\"\",INDEX(AD:AD,MATCH(ROWS($AH$15:AH497),AH:AH,0)))","v":""}]
[null,null,null,null,null,null,null,null,null,null,null,null,null,null,null,null,null,null,null,null,null,null,null,null,null,null,null,484,9,"","",{"$f":"AF497+IF(COUNTIF($AC$15:AC498,AC498)>1,0,1)","v":9},{"$f":"IF(ROWS(AF$15:AF498)>MAX(AF:AF),\"\",INDEX(AC:AC,MATCH(ROWS(AF$15:AF498),AF:AF,0)))","v":""},{"$f":"IF(AD498=\"\",AH497,AH497+IF(COUNTIF($AD$15:AD498,AD498)>1,0,1))","v":0},{"$f":"IF(ROWS($AH$15:AH498)>MAX(AH:AH),\"\",INDEX(AD:AD,MATCH(ROWS($AH$15:AH498),AH:AH,0)))","v":""}]
[null,null,null,null,null,null,null,null,null,null,null,null,null,null,null,null,null,null,null,null,null,null,null,null,null,null,null,485,9,"","",{"$f":"AF498+IF(COUNTIF($AC$15:AC499,AC499)>1,0,1)","v":9},{"$f":"IF(ROWS(AF$15:AF499)>MAX(AF:AF),\"\",INDEX(AC:AC,MATCH(ROWS(AF$15:AF499),AF:AF,0)))","v":""},{"$f":"IF(AD499=\"\",AH498,AH498+IF(COUNTIF($AD$15:AD499,AD499)>1,0,1))","v":0},{"$f":"IF(ROWS($AH$15:AH499)>MAX(AH:AH),\"\",INDEX(AD:AD,MATCH(ROWS($AH$15:AH499),AH:AH,0)))","v":""}]
[null,null,null,null,null,null,null,null,null,null,null,null,null,null,null,null,null,null,null,null,null,null,null,null,null,null,null,486,9,"","",{"$f":"AF499+IF(COUNTIF($AC$15:AC500,AC500)>1,0,1)","v":9},{"$f":"IF(ROWS(AF$15:AF500)>MAX(AF:AF),\"\",INDEX(AC:AC,MATCH(ROWS(AF$15:AF500),AF:AF,0)))","v":""},{"$f":"IF(AD500=\"\",AH499,AH499+IF(COUNTIF($AD$15:AD500,AD500)>1,0,1))","v":0},{"$f":"IF(ROWS($AH$15:AH500)>MAX(AH:AH),\"\",INDEX(AD:AD,MATCH(ROWS($AH$15:AH500),AH:AH,0)))","v":""}]
[null,null,null,null,null,null,null,null,null,null,null,null,null,null,null,null,null,null,null,null,null,null,null,null,null,null,null,487,9,"","",{"$f":"AF500+IF(COUNTIF($AC$15:AC501,AC501)>1,0,1)","v":9},{"$f":"IF(ROWS(AF$15:AF501)>MAX(AF:AF),\"\",INDEX(AC:AC,MATCH(ROWS(AF$15:AF501),AF:AF,0)))","v":""},{"$f":"IF(AD501=\"\",AH500,AH500+IF(COUNTIF($AD$15:AD501,AD501)>1,0,1))","v":0},{"$f":"IF(ROWS($AH$15:AH501)>MAX(AH:AH),\"\",INDEX(AD:AD,MATCH(ROWS($AH$15:AH501),AH:AH,0)))","v":""}]
[null,null,null,null,null,null,null,null,null,null,null,null,null,null,null,null,null,null,null,null,null,null,null,null,null,null,null,488,9,"","",{"$f":"AF501+IF(COUNTIF($AC$15:AC502,AC502)>1,0,1)","v":9},{"$f":"IF(ROWS(AF$15:AF502)>MAX(AF:AF),\"\",INDEX(AC:AC,MATCH(ROWS(AF$15:AF502),AF:AF,0)))","v":""},{"$f":"IF(AD502=\"\",AH501,AH501+IF(COUNTIF($AD$15:AD502,AD502)>1,0,1))","v":0},{"$f":"IF(ROWS($AH$15:AH502)>MAX(AH:AH),\"\",INDEX(AD:AD,MATCH(ROWS($AH$15:AH502),AH:AH,0)))","v":""}]
[null,null,null,null,null,null,null,null,null,null,null,null,null,null,null,null,null,null,null,null,null,null,null,null,null,null,null,489,9,"","",{"$f":"AF502+IF(COUNTIF($AC$15:AC503,AC503)>1,0,1)","v":9},{"$f":"IF(ROWS(AF$15:AF503)>MAX(AF:AF),\"\",INDEX(AC:AC,MATCH(ROWS(AF$15:AF503),AF:AF,0)))","v":""},{"$f":"IF(AD503=\"\",AH502,AH502+IF(COUNTIF($AD$15:AD503,AD503)>1,0,1))","v":0},{"$f":"IF(ROWS($AH$15:AH503)>MAX(AH:AH),\"\",INDEX(AD:AD,MATCH(ROWS($AH$15:AH503),AH:AH,0)))","v":""}]
[null,null,null,null,null,null,null,null,null,null,null,null,null,null,null,null,null,null,null,null,null,null,null,null,null,null,null,490,9,"","",{"$f":"AF503+IF(COUNTIF($AC$15:AC504,AC504)>1,0,1)","v":9},{"$f":"IF(ROWS(AF$15:AF504)>MAX(AF:AF),\"\",INDEX(AC:AC,MATCH(ROWS(AF$15:AF504),AF:AF,0)))","v":""},{"$f":"IF(AD504=\"\",AH503,AH503+IF(COUNTIF($AD$15:AD504,AD504)>1,0,1))","v":0},{"$f":"IF(ROWS($AH$15:AH504)>MAX(AH:AH),\"\",INDEX(AD:AD,MATCH(ROWS($AH$15:AH504),AH:AH,0)))","v":""}]
[null,null,null,null,null,null,null,null,null,null,null,null,null,null,null,null,null,null,null,null,null,null,null,null,null,null,null,491,9,"","",{"$f":"AF504+IF(COUNTIF($AC$15:AC505,AC505)>1,0,1)","v":9},{"$f":"IF(ROWS(AF$15:AF505)>MAX(AF:AF),\"\",INDEX(AC:AC,MATCH(ROWS(AF$15:AF505),AF:AF,0)))","v":""},{"$f":"IF(AD505=\"\",AH504,AH504+IF(COUNTIF($AD$15:AD505,AD505)>1,0,1))","v":0},{"$f":"IF(ROWS($AH$15:AH505)>MAX(AH:AH),\"\",INDEX(AD:AD,MATCH(ROWS($AH$15:AH505),AH:AH,0)))","v":""}]
[null,null,null,null,null,null,null,null,null,null,null,null,null,null,null,null,null,null,null,null,null,null,null,null,null,null,null,492,9,"","",{"$f":"AF505+IF(COUNTIF($AC$15:AC506,AC506)>1,0,1)","v":9},{"$f":"IF(ROWS(AF$15:AF506)>MAX(AF:AF),\"\",INDEX(AC:AC,MATCH(ROWS(AF$15:AF506),AF:AF,0)))","v":""},{"$f":"IF(AD506=\"\",AH505,AH505+IF(COUNTIF($AD$15:AD506,AD506)>1,0,1))","v":0},{"$f":"IF(ROWS($AH$15:AH506)>MAX(AH:AH),\"\",INDEX(AD:AD,MATCH(ROWS($AH$15:AH506),AH:AH,0)))","v":""}]
[null,null,null,null,null,null,null,null,null,null,null,null,null,null,null,null,null,null,null,null,null,null,null,null,null,null,null,493,9,"","",{"$f":"AF506+IF(COUNTIF($AC$15:AC507,AC507)>1,0,1)","v":9},{"$f":"IF(ROWS(AF$15:AF507)>MAX(AF:AF),\"\",INDEX(AC:AC,MATCH(ROWS(AF$15:AF507),AF:AF,0)))","v":""},{"$f":"IF(AD507=\"\",AH506,AH506+IF(COUNTIF($AD$15:AD507,AD507)>1,0,1))","v":0},{"$f":"IF(ROWS($AH$15:AH507)>MAX(AH:AH),\"\",INDEX(AD:AD,MATCH(ROWS($AH$15:AH507),AH:AH,0)))","v":""}]
[null,null,null,null,null,null,null,null,null,null,null,null,null,null,null,null,null,null,null,null,null,null,null,null,null,null,null,494,9,"","",{"$f":"AF507+IF(COUNTIF($AC$15:AC508,AC508)>1,0,1)","v":9},{"$f":"IF(ROWS(AF$15:AF508)>MAX(AF:AF),\"\",INDEX(AC:AC,MATCH(ROWS(AF$15:AF508),AF:AF,0)))","v":""},{"$f":"IF(AD508=\"\",AH507,AH507+IF(COUNTIF($AD$15:AD508,AD508)>1,0,1))","v":0},{"$f":"IF(ROWS($AH$15:AH508)>MAX(AH:AH),\"\",INDEX(AD:AD,MATCH(ROWS($AH$15:AH508),AH:AH,0)))","v":""}]
[null,null,null,null,null,null,null,null,null,null,null,null,null,null,null,null,null,null,null,null,null,null,null,null,null,null,null,495,9,"","",{"$f":"AF508+IF(COUNTIF($AC$15:AC509,AC509)>1,0,1)","v":9},{"$f":"IF(ROWS(AF$15:AF509)>MAX(AF:AF),\"\",INDEX(AC:AC,MATCH(ROWS(AF$15:AF509),AF:AF,0)))","v":""},{"$f":"IF(AD509=\"\",AH508,AH508+IF(COUNTIF($AD$15:AD509,AD509)>1,0,1))","v":0},{"$f":"IF(ROWS($AH$15:AH509)>MAX(AH:AH),\"\",INDEX(AD:AD,MATCH(ROWS($AH$15:AH509),AH:AH,0)))","v":""}]
[null,null,null,null,null,null,null,null,null,null,null,null,null,null,null,null,null,null,null,null,null,null,null,null,null,null,null,496,9,"","",{"$f":"AF509+IF(COUNTIF($AC$15:AC510,AC510)>1,0,1)","v":9},{"$f":"IF(ROWS(AF$15:AF510)>MAX(AF:AF),\"\",INDEX(AC:AC,MATCH(ROWS(AF$15:AF510),AF:AF,0)))","v":""},{"$f":"IF(AD510=\"\",AH509,AH509+IF(COUNTIF($AD$15:AD510,AD510)>1,0,1))","v":0},{"$f":"IF(ROWS($AH$15:AH510)>MAX(AH:AH),\"\",INDEX(AD:AD,MATCH(ROWS($AH$15:AH510),AH:AH,0)))","v":""}]
[null,null,null,null,null,null,null,null,null,null,null,null,null,null,null,null,null,null,null,null,null,null,null,null,null,null,null,497,9,"","",{"$f":"AF510+IF(COUNTIF($AC$15:AC511,AC511)>1,0,1)","v":9},{"$f":"IF(ROWS(AF$15:AF511)>MAX(AF:AF),\"\",INDEX(AC:AC,MATCH(ROWS(AF$15:AF511),AF:AF,0)))","v":""},{"$f":"IF(AD511=\"\",AH510,AH510+IF(COUNTIF($AD$15:AD511,AD511)>1,0,1))","v":0},{"$f":"IF(ROWS($AH$15:AH511)>MAX(AH:AH),\"\",INDEX(AD:AD,MATCH(ROWS($AH$15:AH511),AH:AH,0)))","v":""}]
[null,null,null,null,null,null,null,null,null,null,null,null,null,null,null,null,null,null,null,null,null,null,null,null,null,null,null,498,9,"","",{"$f":"AF511+IF(COUNTIF($AC$15:AC512,AC512)>1,0,1)","v":9},{"$f":"IF(ROWS(AF$15:AF512)>MAX(AF:AF),\"\",INDEX(AC:AC,MATCH(ROWS(AF$15:AF512),AF:AF,0)))","v":""},{"$f":"IF(AD512=\"\",AH511,AH511+IF(COUNTIF($AD$15:AD512,AD512)>1,0,1))","v":0},{"$f":"IF(ROWS($AH$15:AH512)>MAX(AH:AH),\"\",INDEX(AD:AD,MATCH(ROWS($AH$15:AH512),AH:AH,0)))","v":""}]
[null,null,null,null,null,null,null,null,null,null,null,null,null,null,null,null,null,null,null,null,null,null,null,null,null,null,null,499,9,"","",{"$f":"AF512+IF(COUNTIF($AC$15:AC513,AC513)>1,0,1)","v":9},{"$f":"IF(ROWS(AF$15:AF513)>MAX(AF:AF),\"\",INDEX(AC:AC,MATCH(ROWS(AF$15:AF513),AF:AF,0)))","v":""},{"$f":"IF(AD513=\"\",AH512,AH512+IF(COUNTIF($AD$15:AD513,AD513)>1,0,1))","v":0},{"$f":"IF(ROWS($AH$15:AH513)>MAX(AH:AH),\"\",INDEX(AD:AD,MATCH(ROWS($AH$15:AH513),AH:AH,0)))","v":""}]
[null,null,null,null,null,null,null,null,null,null,null,null,null,null,null,null,null,null,null,null,null,null,null,null,null,null,null,500,9,"","",{"$f":"AF513+IF(COUNTIF($AC$15:AC514,AC514)>1,0,1)","v":9},{"$f":"IF(ROWS(AF$15:AF514)>MAX(AF:AF),\"\",INDEX(AC:AC,MATCH(ROWS(AF$15:AF514),AF:AF,0)))","v":""},{"$f":"IF(AD514=\"\",AH513,AH513+IF(COUNTIF($AD$15:AD514,AD514)>1,0,1))","v":0},{"$f":"IF(ROWS($AH$15:AH514)>MAX(AH:AH),\"\",INDEX(AD:AD,MATCH(ROWS($AH$15:AH514),AH:AH,0)))","v":""}]
[null,null,null,null,null,null,null,null,null,null,null,null,null,null,null,null,null,null,null,null,null,null,null,null,null,null,null,501,9,"","",{"$f":"AF514+IF(COUNTIF($AC$15:AC515,AC515)>1,0,1)","v":9},{"$f":"IF(ROWS(AF$15:AF515)>MAX(AF:AF),\"\",INDEX(AC:AC,MATCH(ROWS(AF$15:AF515),AF:AF,0)))","v":""},{"$f":"IF(AD515=\"\",AH514,AH514+IF(COUNTIF($AD$15:AD515,AD515)>1,0,1))","v":0},{"$f":"IF(ROWS($AH$15:AH515)>MAX(AH:AH),\"\",INDEX(AD:AD,MATCH(ROWS($AH$15:AH515),AH:AH,0)))","v":""}]
[null,null,null,null,null,null,null,null,null,null,null,null,null,null,null,null,null,null,null,null,null,null,null,null,null,null,null,502,9,"","",{"$f":"AF515+IF(COUNTIF($AC$15:AC516,AC516)>1,0,1)","v":9},{"$f":"IF(ROWS(AF$15:AF516)>MAX(AF:AF),\"\",INDEX(AC:AC,MATCH(ROWS(AF$15:AF516),AF:AF,0)))","v":""},{"$f":"IF(AD516=\"\",AH515,AH515+IF(COUNTIF($AD$15:AD516,AD516)>1,0,1))","v":0},{"$f":"IF(ROWS($AH$15:AH516)>MAX(AH:AH),\"\",INDEX(AD:AD,MATCH(ROWS($AH$15:AH516),AH:AH,0)))","v":""}]
[null,null,null,null,null,null,null,null,null,null,null,null,null,null,null,null,null,null,null,null,null,null,null,null,null,null,null,503,9,"","",{"$f":"AF516+IF(COUNTIF($AC$15:AC517,AC517)>1,0,1)","v":9},{"$f":"IF(ROWS(AF$15:AF517)>MAX(AF:AF),\"\",INDEX(AC:AC,MATCH(ROWS(AF$15:AF517),AF:AF,0)))","v":""},{"$f":"IF(AD517=\"\",AH516,AH516+IF(COUNTIF($AD$15:AD517,AD517)>1,0,1))","v":0},{"$f":"IF(ROWS($AH$15:AH517)>MAX(AH:AH),\"\",INDEX(AD:AD,MATCH(ROWS($AH$15:AH517),AH:AH,0)))","v":""}]
[null,null,null,null,null,null,null,null,null,null,null,null,null,null,null,null,null,null,null,null,null,null,null,null,null,null,null,504,9,"","",{"$f":"AF517+IF(COUNTIF($AC$15:AC518,AC518)>1,0,1)","v":9},{"$f":"IF(ROWS(AF$15:AF518)>MAX(AF:AF),\"\",INDEX(AC:AC,MATCH(ROWS(AF$15:AF518),AF:AF,0)))","v":""},{"$f":"IF(AD518=\"\",AH517,AH517+IF(COUNTIF($AD$15:AD518,AD518)>1,0,1))","v":0},{"$f":"IF(ROWS($AH$15:AH518)>MAX(AH:AH),\"\",INDEX(AD:AD,MATCH(ROWS($AH$15:AH518),AH:AH,0)))","v":""}]
[null,null,null,null,null,null,null,null,null,null,null,null,null,null,null,null,null,null,null,null,null,null,null,null,null,null,null,505,9,"","",{"$f":"AF518+IF(COUNTIF($AC$15:AC519,AC519)>1,0,1)","v":9},{"$f":"IF(ROWS(AF$15:AF519)>MAX(AF:AF),\"\",INDEX(AC:AC,MATCH(ROWS(AF$15:AF519),AF:AF,0)))","v":""},{"$f":"IF(AD519=\"\",AH518,AH518+IF(COUNTIF($AD$15:AD519,AD519)>1,0,1))","v":0},{"$f":"IF(ROWS($AH$15:AH519)>MAX(AH:AH),\"\",INDEX(AD:AD,MATCH(ROWS($AH$15:AH519),AH:AH,0)))","v":""}]
[null,null,null,null,null,null,null,null,null,null,null,null,null,null,null,null,null,null,null,null,null,null,null,null,null,null,null,506,9,"","",{"$f":"AF519+IF(COUNTIF($AC$15:AC520,AC520)>1,0,1)","v":9},{"$f":"IF(ROWS(AF$15:AF520)>MAX(AF:AF),\"\",INDEX(AC:AC,MATCH(ROWS(AF$15:AF520),AF:AF,0)))","v":""},{"$f":"IF(AD520=\"\",AH519,AH519+IF(COUNTIF($AD$15:AD520,AD520)>1,0,1))","v":0},{"$f":"IF(ROWS($AH$15:AH520)>MAX(AH:AH),\"\",INDEX(AD:AD,MATCH(ROWS($AH$15:AH520),AH:AH,0)))","v":""}]
[null,null,null,null,null,null,null,null,null,null,null,null,null,null,null,null,null,null,null,null,null,null,null,null,null,null,null,507,9,"","",{"$f":"AF520+IF(COUNTIF($AC$15:AC521,AC521)>1,0,1)","v":9},{"$f":"IF(ROWS(AF$15:AF521)>MAX(AF:AF),\"\",INDEX(AC:AC,MATCH(ROWS(AF$15:AF521),AF:AF,0)))","v":""},{"$f":"IF(AD521=\"\",AH520,AH520+IF(COUNTIF($AD$15:AD521,AD521)>1,0,1))","v":0},{"$f":"IF(ROWS($AH$15:AH521)>MAX(AH:AH),\"\",INDEX(AD:AD,MATCH(ROWS($AH$15:AH521),AH:AH,0)))","v":""}]
[null,null,null,null,null,null,null,null,null,null,null,null,null,null,null,null,null,null,null,null,null,null,null,null,null,null,null,508,9,"","",{"$f":"AF521+IF(COUNTIF($AC$15:AC522,AC522)>1,0,1)","v":9},{"$f":"IF(ROWS(AF$15:AF522)>MAX(AF:AF),\"\",INDEX(AC:AC,MATCH(ROWS(AF$15:AF522),AF:AF,0)))","v":""},{"$f":"IF(AD522=\"\",AH521,AH521+IF(COUNTIF($AD$15:AD522,AD522)>1,0,1))","v":0},{"$f":"IF(ROWS($AH$15:AH522)>MAX(AH:AH),\"\",INDEX(AD:AD,MATCH(ROWS($AH$15:AH522),AH:AH,0)))","v":""}]
[null,null,null,null,null,null,null,null,null,null,null,null,null,null,null,null,null,null,null,null,null,null,null,null,null,null,null,509,9,"","",{"$f":"AF522+IF(COUNTIF($AC$15:AC523,AC523)>1,0,1)","v":9},{"$f":"IF(ROWS(AF$15:AF523)>MAX(AF:AF),\"\",INDEX(AC:AC,MATCH(ROWS(AF$15:AF523),AF:AF,0)))","v":""},{"$f":"IF(AD523=\"\",AH522,AH522+IF(COUNTIF($AD$15:AD523,AD523)>1,0,1))","v":0},{"$f":"IF(ROWS($AH$15:AH523)>MAX(AH:AH),\"\",INDEX(AD:AD,MATCH(ROWS($AH$15:AH523),AH:AH,0)))","v":""}]
[null,null,null,null,null,null,null,null,null,null,null,null,null,null,null,null,null,null,null,null,null,null,null,null,null,null,null,510,9,"","",{"$f":"AF523+IF(COUNTIF($AC$15:AC524,AC524)>1,0,1)","v":9},{"$f":"IF(ROWS(AF$15:AF524)>MAX(AF:AF),\"\",INDEX(AC:AC,MATCH(ROWS(AF$15:AF524),AF:AF,0)))","v":""},{"$f":"IF(AD524=\"\",AH523,AH523+IF(COUNTIF($AD$15:AD524,AD524)>1,0,1))","v":0},{"$f":"IF(ROWS($AH$15:AH524)>MAX(AH:AH),\"\",INDEX(AD:AD,MATCH(ROWS($AH$15:AH524),AH:AH,0)))","v":""}]
[null,null,null,null,null,null,null,null,null,null,null,null,null,null,null,null,null,null,null,null,null,null,null,null,null,null,null,511,9,"","",{"$f":"AF524+IF(COUNTIF($AC$15:AC525,AC525)>1,0,1)","v":9},{"$f":"IF(ROWS(AF$15:AF525)>MAX(AF:AF),\"\",INDEX(AC:AC,MATCH(ROWS(AF$15:AF525),AF:AF,0)))","v":""},{"$f":"IF(AD525=\"\",AH524,AH524+IF(COUNTIF($AD$15:AD525,AD525)>1,0,1))","v":0},{"$f":"IF(ROWS($AH$15:AH525)>MAX(AH:AH),\"\",INDEX(AD:AD,MATCH(ROWS($AH$15:AH525),AH:AH,0)))","v":""}]
[null,null,null,null,null,null,null,null,null,null,null,null,null,null,null,null,null,null,null,null,null,null,null,null,null,null,null,512,9,"","",{"$f":"AF525+IF(COUNTIF($AC$15:AC526,AC526)>1,0,1)","v":9},{"$f":"IF(ROWS(AF$15:AF526)>MAX(AF:AF),\"\",INDEX(AC:AC,MATCH(ROWS(AF$15:AF526),AF:AF,0)))","v":""},{"$f":"IF(AD526=\"\",AH525,AH525+IF(COUNTIF($AD$15:AD526,AD526)>1,0,1))","v":0},{"$f":"IF(ROWS($AH$15:AH526)>MAX(AH:AH),\"\",INDEX(AD:AD,MATCH(ROWS($AH$15:AH526),AH:AH,0)))","v":""}]
[null,null,null,null,null,null,null,null,null,null,null,null,null,null,null,null,null,null,null,null,null,null,null,null,null,null,null,513,9,"","",{"$f":"AF526+IF(COUNTIF($AC$15:AC527,AC527)>1,0,1)","v":9},{"$f":"IF(ROWS(AF$15:AF527)>MAX(AF:AF),\"\",INDEX(AC:AC,MATCH(ROWS(AF$15:AF527),AF:AF,0)))","v":""},{"$f":"IF(AD527=\"\",AH526,AH526+IF(COUNTIF($AD$15:AD527,AD527)>1,0,1))","v":0},{"$f":"IF(ROWS($AH$15:AH527)>MAX(AH:AH),\"\",INDEX(AD:AD,MATCH(ROWS($AH$15:AH527),AH:AH,0)))","v":""}]
[null,null,null,null,null,null,null,null,null,null,null,null,null,null,null,null,null,null,null,null,null,null,null,null,null,null,null,514,{"$f":"IF(INDIRECT($AC$1&\"D\"&$AB528+1)=\"\",\"\",INDIRECT($AC$1&\"D\"&$AB528+1))","v":9},{"$f":"IF(AC528=\"\",\"\",IF($E$16=AC528,INDIRECT($AC$1&\"E\"&$AB528+1),\"\"))","v":""},{"$f":"IF(ISBLANK($E$17),\"\",IF($E$17<>AD528,\"\",IF(INDIRECT($AC$1&\"U\"&$AB528+1)=\"Yes\",INDIRECT($AC$1&\"I\"&$AB528+1),\"\")))","v":""},{"$f":"AF527+IF(COUNTIF($AC$15:AC528,AC528)>1,0,1)","v":9},{"$f":"IF(ROWS(AF$15:AF528)>MAX(AF:AF),\"\",INDEX(AC:AC,MATCH(ROWS(AF$15:AF528),AF:AF,0)))","v":""},{"$f":"IF(AD528=\"\",AH527,AH527+IF(COUNTIF($AD$15:AD528,AD528)>1,0,1))","v":0},{"$f":"IF(ROWS($AH$15:AH528)>MAX(AH:AH),\"\",INDEX(AD:AD,MATCH(ROWS($AH$15:AH528),AH:AH,0)))","v":""}]
[null,null,null,null,null,null,null,null,null,null,null,null,null,null,null,null,null,null,null,null,null,null,null,null,null,null,null,{"$f":"AB528+1","v":515},9,"","",{"$f":"AF528+IF(COUNTIF($AC$15:AC529,AC529)>1,0,1)","v":9},{"$f":"IF(ROWS(AF$15:AF529)>MAX(AF:AF),\"\",INDEX(AC:AC,MATCH(ROWS(AF$15:AF529),AF:AF,0)))","v":""},{"$f":"IF(AD529=\"\",AH528,AH528+IF(COUNTIF($AD$15:AD529,AD529)>1,0,1))","v":0},{"$f":"IF(ROWS($AH$15:AH529)>MAX(AH:AH),\"\",INDEX(AD:AD,MATCH(ROWS($AH$15:AH529),AH:AH,0)))","v":""}]
[null,null,null,null,null,null,null,null,null,null,null,null,null,null,null,null,null,null,null,null,null,null,null,null,null,null,null,516,9,"","",{"$f":"AF529+IF(COUNTIF($AC$15:AC530,AC530)>1,0,1)","v":9},{"$f":"IF(ROWS(AF$15:AF530)>MAX(AF:AF),\"\",INDEX(AC:AC,MATCH(ROWS(AF$15:AF530),AF:AF,0)))","v":""},{"$f":"IF(AD530=\"\",AH529,AH529+IF(COUNTIF($AD$15:AD530,AD530)>1,0,1))","v":0},{"$f":"IF(ROWS($AH$15:AH530)>MAX(AH:AH),\"\",INDEX(AD:AD,MATCH(ROWS($AH$15:AH530),AH:AH,0)))","v":""}]
[null,null,null,null,null,null,null,null,null,null,null,null,null,null,null,null,null,null,null,null,null,null,null,null,null,null,null,517,9,"","",{"$f":"AF530+IF(COUNTIF($AC$15:AC531,AC531)>1,0,1)","v":9},{"$f":"IF(ROWS(AF$15:AF531)>MAX(AF:AF),\"\",INDEX(AC:AC,MATCH(ROWS(AF$15:AF531),AF:AF,0)))","v":""},{"$f":"IF(AD531=\"\",AH530,AH530+IF(COUNTIF($AD$15:AD531,AD531)>1,0,1))","v":0},{"$f":"IF(ROWS($AH$15:AH531)>MAX(AH:AH),\"\",INDEX(AD:AD,MATCH(ROWS($AH$15:AH531),AH:AH,0)))","v":""}]
[null,null,null,null,null,null,null,null,null,null,null,null,null,null,null,null,null,null,null,null,null,null,null,null,null,null,null,518,9,"","",{"$f":"AF531+IF(COUNTIF($AC$15:AC532,AC532)>1,0,1)","v":9},{"$f":"IF(ROWS(AF$15:AF532)>MAX(AF:AF),\"\",INDEX(AC:AC,MATCH(ROWS(AF$15:AF532),AF:AF,0)))","v":""},{"$f":"IF(AD532=\"\",AH531,AH531+IF(COUNTIF($AD$15:AD532,AD532)>1,0,1))","v":0},{"$f":"IF(ROWS($AH$15:AH532)>MAX(AH:AH),\"\",INDEX(AD:AD,MATCH(ROWS($AH$15:AH532),AH:AH,0)))","v":""}]
[null,null,null,null,null,null,null,null,null,null,null,null,null,null,null,null,null,null,null,null,null,null,null,null,null,null,null,519,9,"","",{"$f":"AF532+IF(COUNTIF($AC$15:AC533,AC533)>1,0,1)","v":9},{"$f":"IF(ROWS(AF$15:AF533)>MAX(AF:AF),\"\",INDEX(AC:AC,MATCH(ROWS(AF$15:AF533),AF:AF,0)))","v":""},{"$f":"IF(AD533=\"\",AH532,AH532+IF(COUNTIF($AD$15:AD533,AD533)>1,0,1))","v":0},{"$f":"IF(ROWS($AH$15:AH533)>MAX(AH:AH),\"\",INDEX(AD:AD,MATCH(ROWS($AH$15:AH533),AH:AH,0)))","v":""}]
[null,null,null,null,null,null,null,null,null,null,null,null,null,null,null,null,null,null,null,null,null,null,null,null,null,null,null,520,9,"","",{"$f":"AF533+IF(COUNTIF($AC$15:AC534,AC534)>1,0,1)","v":9},{"$f":"IF(ROWS(AF$15:AF534)>MAX(AF:AF),\"\",INDEX(AC:AC,MATCH(ROWS(AF$15:AF534),AF:AF,0)))","v":""},{"$f":"IF(AD534=\"\",AH533,AH533+IF(COUNTIF($AD$15:AD534,AD534)>1,0,1))","v":0},{"$f":"IF(ROWS($AH$15:AH534)>MAX(AH:AH),\"\",INDEX(AD:AD,MATCH(ROWS($AH$15:AH534),AH:AH,0)))","v":""}]
[null,null,null,null,null,null,null,null,null,null,null,null,null,null,null,null,null,null,null,null,null,null,null,null,null,null,null,521,9,"","",{"$f":"AF534+IF(COUNTIF($AC$15:AC535,AC535)>1,0,1)","v":9},{"$f":"IF(ROWS(AF$15:AF535)>MAX(AF:AF),\"\",INDEX(AC:AC,MATCH(ROWS(AF$15:AF535),AF:AF,0)))","v":""},{"$f":"IF(AD535=\"\",AH534,AH534+IF(COUNTIF($AD$15:AD535,AD535)>1,0,1))","v":0},{"$f":"IF(ROWS($AH$15:AH535)>MAX(AH:AH),\"\",INDEX(AD:AD,MATCH(ROWS($AH$15:AH535),AH:AH,0)))","v":""}]
[null,null,null,null,null,null,null,null,null,null,null,null,null,null,null,null,null,null,null,null,null,null,null,null,null,null,null,522,9,"","",{"$f":"AF535+IF(COUNTIF($AC$15:AC536,AC536)>1,0,1)","v":9},{"$f":"IF(ROWS(AF$15:AF536)>MAX(AF:AF),\"\",INDEX(AC:AC,MATCH(ROWS(AF$15:AF536),AF:AF,0)))","v":""},{"$f":"IF(AD536=\"\",AH535,AH535+IF(COUNTIF($AD$15:AD536,AD536)>1,0,1))","v":0},{"$f":"IF(ROWS($AH$15:AH536)>MAX(AH:AH),\"\",INDEX(AD:AD,MATCH(ROWS($AH$15:AH536),AH:AH,0)))","v":""}]
[null,null,null,null,null,null,null,null,null,null,null,null,null,null,null,null,null,null,null,null,null,null,null,null,null,null,null,523,9,"","",{"$f":"AF536+IF(COUNTIF($AC$15:AC537,AC537)>1,0,1)","v":9},{"$f":"IF(ROWS(AF$15:AF537)>MAX(AF:AF),\"\",INDEX(AC:AC,MATCH(ROWS(AF$15:AF537),AF:AF,0)))","v":""},{"$f":"IF(AD537=\"\",AH536,AH536+IF(COUNTIF($AD$15:AD537,AD537)>1,0,1))","v":0},{"$f":"IF(ROWS($AH$15:AH537)>MAX(AH:AH),\"\",INDEX(AD:AD,MATCH(ROWS($AH$15:AH537),AH:AH,0)))","v":""}]
[null,null,null,null,null,null,null,null,null,null,null,null,null,null,null,null,null,null,null,null,null,null,null,null,null,null,null,524,9,"","",{"$f":"AF537+IF(COUNTIF($AC$15:AC538,AC538)>1,0,1)","v":9},{"$f":"IF(ROWS(AF$15:AF538)>MAX(AF:AF),\"\",INDEX(AC:AC,MATCH(ROWS(AF$15:AF538),AF:AF,0)))","v":""},{"$f":"IF(AD538=\"\",AH537,AH537+IF(COUNTIF($AD$15:AD538,AD538)>1,0,1))","v":0},{"$f":"IF(ROWS($AH$15:AH538)>MAX(AH:AH),\"\",INDEX(AD:AD,MATCH(ROWS($AH$15:AH538),AH:AH,0)))","v":""}]
[null,null,null,null,null,null,null,null,null,null,null,null,null,null,null,null,null,null,null,null,null,null,null,null,null,null,null,525,9,"","",{"$f":"AF538+IF(COUNTIF($AC$15:AC539,AC539)>1,0,1)","v":9},{"$f":"IF(ROWS(AF$15:AF539)>MAX(AF:AF),\"\",INDEX(AC:AC,MATCH(ROWS(AF$15:AF539),AF:AF,0)))","v":""},{"$f":"IF(AD539=\"\",AH538,AH538+IF(COUNTIF($AD$15:AD539,AD539)>1,0,1))","v":0},{"$f":"IF(ROWS($AH$15:AH539)>MAX(AH:AH),\"\",INDEX(AD:AD,MATCH(ROWS($AH$15:AH539),AH:AH,0)))","v":""}]
[null,null,null,null,null,null,null,null,null,null,null,null,null,null,null,null,null,null,null,null,null,null,null,null,null,null,null,526,9,"","",{"$f":"AF539+IF(COUNTIF($AC$15:AC540,AC540)>1,0,1)","v":9},{"$f":"IF(ROWS(AF$15:AF540)>MAX(AF:AF),\"\",INDEX(AC:AC,MATCH(ROWS(AF$15:AF540),AF:AF,0)))","v":""},{"$f":"IF(AD540=\"\",AH539,AH539+IF(COUNTIF($AD$15:AD540,AD540)>1,0,1))","v":0},{"$f":"IF(ROWS($AH$15:AH540)>MAX(AH:AH),\"\",INDEX(AD:AD,MATCH(ROWS($AH$15:AH540),AH:AH,0)))","v":""}]
[null,null,null,null,null,null,null,null,null,null,null,null,null,null,null,null,null,null,null,null,null,null,null,null,null,null,null,527,9,"","",{"$f":"AF540+IF(COUNTIF($AC$15:AC541,AC541)>1,0,1)","v":9},{"$f":"IF(ROWS(AF$15:AF541)>MAX(AF:AF),\"\",INDEX(AC:AC,MATCH(ROWS(AF$15:AF541),AF:AF,0)))","v":""},{"$f":"IF(AD541=\"\",AH540,AH540+IF(COUNTIF($AD$15:AD541,AD541)>1,0,1))","v":0},{"$f":"IF(ROWS($AH$15:AH541)>MAX(AH:AH),\"\",INDEX(AD:AD,MATCH(ROWS($AH$15:AH541),AH:AH,0)))","v":""}]
[null,null,null,null,null,null,null,null,null,null,null,null,null,null,null,null,null,null,null,null,null,null,null,null,null,null,null,528,9,"","",{"$f":"AF541+IF(COUNTIF($AC$15:AC542,AC542)>1,0,1)","v":9},{"$f":"IF(ROWS(AF$15:AF542)>MAX(AF:AF),\"\",INDEX(AC:AC,MATCH(ROWS(AF$15:AF542),AF:AF,0)))","v":""},{"$f":"IF(AD542=\"\",AH541,AH541+IF(COUNTIF($AD$15:AD542,AD542)>1,0,1))","v":0},{"$f":"IF(ROWS($AH$15:AH542)>MAX(AH:AH),\"\",INDEX(AD:AD,MATCH(ROWS($AH$15:AH542),AH:AH,0)))","v":""}]
[null,null,null,null,null,null,null,null,null,null,null,null,null,null,null,null,null,null,null,null,null,null,null,null,null,null,null,529,9,"","",{"$f":"AF542+IF(COUNTIF($AC$15:AC543,AC543)>1,0,1)","v":9},{"$f":"IF(ROWS(AF$15:AF543)>MAX(AF:AF),\"\",INDEX(AC:AC,MATCH(ROWS(AF$15:AF543),AF:AF,0)))","v":""},{"$f":"IF(AD543=\"\",AH542,AH542+IF(COUNTIF($AD$15:AD543,AD543)>1,0,1))","v":0},{"$f":"IF(ROWS($AH$15:AH543)>MAX(AH:AH),\"\",INDEX(AD:AD,MATCH(ROWS($AH$15:AH543),AH:AH,0)))","v":""}]
[null,null,null,null,null,null,null,null,null,null,null,null,null,null,null,null,null,null,null,null,null,null,null,null,null,null,null,530,9,"","",{"$f":"AF543+IF(COUNTIF($AC$15:AC544,AC544)>1,0,1)","v":9},{"$f":"IF(ROWS(AF$15:AF544)>MAX(AF:AF),\"\",INDEX(AC:AC,MATCH(ROWS(AF$15:AF544),AF:AF,0)))","v":""},{"$f":"IF(AD544=\"\",AH543,AH543+IF(COUNTIF($AD$15:AD544,AD544)>1,0,1))","v":0},{"$f":"IF(ROWS($AH$15:AH544)>MAX(AH:AH),\"\",INDEX(AD:AD,MATCH(ROWS($AH$15:AH544),AH:AH,0)))","v":""}]
[null,null,null,null,null,null,null,null,null,null,null,null,null,null,null,null,null,null,null,null,null,null,null,null,null,null,null,531,9,"","",{"$f":"AF544+IF(COUNTIF($AC$15:AC545,AC545)>1,0,1)","v":9},{"$f":"IF(ROWS(AF$15:AF545)>MAX(AF:AF),\"\",INDEX(AC:AC,MATCH(ROWS(AF$15:AF545),AF:AF,0)))","v":""},{"$f":"IF(AD545=\"\",AH544,AH544+IF(COUNTIF($AD$15:AD545,AD545)>1,0,1))","v":0},{"$f":"IF(ROWS($AH$15:AH545)>MAX(AH:AH),\"\",INDEX(AD:AD,MATCH(ROWS($AH$15:AH545),AH:AH,0)))","v":""}]
[null,null,null,null,null,null,null,null,null,null,null,null,null,null,null,null,null,null,null,null,null,null,null,null,null,null,null,532,9,"","",{"$f":"AF545+IF(COUNTIF($AC$15:AC546,AC546)>1,0,1)","v":9},{"$f":"IF(ROWS(AF$15:AF546)>MAX(AF:AF),\"\",INDEX(AC:AC,MATCH(ROWS(AF$15:AF546),AF:AF,0)))","v":""},{"$f":"IF(AD546=\"\",AH545,AH545+IF(COUNTIF($AD$15:AD546,AD546)>1,0,1))","v":0},{"$f":"IF(ROWS($AH$15:AH546)>MAX(AH:AH),\"\",INDEX(AD:AD,MATCH(ROWS($AH$15:AH546),AH:AH,0)))","v":""}]
[null,null,null,null,null,null,null,null,null,null,null,null,null,null,null,null,null,null,null,null,null,null,null,null,null,null,null,533,10,"","",{"$f":"AF546+IF(COUNTIF($AC$15:AC547,AC547)>1,0,1)","v":10},{"$f":"IF(ROWS(AF$15:AF547)>MAX(AF:AF),\"\",INDEX(AC:AC,MATCH(ROWS(AF$15:AF547),AF:AF,0)))","v":""},{"$f":"IF(AD547=\"\",AH546,AH546+IF(COUNTIF($AD$15:AD547,AD547)>1,0,1))","v":0},{"$f":"IF(ROWS($AH$15:AH547)>MAX(AH:AH),\"\",INDEX(AD:AD,MATCH(ROWS($AH$15:AH547),AH:AH,0)))","v":""}]
[null,null,null,null,null,null,null,null,null,null,null,null,null,null,null,null,null,null,null,null,null,null,null,null,null,null,null,534,10,"","",{"$f":"AF547+IF(COUNTIF($AC$15:AC548,AC548)>1,0,1)","v":10},{"$f":"IF(ROWS(AF$15:AF548)>MAX(AF:AF),\"\",INDEX(AC:AC,MATCH(ROWS(AF$15:AF548),AF:AF,0)))","v":""},{"$f":"IF(AD548=\"\",AH547,AH547+IF(COUNTIF($AD$15:AD548,AD548)>1,0,1))","v":0},{"$f":"IF(ROWS($AH$15:AH548)>MAX(AH:AH),\"\",INDEX(AD:AD,MATCH(ROWS($AH$15:AH548),AH:AH,0)))","v":""}]
[null,null,null,null,null,null,null,null,null,null,null,null,null,null,null,null,null,null,null,null,null,null,null,null,null,null,null,535,10,"","",{"$f":"AF548+IF(COUNTIF($AC$15:AC549,AC549)>1,0,1)","v":10},{"$f":"IF(ROWS(AF$15:AF549)>MAX(AF:AF),\"\",INDEX(AC:AC,MATCH(ROWS(AF$15:AF549),AF:AF,0)))","v":""},{"$f":"IF(AD549=\"\",AH548,AH548+IF(COUNTIF($AD$15:AD549,AD549)>1,0,1))","v":0},{"$f":"IF(ROWS($AH$15:AH549)>MAX(AH:AH),\"\",INDEX(AD:AD,MATCH(ROWS($AH$15:AH549),AH:AH,0)))","v":""}]
[null,null,null,null,null,null,null,null,null,null,null,null,null,null,null,null,null,null,null,null,null,null,null,null,null,null,null,536,10,"","",{"$f":"AF549+IF(COUNTIF($AC$15:AC550,AC550)>1,0,1)","v":10},{"$f":"IF(ROWS(AF$15:AF550)>MAX(AF:AF),\"\",INDEX(AC:AC,MATCH(ROWS(AF$15:AF550),AF:AF,0)))","v":""},{"$f":"IF(AD550=\"\",AH549,AH549+IF(COUNTIF($AD$15:AD550,AD550)>1,0,1))","v":0},{"$f":"IF(ROWS($AH$15:AH550)>MAX(AH:AH),\"\",INDEX(AD:AD,MATCH(ROWS($AH$15:AH550),AH:AH,0)))","v":""}]
[null,null,null,null,null,null,null,null,null,null,null,null,null,null,null,null,null,null,null,null,null,null,null,null,null,null,null,537,10,"","",{"$f":"AF550+IF(COUNTIF($AC$15:AC551,AC551)>1,0,1)","v":10},{"$f":"IF(ROWS(AF$15:AF551)>MAX(AF:AF),\"\",INDEX(AC:AC,MATCH(ROWS(AF$15:AF551),AF:AF,0)))","v":""},{"$f":"IF(AD551=\"\",AH550,AH550+IF(COUNTIF($AD$15:AD551,AD551)>1,0,1))","v":0},{"$f":"IF(ROWS($AH$15:AH551)>MAX(AH:AH),\"\",INDEX(AD:AD,MATCH(ROWS($AH$15:AH551),AH:AH,0)))","v":""}]
[null,null,null,null,null,null,null,null,null,null,null,null,null,null,null,null,null,null,null,null,null,null,null,null,null,null,null,538,10,"","",{"$f":"AF551+IF(COUNTIF($AC$15:AC552,AC552)>1,0,1)","v":10},{"$f":"IF(ROWS(AF$15:AF552)>MAX(AF:AF),\"\",INDEX(AC:AC,MATCH(ROWS(AF$15:AF552),AF:AF,0)))","v":""},{"$f":"IF(AD552=\"\",AH551,AH551+IF(COUNTIF($AD$15:AD552,AD552)>1,0,1))","v":0},{"$f":"IF(ROWS($AH$15:AH552)>MAX(AH:AH),\"\",INDEX(AD:AD,MATCH(ROWS($AH$15:AH552),AH:AH,0)))","v":""}]
[null,null,null,null,null,null,null,null,null,null,null,null,null,null,null,null,null,null,null,null,null,null,null,null,null,null,null,539,10,"","",{"$f":"AF552+IF(COUNTIF($AC$15:AC553,AC553)>1,0,1)","v":10},{"$f":"IF(ROWS(AF$15:AF553)>MAX(AF:AF),\"\",INDEX(AC:AC,MATCH(ROWS(AF$15:AF553),AF:AF,0)))","v":""},{"$f":"IF(AD553=\"\",AH552,AH552+IF(COUNTIF($AD$15:AD553,AD553)>1,0,1))","v":0},{"$f":"IF(ROWS($AH$15:AH553)>MAX(AH:AH),\"\",INDEX(AD:AD,MATCH(ROWS($AH$15:AH553),AH:AH,0)))","v":""}]
[null,null,null,null,null,null,null,null,null,null,null,null,null,null,null,null,null,null,null,null,null,null,null,null,null,null,null,540,10,"","",{"$f":"AF553+IF(COUNTIF($AC$15:AC554,AC554)>1,0,1)","v":10},{"$f":"IF(ROWS(AF$15:AF554)>MAX(AF:AF),\"\",INDEX(AC:AC,MATCH(ROWS(AF$15:AF554),AF:AF,0)))","v":""},{"$f":"IF(AD554=\"\",AH553,AH553+IF(COUNTIF($AD$15:AD554,AD554)>1,0,1))","v":0},{"$f":"IF(ROWS($AH$15:AH554)>MAX(AH:AH),\"\",INDEX(AD:AD,MATCH(ROWS($AH$15:AH554),AH:AH,0)))","v":""}]
[null,null,null,null,null,null,null,null,null,null,null,null,null,null,null,null,null,null,null,null,null,null,null,null,null,null,null,541,10,"","",{"$f":"AF554+IF(COUNTIF($AC$15:AC555,AC555)>1,0,1)","v":10},{"$f":"IF(ROWS(AF$15:AF555)>MAX(AF:AF),\"\",INDEX(AC:AC,MATCH(ROWS(AF$15:AF555),AF:AF,0)))","v":""},{"$f":"IF(AD555=\"\",AH554,AH554+IF(COUNTIF($AD$15:AD555,AD555)>1,0,1))","v":0},{"$f":"IF(ROWS($AH$15:AH555)>MAX(AH:AH),\"\",INDEX(AD:AD,MATCH(ROWS($AH$15:AH555),AH:AH,0)))","v":""}]
[null,null,null,null,null,null,null,null,null,null,null,null,null,null,null,null,null,null,null,null,null,null,null,null,null,null,null,542,10,"","",{"$f":"AF555+IF(COUNTIF($AC$15:AC556,AC556)>1,0,1)","v":10},{"$f":"IF(ROWS(AF$15:AF556)>MAX(AF:AF),\"\",INDEX(AC:AC,MATCH(ROWS(AF$15:AF556),AF:AF,0)))","v":""},{"$f":"IF(AD556=\"\",AH555,AH555+IF(COUNTIF($AD$15:AD556,AD556)>1,0,1))","v":0},{"$f":"IF(ROWS($AH$15:AH556)>MAX(AH:AH),\"\",INDEX(AD:AD,MATCH(ROWS($AH$15:AH556),AH:AH,0)))","v":""}]
[null,null,null,null,null,null,null,null,null,null,null,null,null,null,null,null,null,null,null,null,null,null,null,null,null,null,null,543,10,"","",{"$f":"AF556+IF(COUNTIF($AC$15:AC557,AC557)>1,0,1)","v":10},{"$f":"IF(ROWS(AF$15:AF557)>MAX(AF:AF),\"\",INDEX(AC:AC,MATCH(ROWS(AF$15:AF557),AF:AF,0)))","v":""},{"$f":"IF(AD557=\"\",AH556,AH556+IF(COUNTIF($AD$15:AD557,AD557)>1,0,1))","v":0},{"$f":"IF(ROWS($AH$15:AH557)>MAX(AH:AH),\"\",INDEX(AD:AD,MATCH(ROWS($AH$15:AH557),AH:AH,0)))","v":""}]
[null,null,null,null,null,null,null,null,null,null,null,null,null,null,null,null,null,null,null,null,null,null,null,null,null,null,null,544,10,"","",{"$f":"AF557+IF(COUNTIF($AC$15:AC558,AC558)>1,0,1)","v":10},{"$f":"IF(ROWS(AF$15:AF558)>MAX(AF:AF),\"\",INDEX(AC:AC,MATCH(ROWS(AF$15:AF558),AF:AF,0)))","v":""},{"$f":"IF(AD558=\"\",AH557,AH557+IF(COUNTIF($AD$15:AD558,AD558)>1,0,1))","v":0},{"$f":"IF(ROWS($AH$15:AH558)>MAX(AH:AH),\"\",INDEX(AD:AD,MATCH(ROWS($AH$15:AH558),AH:AH,0)))","v":""}]
[null,null,null,null,null,null,null,null,null,null,null,null,null,null,null,null,null,null,null,null,null,null,null,null,null,null,null,545,10,"","",{"$f":"AF558+IF(COUNTIF($AC$15:AC559,AC559)>1,0,1)","v":10},{"$f":"IF(ROWS(AF$15:AF559)>MAX(AF:AF),\"\",INDEX(AC:AC,MATCH(ROWS(AF$15:AF559),AF:AF,0)))","v":""},{"$f":"IF(AD559=\"\",AH558,AH558+IF(COUNTIF($AD$15:AD559,AD559)>1,0,1))","v":0},{"$f":"IF(ROWS($AH$15:AH559)>MAX(AH:AH),\"\",INDEX(AD:AD,MATCH(ROWS($AH$15:AH559),AH:AH,0)))","v":""}]
[null,null,null,null,null,null,null,null,null,null,null,null,null,null,null,null,null,null,null,null,null,null,null,null,null,null,null,546,10,"","",{"$f":"AF559+IF(COUNTIF($AC$15:AC560,AC560)>1,0,1)","v":10},{"$f":"IF(ROWS(AF$15:AF560)>MAX(AF:AF),\"\",INDEX(AC:AC,MATCH(ROWS(AF$15:AF560),AF:AF,0)))","v":""},{"$f":"IF(AD560=\"\",AH559,AH559+IF(COUNTIF($AD$15:AD560,AD560)>1,0,1))","v":0},{"$f":"IF(ROWS($AH$15:AH560)>MAX(AH:AH),\"\",INDEX(AD:AD,MATCH(ROWS($AH$15:AH560),AH:AH,0)))","v":""}]
[null,null,null,null,null,null,null,null,null,null,null,null,null,null,null,null,null,null,null,null,null,null,null,null,null,null,null,547,10,"","",{"$f":"AF560+IF(COUNTIF($AC$15:AC561,AC561)>1,0,1)","v":10},{"$f":"IF(ROWS(AF$15:AF561)>MAX(AF:AF),\"\",INDEX(AC:AC,MATCH(ROWS(AF$15:AF561),AF:AF,0)))","v":""},{"$f":"IF(AD561=\"\",AH560,AH560+IF(COUNTIF($AD$15:AD561,AD561)>1,0,1))","v":0},{"$f":"IF(ROWS($AH$15:AH561)>MAX(AH:AH),\"\",INDEX(AD:AD,MATCH(ROWS($AH$15:AH561),AH:AH,0)))","v":""}]
[null,null,null,null,null,null,null,null,null,null,null,null,null,null,null,null,null,null,null,null,null,null,null,null,null,null,null,548,10,"","",{"$f":"AF561+IF(COUNTIF($AC$15:AC562,AC562)>1,0,1)","v":10},{"$f":"IF(ROWS(AF$15:AF562)>MAX(AF:AF),\"\",INDEX(AC:AC,MATCH(ROWS(AF$15:AF562),AF:AF,0)))","v":""},{"$f":"IF(AD562=\"\",AH561,AH561+IF(COUNTIF($AD$15:AD562,AD562)>1,0,1))","v":0},{"$f":"IF(ROWS($AH$15:AH562)>MAX(AH:AH),\"\",INDEX(AD:AD,MATCH(ROWS($AH$15:AH562),AH:AH,0)))","v":""}]
[null,null,null,null,null,null,null,null,null,null,null,null,null,null,null,null,null,null,null,null,null,null,null,null,null,null,null,549,10,"","",{"$f":"AF562+IF(COUNTIF($AC$15:AC563,AC563)>1,0,1)","v":10},{"$f":"IF(ROWS(AF$15:AF563)>MAX(AF:AF),\"\",INDEX(AC:AC,MATCH(ROWS(AF$15:AF563),AF:AF,0)))","v":""},{"$f":"IF(AD563=\"\",AH562,AH562+IF(COUNTIF($AD$15:AD563,AD563)>1,0,1))","v":0},{"$f":"IF(ROWS($AH$15:AH563)>MAX(AH:AH),\"\",INDEX(AD:AD,MATCH(ROWS($AH$15:AH563),AH:AH,0)))","v":""}]
[null,null,null,null,null,null,null,null,null,null,null,null,null,null,null,null,null,null,null,null,null,null,null,null,null,null,null,550,10,"","",{"$f":"AF563+IF(COUNTIF($AC$15:AC564,AC564)>1,0,1)","v":10},{"$f":"IF(ROWS(AF$15:AF564)>MAX(AF:AF),\"\",INDEX(AC:AC,MATCH(ROWS(AF$15:AF564),AF:AF,0)))","v":""},{"$f":"IF(AD564=\"\",AH563,AH563+IF(COUNTIF($AD$15:AD564,AD564)>1,0,1))","v":0},{"$f":"IF(ROWS($AH$15:AH564)>MAX(AH:AH),\"\",INDEX(AD:AD,MATCH(ROWS($AH$15:AH564),AH:AH,0)))","v":""}]
[null,null,null,null,null,null,null,null,null,null,null,null,null,null,null,null,null,null,null,null,null,null,null,null,null,null,null,551,10,"","",{"$f":"AF564+IF(COUNTIF($AC$15:AC565,AC565)>1,0,1)","v":10},{"$f":"IF(ROWS(AF$15:AF565)>MAX(AF:AF),\"\",INDEX(AC:AC,MATCH(ROWS(AF$15:AF565),AF:AF,0)))","v":""},{"$f":"IF(AD565=\"\",AH564,AH564+IF(COUNTIF($AD$15:AD565,AD565)>1,0,1))","v":0},{"$f":"IF(ROWS($AH$15:AH565)>MAX(AH:AH),\"\",INDEX(AD:AD,MATCH(ROWS($AH$15:AH565),AH:AH,0)))","v":""}]
[null,null,null,null,null,null,null,null,null,null,null,null,null,null,null,null,null,null,null,null,null,null,null,null,null,null,null,552,10,"","",{"$f":"AF565+IF(COUNTIF($AC$15:AC566,AC566)>1,0,1)","v":10},{"$f":"IF(ROWS(AF$15:AF566)>MAX(AF:AF),\"\",INDEX(AC:AC,MATCH(ROWS(AF$15:AF566),AF:AF,0)))","v":""},{"$f":"IF(AD566=\"\",AH565,AH565+IF(COUNTIF($AD$15:AD566,AD566)>1,0,1))","v":0},{"$f":"IF(ROWS($AH$15:AH566)>MAX(AH:AH),\"\",INDEX(AD:AD,MATCH(ROWS($AH$15:AH566),AH:AH,0)))","v":""}]
[null,null,null,null,null,null,null,null,null,null,null,null,null,null,null,null,null,null,null,null,null,null,null,null,null,null,null,553,10,"","",{"$f":"AF566+IF(COUNTIF($AC$15:AC567,AC567)>1,0,1)","v":10},{"$f":"IF(ROWS(AF$15:AF567)>MAX(AF:AF),\"\",INDEX(AC:AC,MATCH(ROWS(AF$15:AF567),AF:AF,0)))","v":""},{"$f":"IF(AD567=\"\",AH566,AH566+IF(COUNTIF($AD$15:AD567,AD567)>1,0,1))","v":0},{"$f":"IF(ROWS($AH$15:AH567)>MAX(AH:AH),\"\",INDEX(AD:AD,MATCH(ROWS($AH$15:AH567),AH:AH,0)))","v":""}]
[null,null,null,null,null,null,null,null,null,null,null,null,null,null,null,null,null,null,null,null,null,null,null,null,null,null,null,554,10,"","",{"$f":"AF567+IF(COUNTIF($AC$15:AC568,AC568)>1,0,1)","v":10},{"$f":"IF(ROWS(AF$15:AF568)>MAX(AF:AF),\"\",INDEX(AC:AC,MATCH(ROWS(AF$15:AF568),AF:AF,0)))","v":""},{"$f":"IF(AD568=\"\",AH567,AH567+IF(COUNTIF($AD$15:AD568,AD568)>1,0,1))","v":0},{"$f":"IF(ROWS($AH$15:AH568)>MAX(AH:AH),\"\",INDEX(AD:AD,MATCH(ROWS($AH$15:AH568),AH:AH,0)))","v":""}]
[null,null,null,null,null,null,null,null,null,null,null,null,null,null,null,null,null,null,null,null,null,null,null,null,null,null,null,555,10,"","",{"$f":"AF568+IF(COUNTIF($AC$15:AC569,AC569)>1,0,1)","v":10},{"$f":"IF(ROWS(AF$15:AF569)>MAX(AF:AF),\"\",INDEX(AC:AC,MATCH(ROWS(AF$15:AF569),AF:AF,0)))","v":""},{"$f":"IF(AD569=\"\",AH568,AH568+IF(COUNTIF($AD$15:AD569,AD569)>1,0,1))","v":0},{"$f":"IF(ROWS($AH$15:AH569)>MAX(AH:AH),\"\",INDEX(AD:AD,MATCH(ROWS($AH$15:AH569),AH:AH,0)))","v":""}]
[null,null,null,null,null,null,null,null,null,null,null,null,null,null,null,null,null,null,null,null,null,null,null,null,null,null,null,556,10,"","",{"$f":"AF569+IF(COUNTIF($AC$15:AC570,AC570)>1,0,1)","v":10},{"$f":"IF(ROWS(AF$15:AF570)>MAX(AF:AF),\"\",INDEX(AC:AC,MATCH(ROWS(AF$15:AF570),AF:AF,0)))","v":""},{"$f":"IF(AD570=\"\",AH569,AH569+IF(COUNTIF($AD$15:AD570,AD570)>1,0,1))","v":0},{"$f":"IF(ROWS($AH$15:AH570)>MAX(AH:AH),\"\",INDEX(AD:AD,MATCH(ROWS($AH$15:AH570),AH:AH,0)))","v":""}]
[null,null,null,null,null,null,null,null,null,null,null,null,null,null,null,null,null,null,null,null,null,null,null,null,null,null,null,557,10,"","",{"$f":"AF570+IF(COUNTIF($AC$15:AC571,AC571)>1,0,1)","v":10},{"$f":"IF(ROWS(AF$15:AF571)>MAX(AF:AF),\"\",INDEX(AC:AC,MATCH(ROWS(AF$15:AF571),AF:AF,0)))","v":""},{"$f":"IF(AD571=\"\",AH570,AH570+IF(COUNTIF($AD$15:AD571,AD571)>1,0,1))","v":0},{"$f":"IF(ROWS($AH$15:AH571)>MAX(AH:AH),\"\",INDEX(AD:AD,MATCH(ROWS($AH$15:AH571),AH:AH,0)))","v":""}]
[null,null,null,null,null,null,null,null,null,null,null,null,null,null,null,null,null,null,null,null,null,null,null,null,null,null,null,558,10,"","",{"$f":"AF571+IF(COUNTIF($AC$15:AC572,AC572)>1,0,1)","v":10},{"$f":"IF(ROWS(AF$15:AF572)>MAX(AF:AF),\"\",INDEX(AC:AC,MATCH(ROWS(AF$15:AF572),AF:AF,0)))","v":""},{"$f":"IF(AD572=\"\",AH571,AH571+IF(COUNTIF($AD$15:AD572,AD572)>1,0,1))","v":0},{"$f":"IF(ROWS($AH$15:AH572)>MAX(AH:AH),\"\",INDEX(AD:AD,MATCH(ROWS($AH$15:AH572),AH:AH,0)))","v":""}]
[null,null,null,null,null,null,null,null,null,null,null,null,null,null,null,null,null,null,null,null,null,null,null,null,null,null,null,559,10,"","",{"$f":"AF572+IF(COUNTIF($AC$15:AC573,AC573)>1,0,1)","v":10},{"$f":"IF(ROWS(AF$15:AF573)>MAX(AF:AF),\"\",INDEX(AC:AC,MATCH(ROWS(AF$15:AF573),AF:AF,0)))","v":""},{"$f":"IF(AD573=\"\",AH572,AH572+IF(COUNTIF($AD$15:AD573,AD573)>1,0,1))","v":0},{"$f":"IF(ROWS($AH$15:AH573)>MAX(AH:AH),\"\",INDEX(AD:AD,MATCH(ROWS($AH$15:AH573),AH:AH,0)))","v":""}]
[null,null,null,null,null,null,null,null,null,null,null,null,null,null,null,null,null,null,null,null,null,null,null,null,null,null,null,560,10,"","",{"$f":"AF573+IF(COUNTIF($AC$15:AC574,AC574)>1,0,1)","v":10},{"$f":"IF(ROWS(AF$15:AF574)>MAX(AF:AF),\"\",INDEX(AC:AC,MATCH(ROWS(AF$15:AF574),AF:AF,0)))","v":""},{"$f":"IF(AD574=\"\",AH573,AH573+IF(COUNTIF($AD$15:AD574,AD574)>1,0,1))","v":0},{"$f":"IF(ROWS($AH$15:AH574)>MAX(AH:AH),\"\",INDEX(AD:AD,MATCH(ROWS($AH$15:AH574),AH:AH,0)))","v":""}]
[null,null,null,null,null,null,null,null,null,null,null,null,null,null,null,null,null,null,null,null,null,null,null,null,null,null,null,561,10,"","",{"$f":"AF574+IF(COUNTIF($AC$15:AC575,AC575)>1,0,1)","v":10},{"$f":"IF(ROWS(AF$15:AF575)>MAX(AF:AF),\"\",INDEX(AC:AC,MATCH(ROWS(AF$15:AF575),AF:AF,0)))","v":""},{"$f":"IF(AD575=\"\",AH574,AH574+IF(COUNTIF($AD$15:AD575,AD575)>1,0,1))","v":0},{"$f":"IF(ROWS($AH$15:AH575)>MAX(AH:AH),\"\",INDEX(AD:AD,MATCH(ROWS($AH$15:AH575),AH:AH,0)))","v":""}]
[null,null,null,null,null,null,null,null,null,null,null,null,null,null,null,null,null,null,null,null,null,null,null,null,null,null,null,562,10,"","",{"$f":"AF575+IF(COUNTIF($AC$15:AC576,AC576)>1,0,1)","v":10},{"$f":"IF(ROWS(AF$15:AF576)>MAX(AF:AF),\"\",INDEX(AC:AC,MATCH(ROWS(AF$15:AF576),AF:AF,0)))","v":""},{"$f":"IF(AD576=\"\",AH575,AH575+IF(COUNTIF($AD$15:AD576,AD576)>1,0,1))","v":0},{"$f":"IF(ROWS($AH$15:AH576)>MAX(AH:AH),\"\",INDEX(AD:AD,MATCH(ROWS($AH$15:AH576),AH:AH,0)))","v":""}]
[null,null,null,null,null,null,null,null,null,null,null,null,null,null,null,null,null,null,null,null,null,null,null,null,null,null,null,563,10,"","",{"$f":"AF576+IF(COUNTIF($AC$15:AC577,AC577)>1,0,1)","v":10},{"$f":"IF(ROWS(AF$15:AF577)>MAX(AF:AF),\"\",INDEX(AC:AC,MATCH(ROWS(AF$15:AF577),AF:AF,0)))","v":""},{"$f":"IF(AD577=\"\",AH576,AH576+IF(COUNTIF($AD$15:AD577,AD577)>1,0,1))","v":0},{"$f":"IF(ROWS($AH$15:AH577)>MAX(AH:AH),\"\",INDEX(AD:AD,MATCH(ROWS($AH$15:AH577),AH:AH,0)))","v":""}]
[null,null,null,null,null,null,null,null,null,null,null,null,null,null,null,null,null,null,null,null,null,null,null,null,null,null,null,564,10,"","",{"$f":"AF577+IF(COUNTIF($AC$15:AC578,AC578)>1,0,1)","v":10},{"$f":"IF(ROWS(AF$15:AF578)>MAX(AF:AF),\"\",INDEX(AC:AC,MATCH(ROWS(AF$15:AF578),AF:AF,0)))","v":""},{"$f":"IF(AD578=\"\",AH577,AH577+IF(COUNTIF($AD$15:AD578,AD578)>1,0,1))","v":0},{"$f":"IF(ROWS($AH$15:AH578)>MAX(AH:AH),\"\",INDEX(AD:AD,MATCH(ROWS($AH$15:AH578),AH:AH,0)))","v":""}]
[null,null,null,null,null,null,null,null,null,null,null,null,null,null,null,null,null,null,null,null,null,null,null,null,null,null,null,565,10,"","",{"$f":"AF578+IF(COUNTIF($AC$15:AC579,AC579)>1,0,1)","v":10},{"$f":"IF(ROWS(AF$15:AF579)>MAX(AF:AF),\"\",INDEX(AC:AC,MATCH(ROWS(AF$15:AF579),AF:AF,0)))","v":""},{"$f":"IF(AD579=\"\",AH578,AH578+IF(COUNTIF($AD$15:AD579,AD579)>1,0,1))","v":0},{"$f":"IF(ROWS($AH$15:AH579)>MAX(AH:AH),\"\",INDEX(AD:AD,MATCH(ROWS($AH$15:AH579),AH:AH,0)))","v":""}]
[null,null,null,null,null,null,null,null,null,null,null,null,null,null,null,null,null,null,null,null,null,null,null,null,null,null,null,566,10,"","",{"$f":"AF579+IF(COUNTIF($AC$15:AC580,AC580)>1,0,1)","v":10},{"$f":"IF(ROWS(AF$15:AF580)>MAX(AF:AF),\"\",INDEX(AC:AC,MATCH(ROWS(AF$15:AF580),AF:AF,0)))","v":""},{"$f":"IF(AD580=\"\",AH579,AH579+IF(COUNTIF($AD$15:AD580,AD580)>1,0,1))","v":0},{"$f":"IF(ROWS($AH$15:AH580)>MAX(AH:AH),\"\",INDEX(AD:AD,MATCH(ROWS($AH$15:AH580),AH:AH,0)))","v":""}]
[null,null,null,null,null,null,null,null,null,null,null,null,null,null,null,null,null,null,null,null,null,null,null,null,null,null,null,567,10,"","",{"$f":"AF580+IF(COUNTIF($AC$15:AC581,AC581)>1,0,1)","v":10},{"$f":"IF(ROWS(AF$15:AF581)>MAX(AF:AF),\"\",INDEX(AC:AC,MATCH(ROWS(AF$15:AF581),AF:AF,0)))","v":""},{"$f":"IF(AD581=\"\",AH580,AH580+IF(COUNTIF($AD$15:AD581,AD581)>1,0,1))","v":0},{"$f":"IF(ROWS($AH$15:AH581)>MAX(AH:AH),\"\",INDEX(AD:AD,MATCH(ROWS($AH$15:AH581),AH:AH,0)))","v":""}]
[null,null,null,null,null,null,null,null,null,null,null,null,null,null,null,null,null,null,null,null,null,null,null,null,null,null,null,568,10,"","",{"$f":"AF581+IF(COUNTIF($AC$15:AC582,AC582)>1,0,1)","v":10},{"$f":"IF(ROWS(AF$15:AF582)>MAX(AF:AF),\"\",INDEX(AC:AC,MATCH(ROWS(AF$15:AF582),AF:AF,0)))","v":""},{"$f":"IF(AD582=\"\",AH581,AH581+IF(COUNTIF($AD$15:AD582,AD582)>1,0,1))","v":0},{"$f":"IF(ROWS($AH$15:AH582)>MAX(AH:AH),\"\",INDEX(AD:AD,MATCH(ROWS($AH$15:AH582),AH:AH,0)))","v":""}]
[null,null,null,null,null,null,null,null,null,null,null,null,null,null,null,null,null,null,null,null,null,null,null,null,null,null,null,569,10,"","",{"$f":"AF582+IF(COUNTIF($AC$15:AC583,AC583)>1,0,1)","v":10},{"$f":"IF(ROWS(AF$15:AF583)>MAX(AF:AF),\"\",INDEX(AC:AC,MATCH(ROWS(AF$15:AF583),AF:AF,0)))","v":""},{"$f":"IF(AD583=\"\",AH582,AH582+IF(COUNTIF($AD$15:AD583,AD583)>1,0,1))","v":0},{"$f":"IF(ROWS($AH$15:AH583)>MAX(AH:AH),\"\",INDEX(AD:AD,MATCH(ROWS($AH$15:AH583),AH:AH,0)))","v":""}]
[null,null,null,null,null,null,null,null,null,null,null,null,null,null,null,null,null,null,null,null,null,null,null,null,null,null,null,570,10,"","",{"$f":"AF583+IF(COUNTIF($AC$15:AC584,AC584)>1,0,1)","v":10},{"$f":"IF(ROWS(AF$15:AF584)>MAX(AF:AF),\"\",INDEX(AC:AC,MATCH(ROWS(AF$15:AF584),AF:AF,0)))","v":""},{"$f":"IF(AD584=\"\",AH583,AH583+IF(COUNTIF($AD$15:AD584,AD584)>1,0,1))","v":0},{"$f":"IF(ROWS($AH$15:AH584)>MAX(AH:AH),\"\",INDEX(AD:AD,MATCH(ROWS($AH$15:AH584),AH:AH,0)))","v":""}]
[null,null,null,null,null,null,null,null,null,null,null,null,null,null,null,null,null,null,null,null,null,null,null,null,null,null,null,571,10,"","",{"$f":"AF584+IF(COUNTIF($AC$15:AC585,AC585)>1,0,1)","v":10},{"$f":"IF(ROWS(AF$15:AF585)>MAX(AF:AF),\"\",INDEX(AC:AC,MATCH(ROWS(AF$15:AF585),AF:AF,0)))","v":""},{"$f":"IF(AD585=\"\",AH584,AH584+IF(COUNTIF($AD$15:AD585,AD585)>1,0,1))","v":0},{"$f":"IF(ROWS($AH$15:AH585)>MAX(AH:AH),\"\",INDEX(AD:AD,MATCH(ROWS($AH$15:AH585),AH:AH,0)))","v":""}]
[null,null,null,null,null,null,null,null,null,null,null,null,null,null,null,null,null,null,null,null,null,null,null,null,null,null,null,572,10,"","",{"$f":"AF585+IF(COUNTIF($AC$15:AC586,AC586)>1,0,1)","v":10},{"$f":"IF(ROWS(AF$15:AF586)>MAX(AF:AF),\"\",INDEX(AC:AC,MATCH(ROWS(AF$15:AF586),AF:AF,0)))","v":""},{"$f":"IF(AD586=\"\",AH585,AH585+IF(COUNTIF($AD$15:AD586,AD586)>1,0,1))","v":0},{"$f":"IF(ROWS($AH$15:AH586)>MAX(AH:AH),\"\",INDEX(AD:AD,MATCH(ROWS($AH$15:AH586),AH:AH,0)))","v":""}]
[null,null,null,null,null,null,null,null,null,null,null,null,null,null,null,null,null,null,null,null,null,null,null,null,null,null,null,573,10,"","",{"$f":"AF586+IF(COUNTIF($AC$15:AC587,AC587)>1,0,1)","v":10},{"$f":"IF(ROWS(AF$15:AF587)>MAX(AF:AF),\"\",INDEX(AC:AC,MATCH(ROWS(AF$15:AF587),AF:AF,0)))","v":""},{"$f":"IF(AD587=\"\",AH586,AH586+IF(COUNTIF($AD$15:AD587,AD587)>1,0,1))","v":0},{"$f":"IF(ROWS($AH$15:AH587)>MAX(AH:AH),\"\",INDEX(AD:AD,MATCH(ROWS($AH$15:AH587),AH:AH,0)))","v":""}]
[null,null,null,null,null,null,null,null,null,null,null,null,null,null,null,null,null,null,null,null,null,null,null,null,null,null,null,574,10,"","",{"$f":"AF587+IF(COUNTIF($AC$15:AC588,AC588)>1,0,1)","v":10},{"$f":"IF(ROWS(AF$15:AF588)>MAX(AF:AF),\"\",INDEX(AC:AC,MATCH(ROWS(AF$15:AF588),AF:AF,0)))","v":""},{"$f":"IF(AD588=\"\",AH587,AH587+IF(COUNTIF($AD$15:AD588,AD588)>1,0,1))","v":0},{"$f":"IF(ROWS($AH$15:AH588)>MAX(AH:AH),\"\",INDEX(AD:AD,MATCH(ROWS($AH$15:AH588),AH:AH,0)))","v":""}]
[null,null,null,null,null,null,null,null,null,null,null,null,null,null,null,null,null,null,null,null,null,null,null,null,null,null,null,575,10,"","",{"$f":"AF588+IF(COUNTIF($AC$15:AC589,AC589)>1,0,1)","v":10},{"$f":"IF(ROWS(AF$15:AF589)>MAX(AF:AF),\"\",INDEX(AC:AC,MATCH(ROWS(AF$15:AF589),AF:AF,0)))","v":""},{"$f":"IF(AD589=\"\",AH588,AH588+IF(COUNTIF($AD$15:AD589,AD589)>1,0,1))","v":0},{"$f":"IF(ROWS($AH$15:AH589)>MAX(AH:AH),\"\",INDEX(AD:AD,MATCH(ROWS($AH$15:AH589),AH:AH,0)))","v":""}]
[null,null,null,null,null,null,null,null,null,null,null,null,null,null,null,null,null,null,null,null,null,null,null,null,null,null,null,576,10,"","",{"$f":"AF589+IF(COUNTIF($AC$15:AC590,AC590)>1,0,1)","v":10},{"$f":"IF(ROWS(AF$15:AF590)>MAX(AF:AF),\"\",INDEX(AC:AC,MATCH(ROWS(AF$15:AF590),AF:AF,0)))","v":""},{"$f":"IF(AD590=\"\",AH589,AH589+IF(COUNTIF($AD$15:AD590,AD590)>1,0,1))","v":0},{"$f":"IF(ROWS($AH$15:AH590)>MAX(AH:AH),\"\",INDEX(AD:AD,MATCH(ROWS($AH$15:AH590),AH:AH,0)))","v":""}]
[null,null,null,null,null,null,null,null,null,null,null,null,null,null,null,null,null,null,null,null,null,null,null,null,null,null,null,577,10,"","",{"$f":"AF590+IF(COUNTIF($AC$15:AC591,AC591)>1,0,1)","v":10},{"$f":"IF(ROWS(AF$15:AF591)>MAX(AF:AF),\"\",INDEX(AC:AC,MATCH(ROWS(AF$15:AF591),AF:AF,0)))","v":""},{"$f":"IF(AD591=\"\",AH590,AH590+IF(COUNTIF($AD$15:AD591,AD591)>1,0,1))","v":0},{"$f":"IF(ROWS($AH$15:AH591)>MAX(AH:AH),\"\",INDEX(AD:AD,MATCH(ROWS($AH$15:AH591),AH:AH,0)))","v":""}]
[null,null,null,null,null,null,null,null,null,null,null,null,null,null,null,null,null,null,null,null,null,null,null,null,null,null,null,578,{"$f":"IF(INDIRECT($AC$1&\"D\"&$AB592+1)=\"\",\"\",INDIRECT($AC$1&\"D\"&$AB592+1))","v":10},{"$f":"IF(AC592=\"\",\"\",IF($E$16=AC592,INDIRECT($AC$1&\"E\"&$AB592+1),\"\"))","v":""},{"$f":"IF(ISBLANK($E$17),\"\",IF($E$17<>AD592,\"\",IF(INDIRECT($AC$1&\"U\"&$AB592+1)=\"Yes\",INDIRECT($AC$1&\"I\"&$AB592+1),\"\")))","v":""},{"$f":"AF591+IF(COUNTIF($AC$15:AC592,AC592)>1,0,1)","v":10},{"$f":"IF(ROWS(AF$15:AF592)>MAX(AF:AF),\"\",INDEX(AC:AC,MATCH(ROWS(AF$15:AF592),AF:AF,0)))","v":""},{"$f":"IF(AD592=\"\",AH591,AH591+IF(COUNTIF($AD$15:AD592,AD592)>1,0,1))","v":0},{"$f":"IF(ROWS($AH$15:AH592)>MAX(AH:AH),\"\",INDEX(AD:AD,MATCH(ROWS($AH$15:AH592),AH:AH,0)))","v":""}]
[null,null,null,null,null,null,null,null,null,null,null,null,null,null,null,null,null,null,null,null,null,null,null,null,null,null,null,{"$f":"AB592+1","v":579},10,"","",{"$f":"AF592+IF(COUNTIF($AC$15:AC593,AC593)>1,0,1)","v":10},{"$f":"IF(ROWS(AF$15:AF593)>MAX(AF:AF),\"\",INDEX(AC:AC,MATCH(ROWS(AF$15:AF593),AF:AF,0)))","v":""},{"$f":"IF(AD593=\"\",AH592,AH592+IF(COUNTIF($AD$15:AD593,AD593)>1,0,1))","v":0},{"$f":"IF(ROWS($AH$15:AH593)>MAX(AH:AH),\"\",INDEX(AD:AD,MATCH(ROWS($AH$15:AH593),AH:AH,0)))","v":""}]
[null,null,null,null,null,null,null,null,null,null,null,null,null,null,null,null,null,null,null,null,null,null,null,null,null,null,null,580,10,"","",{"$f":"AF593+IF(COUNTIF($AC$15:AC594,AC594)>1,0,1)","v":10},{"$f":"IF(ROWS(AF$15:AF594)>MAX(AF:AF),\"\",INDEX(AC:AC,MATCH(ROWS(AF$15:AF594),AF:AF,0)))","v":""},{"$f":"IF(AD594=\"\",AH593,AH593+IF(COUNTIF($AD$15:AD594,AD594)>1,0,1))","v":0},{"$f":"IF(ROWS($AH$15:AH594)>MAX(AH:AH),\"\",INDEX(AD:AD,MATCH(ROWS($AH$15:AH594),AH:AH,0)))","v":""}]
[null,null,null,null,null,null,null,null,null,null,null,null,null,null,null,null,null,null,null,null,null,null,null,null,null,null,null,581,10,"","",{"$f":"AF594+IF(COUNTIF($AC$15:AC595,AC595)>1,0,1)","v":10},{"$f":"IF(ROWS(AF$15:AF595)>MAX(AF:AF),\"\",INDEX(AC:AC,MATCH(ROWS(AF$15:AF595),AF:AF,0)))","v":""},{"$f":"IF(AD595=\"\",AH594,AH594+IF(COUNTIF($AD$15:AD595,AD595)>1,0,1))","v":0},{"$f":"IF(ROWS($AH$15:AH595)>MAX(AH:AH),\"\",INDEX(AD:AD,MATCH(ROWS($AH$15:AH595),AH:AH,0)))","v":""}]
[null,null,null,null,null,null,null,null,null,null,null,null,null,null,null,null,null,null,null,null,null,null,null,null,null,null,null,582,10,"","",{"$f":"AF595+IF(COUNTIF($AC$15:AC596,AC596)>1,0,1)","v":10},{"$f":"IF(ROWS(AF$15:AF596)>MAX(AF:AF),\"\",INDEX(AC:AC,MATCH(ROWS(AF$15:AF596),AF:AF,0)))","v":""},{"$f":"IF(AD596=\"\",AH595,AH595+IF(COUNTIF($AD$15:AD596,AD596)>1,0,1))","v":0},{"$f":"IF(ROWS($AH$15:AH596)>MAX(AH:AH),\"\",INDEX(AD:AD,MATCH(ROWS($AH$15:AH596),AH:AH,0)))","v":""}]
[null,null,null,null,null,null,null,null,null,null,null,null,null,null,null,null,null,null,null,null,null,null,null,null,null,null,null,583,10,"","",{"$f":"AF596+IF(COUNTIF($AC$15:AC597,AC597)>1,0,1)","v":10},{"$f":"IF(ROWS(AF$15:AF597)>MAX(AF:AF),\"\",INDEX(AC:AC,MATCH(ROWS(AF$15:AF597),AF:AF,0)))","v":""},{"$f":"IF(AD597=\"\",AH596,AH596+IF(COUNTIF($AD$15:AD597,AD597)>1,0,1))","v":0},{"$f":"IF(ROWS($AH$15:AH597)>MAX(AH:AH),\"\",INDEX(AD:AD,MATCH(ROWS($AH$15:AH597),AH:AH,0)))","v":""}]
[null,null,null,null,null,null,null,null,null,null,null,null,null,null,null,null,null,null,null,null,null,null,null,null,null,null,null,584,10,"","",{"$f":"AF597+IF(COUNTIF($AC$15:AC598,AC598)>1,0,1)","v":10},{"$f":"IF(ROWS(AF$15:AF598)>MAX(AF:AF),\"\",INDEX(AC:AC,MATCH(ROWS(AF$15:AF598),AF:AF,0)))","v":""},{"$f":"IF(AD598=\"\",AH597,AH597+IF(COUNTIF($AD$15:AD598,AD598)>1,0,1))","v":0},{"$f":"IF(ROWS($AH$15:AH598)>MAX(AH:AH),\"\",INDEX(AD:AD,MATCH(ROWS($AH$15:AH598),AH:AH,0)))","v":""}]
[null,null,null,null,null,null,null,null,null,null,null,null,null,null,null,null,null,null,null,null,null,null,null,null,null,null,null,585,10,"","",{"$f":"AF598+IF(COUNTIF($AC$15:AC599,AC599)>1,0,1)","v":10},{"$f":"IF(ROWS(AF$15:AF599)>MAX(AF:AF),\"\",INDEX(AC:AC,MATCH(ROWS(AF$15:AF599),AF:AF,0)))","v":""},{"$f":"IF(AD599=\"\",AH598,AH598+IF(COUNTIF($AD$15:AD599,AD599)>1,0,1))","v":0},{"$f":"IF(ROWS($AH$15:AH599)>MAX(AH:AH),\"\",INDEX(AD:AD,MATCH(ROWS($AH$15:AH599),AH:AH,0)))","v":""}]
[null,null,null,null,null,null,null,null,null,null,null,null,null,null,null,null,null,null,null,null,null,null,null,null,null,null,null,586,10,"","",{"$f":"AF599+IF(COUNTIF($AC$15:AC600,AC600)>1,0,1)","v":10},{"$f":"IF(ROWS(AF$15:AF600)>MAX(AF:AF),\"\",INDEX(AC:AC,MATCH(ROWS(AF$15:AF600),AF:AF,0)))","v":""},{"$f":"IF(AD600=\"\",AH599,AH599+IF(COUNTIF($AD$15:AD600,AD600)>1,0,1))","v":0},{"$f":"IF(ROWS($AH$15:AH600)>MAX(AH:AH),\"\",INDEX(AD:AD,MATCH(ROWS($AH$15:AH600),AH:AH,0)))","v":""}]
[null,null,null,null,null,null,null,null,null,null,null,null,null,null,null,null,null,null,null,null,null,null,null,null,null,null,null,587,10,"","",{"$f":"AF600+IF(COUNTIF($AC$15:AC601,AC601)>1,0,1)","v":10},{"$f":"IF(ROWS(AF$15:AF601)>MAX(AF:AF),\"\",INDEX(AC:AC,MATCH(ROWS(AF$15:AF601),AF:AF,0)))","v":""},{"$f":"IF(AD601=\"\",AH600,AH600+IF(COUNTIF($AD$15:AD601,AD601)>1,0,1))","v":0},{"$f":"IF(ROWS($AH$15:AH601)>MAX(AH:AH),\"\",INDEX(AD:AD,MATCH(ROWS($AH$15:AH601),AH:AH,0)))","v":""}]
[null,null,null,null,null,null,null,null,null,null,null,null,null,null,null,null,null,null,null,null,null,null,null,null,null,null,null,588,10,"","",{"$f":"AF601+IF(COUNTIF($AC$15:AC602,AC602)>1,0,1)","v":10},{"$f":"IF(ROWS(AF$15:AF602)>MAX(AF:AF),\"\",INDEX(AC:AC,MATCH(ROWS(AF$15:AF602),AF:AF,0)))","v":""},{"$f":"IF(AD602=\"\",AH601,AH601+IF(COUNTIF($AD$15:AD602,AD602)>1,0,1))","v":0},{"$f":"IF(ROWS($AH$15:AH602)>MAX(AH:AH),\"\",INDEX(AD:AD,MATCH(ROWS($AH$15:AH602),AH:AH,0)))","v":""}]
[null,null,null,null,null,null,null,null,null,null,null,null,null,null,null,null,null,null,null,null,null,null,null,null,null,null,null,589,10,"","",{"$f":"AF602+IF(COUNTIF($AC$15:AC603,AC603)>1,0,1)","v":10},{"$f":"IF(ROWS(AF$15:AF603)>MAX(AF:AF),\"\",INDEX(AC:AC,MATCH(ROWS(AF$15:AF603),AF:AF,0)))","v":""},{"$f":"IF(AD603=\"\",AH602,AH602+IF(COUNTIF($AD$15:AD603,AD603)>1,0,1))","v":0},{"$f":"IF(ROWS($AH$15:AH603)>MAX(AH:AH),\"\",INDEX(AD:AD,MATCH(ROWS($AH$15:AH603),AH:AH,0)))","v":""}]
[null,null,null,null,null,null,null,null,null,null,null,null,null,null,null,null,null,null,null,null,null,null,null,null,null,null,null,590,10,"","",{"$f":"AF603+IF(COUNTIF($AC$15:AC604,AC604)>1,0,1)","v":10},{"$f":"IF(ROWS(AF$15:AF604)>MAX(AF:AF),\"\",INDEX(AC:AC,MATCH(ROWS(AF$15:AF604),AF:AF,0)))","v":""},{"$f":"IF(AD604=\"\",AH603,AH603+IF(COUNTIF($AD$15:AD604,AD604)>1,0,1))","v":0},{"$f":"IF(ROWS($AH$15:AH604)>MAX(AH:AH),\"\",INDEX(AD:AD,MATCH(ROWS($AH$15:AH604),AH:AH,0)))","v":""}]
[null,null,null,null,null,null,null,null,null,null,null,null,null,null,null,null,null,null,null,null,null,null,null,null,null,null,null,591,10,"","",{"$f":"AF604+IF(COUNTIF($AC$15:AC605,AC605)>1,0,1)","v":10},{"$f":"IF(ROWS(AF$15:AF605)>MAX(AF:AF),\"\",INDEX(AC:AC,MATCH(ROWS(AF$15:AF605),AF:AF,0)))","v":""},{"$f":"IF(AD605=\"\",AH604,AH604+IF(COUNTIF($AD$15:AD605,AD605)>1,0,1))","v":0},{"$f":"IF(ROWS($AH$15:AH605)>MAX(AH:AH),\"\",INDEX(AD:AD,MATCH(ROWS($AH$15:AH605),AH:AH,0)))","v":""}]
[null,null,null,null,null,null,null,null,null,null,null,null,null,null,null,null,null,null,null,null,null,null,null,null,null,null,null,592,10,"","",{"$f":"AF605+IF(COUNTIF($AC$15:AC606,AC606)>1,0,1)","v":10},{"$f":"IF(ROWS(AF$15:AF606)>MAX(AF:AF),\"\",INDEX(AC:AC,MATCH(ROWS(AF$15:AF606),AF:AF,0)))","v":""},{"$f":"IF(AD606=\"\",AH605,AH605+IF(COUNTIF($AD$15:AD606,AD606)>1,0,1))","v":0},{"$f":"IF(ROWS($AH$15:AH606)>MAX(AH:AH),\"\",INDEX(AD:AD,MATCH(ROWS($AH$15:AH606),AH:AH,0)))","v":""}]
[null,null,null,null,null,null,null,null,null,null,null,null,null,null,null,null,null,null,null,null,null,null,null,null,null,null,null,593,10,"","",{"$f":"AF606+IF(COUNTIF($AC$15:AC607,AC607)>1,0,1)","v":10},{"$f":"IF(ROWS(AF$15:AF607)>MAX(AF:AF),\"\",INDEX(AC:AC,MATCH(ROWS(AF$15:AF607),AF:AF,0)))","v":""},{"$f":"IF(AD607=\"\",AH606,AH606+IF(COUNTIF($AD$15:AD607,AD607)>1,0,1))","v":0},{"$f":"IF(ROWS($AH$15:AH607)>MAX(AH:AH),\"\",INDEX(AD:AD,MATCH(ROWS($AH$15:AH607),AH:AH,0)))","v":""}]
[null,null,null,null,null,null,null,null,null,null,null,null,null,null,null,null,null,null,null,null,null,null,null,null,null,null,null,594,10,"","",{"$f":"AF607+IF(COUNTIF($AC$15:AC608,AC608)>1,0,1)","v":10},{"$f":"IF(ROWS(AF$15:AF608)>MAX(AF:AF),\"\",INDEX(AC:AC,MATCH(ROWS(AF$15:AF608),AF:AF,0)))","v":""},{"$f":"IF(AD608=\"\",AH607,AH607+IF(COUNTIF($AD$15:AD608,AD608)>1,0,1))","v":0},{"$f":"IF(ROWS($AH$15:AH608)>MAX(AH:AH),\"\",INDEX(AD:AD,MATCH(ROWS($AH$15:AH608),AH:AH,0)))","v":""}]
[null,null,null,null,null,null,null,null,null,null,null,null,null,null,null,null,null,null,null,null,null,null,null,null,null,null,null,595,10,"","",{"$f":"AF608+IF(COUNTIF($AC$15:AC609,AC609)>1,0,1)","v":10},{"$f":"IF(ROWS(AF$15:AF609)>MAX(AF:AF),\"\",INDEX(AC:AC,MATCH(ROWS(AF$15:AF609),AF:AF,0)))","v":""},{"$f":"IF(AD609=\"\",AH608,AH608+IF(COUNTIF($AD$15:AD609,AD609)>1,0,1))","v":0},{"$f":"IF(ROWS($AH$15:AH609)>MAX(AH:AH),\"\",INDEX(AD:AD,MATCH(ROWS($AH$15:AH609),AH:AH,0)))","v":""}]
[null,null,null,null,null,null,null,null,null,null,null,null,null,null,null,null,null,null,null,null,null,null,null,null,null,null,null,596,10,"","",{"$f":"AF609+IF(COUNTIF($AC$15:AC610,AC610)>1,0,1)","v":10},{"$f":"IF(ROWS(AF$15:AF610)>MAX(AF:AF),\"\",INDEX(AC:AC,MATCH(ROWS(AF$15:AF610),AF:AF,0)))","v":""},{"$f":"IF(AD610=\"\",AH609,AH609+IF(COUNTIF($AD$15:AD610,AD610)>1,0,1))","v":0},{"$f":"IF(ROWS($AH$15:AH610)>MAX(AH:AH),\"\",INDEX(AD:AD,MATCH(ROWS($AH$15:AH610),AH:AH,0)))","v":""}]
[null,null,null,null,null,null,null,null,null,null,null,null,null,null,null,null,null,null,null,null,null,null,null,null,null,null,null,597,10,"","",{"$f":"AF610+IF(COUNTIF($AC$15:AC611,AC611)>1,0,1)","v":10},{"$f":"IF(ROWS(AF$15:AF611)>MAX(AF:AF),\"\",INDEX(AC:AC,MATCH(ROWS(AF$15:AF611),AF:AF,0)))","v":""},{"$f":"IF(AD611=\"\",AH610,AH610+IF(COUNTIF($AD$15:AD611,AD611)>1,0,1))","v":0},{"$f":"IF(ROWS($AH$15:AH611)>MAX(AH:AH),\"\",INDEX(AD:AD,MATCH(ROWS($AH$15:AH611),AH:AH,0)))","v":""}]
[null,null,null,null,null,null,null,null,null,null,null,null,null,null,null,null,null,null,null,null,null,null,null,null,null,null,null,598,10,"","",{"$f":"AF611+IF(COUNTIF($AC$15:AC612,AC612)>1,0,1)","v":10},{"$f":"IF(ROWS(AF$15:AF612)>MAX(AF:AF),\"\",INDEX(AC:AC,MATCH(ROWS(AF$15:AF612),AF:AF,0)))","v":""},{"$f":"IF(AD612=\"\",AH611,AH611+IF(COUNTIF($AD$15:AD612,AD612)>1,0,1))","v":0},{"$f":"IF(ROWS($AH$15:AH612)>MAX(AH:AH),\"\",INDEX(AD:AD,MATCH(ROWS($AH$15:AH612),AH:AH,0)))","v":""}]
[null,null,null,null,null,null,null,null,null,null,null,null,null,null,null,null,null,null,null,null,null,null,null,null,null,null,null,599,10,"","",{"$f":"AF612+IF(COUNTIF($AC$15:AC613,AC613)>1,0,1)","v":10},{"$f":"IF(ROWS(AF$15:AF613)>MAX(AF:AF),\"\",INDEX(AC:AC,MATCH(ROWS(AF$15:AF613),AF:AF,0)))","v":""},{"$f":"IF(AD613=\"\",AH612,AH612+IF(COUNTIF($AD$15:AD613,AD613)>1,0,1))","v":0},{"$f":"IF(ROWS($AH$15:AH613)>MAX(AH:AH),\"\",INDEX(AD:AD,MATCH(ROWS($AH$15:AH613),AH:AH,0)))","v":""}]
[null,null,null,null,null,null,null,null,null,null,null,null,null,null,null,null,null,null,null,null,null,null,null,null,null,null,null,600,10,"","",{"$f":"AF613+IF(COUNTIF($AC$15:AC614,AC614)>1,0,1)","v":10},{"$f":"IF(ROWS(AF$15:AF614)>MAX(AF:AF),\"\",INDEX(AC:AC,MATCH(ROWS(AF$15:AF614),AF:AF,0)))","v":""},{"$f":"IF(AD614=\"\",AH613,AH613+IF(COUNTIF($AD$15:AD614,AD614)>1,0,1))","v":0},{"$f":"IF(ROWS($AH$15:AH614)>MAX(AH:AH),\"\",INDEX(AD:AD,MATCH(ROWS($AH$15:AH614),AH:AH,0)))","v":""}]
[null,null,null,null,null,null,null,null,null,null,null,null,null,null,null,null,null,null,null,null,null,null,null,null,null,null,null,601,10,"","",{"$f":"AF614+IF(COUNTIF($AC$15:AC615,AC615)>1,0,1)","v":10},{"$f":"IF(ROWS(AF$15:AF615)>MAX(AF:AF),\"\",INDEX(AC:AC,MATCH(ROWS(AF$15:AF615),AF:AF,0)))","v":""},{"$f":"IF(AD615=\"\",AH614,AH614+IF(COUNTIF($AD$15:AD615,AD615)>1,0,1))","v":0},{"$f":"IF(ROWS($AH$15:AH615)>MAX(AH:AH),\"\",INDEX(AD:AD,MATCH(ROWS($AH$15:AH615),AH:AH,0)))","v":""}]
[null,null,null,null,null,null,null,null,null,null,null,null,null,null,null,null,null,null,null,null,null,null,null,null,null,null,null,602,10,"","",{"$f":"AF615+IF(COUNTIF($AC$15:AC616,AC616)>1,0,1)","v":10},{"$f":"IF(ROWS(AF$15:AF616)>MAX(AF:AF),\"\",INDEX(AC:AC,MATCH(ROWS(AF$15:AF616),AF:AF,0)))","v":""},{"$f":"IF(AD616=\"\",AH615,AH615+IF(COUNTIF($AD$15:AD616,AD616)>1,0,1))","v":0},{"$f":"IF(ROWS($AH$15:AH616)>MAX(AH:AH),\"\",INDEX(AD:AD,MATCH(ROWS($AH$15:AH616),AH:AH,0)))","v":""}]
[null,null,null,null,null,null,null,null,null,null,null,null,null,null,null,null,null,null,null,null,null,null,null,null,null,null,null,603,10,"","",{"$f":"AF616+IF(COUNTIF($AC$15:AC617,AC617)>1,0,1)","v":10},{"$f":"IF(ROWS(AF$15:AF617)>MAX(AF:AF),\"\",INDEX(AC:AC,MATCH(ROWS(AF$15:AF617),AF:AF,0)))","v":""},{"$f":"IF(AD617=\"\",AH616,AH616+IF(COUNTIF($AD$15:AD617,AD617)>1,0,1))","v":0},{"$f":"IF(ROWS($AH$15:AH617)>MAX(AH:AH),\"\",INDEX(AD:AD,MATCH(ROWS($AH$15:AH617),AH:AH,0)))","v":""}]
[null,null,null,null,null,null,null,null,null,null,null,null,null,null,null,null,null,null,null,null,null,null,null,null,null,null,null,604,10,"","",{"$f":"AF617+IF(COUNTIF($AC$15:AC618,AC618)>1,0,1)","v":10},{"$f":"IF(ROWS(AF$15:AF618)>MAX(AF:AF),\"\",INDEX(AC:AC,MATCH(ROWS(AF$15:AF618),AF:AF,0)))","v":""},{"$f":"IF(AD618=\"\",AH617,AH617+IF(COUNTIF($AD$15:AD618,AD618)>1,0,1))","v":0},{"$f":"IF(ROWS($AH$15:AH618)>MAX(AH:AH),\"\",INDEX(AD:AD,MATCH(ROWS($AH$15:AH618),AH:AH,0)))","v":""}]
[null,null,null,null,null,null,null,null,null,null,null,null,null,null,null,null,null,null,null,null,null,null,null,null,null,null,null,605,10,"","",{"$f":"AF618+IF(COUNTIF($AC$15:AC619,AC619)>1,0,1)","v":10},{"$f":"IF(ROWS(AF$15:AF619)>MAX(AF:AF),\"\",INDEX(AC:AC,MATCH(ROWS(AF$15:AF619),AF:AF,0)))","v":""},{"$f":"IF(AD619=\"\",AH618,AH618+IF(COUNTIF($AD$15:AD619,AD619)>1,0,1))","v":0},{"$f":"IF(ROWS($AH$15:AH619)>MAX(AH:AH),\"\",INDEX(AD:AD,MATCH(ROWS($AH$15:AH619),AH:AH,0)))","v":""}]
[null,null,null,null,null,null,null,null,null,null,null,null,null,null,null,null,null,null,null,null,null,null,null,null,null,null,null,606,10,"","",{"$f":"AF619+IF(COUNTIF($AC$15:AC620,AC620)>1,0,1)","v":10},{"$f":"IF(ROWS(AF$15:AF620)>MAX(AF:AF),\"\",INDEX(AC:AC,MATCH(ROWS(AF$15:AF620),AF:AF,0)))","v":""},{"$f":"IF(AD620=\"\",AH619,AH619+IF(COUNTIF($AD$15:AD620,AD620)>1,0,1))","v":0},{"$f":"IF(ROWS($AH$15:AH620)>MAX(AH:AH),\"\",INDEX(AD:AD,MATCH(ROWS($AH$15:AH620),AH:AH,0)))","v":""}]
[null,null,null,null,null,null,null,null,null,null,null,null,null,null,null,null,null,null,null,null,null,null,null,null,null,null,null,607,10,"","",{"$f":"AF620+IF(COUNTIF($AC$15:AC621,AC621)>1,0,1)","v":10},{"$f":"IF(ROWS(AF$15:AF621)>MAX(AF:AF),\"\",INDEX(AC:AC,MATCH(ROWS(AF$15:AF621),AF:AF,0)))","v":""},{"$f":"IF(AD621=\"\",AH620,AH620+IF(COUNTIF($AD$15:AD621,AD621)>1,0,1))","v":0},{"$f":"IF(ROWS($AH$15:AH621)>MAX(AH:AH),\"\",INDEX(AD:AD,MATCH(ROWS($AH$15:AH621),AH:AH,0)))","v":""}]
[null,null,null,null,null,null,null,null,null,null,null,null,null,null,null,null,null,null,null,null,null,null,null,null,null,null,null,608,10,"","",{"$f":"AF621+IF(COUNTIF($AC$15:AC622,AC622)>1,0,1)","v":10},{"$f":"IF(ROWS(AF$15:AF622)>MAX(AF:AF),\"\",INDEX(AC:AC,MATCH(ROWS(AF$15:AF622),AF:AF,0)))","v":""},{"$f":"IF(AD622=\"\",AH621,AH621+IF(COUNTIF($AD$15:AD622,AD622)>1,0,1))","v":0},{"$f":"IF(ROWS($AH$15:AH622)>MAX(AH:AH),\"\",INDEX(AD:AD,MATCH(ROWS($AH$15:AH622),AH:AH,0)))","v":""}]
[null,null,null,null,null,null,null,null,null,null,null,null,null,null,null,null,null,null,null,null,null,null,null,null,null,null,null,609,10,"","",{"$f":"AF622+IF(COUNTIF($AC$15:AC623,AC623)>1,0,1)","v":10},{"$f":"IF(ROWS(AF$15:AF623)>MAX(AF:AF),\"\",INDEX(AC:AC,MATCH(ROWS(AF$15:AF623),AF:AF,0)))","v":""},{"$f":"IF(AD623=\"\",AH622,AH622+IF(COUNTIF($AD$15:AD623,AD623)>1,0,1))","v":0},{"$f":"IF(ROWS($AH$15:AH623)>MAX(AH:AH),\"\",INDEX(AD:AD,MATCH(ROWS($AH$15:AH623),AH:AH,0)))","v":""}]
[null,null,null,null,null,null,null,null,null,null,null,null,null,null,null,null,null,null,null,null,null,null,null,null,null,null,null,610,10,"","",{"$f":"AF623+IF(COUNTIF($AC$15:AC624,AC624)>1,0,1)","v":10},{"$f":"IF(ROWS(AF$15:AF624)>MAX(AF:AF),\"\",INDEX(AC:AC,MATCH(ROWS(AF$15:AF624),AF:AF,0)))","v":""},{"$f":"IF(AD624=\"\",AH623,AH623+IF(COUNTIF($AD$15:AD624,AD624)>1,0,1))","v":0},{"$f":"IF(ROWS($AH$15:AH624)>MAX(AH:AH),\"\",INDEX(AD:AD,MATCH(ROWS($AH$15:AH624),AH:AH,0)))","v":""}]
[null,null,null,null,null,null,null,null,null,null,null,null,null,null,null,null,null,null,null,null,null,null,null,null,null,null,null,611,10,"","",{"$f":"AF624+IF(COUNTIF($AC$15:AC625,AC625)>1,0,1)","v":10},{"$f":"IF(ROWS(AF$15:AF625)>MAX(AF:AF),\"\",INDEX(AC:AC,MATCH(ROWS(AF$15:AF625),AF:AF,0)))","v":""},{"$f":"IF(AD625=\"\",AH624,AH624+IF(COUNTIF($AD$15:AD625,AD625)>1,0,1))","v":0},{"$f":"IF(ROWS($AH$15:AH625)>MAX(AH:AH),\"\",INDEX(AD:AD,MATCH(ROWS($AH$15:AH625),AH:AH,0)))","v":""}]
[null,null,null,null,null,null,null,null,null,null,null,null,null,null,null,null,null,null,null,null,null,null,null,null,null,null,null,612,10,"","",{"$f":"AF625+IF(COUNTIF($AC$15:AC626,AC626)>1,0,1)","v":10},{"$f":"IF(ROWS(AF$15:AF626)>MAX(AF:AF),\"\",INDEX(AC:AC,MATCH(ROWS(AF$15:AF626),AF:AF,0)))","v":""},{"$f":"IF(AD626=\"\",AH625,AH625+IF(COUNTIF($AD$15:AD626,AD626)>1,0,1))","v":0},{"$f":"IF(ROWS($AH$15:AH626)>MAX(AH:AH),\"\",INDEX(AD:AD,MATCH(ROWS($AH$15:AH626),AH:AH,0)))","v":""}]
[null,null,null,null,null,null,null,null,null,null,null,null,null,null,null,null,null,null,null,null,null,null,null,null,null,null,null,613,10,"","",{"$f":"AF626+IF(COUNTIF($AC$15:AC627,AC627)>1,0,1)","v":10},{"$f":"IF(ROWS(AF$15:AF627)>MAX(AF:AF),\"\",INDEX(AC:AC,MATCH(ROWS(AF$15:AF627),AF:AF,0)))","v":""},{"$f":"IF(AD627=\"\",AH626,AH626+IF(COUNTIF($AD$15:AD627,AD627)>1,0,1))","v":0},{"$f":"IF(ROWS($AH$15:AH627)>MAX(AH:AH),\"\",INDEX(AD:AD,MATCH(ROWS($AH$15:AH627),AH:AH,0)))","v":""}]
[null,null,null,null,null,null,null,null,null,null,null,null,null,null,null,null,null,null,null,null,null,null,null,null,null,null,null,614,10,"","",{"$f":"AF627+IF(COUNTIF($AC$15:AC628,AC628)>1,0,1)","v":10},{"$f":"IF(ROWS(AF$15:AF628)>MAX(AF:AF),\"\",INDEX(AC:AC,MATCH(ROWS(AF$15:AF628),AF:AF,0)))","v":""},{"$f":"IF(AD628=\"\",AH627,AH627+IF(COUNTIF($AD$15:AD628,AD628)>1,0,1))","v":0},{"$f":"IF(ROWS($AH$15:AH628)>MAX(AH:AH),\"\",INDEX(AD:AD,MATCH(ROWS($AH$15:AH628),AH:AH,0)))","v":""}]
[null,null,null,null,null,null,null,null,null,null,null,null,null,null,null,null,null,null,null,null,null,null,null,null,null,null,null,615,10,"","",{"$f":"AF628+IF(COUNTIF($AC$15:AC629,AC629)>1,0,1)","v":10},{"$f":"IF(ROWS(AF$15:AF629)>MAX(AF:AF),\"\",INDEX(AC:AC,MATCH(ROWS(AF$15:AF629),AF:AF,0)))","v":""},{"$f":"IF(AD629=\"\",AH628,AH628+IF(COUNTIF($AD$15:AD629,AD629)>1,0,1))","v":0},{"$f":"IF(ROWS($AH$15:AH629)>MAX(AH:AH),\"\",INDEX(AD:AD,MATCH(ROWS($AH$15:AH629),AH:AH,0)))","v":""}]
[null,null,null,null,null,null,null,null,null,null,null,null,null,null,null,null,null,null,null,null,null,null,null,null,null,null,null,616,10,"","",{"$f":"AF629+IF(COUNTIF($AC$15:AC630,AC630)>1,0,1)","v":10},{"$f":"IF(ROWS(AF$15:AF630)>MAX(AF:AF),\"\",INDEX(AC:AC,MATCH(ROWS(AF$15:AF630),AF:AF,0)))","v":""},{"$f":"IF(AD630=\"\",AH629,AH629+IF(COUNTIF($AD$15:AD630,AD630)>1,0,1))","v":0},{"$f":"IF(ROWS($AH$15:AH630)>MAX(AH:AH),\"\",INDEX(AD:AD,MATCH(ROWS($AH$15:AH630),AH:AH,0)))","v":""}]
[null,null,null,null,null,null,null,null,null,null,null,null,null,null,null,null,null,null,null,null,null,null,null,null,null,null,null,617,10,"","",{"$f":"AF630+IF(COUNTIF($AC$15:AC631,AC631)>1,0,1)","v":10},{"$f":"IF(ROWS(AF$15:AF631)>MAX(AF:AF),\"\",INDEX(AC:AC,MATCH(ROWS(AF$15:AF631),AF:AF,0)))","v":""},{"$f":"IF(AD631=\"\",AH630,AH630+IF(COUNTIF($AD$15:AD631,AD631)>1,0,1))","v":0},{"$f":"IF(ROWS($AH$15:AH631)>MAX(AH:AH),\"\",INDEX(AD:AD,MATCH(ROWS($AH$15:AH631),AH:AH,0)))","v":""}]
[null,null,null,null,null,null,null,null,null,null,null,null,null,null,null,null,null,null,null,null,null,null,null,null,null,null,null,618,10,"","",{"$f":"AF631+IF(COUNTIF($AC$15:AC632,AC632)>1,0,1)","v":10},{"$f":"IF(ROWS(AF$15:AF632)>MAX(AF:AF),\"\",INDEX(AC:AC,MATCH(ROWS(AF$15:AF632),AF:AF,0)))","v":""},{"$f":"IF(AD632=\"\",AH631,AH631+IF(COUNTIF($AD$15:AD632,AD632)>1,0,1))","v":0},{"$f":"IF(ROWS($AH$15:AH632)>MAX(AH:AH),\"\",INDEX(AD:AD,MATCH(ROWS($AH$15:AH632),AH:AH,0)))","v":""}]
[null,null,null,null,null,null,null,null,null,null,null,null,null,null,null,null,null,null,null,null,null,null,null,null,null,null,null,619,10,"","",{"$f":"AF632+IF(COUNTIF($AC$15:AC633,AC633)>1,0,1)","v":10},{"$f":"IF(ROWS(AF$15:AF633)>MAX(AF:AF),\"\",INDEX(AC:AC,MATCH(ROWS(AF$15:AF633),AF:AF,0)))","v":""},{"$f":"IF(AD633=\"\",AH632,AH632+IF(COUNTIF($AD$15:AD633,AD633)>1,0,1))","v":0},{"$f":"IF(ROWS($AH$15:AH633)>MAX(AH:AH),\"\",INDEX(AD:AD,MATCH(ROWS($AH$15:AH633),AH:AH,0)))","v":""}]
[null,null,null,null,null,null,null,null,null,null,null,null,null,null,null,null,null,null,null,null,null,null,null,null,null,null,null,620,10,"","",{"$f":"AF633+IF(COUNTIF($AC$15:AC634,AC634)>1,0,1)","v":10},{"$f":"IF(ROWS(AF$15:AF634)>MAX(AF:AF),\"\",INDEX(AC:AC,MATCH(ROWS(AF$15:AF634),AF:AF,0)))","v":""},{"$f":"IF(AD634=\"\",AH633,AH633+IF(COUNTIF($AD$15:AD634,AD634)>1,0,1))","v":0},{"$f":"IF(ROWS($AH$15:AH634)>MAX(AH:AH),\"\",INDEX(AD:AD,MATCH(ROWS($AH$15:AH634),AH:AH,0)))","v":""}]
[null,null,null,null,null,null,null,null,null,null,null,null,null,null,null,null,null,null,null,null,null,null,null,null,null,null,null,621,10,"","",{"$f":"AF634+IF(COUNTIF($AC$15:AC635,AC635)>1,0,1)","v":10},{"$f":"IF(ROWS(AF$15:AF635)>MAX(AF:AF),\"\",INDEX(AC:AC,MATCH(ROWS(AF$15:AF635),AF:AF,0)))","v":""},{"$f":"IF(AD635=\"\",AH634,AH634+IF(COUNTIF($AD$15:AD635,AD635)>1,0,1))","v":0},{"$f":"IF(ROWS($AH$15:AH635)>MAX(AH:AH),\"\",INDEX(AD:AD,MATCH(ROWS($AH$15:AH635),AH:AH,0)))","v":""}]
[null,null,null,null,null,null,null,null,null,null,null,null,null,null,null,null,null,null,null,null,null,null,null,null,null,null,null,622,10,"","",{"$f":"AF635+IF(COUNTIF($AC$15:AC636,AC636)>1,0,1)","v":10},{"$f":"IF(ROWS(AF$15:AF636)>MAX(AF:AF),\"\",INDEX(AC:AC,MATCH(ROWS(AF$15:AF636),AF:AF,0)))","v":""},{"$f":"IF(AD636=\"\",AH635,AH635+IF(COUNTIF($AD$15:AD636,AD636)>1,0,1))","v":0},{"$f":"IF(ROWS($AH$15:AH636)>MAX(AH:AH),\"\",INDEX(AD:AD,MATCH(ROWS($AH$15:AH636),AH:AH,0)))","v":""}]
[null,null,null,null,null,null,null,null,null,null,null,null,null,null,null,null,null,null,null,null,null,null,null,null,null,null,null,623,10,"","",{"$f":"AF636+IF(COUNTIF($AC$15:AC637,AC637)>1,0,1)","v":10},{"$f":"IF(ROWS(AF$15:AF637)>MAX(AF:AF),\"\",INDEX(AC:AC,MATCH(ROWS(AF$15:AF637),AF:AF,0)))","v":""},{"$f":"IF(AD637=\"\",AH636,AH636+IF(COUNTIF($AD$15:AD637,AD637)>1,0,1))","v":0},{"$f":"IF(ROWS($AH$15:AH637)>MAX(AH:AH),\"\",INDEX(AD:AD,MATCH(ROWS($AH$15:AH637),AH:AH,0)))","v":""}]
[null,null,null,null,null,null,null,null,null,null,null,null,null,null,null,null,null,null,null,null,null,null,null,null,null,null,null,624,10,"","",{"$f":"AF637+IF(COUNTIF($AC$15:AC638,AC638)>1,0,1)","v":10},{"$f":"IF(ROWS(AF$15:AF638)>MAX(AF:AF),\"\",INDEX(AC:AC,MATCH(ROWS(AF$15:AF638),AF:AF,0)))","v":""},{"$f":"IF(AD638=\"\",AH637,AH637+IF(COUNTIF($AD$15:AD638,AD638)>1,0,1))","v":0},{"$f":"IF(ROWS($AH$15:AH638)>MAX(AH:AH),\"\",INDEX(AD:AD,MATCH(ROWS($AH$15:AH638),AH:AH,0)))","v":""}]
[null,null,null,null,null,null,null,null,null,null,null,null,null,null,null,null,null,null,null,null,null,null,null,null,null,null,null,625,10,"","",{"$f":"AF638+IF(COUNTIF($AC$15:AC639,AC639)>1,0,1)","v":10},{"$f":"IF(ROWS(AF$15:AF639)>MAX(AF:AF),\"\",INDEX(AC:AC,MATCH(ROWS(AF$15:AF639),AF:AF,0)))","v":""},{"$f":"IF(AD639=\"\",AH638,AH638+IF(COUNTIF($AD$15:AD639,AD639)>1,0,1))","v":0},{"$f":"IF(ROWS($AH$15:AH639)>MAX(AH:AH),\"\",INDEX(AD:AD,MATCH(ROWS($AH$15:AH639),AH:AH,0)))","v":""}]
[null,null,null,null,null,null,null,null,null,null,null,null,null,null,null,null,null,null,null,null,null,null,null,null,null,null,null,626,10,"","",{"$f":"AF639+IF(COUNTIF($AC$15:AC640,AC640)>1,0,1)","v":10},{"$f":"IF(ROWS(AF$15:AF640)>MAX(AF:AF),\"\",INDEX(AC:AC,MATCH(ROWS(AF$15:AF640),AF:AF,0)))","v":""},{"$f":"IF(AD640=\"\",AH639,AH639+IF(COUNTIF($AD$15:AD640,AD640)>1,0,1))","v":0},{"$f":"IF(ROWS($AH$15:AH640)>MAX(AH:AH),\"\",INDEX(AD:AD,MATCH(ROWS($AH$15:AH640),AH:AH,0)))","v":""}]
[null,null,null,null,null,null,null,null,null,null,null,null,null,null,null,null,null,null,null,null,null,null,null,null,null,null,null,627,10,"","",{"$f":"AF640+IF(COUNTIF($AC$15:AC641,AC641)>1,0,1)","v":10},{"$f":"IF(ROWS(AF$15:AF641)>MAX(AF:AF),\"\",INDEX(AC:AC,MATCH(ROWS(AF$15:AF641),AF:AF,0)))","v":""},{"$f":"IF(AD641=\"\",AH640,AH640+IF(COUNTIF($AD$15:AD641,AD641)>1,0,1))","v":0},{"$f":"IF(ROWS($AH$15:AH641)>MAX(AH:AH),\"\",INDEX(AD:AD,MATCH(ROWS($AH$15:AH641),AH:AH,0)))","v":""}]
[null,null,null,null,null,null,null,null,null,null,null,null,null,null,null,null,null,null,null,null,null,null,null,null,null,null,null,628,10,"","",{"$f":"AF641+IF(COUNTIF($AC$15:AC642,AC642)>1,0,1)","v":10},{"$f":"IF(ROWS(AF$15:AF642)>MAX(AF:AF),\"\",INDEX(AC:AC,MATCH(ROWS(AF$15:AF642),AF:AF,0)))","v":""},{"$f":"IF(AD642=\"\",AH641,AH641+IF(COUNTIF($AD$15:AD642,AD642)>1,0,1))","v":0},{"$f":"IF(ROWS($AH$15:AH642)>MAX(AH:AH),\"\",INDEX(AD:AD,MATCH(ROWS($AH$15:AH642),AH:AH,0)))","v":""}]
[null,null,null,null,null,null,null,null,null,null,null,null,null,null,null,null,null,null,null,null,null,null,null,null,null,null,null,629,10,"","",{"$f":"AF642+IF(COUNTIF($AC$15:AC643,AC643)>1,0,1)","v":10},{"$f":"IF(ROWS(AF$15:AF643)>MAX(AF:AF),\"\",INDEX(AC:AC,MATCH(ROWS(AF$15:AF643),AF:AF,0)))","v":""},{"$f":"IF(AD643=\"\",AH642,AH642+IF(COUNTIF($AD$15:AD643,AD643)>1,0,1))","v":0},{"$f":"IF(ROWS($AH$15:AH643)>MAX(AH:AH),\"\",INDEX(AD:AD,MATCH(ROWS($AH$15:AH643),AH:AH,0)))","v":""}]
[null,null,null,null,null,null,null,null,null,null,null,null,null,null,null,null,null,null,null,null,null,null,null,null,null,null,null,630,11,"","",{"$f":"AF643+IF(COUNTIF($AC$15:AC644,AC644)>1,0,1)","v":11},{"$f":"IF(ROWS(AF$15:AF644)>MAX(AF:AF),\"\",INDEX(AC:AC,MATCH(ROWS(AF$15:AF644),AF:AF,0)))","v":""},{"$f":"IF(AD644=\"\",AH643,AH643+IF(COUNTIF($AD$15:AD644,AD644)>1,0,1))","v":0},{"$f":"IF(ROWS($AH$15:AH644)>MAX(AH:AH),\"\",INDEX(AD:AD,MATCH(ROWS($AH$15:AH644),AH:AH,0)))","v":""}]
[null,null,null,null,null,null,null,null,null,null,null,null,null,null,null,null,null,null,null,null,null,null,null,null,null,null,null,631,11,"","",{"$f":"AF644+IF(COUNTIF($AC$15:AC645,AC645)>1,0,1)","v":11},{"$f":"IF(ROWS(AF$15:AF645)>MAX(AF:AF),\"\",INDEX(AC:AC,MATCH(ROWS(AF$15:AF645),AF:AF,0)))","v":""},{"$f":"IF(AD645=\"\",AH644,AH644+IF(COUNTIF($AD$15:AD645,AD645)>1,0,1))","v":0},{"$f":"IF(ROWS($AH$15:AH645)>MAX(AH:AH),\"\",INDEX(AD:AD,MATCH(ROWS($AH$15:AH645),AH:AH,0)))","v":""}]
[null,null,null,null,null,null,null,null,null,null,null,null,null,null,null,null,null,null,null,null,null,null,null,null,null,null,null,632,11,"","",{"$f":"AF645+IF(COUNTIF($AC$15:AC646,AC646)>1,0,1)","v":11},{"$f":"IF(ROWS(AF$15:AF646)>MAX(AF:AF),\"\",INDEX(AC:AC,MATCH(ROWS(AF$15:AF646),AF:AF,0)))","v":""},{"$f":"IF(AD646=\"\",AH645,AH645+IF(COUNTIF($AD$15:AD646,AD646)>1,0,1))","v":0},{"$f":"IF(ROWS($AH$15:AH646)>MAX(AH:AH),\"\",INDEX(AD:AD,MATCH(ROWS($AH$15:AH646),AH:AH,0)))","v":""}]
[null,null,null,null,null,null,null,null,null,null,null,null,null,null,null,null,null,null,null,null,null,null,null,null,null,null,null,633,11,"","",{"$f":"AF646+IF(COUNTIF($AC$15:AC647,AC647)>1,0,1)","v":11},{"$f":"IF(ROWS(AF$15:AF647)>MAX(AF:AF),\"\",INDEX(AC:AC,MATCH(ROWS(AF$15:AF647),AF:AF,0)))","v":""},{"$f":"IF(AD647=\"\",AH646,AH646+IF(COUNTIF($AD$15:AD647,AD647)>1,0,1))","v":0},{"$f":"IF(ROWS($AH$15:AH647)>MAX(AH:AH),\"\",INDEX(AD:AD,MATCH(ROWS($AH$15:AH647),AH:AH,0)))","v":""}]
[null,null,null,null,null,null,null,null,null,null,null,null,null,null,null,null,null,null,null,null,null,null,null,null,null,null,null,634,11,"","",{"$f":"AF647+IF(COUNTIF($AC$15:AC648,AC648)>1,0,1)","v":11},{"$f":"IF(ROWS(AF$15:AF648)>MAX(AF:AF),\"\",INDEX(AC:AC,MATCH(ROWS(AF$15:AF648),AF:AF,0)))","v":""},{"$f":"IF(AD648=\"\",AH647,AH647+IF(COUNTIF($AD$15:AD648,AD648)>1,0,1))","v":0},{"$f":"IF(ROWS($AH$15:AH648)>MAX(AH:AH),\"\",INDEX(AD:AD,MATCH(ROWS($AH$15:AH648),AH:AH,0)))","v":""}]
[null,null,null,null,null,null,null,null,null,null,null,null,null,null,null,null,null,null,null,null,null,null,null,null,null,null,null,635,11,"","",{"$f":"AF648+IF(COUNTIF($AC$15:AC649,AC649)>1,0,1)","v":11},{"$f":"IF(ROWS(AF$15:AF649)>MAX(AF:AF),\"\",INDEX(AC:AC,MATCH(ROWS(AF$15:AF649),AF:AF,0)))","v":""},{"$f":"IF(AD649=\"\",AH648,AH648+IF(COUNTIF($AD$15:AD649,AD649)>1,0,1))","v":0},{"$f":"IF(ROWS($AH$15:AH649)>MAX(AH:AH),\"\",INDEX(AD:AD,MATCH(ROWS($AH$15:AH649),AH:AH,0)))","v":""}]
[null,null,null,null,null,null,null,null,null,null,null,null,null,null,null,null,null,null,null,null,null,null,null,null,null,null,null,636,11,"","",{"$f":"AF649+IF(COUNTIF($AC$15:AC650,AC650)>1,0,1)","v":11},{"$f":"IF(ROWS(AF$15:AF650)>MAX(AF:AF),\"\",INDEX(AC:AC,MATCH(ROWS(AF$15:AF650),AF:AF,0)))","v":""},{"$f":"IF(AD650=\"\",AH649,AH649+IF(COUNTIF($AD$15:AD650,AD650)>1,0,1))","v":0},{"$f":"IF(ROWS($AH$15:AH650)>MAX(AH:AH),\"\",INDEX(AD:AD,MATCH(ROWS($AH$15:AH650),AH:AH,0)))","v":""}]
[null,null,null,null,null,null,null,null,null,null,null,null,null,null,null,null,null,null,null,null,null,null,null,null,null,null,null,637,11,"","",{"$f":"AF650+IF(COUNTIF($AC$15:AC651,AC651)>1,0,1)","v":11},{"$f":"IF(ROWS(AF$15:AF651)>MAX(AF:AF),\"\",INDEX(AC:AC,MATCH(ROWS(AF$15:AF651),AF:AF,0)))","v":""},{"$f":"IF(AD651=\"\",AH650,AH650+IF(COUNTIF($AD$15:AD651,AD651)>1,0,1))","v":0},{"$f":"IF(ROWS($AH$15:AH651)>MAX(AH:AH),\"\",INDEX(AD:AD,MATCH(ROWS($AH$15:AH651),AH:AH,0)))","v":""}]
[null,null,null,null,null,null,null,null,null,null,null,null,null,null,null,null,null,null,null,null,null,null,null,null,null,null,null,638,11,"","",{"$f":"AF651+IF(COUNTIF($AC$15:AC652,AC652)>1,0,1)","v":11},{"$f":"IF(ROWS(AF$15:AF652)>MAX(AF:AF),\"\",INDEX(AC:AC,MATCH(ROWS(AF$15:AF652),AF:AF,0)))","v":""},{"$f":"IF(AD652=\"\",AH651,AH651+IF(COUNTIF($AD$15:AD652,AD652)>1,0,1))","v":0},{"$f":"IF(ROWS($AH$15:AH652)>MAX(AH:AH),\"\",INDEX(AD:AD,MATCH(ROWS($AH$15:AH652),AH:AH,0)))","v":""}]
[null,null,null,null,null,null,null,null,null,null,null,null,null,null,null,null,null,null,null,null,null,null,null,null,null,null,null,639,11,"","",{"$f":"AF652+IF(COUNTIF($AC$15:AC653,AC653)>1,0,1)","v":11},{"$f":"IF(ROWS(AF$15:AF653)>MAX(AF:AF),\"\",INDEX(AC:AC,MATCH(ROWS(AF$15:AF653),AF:AF,0)))","v":""},{"$f":"IF(AD653=\"\",AH652,AH652+IF(COUNTIF($AD$15:AD653,AD653)>1,0,1))","v":0},{"$f":"IF(ROWS($AH$15:AH653)>MAX(AH:AH),\"\",INDEX(AD:AD,MATCH(ROWS($AH$15:AH653),AH:AH,0)))","v":""}]
[null,null,null,null,null,null,null,null,null,null,null,null,null,null,null,null,null,null,null,null,null,null,null,null,null,null,null,640,11,"","",{"$f":"AF653+IF(COUNTIF($AC$15:AC654,AC654)>1,0,1)","v":11},{"$f":"IF(ROWS(AF$15:AF654)>MAX(AF:AF),\"\",INDEX(AC:AC,MATCH(ROWS(AF$15:AF654),AF:AF,0)))","v":""},{"$f":"IF(AD654=\"\",AH653,AH653+IF(COUNTIF($AD$15:AD654,AD654)>1,0,1))","v":0},{"$f":"IF(ROWS($AH$15:AH654)>MAX(AH:AH),\"\",INDEX(AD:AD,MATCH(ROWS($AH$15:AH654),AH:AH,0)))","v":""}]
[null,null,null,null,null,null,null,null,null,null,null,null,null,null,null,null,null,null,null,null,null,null,null,null,null,null,null,641,11,"","",{"$f":"AF654+IF(COUNTIF($AC$15:AC655,AC655)>1,0,1)","v":11},{"$f":"IF(ROWS(AF$15:AF655)>MAX(AF:AF),\"\",INDEX(AC:AC,MATCH(ROWS(AF$15:AF655),AF:AF,0)))","v":""},{"$f":"IF(AD655=\"\",AH654,AH654+IF(COUNTIF($AD$15:AD655,AD655)>1,0,1))","v":0},{"$f":"IF(ROWS($AH$15:AH655)>MAX(AH:AH),\"\",INDEX(AD:AD,MATCH(ROWS($AH$15:AH655),AH:AH,0)))","v":""}]
[null,null,null,null,null,null,null,null,null,null,null,null,null,null,null,null,null,null,null,null,null,null,null,null,null,null,null,642,{"$f":"IF(INDIRECT($AC$1&\"D\"&$AB656+1)=\"\",\"\",INDIRECT($AC$1&\"D\"&$AB656+1))","v":11},{"$f":"IF(AC656=\"\",\"\",IF($E$16=AC656,INDIRECT($AC$1&\"E\"&$AB656+1),\"\"))","v":""},{"$f":"IF(ISBLANK($E$17),\"\",IF($E$17<>AD656,\"\",IF(INDIRECT($AC$1&\"U\"&$AB656+1)=\"Yes\",INDIRECT($AC$1&\"I\"&$AB656+1),\"\")))","v":""},{"$f":"AF655+IF(COUNTIF($AC$15:AC656,AC656)>1,0,1)","v":11},{"$f":"IF(ROWS(AF$15:AF656)>MAX(AF:AF),\"\",INDEX(AC:AC,MATCH(ROWS(AF$15:AF656),AF:AF,0)))","v":""},{"$f":"IF(AD656=\"\",AH655,AH655+IF(COUNTIF($AD$15:AD656,AD656)>1,0,1))","v":0},{"$f":"IF(ROWS($AH$15:AH656)>MAX(AH:AH),\"\",INDEX(AD:AD,MATCH(ROWS($AH$15:AH656),AH:AH,0)))","v":""}]
[null,null,null,null,null,null,null,null,null,null,null,null,null,null,null,null,null,null,null,null,null,null,null,null,null,null,null,{"$f":"AB656+1","v":643},11,"","",{"$f":"AF656+IF(COUNTIF($AC$15:AC657,AC657)>1,0,1)","v":11},{"$f":"IF(ROWS(AF$15:AF657)>MAX(AF:AF),\"\",INDEX(AC:AC,MATCH(ROWS(AF$15:AF657),AF:AF,0)))","v":""},{"$f":"IF(AD657=\"\",AH656,AH656+IF(COUNTIF($AD$15:AD657,AD657)>1,0,1))","v":0},{"$f":"IF(ROWS($AH$15:AH657)>MAX(AH:AH),\"\",INDEX(AD:AD,MATCH(ROWS($AH$15:AH657),AH:AH,0)))","v":""}]
[null,null,null,null,null,null,null,null,null,null,null,null,null,null,null,null,null,null,null,null,null,null,null,null,null,null,null,644,11,"","",{"$f":"AF657+IF(COUNTIF($AC$15:AC658,AC658)>1,0,1)","v":11},{"$f":"IF(ROWS(AF$15:AF658)>MAX(AF:AF),\"\",INDEX(AC:AC,MATCH(ROWS(AF$15:AF658),AF:AF,0)))","v":""},{"$f":"IF(AD658=\"\",AH657,AH657+IF(COUNTIF($AD$15:AD658,AD658)>1,0,1))","v":0},{"$f":"IF(ROWS($AH$15:AH658)>MAX(AH:AH),\"\",INDEX(AD:AD,MATCH(ROWS($AH$15:AH658),AH:AH,0)))","v":""}]
[null,null,null,null,null,null,null,null,null,null,null,null,null,null,null,null,null,null,null,null,null,null,null,null,null,null,null,645,11,"","",{"$f":"AF658+IF(COUNTIF($AC$15:AC659,AC659)>1,0,1)","v":11},{"$f":"IF(ROWS(AF$15:AF659)>MAX(AF:AF),\"\",INDEX(AC:AC,MATCH(ROWS(AF$15:AF659),AF:AF,0)))","v":""},{"$f":"IF(AD659=\"\",AH658,AH658+IF(COUNTIF($AD$15:AD659,AD659)>1,0,1))","v":0},{"$f":"IF(ROWS($AH$15:AH659)>MAX(AH:AH),\"\",INDEX(AD:AD,MATCH(ROWS($AH$15:AH659),AH:AH,0)))","v":""}]
[null,null,null,null,null,null,null,null,null,null,null,null,null,null,null,null,null,null,null,null,null,null,null,null,null,null,null,646,11,"","",{"$f":"AF659+IF(COUNTIF($AC$15:AC660,AC660)>1,0,1)","v":11},{"$f":"IF(ROWS(AF$15:AF660)>MAX(AF:AF),\"\",INDEX(AC:AC,MATCH(ROWS(AF$15:AF660),AF:AF,0)))","v":""},{"$f":"IF(AD660=\"\",AH659,AH659+IF(COUNTIF($AD$15:AD660,AD660)>1,0,1))","v":0},{"$f":"IF(ROWS($AH$15:AH660)>MAX(AH:AH),\"\",INDEX(AD:AD,MATCH(ROWS($AH$15:AH660),AH:AH,0)))","v":""}]
[null,null,null,null,null,null,null,null,null,null,null,null,null,null,null,null,null,null,null,null,null,null,null,null,null,null,null,647,11,"","",{"$f":"AF660+IF(COUNTIF($AC$15:AC661,AC661)>1,0,1)","v":11},{"$f":"IF(ROWS(AF$15:AF661)>MAX(AF:AF),\"\",INDEX(AC:AC,MATCH(ROWS(AF$15:AF661),AF:AF,0)))","v":""},{"$f":"IF(AD661=\"\",AH660,AH660+IF(COUNTIF($AD$15:AD661,AD661)>1,0,1))","v":0},{"$f":"IF(ROWS($AH$15:AH661)>MAX(AH:AH),\"\",INDEX(AD:AD,MATCH(ROWS($AH$15:AH661),AH:AH,0)))","v":""}]
[null,null,null,null,null,null,null,null,null,null,null,null,null,null,null,null,null,null,null,null,null,null,null,null,null,null,null,648,11,"","",{"$f":"AF661+IF(COUNTIF($AC$15:AC662,AC662)>1,0,1)","v":11},{"$f":"IF(ROWS(AF$15:AF662)>MAX(AF:AF),\"\",INDEX(AC:AC,MATCH(ROWS(AF$15:AF662),AF:AF,0)))","v":""},{"$f":"IF(AD662=\"\",AH661,AH661+IF(COUNTIF($AD$15:AD662,AD662)>1,0,1))","v":0},{"$f":"IF(ROWS($AH$15:AH662)>MAX(AH:AH),\"\",INDEX(AD:AD,MATCH(ROWS($AH$15:AH662),AH:AH,0)))","v":""}]
[null,null,null,null,null,null,null,null,null,null,null,null,null,null,null,null,null,null,null,null,null,null,null,null,null,null,null,649,11,"","",{"$f":"AF662+IF(COUNTIF($AC$15:AC663,AC663)>1,0,1)","v":11},{"$f":"IF(ROWS(AF$15:AF663)>MAX(AF:AF),\"\",INDEX(AC:AC,MATCH(ROWS(AF$15:AF663),AF:AF,0)))","v":""},{"$f":"IF(AD663=\"\",AH662,AH662+IF(COUNTIF($AD$15:AD663,AD663)>1,0,1))","v":0},{"$f":"IF(ROWS($AH$15:AH663)>MAX(AH:AH),\"\",INDEX(AD:AD,MATCH(ROWS($AH$15:AH663),AH:AH,0)))","v":""}]
[null,null,null,null,null,null,null,null,null,null,null,null,null,null,null,null,null,null,null,null,null,null,null,null,null,null,null,650,11,"","",{"$f":"AF663+IF(COUNTIF($AC$15:AC664,AC664)>1,0,1)","v":11},{"$f":"IF(ROWS(AF$15:AF664)>MAX(AF:AF),\"\",INDEX(AC:AC,MATCH(ROWS(AF$15:AF664),AF:AF,0)))","v":""},{"$f":"IF(AD664=\"\",AH663,AH663+IF(COUNTIF($AD$15:AD664,AD664)>1,0,1))","v":0},{"$f":"IF(ROWS($AH$15:AH664)>MAX(AH:AH),\"\",INDEX(AD:AD,MATCH(ROWS($AH$15:AH664),AH:AH,0)))","v":""}]
[null,null,null,null,null,null,null,null,null,null,null,null,null,null,null,null,null,null,null,null,null,null,null,null,null,null,null,651,11,"","",{"$f":"AF664+IF(COUNTIF($AC$15:AC665,AC665)>1,0,1)","v":11},{"$f":"IF(ROWS(AF$15:AF665)>MAX(AF:AF),\"\",INDEX(AC:AC,MATCH(ROWS(AF$15:AF665),AF:AF,0)))","v":""},{"$f":"IF(AD665=\"\",AH664,AH664+IF(COUNTIF($AD$15:AD665,AD665)>1,0,1))","v":0},{"$f":"IF(ROWS($AH$15:AH665)>MAX(AH:AH),\"\",INDEX(AD:AD,MATCH(ROWS($AH$15:AH665),AH:AH,0)))","v":""}]
[null,null,null,null,null,null,null,null,null,null,null,null,null,null,null,null,null,null,null,null,null,null,null,null,null,null,null,652,11,"","",{"$f":"AF665+IF(COUNTIF($AC$15:AC666,AC666)>1,0,1)","v":11},{"$f":"IF(ROWS(AF$15:AF666)>MAX(AF:AF),\"\",INDEX(AC:AC,MATCH(ROWS(AF$15:AF666),AF:AF,0)))","v":""},{"$f":"IF(AD666=\"\",AH665,AH665+IF(COUNTIF($AD$15:AD666,AD666)>1,0,1))","v":0},{"$f":"IF(ROWS($AH$15:AH666)>MAX(AH:AH),\"\",INDEX(AD:AD,MATCH(ROWS($AH$15:AH666),AH:AH,0)))","v":""}]
[null,null,null,null,null,null,null,null,null,null,null,null,null,null,null,null,null,null,null,null,null,null,null,null,null,null,null,653,11,"","",{"$f":"AF666+IF(COUNTIF($AC$15:AC667,AC667)>1,0,1)","v":11},{"$f":"IF(ROWS(AF$15:AF667)>MAX(AF:AF),\"\",INDEX(AC:AC,MATCH(ROWS(AF$15:AF667),AF:AF,0)))","v":""},{"$f":"IF(AD667=\"\",AH666,AH666+IF(COUNTIF($AD$15:AD667,AD667)>1,0,1))","v":0},{"$f":"IF(ROWS($AH$15:AH667)>MAX(AH:AH),\"\",INDEX(AD:AD,MATCH(ROWS($AH$15:AH667),AH:AH,0)))","v":""}]
[null,null,null,null,null,null,null,null,null,null,null,null,null,null,null,null,null,null,null,null,null,null,null,null,null,null,null,654,11,"","",{"$f":"AF667+IF(COUNTIF($AC$15:AC668,AC668)>1,0,1)","v":11},{"$f":"IF(ROWS(AF$15:AF668)>MAX(AF:AF),\"\",INDEX(AC:AC,MATCH(ROWS(AF$15:AF668),AF:AF,0)))","v":""},{"$f":"IF(AD668=\"\",AH667,AH667+IF(COUNTIF($AD$15:AD668,AD668)>1,0,1))","v":0},{"$f":"IF(ROWS($AH$15:AH668)>MAX(AH:AH),\"\",INDEX(AD:AD,MATCH(ROWS($AH$15:AH668),AH:AH,0)))","v":""}]
[null,null,null,null,null,null,null,null,null,null,null,null,null,null,null,null,null,null,null,null,null,null,null,null,null,null,null,655,11,"","",{"$f":"AF668+IF(COUNTIF($AC$15:AC669,AC669)>1,0,1)","v":11},{"$f":"IF(ROWS(AF$15:AF669)>MAX(AF:AF),\"\",INDEX(AC:AC,MATCH(ROWS(AF$15:AF669),AF:AF,0)))","v":""},{"$f":"IF(AD669=\"\",AH668,AH668+IF(COUNTIF($AD$15:AD669,AD669)>1,0,1))","v":0},{"$f":"IF(ROWS($AH$15:AH669)>MAX(AH:AH),\"\",INDEX(AD:AD,MATCH(ROWS($AH$15:AH669),AH:AH,0)))","v":""}]
[null,null,null,null,null,null,null,null,null,null,null,null,null,null,null,null,null,null,null,null,null,null,null,null,null,null,null,656,12,"","",{"$f":"AF669+IF(COUNTIF($AC$15:AC670,AC670)>1,0,1)","v":12},{"$f":"IF(ROWS(AF$15:AF670)>MAX(AF:AF),\"\",INDEX(AC:AC,MATCH(ROWS(AF$15:AF670),AF:AF,0)))","v":""},{"$f":"IF(AD670=\"\",AH669,AH669+IF(COUNTIF($AD$15:AD670,AD670)>1,0,1))","v":0},{"$f":"IF(ROWS($AH$15:AH670)>MAX(AH:AH),\"\",INDEX(AD:AD,MATCH(ROWS($AH$15:AH670),AH:AH,0)))","v":""}]
[null,null,null,null,null,null,null,null,null,null,null,null,null,null,null,null,null,null,null,null,null,null,null,null,null,null,null,657,12,"","",{"$f":"AF670+IF(COUNTIF($AC$15:AC671,AC671)>1,0,1)","v":12},{"$f":"IF(ROWS(AF$15:AF671)>MAX(AF:AF),\"\",INDEX(AC:AC,MATCH(ROWS(AF$15:AF671),AF:AF,0)))","v":""},{"$f":"IF(AD671=\"\",AH670,AH670+IF(COUNTIF($AD$15:AD671,AD671)>1,0,1))","v":0},{"$f":"IF(ROWS($AH$15:AH671)>MAX(AH:AH),\"\",INDEX(AD:AD,MATCH(ROWS($AH$15:AH671),AH:AH,0)))","v":""}]
[null,null,null,null,null,null,null,null,null,null,null,null,null,null,null,null,null,null,null,null,null,null,null,null,null,null,null,658,12,"","",{"$f":"AF671+IF(COUNTIF($AC$15:AC672,AC672)>1,0,1)","v":12},{"$f":"IF(ROWS(AF$15:AF672)>MAX(AF:AF),\"\",INDEX(AC:AC,MATCH(ROWS(AF$15:AF672),AF:AF,0)))","v":""},{"$f":"IF(AD672=\"\",AH671,AH671+IF(COUNTIF($AD$15:AD672,AD672)>1,0,1))","v":0},{"$f":"IF(ROWS($AH$15:AH672)>MAX(AH:AH),\"\",INDEX(AD:AD,MATCH(ROWS($AH$15:AH672),AH:AH,0)))","v":""}]
[null,null,null,null,null,null,null,null,null,null,null,null,null,null,null,null,null,null,null,null,null,null,null,null,null,null,null,659,12,"","",{"$f":"AF672+IF(COUNTIF($AC$15:AC673,AC673)>1,0,1)","v":12},{"$f":"IF(ROWS(AF$15:AF673)>MAX(AF:AF),\"\",INDEX(AC:AC,MATCH(ROWS(AF$15:AF673),AF:AF,0)))","v":""},{"$f":"IF(AD673=\"\",AH672,AH672+IF(COUNTIF($AD$15:AD673,AD673)>1,0,1))","v":0},{"$f":"IF(ROWS($AH$15:AH673)>MAX(AH:AH),\"\",INDEX(AD:AD,MATCH(ROWS($AH$15:AH673),AH:AH,0)))","v":""}]
[null,null,null,null,null,null,null,null,null,null,null,null,null,null,null,null,null,null,null,null,null,null,null,null,null,null,null,660,12,"","",{"$f":"AF673+IF(COUNTIF($AC$15:AC674,AC674)>1,0,1)","v":12},{"$f":"IF(ROWS(AF$15:AF674)>MAX(AF:AF),\"\",INDEX(AC:AC,MATCH(ROWS(AF$15:AF674),AF:AF,0)))","v":""},{"$f":"IF(AD674=\"\",AH673,AH673+IF(COUNTIF($AD$15:AD674,AD674)>1,0,1))","v":0},{"$f":"IF(ROWS($AH$15:AH674)>MAX(AH:AH),\"\",INDEX(AD:AD,MATCH(ROWS($AH$15:AH674),AH:AH,0)))","v":""}]
[null,null,null,null,null,null,null,null,null,null,null,null,null,null,null,null,null,null,null,null,null,null,null,null,null,null,null,661,12,"","",{"$f":"AF674+IF(COUNTIF($AC$15:AC675,AC675)>1,0,1)","v":12},{"$f":"IF(ROWS(AF$15:AF675)>MAX(AF:AF),\"\",INDEX(AC:AC,MATCH(ROWS(AF$15:AF675),AF:AF,0)))","v":""},{"$f":"IF(AD675=\"\",AH674,AH674+IF(COUNTIF($AD$15:AD675,AD675)>1,0,1))","v":0},{"$f":"IF(ROWS($AH$15:AH675)>MAX(AH:AH),\"\",INDEX(AD:AD,MATCH(ROWS($AH$15:AH675),AH:AH,0)))","v":""}]
[null,null,null,null,null,null,null,null,null,null,null,null,null,null,null,null,null,null,null,null,null,null,null,null,null,null,null,662,12,"","",{"$f":"AF675+IF(COUNTIF($AC$15:AC676,AC676)>1,0,1)","v":12},{"$f":"IF(ROWS(AF$15:AF676)>MAX(AF:AF),\"\",INDEX(AC:AC,MATCH(ROWS(AF$15:AF676),AF:AF,0)))","v":""},{"$f":"IF(AD676=\"\",AH675,AH675+IF(COUNTIF($AD$15:AD676,AD676)>1,0,1))","v":0},{"$f":"IF(ROWS($AH$15:AH676)>MAX(AH:AH),\"\",INDEX(AD:AD,MATCH(ROWS($AH$15:AH676),AH:AH,0)))","v":""}]
[null,null,null,null,null,null,null,null,null,null,null,null,null,null,null,null,null,null,null,null,null,null,null,null,null,null,null,663,12,"","",{"$f":"AF676+IF(COUNTIF($AC$15:AC677,AC677)>1,0,1)","v":12},{"$f":"IF(ROWS(AF$15:AF677)>MAX(AF:AF),\"\",INDEX(AC:AC,MATCH(ROWS(AF$15:AF677),AF:AF,0)))","v":""},{"$f":"IF(AD677=\"\",AH676,AH676+IF(COUNTIF($AD$15:AD677,AD677)>1,0,1))","v":0},{"$f":"IF(ROWS($AH$15:AH677)>MAX(AH:AH),\"\",INDEX(AD:AD,MATCH(ROWS($AH$15:AH677),AH:AH,0)))","v":""}]
[null,null,null,null,null,null,null,null,null,null,null,null,null,null,null,null,null,null,null,null,null,null,null,null,null,null,null,664,12,"","",{"$f":"AF677+IF(COUNTIF($AC$15:AC678,AC678)>1,0,1)","v":12},{"$f":"IF(ROWS(AF$15:AF678)>MAX(AF:AF),\"\",INDEX(AC:AC,MATCH(ROWS(AF$15:AF678),AF:AF,0)))","v":""},{"$f":"IF(AD678=\"\",AH677,AH677+IF(COUNTIF($AD$15:AD678,AD678)>1,0,1))","v":0},{"$f":"IF(ROWS($AH$15:AH678)>MAX(AH:AH),\"\",INDEX(AD:AD,MATCH(ROWS($AH$15:AH678),AH:AH,0)))","v":""}]
[null,null,null,null,null,null,null,null,null,null,null,null,null,null,null,null,null,null,null,null,null,null,null,null,null,null,null,665,12,"","",{"$f":"AF678+IF(COUNTIF($AC$15:AC679,AC679)>1,0,1)","v":12},{"$f":"IF(ROWS(AF$15:AF679)>MAX(AF:AF),\"\",INDEX(AC:AC,MATCH(ROWS(AF$15:AF679),AF:AF,0)))","v":""},{"$f":"IF(AD679=\"\",AH678,AH678+IF(COUNTIF($AD$15:AD679,AD679)>1,0,1))","v":0},{"$f":"IF(ROWS($AH$15:AH679)>MAX(AH:AH),\"\",INDEX(AD:AD,MATCH(ROWS($AH$15:AH679),AH:AH,0)))","v":""}]
[null,null,null,null,null,null,null,null,null,null,null,null,null,null,null,null,null,null,null,null,null,null,null,null,null,null,null,666,12,"","",{"$f":"AF679+IF(COUNTIF($AC$15:AC680,AC680)>1,0,1)","v":12},{"$f":"IF(ROWS(AF$15:AF680)>MAX(AF:AF),\"\",INDEX(AC:AC,MATCH(ROWS(AF$15:AF680),AF:AF,0)))","v":""},{"$f":"IF(AD680=\"\",AH679,AH679+IF(COUNTIF($AD$15:AD680,AD680)>1,0,1))","v":0},{"$f":"IF(ROWS($AH$15:AH680)>MAX(AH:AH),\"\",INDEX(AD:AD,MATCH(ROWS($AH$15:AH680),AH:AH,0)))","v":""}]
[null,null,null,null,null,null,null,null,null,null,null,null,null,null,null,null,null,null,null,null,null,null,null,null,null,null,null,667,12,"","",{"$f":"AF680+IF(COUNTIF($AC$15:AC681,AC681)>1,0,1)","v":12},{"$f":"IF(ROWS(AF$15:AF681)>MAX(AF:AF),\"\",INDEX(AC:AC,MATCH(ROWS(AF$15:AF681),AF:AF,0)))","v":""},{"$f":"IF(AD681=\"\",AH680,AH680+IF(COUNTIF($AD$15:AD681,AD681)>1,0,1))","v":0},{"$f":"IF(ROWS($AH$15:AH681)>MAX(AH:AH),\"\",INDEX(AD:AD,MATCH(ROWS($AH$15:AH681),AH:AH,0)))","v":""}]
[null,null,null,null,null,null,null,null,null,null,null,null,null,null,null,null,null,null,null,null,null,null,null,null,null,null,null,668,12,"","",{"$f":"AF681+IF(COUNTIF($AC$15:AC682,AC682)>1,0,1)","v":12},{"$f":"IF(ROWS(AF$15:AF682)>MAX(AF:AF),\"\",INDEX(AC:AC,MATCH(ROWS(AF$15:AF682),AF:AF,0)))","v":""},{"$f":"IF(AD682=\"\",AH681,AH681+IF(COUNTIF($AD$15:AD682,AD682)>1,0,1))","v":0},{"$f":"IF(ROWS($AH$15:AH682)>MAX(AH:AH),\"\",INDEX(AD:AD,MATCH(ROWS($AH$15:AH682),AH:AH,0)))","v":""}]
[null,null,null,null,null,null,null,null,null,null,null,null,null,null,null,null,null,null,null,null,null,null,null,null,null,null,null,669,12,"","",{"$f":"AF682+IF(COUNTIF($AC$15:AC683,AC683)>1,0,1)","v":12},{"$f":"IF(ROWS(AF$15:AF683)>MAX(AF:AF),\"\",INDEX(AC:AC,MATCH(ROWS(AF$15:AF683),AF:AF,0)))","v":""},{"$f":"IF(AD683=\"\",AH682,AH682+IF(COUNTIF($AD$15:AD683,AD683)>1,0,1))","v":0},{"$f":"IF(ROWS($AH$15:AH683)>MAX(AH:AH),\"\",INDEX(AD:AD,MATCH(ROWS($AH$15:AH683),AH:AH,0)))","v":""}]
[null,null,null,null,null,null,null,null,null,null,null,null,null,null,null,null,null,null,null,null,null,null,null,null,null,null,null,670,12,"","",{"$f":"AF683+IF(COUNTIF($AC$15:AC684,AC684)>1,0,1)","v":12},{"$f":"IF(ROWS(AF$15:AF684)>MAX(AF:AF),\"\",INDEX(AC:AC,MATCH(ROWS(AF$15:AF684),AF:AF,0)))","v":""},{"$f":"IF(AD684=\"\",AH683,AH683+IF(COUNTIF($AD$15:AD684,AD684)>1,0,1))","v":0},{"$f":"IF(ROWS($AH$15:AH684)>MAX(AH:AH),\"\",INDEX(AD:AD,MATCH(ROWS($AH$15:AH684),AH:AH,0)))","v":""}]
[null,null,null,null,null,null,null,null,null,null,null,null,null,null,null,null,null,null,null,null,null,null,null,null,null,null,null,671,12,"","",{"$f":"AF684+IF(COUNTIF($AC$15:AC685,AC685)>1,0,1)","v":12},{"$f":"IF(ROWS(AF$15:AF685)>MAX(AF:AF),\"\",INDEX(AC:AC,MATCH(ROWS(AF$15:AF685),AF:AF,0)))","v":""},{"$f":"IF(AD685=\"\",AH684,AH684+IF(COUNTIF($AD$15:AD685,AD685)>1,0,1))","v":0},{"$f":"IF(ROWS($AH$15:AH685)>MAX(AH:AH),\"\",INDEX(AD:AD,MATCH(ROWS($AH$15:AH685),AH:AH,0)))","v":""}]
[null,null,null,null,null,null,null,null,null,null,null,null,null,null,null,null,null,null,null,null,null,null,null,null,null,null,null,672,12,"","",{"$f":"AF685+IF(COUNTIF($AC$15:AC686,AC686)>1,0,1)","v":12},{"$f":"IF(ROWS(AF$15:AF686)>MAX(AF:AF),\"\",INDEX(AC:AC,MATCH(ROWS(AF$15:AF686),AF:AF,0)))","v":""},{"$f":"IF(AD686=\"\",AH685,AH685+IF(COUNTIF($AD$15:AD686,AD686)>1,0,1))","v":0},{"$f":"IF(ROWS($AH$15:AH686)>MAX(AH:AH),\"\",INDEX(AD:AD,MATCH(ROWS($AH$15:AH686),AH:AH,0)))","v":""}]
[null,null,null,null,null,null,null,null,null,null,null,null,null,null,null,null,null,null,null,null,null,null,null,null,null,null,null,673,12,"","",{"$f":"AF686+IF(COUNTIF($AC$15:AC687,AC687)>1,0,1)","v":12},{"$f":"IF(ROWS(AF$15:AF687)>MAX(AF:AF),\"\",INDEX(AC:AC,MATCH(ROWS(AF$15:AF687),AF:AF,0)))","v":""},{"$f":"IF(AD687=\"\",AH686,AH686+IF(COUNTIF($AD$15:AD687,AD687)>1,0,1))","v":0},{"$f":"IF(ROWS($AH$15:AH687)>MAX(AH:AH),\"\",INDEX(AD:AD,MATCH(ROWS($AH$15:AH687),AH:AH,0)))","v":""}]
[null,null,null,null,null,null,null,null,null,null,null,null,null,null,null,null,null,null,null,null,null,null,null,null,null,null,null,674,12,"","",{"$f":"AF687+IF(COUNTIF($AC$15:AC688,AC688)>1,0,1)","v":12},{"$f":"IF(ROWS(AF$15:AF688)>MAX(AF:AF),\"\",INDEX(AC:AC,MATCH(ROWS(AF$15:AF688),AF:AF,0)))","v":""},{"$f":"IF(AD688=\"\",AH687,AH687+IF(COUNTIF($AD$15:AD688,AD688)>1,0,1))","v":0},{"$f":"IF(ROWS($AH$15:AH688)>MAX(AH:AH),\"\",INDEX(AD:AD,MATCH(ROWS($AH$15:AH688),AH:AH,0)))","v":""}]
[null,null,null,null,null,null,null,null,null,null,null,null,null,null,null,null,null,null,null,null,null,null,null,null,null,null,null,675,12,"","",{"$f":"AF688+IF(COUNTIF($AC$15:AC689,AC689)>1,0,1)","v":12},{"$f":"IF(ROWS(AF$15:AF689)>MAX(AF:AF),\"\",INDEX(AC:AC,MATCH(ROWS(AF$15:AF689),AF:AF,0)))","v":""},{"$f":"IF(AD689=\"\",AH688,AH688+IF(COUNTIF($AD$15:AD689,AD689)>1,0,1))","v":0},{"$f":"IF(ROWS($AH$15:AH689)>MAX(AH:AH),\"\",INDEX(AD:AD,MATCH(ROWS($AH$15:AH689),AH:AH,0)))","v":""}]
[null,null,null,null,null,null,null,null,null,null,null,null,null,null,null,null,null,null,null,null,null,null,null,null,null,null,null,676,12,"","",{"$f":"AF689+IF(COUNTIF($AC$15:AC690,AC690)>1,0,1)","v":12},{"$f":"IF(ROWS(AF$15:AF690)>MAX(AF:AF),\"\",INDEX(AC:AC,MATCH(ROWS(AF$15:AF690),AF:AF,0)))","v":""},{"$f":"IF(AD690=\"\",AH689,AH689+IF(COUNTIF($AD$15:AD690,AD690)>1,0,1))","v":0},{"$f":"IF(ROWS($AH$15:AH690)>MAX(AH:AH),\"\",INDEX(AD:AD,MATCH(ROWS($AH$15:AH690),AH:AH,0)))","v":""}]
[null,null,null,null,null,null,null,null,null,null,null,null,null,null,null,null,null,null,null,null,null,null,null,null,null,null,null,677,12,"","",{"$f":"AF690+IF(COUNTIF($AC$15:AC691,AC691)>1,0,1)","v":12},{"$f":"IF(ROWS(AF$15:AF691)>MAX(AF:AF),\"\",INDEX(AC:AC,MATCH(ROWS(AF$15:AF691),AF:AF,0)))","v":""},{"$f":"IF(AD691=\"\",AH690,AH690+IF(COUNTIF($AD$15:AD691,AD691)>1,0,1))","v":0},{"$f":"IF(ROWS($AH$15:AH691)>MAX(AH:AH),\"\",INDEX(AD:AD,MATCH(ROWS($AH$15:AH691),AH:AH,0)))","v":""}]
[null,null,null,null,null,null,null,null,null,null,null,null,null,null,null,null,null,null,null,null,null,null,null,null,null,null,null,678,12,"","",{"$f":"AF691+IF(COUNTIF($AC$15:AC692,AC692)>1,0,1)","v":12},{"$f":"IF(ROWS(AF$15:AF692)>MAX(AF:AF),\"\",INDEX(AC:AC,MATCH(ROWS(AF$15:AF692),AF:AF,0)))","v":""},{"$f":"IF(AD692=\"\",AH691,AH691+IF(COUNTIF($AD$15:AD692,AD692)>1,0,1))","v":0},{"$f":"IF(ROWS($AH$15:AH692)>MAX(AH:AH),\"\",INDEX(AD:AD,MATCH(ROWS($AH$15:AH692),AH:AH,0)))","v":""}]
[null,null,null,null,null,null,null,null,null,null,null,null,null,null,null,null,null,null,null,null,null,null,null,null,null,null,null,679,12,"","",{"$f":"AF692+IF(COUNTIF($AC$15:AC693,AC693)>1,0,1)","v":12},{"$f":"IF(ROWS(AF$15:AF693)>MAX(AF:AF),\"\",INDEX(AC:AC,MATCH(ROWS(AF$15:AF693),AF:AF,0)))","v":""},{"$f":"IF(AD693=\"\",AH692,AH692+IF(COUNTIF($AD$15:AD693,AD693)>1,0,1))","v":0},{"$f":"IF(ROWS($AH$15:AH693)>MAX(AH:AH),\"\",INDEX(AD:AD,MATCH(ROWS($AH$15:AH693),AH:AH,0)))","v":""}]
[null,null,null,null,null,null,null,null,null,null,null,null,null,null,null,null,null,null,null,null,null,null,null,null,null,null,null,680,12,"","",{"$f":"AF693+IF(COUNTIF($AC$15:AC694,AC694)>1,0,1)","v":12},{"$f":"IF(ROWS(AF$15:AF694)>MAX(AF:AF),\"\",INDEX(AC:AC,MATCH(ROWS(AF$15:AF694),AF:AF,0)))","v":""},{"$f":"IF(AD694=\"\",AH693,AH693+IF(COUNTIF($AD$15:AD694,AD694)>1,0,1))","v":0},{"$f":"IF(ROWS($AH$15:AH694)>MAX(AH:AH),\"\",INDEX(AD:AD,MATCH(ROWS($AH$15:AH694),AH:AH,0)))","v":""}]
[null,null,null,null,null,null,null,null,null,null,null,null,null,null,null,null,null,null,null,null,null,null,null,null,null,null,null,681,12,"","",{"$f":"AF694+IF(COUNTIF($AC$15:AC695,AC695)>1,0,1)","v":12},{"$f":"IF(ROWS(AF$15:AF695)>MAX(AF:AF),\"\",INDEX(AC:AC,MATCH(ROWS(AF$15:AF695),AF:AF,0)))","v":""},{"$f":"IF(AD695=\"\",AH694,AH694+IF(COUNTIF($AD$15:AD695,AD695)>1,0,1))","v":0},{"$f":"IF(ROWS($AH$15:AH695)>MAX(AH:AH),\"\",INDEX(AD:AD,MATCH(ROWS($AH$15:AH695),AH:AH,0)))","v":""}]
[null,null,null,null,null,null,null,null,null,null,null,null,null,null,null,null,null,null,null,null,null,null,null,null,null,null,null,682,12,"","",{"$f":"AF695+IF(COUNTIF($AC$15:AC696,AC696)>1,0,1)","v":12},{"$f":"IF(ROWS(AF$15:AF696)>MAX(AF:AF),\"\",INDEX(AC:AC,MATCH(ROWS(AF$15:AF696),AF:AF,0)))","v":""},{"$f":"IF(AD696=\"\",AH695,AH695+IF(COUNTIF($AD$15:AD696,AD696)>1,0,1))","v":0},{"$f":"IF(ROWS($AH$15:AH696)>MAX(AH:AH),\"\",INDEX(AD:AD,MATCH(ROWS($AH$15:AH696),AH:AH,0)))","v":""}]
[null,null,null,null,null,null,null,null,null,null,null,null,null,null,null,null,null,null,null,null,null,null,null,null,null,null,null,683,12,"","",{"$f":"AF696+IF(COUNTIF($AC$15:AC697,AC697)>1,0,1)","v":12},{"$f":"IF(ROWS(AF$15:AF697)>MAX(AF:AF),\"\",INDEX(AC:AC,MATCH(ROWS(AF$15:AF697),AF:AF,0)))","v":""},{"$f":"IF(AD697=\"\",AH696,AH696+IF(COUNTIF($AD$15:AD697,AD697)>1,0,1))","v":0},{"$f":"IF(ROWS($AH$15:AH697)>MAX(AH:AH),\"\",INDEX(AD:AD,MATCH(ROWS($AH$15:AH697),AH:AH,0)))","v":""}]
[null,null,null,null,null,null,null,null,null,null,null,null,null,null,null,null,null,null,null,null,null,null,null,null,null,null,null,684,12,"","",{"$f":"AF697+IF(COUNTIF($AC$15:AC698,AC698)>1,0,1)","v":12},{"$f":"IF(ROWS(AF$15:AF698)>MAX(AF:AF),\"\",INDEX(AC:AC,MATCH(ROWS(AF$15:AF698),AF:AF,0)))","v":""},{"$f":"IF(AD698=\"\",AH697,AH697+IF(COUNTIF($AD$15:AD698,AD698)>1,0,1))","v":0},{"$f":"IF(ROWS($AH$15:AH698)>MAX(AH:AH),\"\",INDEX(AD:AD,MATCH(ROWS($AH$15:AH698),AH:AH,0)))","v":""}]
[null,null,null,null,null,null,null,null,null,null,null,null,null,null,null,null,null,null,null,null,null,null,null,null,null,null,null,685,12,"","",{"$f":"AF698+IF(COUNTIF($AC$15:AC699,AC699)>1,0,1)","v":12},{"$f":"IF(ROWS(AF$15:AF699)>MAX(AF:AF),\"\",INDEX(AC:AC,MATCH(ROWS(AF$15:AF699),AF:AF,0)))","v":""},{"$f":"IF(AD699=\"\",AH698,AH698+IF(COUNTIF($AD$15:AD699,AD699)>1,0,1))","v":0},{"$f":"IF(ROWS($AH$15:AH699)>MAX(AH:AH),\"\",INDEX(AD:AD,MATCH(ROWS($AH$15:AH699),AH:AH,0)))","v":""}]
[null,null,null,null,null,null,null,null,null,null,null,null,null,null,null,null,null,null,null,null,null,null,null,null,null,null,null,686,12,"","",{"$f":"AF699+IF(COUNTIF($AC$15:AC700,AC700)>1,0,1)","v":12},{"$f":"IF(ROWS(AF$15:AF700)>MAX(AF:AF),\"\",INDEX(AC:AC,MATCH(ROWS(AF$15:AF700),AF:AF,0)))","v":""},{"$f":"IF(AD700=\"\",AH699,AH699+IF(COUNTIF($AD$15:AD700,AD700)>1,0,1))","v":0},{"$f":"IF(ROWS($AH$15:AH700)>MAX(AH:AH),\"\",INDEX(AD:AD,MATCH(ROWS($AH$15:AH700),AH:AH,0)))","v":""}]
[null,null,null,null,null,null,null,null,null,null,null,null,null,null,null,null,null,null,null,null,null,null,null,null,null,null,null,687,12,"","",{"$f":"AF700+IF(COUNTIF($AC$15:AC701,AC701)>1,0,1)","v":12},{"$f":"IF(ROWS(AF$15:AF701)>MAX(AF:AF),\"\",INDEX(AC:AC,MATCH(ROWS(AF$15:AF701),AF:AF,0)))","v":""},{"$f":"IF(AD701=\"\",AH700,AH700+IF(COUNTIF($AD$15:AD701,AD701)>1,0,1))","v":0},{"$f":"IF(ROWS($AH$15:AH701)>MAX(AH:AH),\"\",INDEX(AD:AD,MATCH(ROWS($AH$15:AH701),AH:AH,0)))","v":""}]
[null,null,null,null,null,null,null,null,null,null,null,null,null,null,null,null,null,null,null,null,null,null,null,null,null,null,null,688,12,"","",{"$f":"AF701+IF(COUNTIF($AC$15:AC702,AC702)>1,0,1)","v":12},{"$f":"IF(ROWS(AF$15:AF702)>MAX(AF:AF),\"\",INDEX(AC:AC,MATCH(ROWS(AF$15:AF702),AF:AF,0)))","v":""},{"$f":"IF(AD702=\"\",AH701,AH701+IF(COUNTIF($AD$15:AD702,AD702)>1,0,1))","v":0},{"$f":"IF(ROWS($AH$15:AH702)>MAX(AH:AH),\"\",INDEX(AD:AD,MATCH(ROWS($AH$15:AH702),AH:AH,0)))","v":""}]
[null,null,null,null,null,null,null,null,null,null,null,null,null,null,null,null,null,null,null,null,null,null,null,null,null,null,null,689,12,"","",{"$f":"AF702+IF(COUNTIF($AC$15:AC703,AC703)>1,0,1)","v":12},{"$f":"IF(ROWS(AF$15:AF703)>MAX(AF:AF),\"\",INDEX(AC:AC,MATCH(ROWS(AF$15:AF703),AF:AF,0)))","v":""},{"$f":"IF(AD703=\"\",AH702,AH702+IF(COUNTIF($AD$15:AD703,AD703)>1,0,1))","v":0},{"$f":"IF(ROWS($AH$15:AH703)>MAX(AH:AH),\"\",INDEX(AD:AD,MATCH(ROWS($AH$15:AH703),AH:AH,0)))","v":""}]
[null,null,null,null,null,null,null,null,null,null,null,null,null,null,null,null,null,null,null,null,null,null,null,null,null,null,null,690,12,"","",{"$f":"AF703+IF(COUNTIF($AC$15:AC704,AC704)>1,0,1)","v":12},{"$f":"IF(ROWS(AF$15:AF704)>MAX(AF:AF),\"\",INDEX(AC:AC,MATCH(ROWS(AF$15:AF704),AF:AF,0)))","v":""},{"$f":"IF(AD704=\"\",AH703,AH703+IF(COUNTIF($AD$15:AD704,AD704)>1,0,1))","v":0},{"$f":"IF(ROWS($AH$15:AH704)>MAX(AH:AH),\"\",INDEX(AD:AD,MATCH(ROWS($AH$15:AH704),AH:AH,0)))","v":""}]
[null,null,null,null,null,null,null,null,null,null,null,null,null,null,null,null,null,null,null,null,null,null,null,null,null,null,null,691,12,"","",{"$f":"AF704+IF(COUNTIF($AC$15:AC705,AC705)>1,0,1)","v":12},{"$f":"IF(ROWS(AF$15:AF705)>MAX(AF:AF),\"\",INDEX(AC:AC,MATCH(ROWS(AF$15:AF705),AF:AF,0)))","v":""},{"$f":"IF(AD705=\"\",AH704,AH704+IF(COUNTIF($AD$15:AD705,AD705)>1,0,1))","v":0},{"$f":"IF(ROWS($AH$15:AH705)>MAX(AH:AH),\"\",INDEX(AD:AD,MATCH(ROWS($AH$15:AH705),AH:AH,0)))","v":""}]
[null,null,null,null,null,null,null,null,null,null,null,null,null,null,null,null,null,null,null,null,null,null,null,null,null,null,null,692,12,"","",{"$f":"AF705+IF(COUNTIF($AC$15:AC706,AC706)>1,0,1)","v":12},{"$f":"IF(ROWS(AF$15:AF706)>MAX(AF:AF),\"\",INDEX(AC:AC,MATCH(ROWS(AF$15:AF706),AF:AF,0)))","v":""},{"$f":"IF(AD706=\"\",AH705,AH705+IF(COUNTIF($AD$15:AD706,AD706)>1,0,1))","v":0},{"$f":"IF(ROWS($AH$15:AH706)>MAX(AH:AH),\"\",INDEX(AD:AD,MATCH(ROWS($AH$15:AH706),AH:AH,0)))","v":""}]
[null,null,null,null,null,null,null,null,null,null,null,null,null,null,null,null,null,null,null,null,null,null,null,null,null,null,null,693,12,"","",{"$f":"AF706+IF(COUNTIF($AC$15:AC707,AC707)>1,0,1)","v":12},{"$f":"IF(ROWS(AF$15:AF707)>MAX(AF:AF),\"\",INDEX(AC:AC,MATCH(ROWS(AF$15:AF707),AF:AF,0)))","v":""},{"$f":"IF(AD707=\"\",AH706,AH706+IF(COUNTIF($AD$15:AD707,AD707)>1,0,1))","v":0},{"$f":"IF(ROWS($AH$15:AH707)>MAX(AH:AH),\"\",INDEX(AD:AD,MATCH(ROWS($AH$15:AH707),AH:AH,0)))","v":""}]
[null,null,null,null,null,null,null,null,null,null,null,null,null,null,null,null,null,null,null,null,null,null,null,null,null,null,null,694,12,"","",{"$f":"AF707+IF(COUNTIF($AC$15:AC708,AC708)>1,0,1)","v":12},{"$f":"IF(ROWS(AF$15:AF708)>MAX(AF:AF),\"\",INDEX(AC:AC,MATCH(ROWS(AF$15:AF708),AF:AF,0)))","v":""},{"$f":"IF(AD708=\"\",AH707,AH707+IF(COUNTIF($AD$15:AD708,AD708)>1,0,1))","v":0},{"$f":"IF(ROWS($AH$15:AH708)>MAX(AH:AH),\"\",INDEX(AD:AD,MATCH(ROWS($AH$15:AH708),AH:AH,0)))","v":""}]
[null,null,null,null,null,null,null,null,null,null,null,null,null,null,null,null,null,null,null,null,null,null,null,null,null,null,null,695,12,"","",{"$f":"AF708+IF(COUNTIF($AC$15:AC709,AC709)>1,0,1)","v":12},{"$f":"IF(ROWS(AF$15:AF709)>MAX(AF:AF),\"\",INDEX(AC:AC,MATCH(ROWS(AF$15:AF709),AF:AF,0)))","v":""},{"$f":"IF(AD709=\"\",AH708,AH708+IF(COUNTIF($AD$15:AD709,AD709)>1,0,1))","v":0},{"$f":"IF(ROWS($AH$15:AH709)>MAX(AH:AH),\"\",INDEX(AD:AD,MATCH(ROWS($AH$15:AH709),AH:AH,0)))","v":""}]
[null,null,null,null,null,null,null,null,null,null,null,null,null,null,null,null,null,null,null,null,null,null,null,null,null,null,null,696,12,"","",{"$f":"AF709+IF(COUNTIF($AC$15:AC710,AC710)>1,0,1)","v":12},{"$f":"IF(ROWS(AF$15:AF710)>MAX(AF:AF),\"\",INDEX(AC:AC,MATCH(ROWS(AF$15:AF710),AF:AF,0)))","v":""},{"$f":"IF(AD710=\"\",AH709,AH709+IF(COUNTIF($AD$15:AD710,AD710)>1,0,1))","v":0},{"$f":"IF(ROWS($AH$15:AH710)>MAX(AH:AH),\"\",INDEX(AD:AD,MATCH(ROWS($AH$15:AH710),AH:AH,0)))","v":""}]
[null,null,null,null,null,null,null,null,null,null,null,null,null,null,null,null,null,null,null,null,null,null,null,null,null,null,null,697,12,"","",{"$f":"AF710+IF(COUNTIF($AC$15:AC711,AC711)>1,0,1)","v":12},{"$f":"IF(ROWS(AF$15:AF711)>MAX(AF:AF),\"\",INDEX(AC:AC,MATCH(ROWS(AF$15:AF711),AF:AF,0)))","v":""},{"$f":"IF(AD711=\"\",AH710,AH710+IF(COUNTIF($AD$15:AD711,AD711)>1,0,1))","v":0},{"$f":"IF(ROWS($AH$15:AH711)>MAX(AH:AH),\"\",INDEX(AD:AD,MATCH(ROWS($AH$15:AH711),AH:AH,0)))","v":""}]
[null,null,null,null,null,null,null,null,null,null,null,null,null,null,null,null,null,null,null,null,null,null,null,null,null,null,null,698,12,"","",{"$f":"AF711+IF(COUNTIF($AC$15:AC712,AC712)>1,0,1)","v":12},{"$f":"IF(ROWS(AF$15:AF712)>MAX(AF:AF),\"\",INDEX(AC:AC,MATCH(ROWS(AF$15:AF712),AF:AF,0)))","v":""},{"$f":"IF(AD712=\"\",AH711,AH711+IF(COUNTIF($AD$15:AD712,AD712)>1,0,1))","v":0},{"$f":"IF(ROWS($AH$15:AH712)>MAX(AH:AH),\"\",INDEX(AD:AD,MATCH(ROWS($AH$15:AH712),AH:AH,0)))","v":""}]
[null,null,null,null,null,null,null,null,null,null,null,null,null,null,null,null,null,null,null,null,null,null,null,null,null,null,null,699,12,"","",{"$f":"AF712+IF(COUNTIF($AC$15:AC713,AC713)>1,0,1)","v":12},{"$f":"IF(ROWS(AF$15:AF713)>MAX(AF:AF),\"\",INDEX(AC:AC,MATCH(ROWS(AF$15:AF713),AF:AF,0)))","v":""},{"$f":"IF(AD713=\"\",AH712,AH712+IF(COUNTIF($AD$15:AD713,AD713)>1,0,1))","v":0},{"$f":"IF(ROWS($AH$15:AH713)>MAX(AH:AH),\"\",INDEX(AD:AD,MATCH(ROWS($AH$15:AH713),AH:AH,0)))","v":""}]
[null,null,null,null,null,null,null,null,null,null,null,null,null,null,null,null,null,null,null,null,null,null,null,null,null,null,null,700,12,"","",{"$f":"AF713+IF(COUNTIF($AC$15:AC714,AC714)>1,0,1)","v":12},{"$f":"IF(ROWS(AF$15:AF714)>MAX(AF:AF),\"\",INDEX(AC:AC,MATCH(ROWS(AF$15:AF714),AF:AF,0)))","v":""},{"$f":"IF(AD714=\"\",AH713,AH713+IF(COUNTIF($AD$15:AD714,AD714)>1,0,1))","v":0},{"$f":"IF(ROWS($AH$15:AH714)>MAX(AH:AH),\"\",INDEX(AD:AD,MATCH(ROWS($AH$15:AH714),AH:AH,0)))","v":""}]
[null,null,null,null,null,null,null,null,null,null,null,null,null,null,null,null,null,null,null,null,null,null,null,null,null,null,null,701,12,"","",{"$f":"AF714+IF(COUNTIF($AC$15:AC715,AC715)>1,0,1)","v":12},{"$f":"IF(ROWS(AF$15:AF715)>MAX(AF:AF),\"\",INDEX(AC:AC,MATCH(ROWS(AF$15:AF715),AF:AF,0)))","v":""},{"$f":"IF(AD715=\"\",AH714,AH714+IF(COUNTIF($AD$15:AD715,AD715)>1,0,1))","v":0},{"$f":"IF(ROWS($AH$15:AH715)>MAX(AH:AH),\"\",INDEX(AD:AD,MATCH(ROWS($AH$15:AH715),AH:AH,0)))","v":""}]
[null,null,null,null,null,null,null,null,null,null,null,null,null,null,null,null,null,null,null,null,null,null,null,null,null,null,null,702,12,"","",{"$f":"AF715+IF(COUNTIF($AC$15:AC716,AC716)>1,0,1)","v":12},{"$f":"IF(ROWS(AF$15:AF716)>MAX(AF:AF),\"\",INDEX(AC:AC,MATCH(ROWS(AF$15:AF716),AF:AF,0)))","v":""},{"$f":"IF(AD716=\"\",AH715,AH715+IF(COUNTIF($AD$15:AD716,AD716)>1,0,1))","v":0},{"$f":"IF(ROWS($AH$15:AH716)>MAX(AH:AH),\"\",INDEX(AD:AD,MATCH(ROWS($AH$15:AH716),AH:AH,0)))","v":""}]
[null,null,null,null,null,null,null,null,null,null,null,null,null,null,null,null,null,null,null,null,null,null,null,null,null,null,null,703,12,"","",{"$f":"AF716+IF(COUNTIF($AC$15:AC717,AC717)>1,0,1)","v":12},{"$f":"IF(ROWS(AF$15:AF717)>MAX(AF:AF),\"\",INDEX(AC:AC,MATCH(ROWS(AF$15:AF717),AF:AF,0)))","v":""},{"$f":"IF(AD717=\"\",AH716,AH716+IF(COUNTIF($AD$15:AD717,AD717)>1,0,1))","v":0},{"$f":"IF(ROWS($AH$15:AH717)>MAX(AH:AH),\"\",INDEX(AD:AD,MATCH(ROWS($AH$15:AH717),AH:AH,0)))","v":""}]
[null,null,null,null,null,null,null,null,null,null,null,null,null,null,null,null,null,null,null,null,null,null,null,null,null,null,null,704,12,"","",{"$f":"AF717+IF(COUNTIF($AC$15:AC718,AC718)>1,0,1)","v":12},{"$f":"IF(ROWS(AF$15:AF718)>MAX(AF:AF),\"\",INDEX(AC:AC,MATCH(ROWS(AF$15:AF718),AF:AF,0)))","v":""},{"$f":"IF(AD718=\"\",AH717,AH717+IF(COUNTIF($AD$15:AD718,AD718)>1,0,1))","v":0},{"$f":"IF(ROWS($AH$15:AH718)>MAX(AH:AH),\"\",INDEX(AD:AD,MATCH(ROWS($AH$15:AH718),AH:AH,0)))","v":""}]
[null,null,null,null,null,null,null,null,null,null,null,null,null,null,null,null,null,null,null,null,null,null,null,null,null,null,null,705,12,"","",{"$f":"AF718+IF(COUNTIF($AC$15:AC719,AC719)>1,0,1)","v":12},{"$f":"IF(ROWS(AF$15:AF719)>MAX(AF:AF),\"\",INDEX(AC:AC,MATCH(ROWS(AF$15:AF719),AF:AF,0)))","v":""},{"$f":"IF(AD719=\"\",AH718,AH718+IF(COUNTIF($AD$15:AD719,AD719)>1,0,1))","v":0},{"$f":"IF(ROWS($AH$15:AH719)>MAX(AH:AH),\"\",INDEX(AD:AD,MATCH(ROWS($AH$15:AH719),AH:AH,0)))","v":""}]
[null,null,null,null,null,null,null,null,null,null,null,null,null,null,null,null,null,null,null,null,null,null,null,null,null,null,null,706,{"$f":"IF(INDIRECT($AC$1&\"D\"&$AB720+1)=\"\",\"\",INDIRECT($AC$1&\"D\"&$AB720+1))","v":12},{"$f":"IF(AC720=\"\",\"\",IF($E$16=AC720,INDIRECT($AC$1&\"E\"&$AB720+1),\"\"))","v":""},{"$f":"IF(ISBLANK($E$17),\"\",IF($E$17<>AD720,\"\",IF(INDIRECT($AC$1&\"U\"&$AB720+1)=\"Yes\",INDIRECT($AC$1&\"I\"&$AB720+1),\"\")))","v":""},{"$f":"AF719+IF(COUNTIF($AC$15:AC720,AC720)>1,0,1)","v":12},{"$f":"IF(ROWS(AF$15:AF720)>MAX(AF:AF),\"\",INDEX(AC:AC,MATCH(ROWS(AF$15:AF720),AF:AF,0)))","v":""},{"$f":"IF(AD720=\"\",AH719,AH719+IF(COUNTIF($AD$15:AD720,AD720)>1,0,1))","v":0},{"$f":"IF(ROWS($AH$15:AH720)>MAX(AH:AH),\"\",INDEX(AD:AD,MATCH(ROWS($AH$15:AH720),AH:AH,0)))","v":""}]
[null,null,null,null,null,null,null,null,null,null,null,null,null,null,null,null,null,null,null,null,null,null,null,null,null,null,null,{"$f":"AB720+1","v":707},12,"","",{"$f":"AF720+IF(COUNTIF($AC$15:AC721,AC721)>1,0,1)","v":12},{"$f":"IF(ROWS(AF$15:AF721)>MAX(AF:AF),\"\",INDEX(AC:AC,MATCH(ROWS(AF$15:AF721),AF:AF,0)))","v":""},{"$f":"IF(AD721=\"\",AH720,AH720+IF(COUNTIF($AD$15:AD721,AD721)>1,0,1))","v":0},{"$f":"IF(ROWS($AH$15:AH721)>MAX(AH:AH),\"\",INDEX(AD:AD,MATCH(ROWS($AH$15:AH721),AH:AH,0)))","v":""}]
[null,null,null,null,null,null,null,null,null,null,null,null,null,null,null,null,null,null,null,null,null,null,null,null,null,null,null,708,12,"","",{"$f":"AF721+IF(COUNTIF($AC$15:AC722,AC722)>1,0,1)","v":12},{"$f":"IF(ROWS(AF$15:AF722)>MAX(AF:AF),\"\",INDEX(AC:AC,MATCH(ROWS(AF$15:AF722),AF:AF,0)))","v":""},{"$f":"IF(AD722=\"\",AH721,AH721+IF(COUNTIF($AD$15:AD722,AD722)>1,0,1))","v":0},{"$f":"IF(ROWS($AH$15:AH722)>MAX(AH:AH),\"\",INDEX(AD:AD,MATCH(ROWS($AH$15:AH722),AH:AH,0)))","v":""}]
[null,null,null,null,null,null,null,null,null,null,null,null,null,null,null,null,null,null,null,null,null,null,null,null,null,null,null,709,12,"","",{"$f":"AF722+IF(COUNTIF($AC$15:AC723,AC723)>1,0,1)","v":12},{"$f":"IF(ROWS(AF$15:AF723)>MAX(AF:AF),\"\",INDEX(AC:AC,MATCH(ROWS(AF$15:AF723),AF:AF,0)))","v":""},{"$f":"IF(AD723=\"\",AH722,AH722+IF(COUNTIF($AD$15:AD723,AD723)>1,0,1))","v":0},{"$f":"IF(ROWS($AH$15:AH723)>MAX(AH:AH),\"\",INDEX(AD:AD,MATCH(ROWS($AH$15:AH723),AH:AH,0)))","v":""}]
[null,null,null,null,null,null,null,null,null,null,null,null,null,null,null,null,null,null,null,null,null,null,null,null,null,null,null,710,12,"","",{"$f":"AF723+IF(COUNTIF($AC$15:AC724,AC724)>1,0,1)","v":12},{"$f":"IF(ROWS(AF$15:AF724)>MAX(AF:AF),\"\",INDEX(AC:AC,MATCH(ROWS(AF$15:AF724),AF:AF,0)))","v":""},{"$f":"IF(AD724=\"\",AH723,AH723+IF(COUNTIF($AD$15:AD724,AD724)>1,0,1))","v":0},{"$f":"IF(ROWS($AH$15:AH724)>MAX(AH:AH),\"\",INDEX(AD:AD,MATCH(ROWS($AH$15:AH724),AH:AH,0)))","v":""}]
[null,null,null,null,null,null,null,null,null,null,null,null,null,null,null,null,null,null,null,null,null,null,null,null,null,null,null,711,12,"","",{"$f":"AF724+IF(COUNTIF($AC$15:AC725,AC725)>1,0,1)","v":12},{"$f":"IF(ROWS(AF$15:AF725)>MAX(AF:AF),\"\",INDEX(AC:AC,MATCH(ROWS(AF$15:AF725),AF:AF,0)))","v":""},{"$f":"IF(AD725=\"\",AH724,AH724+IF(COUNTIF($AD$15:AD725,AD725)>1,0,1))","v":0},{"$f":"IF(ROWS($AH$15:AH725)>MAX(AH:AH),\"\",INDEX(AD:AD,MATCH(ROWS($AH$15:AH725),AH:AH,0)))","v":""}]
[null,null,null,null,null,null,null,null,null,null,null,null,null,null,null,null,null,null,null,null,null,null,null,null,null,null,null,712,13,"","",{"$f":"AF725+IF(COUNTIF($AC$15:AC726,AC726)>1,0,1)","v":13},{"$f":"IF(ROWS(AF$15:AF726)>MAX(AF:AF),\"\",INDEX(AC:AC,MATCH(ROWS(AF$15:AF726),AF:AF,0)))","v":""},{"$f":"IF(AD726=\"\",AH725,AH725+IF(COUNTIF($AD$15:AD726,AD726)>1,0,1))","v":0},{"$f":"IF(ROWS($AH$15:AH726)>MAX(AH:AH),\"\",INDEX(AD:AD,MATCH(ROWS($AH$15:AH726),AH:AH,0)))","v":""}]
[null,null,null,null,null,null,null,null,null,null,null,null,null,null,null,null,null,null,null,null,null,null,null,null,null,null,null,713,13,"","",{"$f":"AF726+IF(COUNTIF($AC$15:AC727,AC727)>1,0,1)","v":13},{"$f":"IF(ROWS(AF$15:AF727)>MAX(AF:AF),\"\",INDEX(AC:AC,MATCH(ROWS(AF$15:AF727),AF:AF,0)))","v":""},{"$f":"IF(AD727=\"\",AH726,AH726+IF(COUNTIF($AD$15:AD727,AD727)>1,0,1))","v":0},{"$f":"IF(ROWS($AH$15:AH727)>MAX(AH:AH),\"\",INDEX(AD:AD,MATCH(ROWS($AH$15:AH727),AH:AH,0)))","v":""}]
[null,null,null,null,null,null,null,null,null,null,null,null,null,null,null,null,null,null,null,null,null,null,null,null,null,null,null,714,13,"","",{"$f":"AF727+IF(COUNTIF($AC$15:AC728,AC728)>1,0,1)","v":13},{"$f":"IF(ROWS(AF$15:AF728)>MAX(AF:AF),\"\",INDEX(AC:AC,MATCH(ROWS(AF$15:AF728),AF:AF,0)))","v":""},{"$f":"IF(AD728=\"\",AH727,AH727+IF(COUNTIF($AD$15:AD728,AD728)>1,0,1))","v":0},{"$f":"IF(ROWS($AH$15:AH728)>MAX(AH:AH),\"\",INDEX(AD:AD,MATCH(ROWS($AH$15:AH728),AH:AH,0)))","v":""}]
[null,null,null,null,null,null,null,null,null,null,null,null,null,null,null,null,null,null,null,null,null,null,null,null,null,null,null,715,13,"","",{"$f":"AF728+IF(COUNTIF($AC$15:AC729,AC729)>1,0,1)","v":13},{"$f":"IF(ROWS(AF$15:AF729)>MAX(AF:AF),\"\",INDEX(AC:AC,MATCH(ROWS(AF$15:AF729),AF:AF,0)))","v":""},{"$f":"IF(AD729=\"\",AH728,AH728+IF(COUNTIF($AD$15:AD729,AD729)>1,0,1))","v":0},{"$f":"IF(ROWS($AH$15:AH729)>MAX(AH:AH),\"\",INDEX(AD:AD,MATCH(ROWS($AH$15:AH729),AH:AH,0)))","v":""}]
[null,null,null,null,null,null,null,null,null,null,null,null,null,null,null,null,null,null,null,null,null,null,null,null,null,null,null,716,13,"","",{"$f":"AF729+IF(COUNTIF($AC$15:AC730,AC730)>1,0,1)","v":13},{"$f":"IF(ROWS(AF$15:AF730)>MAX(AF:AF),\"\",INDEX(AC:AC,MATCH(ROWS(AF$15:AF730),AF:AF,0)))","v":""},{"$f":"IF(AD730=\"\",AH729,AH729+IF(COUNTIF($AD$15:AD730,AD730)>1,0,1))","v":0},{"$f":"IF(ROWS($AH$15:AH730)>MAX(AH:AH),\"\",INDEX(AD:AD,MATCH(ROWS($AH$15:AH730),AH:AH,0)))","v":""}]
[null,null,null,null,null,null,null,null,null,null,null,null,null,null,null,null,null,null,null,null,null,null,null,null,null,null,null,717,13,"","",{"$f":"AF730+IF(COUNTIF($AC$15:AC731,AC731)>1,0,1)","v":13},{"$f":"IF(ROWS(AF$15:AF731)>MAX(AF:AF),\"\",INDEX(AC:AC,MATCH(ROWS(AF$15:AF731),AF:AF,0)))","v":""},{"$f":"IF(AD731=\"\",AH730,AH730+IF(COUNTIF($AD$15:AD731,AD731)>1,0,1))","v":0},{"$f":"IF(ROWS($AH$15:AH731)>MAX(AH:AH),\"\",INDEX(AD:AD,MATCH(ROWS($AH$15:AH731),AH:AH,0)))","v":""}]
[null,null,null,null,null,null,null,null,null,null,null,null,null,null,null,null,null,null,null,null,null,null,null,null,null,null,null,718,13,"","",{"$f":"AF731+IF(COUNTIF($AC$15:AC732,AC732)>1,0,1)","v":13},{"$f":"IF(ROWS(AF$15:AF732)>MAX(AF:AF),\"\",INDEX(AC:AC,MATCH(ROWS(AF$15:AF732),AF:AF,0)))","v":""},{"$f":"IF(AD732=\"\",AH731,AH731+IF(COUNTIF($AD$15:AD732,AD732)>1,0,1))","v":0},{"$f":"IF(ROWS($AH$15:AH732)>MAX(AH:AH),\"\",INDEX(AD:AD,MATCH(ROWS($AH$15:AH732),AH:AH,0)))","v":""}]
[null,null,null,null,null,null,null,null,null,null,null,null,null,null,null,null,null,null,null,null,null,null,null,null,null,null,null,719,13,"","",{"$f":"AF732+IF(COUNTIF($AC$15:AC733,AC733)>1,0,1)","v":13},{"$f":"IF(ROWS(AF$15:AF733)>MAX(AF:AF),\"\",INDEX(AC:AC,MATCH(ROWS(AF$15:AF733),AF:AF,0)))","v":""},{"$f":"IF(AD733=\"\",AH732,AH732+IF(COUNTIF($AD$15:AD733,AD733)>1,0,1))","v":0},{"$f":"IF(ROWS($AH$15:AH733)>MAX(AH:AH),\"\",INDEX(AD:AD,MATCH(ROWS($AH$15:AH733),AH:AH,0)))","v":""}]
[null,null,null,null,null,null,null,null,null,null,null,null,null,null,null,null,null,null,null,null,null,null,null,null,null,null,null,720,13,"","",{"$f":"AF733+IF(COUNTIF($AC$15:AC734,AC734)>1,0,1)","v":13},{"$f":"IF(ROWS(AF$15:AF734)>MAX(AF:AF),\"\",INDEX(AC:AC,MATCH(ROWS(AF$15:AF734),AF:AF,0)))","v":""},{"$f":"IF(AD734=\"\",AH733,AH733+IF(COUNTIF($AD$15:AD734,AD734)>1,0,1))","v":0},{"$f":"IF(ROWS($AH$15:AH734)>MAX(AH:AH),\"\",INDEX(AD:AD,MATCH(ROWS($AH$15:AH734),AH:AH,0)))","v":""}]
[null,null,null,null,null,null,null,null,null,null,null,null,null,null,null,null,null,null,null,null,null,null,null,null,null,null,null,721,13,"","",{"$f":"AF734+IF(COUNTIF($AC$15:AC735,AC735)>1,0,1)","v":13},{"$f":"IF(ROWS(AF$15:AF735)>MAX(AF:AF),\"\",INDEX(AC:AC,MATCH(ROWS(AF$15:AF735),AF:AF,0)))","v":""},{"$f":"IF(AD735=\"\",AH734,AH734+IF(COUNTIF($AD$15:AD735,AD735)>1,0,1))","v":0},{"$f":"IF(ROWS($AH$15:AH735)>MAX(AH:AH),\"\",INDEX(AD:AD,MATCH(ROWS($AH$15:AH735),AH:AH,0)))","v":""}]
[null,null,null,null,null,null,null,null,null,null,null,null,null,null,null,null,null,null,null,null,null,null,null,null,null,null,null,722,13,"","",{"$f":"AF735+IF(COUNTIF($AC$15:AC736,AC736)>1,0,1)","v":13},{"$f":"IF(ROWS(AF$15:AF736)>MAX(AF:AF),\"\",INDEX(AC:AC,MATCH(ROWS(AF$15:AF736),AF:AF,0)))","v":""},{"$f":"IF(AD736=\"\",AH735,AH735+IF(COUNTIF($AD$15:AD736,AD736)>1,0,1))","v":0},{"$f":"IF(ROWS($AH$15:AH736)>MAX(AH:AH),\"\",INDEX(AD:AD,MATCH(ROWS($AH$15:AH736),AH:AH,0)))","v":""}]
[null,null,null,null,null,null,null,null,null,null,null,null,null,null,null,null,null,null,null,null,null,null,null,null,null,null,null,723,13,"","",{"$f":"AF736+IF(COUNTIF($AC$15:AC737,AC737)>1,0,1)","v":13},{"$f":"IF(ROWS(AF$15:AF737)>MAX(AF:AF),\"\",INDEX(AC:AC,MATCH(ROWS(AF$15:AF737),AF:AF,0)))","v":""},{"$f":"IF(AD737=\"\",AH736,AH736+IF(COUNTIF($AD$15:AD737,AD737)>1,0,1))","v":0},{"$f":"IF(ROWS($AH$15:AH737)>MAX(AH:AH),\"\",INDEX(AD:AD,MATCH(ROWS($AH$15:AH737),AH:AH,0)))","v":""}]
[null,null,null,null,null,null,null,null,null,null,null,null,null,null,null,null,null,null,null,null,null,null,null,null,null,null,null,724,13,"","",{"$f":"AF737+IF(COUNTIF($AC$15:AC738,AC738)>1,0,1)","v":13},{"$f":"IF(ROWS(AF$15:AF738)>MAX(AF:AF),\"\",INDEX(AC:AC,MATCH(ROWS(AF$15:AF738),AF:AF,0)))","v":""},{"$f":"IF(AD738=\"\",AH737,AH737+IF(COUNTIF($AD$15:AD738,AD738)>1,0,1))","v":0},{"$f":"IF(ROWS($AH$15:AH738)>MAX(AH:AH),\"\",INDEX(AD:AD,MATCH(ROWS($AH$15:AH738),AH:AH,0)))","v":""}]
[null,null,null,null,null,null,null,null,null,null,null,null,null,null,null,null,null,null,null,null,null,null,null,null,null,null,null,725,13,"","",{"$f":"AF738+IF(COUNTIF($AC$15:AC739,AC739)>1,0,1)","v":13},{"$f":"IF(ROWS(AF$15:AF739)>MAX(AF:AF),\"\",INDEX(AC:AC,MATCH(ROWS(AF$15:AF739),AF:AF,0)))","v":""},{"$f":"IF(AD739=\"\",AH738,AH738+IF(COUNTIF($AD$15:AD739,AD739)>1,0,1))","v":0},{"$f":"IF(ROWS($AH$15:AH739)>MAX(AH:AH),\"\",INDEX(AD:AD,MATCH(ROWS($AH$15:AH739),AH:AH,0)))","v":""}]
[null,null,null,null,null,null,null,null,null,null,null,null,null,null,null,null,null,null,null,null,null,null,null,null,null,null,null,726,13,"","",{"$f":"AF739+IF(COUNTIF($AC$15:AC740,AC740)>1,0,1)","v":13},{"$f":"IF(ROWS(AF$15:AF740)>MAX(AF:AF),\"\",INDEX(AC:AC,MATCH(ROWS(AF$15:AF740),AF:AF,0)))","v":""},{"$f":"IF(AD740=\"\",AH739,AH739+IF(COUNTIF($AD$15:AD740,AD740)>1,0,1))","v":0},{"$f":"IF(ROWS($AH$15:AH740)>MAX(AH:AH),\"\",INDEX(AD:AD,MATCH(ROWS($AH$15:AH740),AH:AH,0)))","v":""}]
[null,null,null,null,null,null,null,null,null,null,null,null,null,null,null,null,null,null,null,null,null,null,null,null,null,null,null,727,13,"","",{"$f":"AF740+IF(COUNTIF($AC$15:AC741,AC741)>1,0,1)","v":13},{"$f":"IF(ROWS(AF$15:AF741)>MAX(AF:AF),\"\",INDEX(AC:AC,MATCH(ROWS(AF$15:AF741),AF:AF,0)))","v":""},{"$f":"IF(AD741=\"\",AH740,AH740+IF(COUNTIF($AD$15:AD741,AD741)>1,0,1))","v":0},{"$f":"IF(ROWS($AH$15:AH741)>MAX(AH:AH),\"\",INDEX(AD:AD,MATCH(ROWS($AH$15:AH741),AH:AH,0)))","v":""}]
[null,null,null,null,null,null,null,null,null,null,null,null,null,null,null,null,null,null,null,null,null,null,null,null,null,null,null,728,13,"","",{"$f":"AF741+IF(COUNTIF($AC$15:AC742,AC742)>1,0,1)","v":13},{"$f":"IF(ROWS(AF$15:AF742)>MAX(AF:AF),\"\",INDEX(AC:AC,MATCH(ROWS(AF$15:AF742),AF:AF,0)))","v":""},{"$f":"IF(AD742=\"\",AH741,AH741+IF(COUNTIF($AD$15:AD742,AD742)>1,0,1))","v":0},{"$f":"IF(ROWS($AH$15:AH742)>MAX(AH:AH),\"\",INDEX(AD:AD,MATCH(ROWS($AH$15:AH742),AH:AH,0)))","v":""}]
[null,null,null,null,null,null,null,null,null,null,null,null,null,null,null,null,null,null,null,null,null,null,null,null,null,null,null,729,13,"","",{"$f":"AF742+IF(COUNTIF($AC$15:AC743,AC743)>1,0,1)","v":13},{"$f":"IF(ROWS(AF$15:AF743)>MAX(AF:AF),\"\",INDEX(AC:AC,MATCH(ROWS(AF$15:AF743),AF:AF,0)))","v":""},{"$f":"IF(AD743=\"\",AH742,AH742+IF(COUNTIF($AD$15:AD743,AD743)>1,0,1))","v":0},{"$f":"IF(ROWS($AH$15:AH743)>MAX(AH:AH),\"\",INDEX(AD:AD,MATCH(ROWS($AH$15:AH743),AH:AH,0)))","v":""}]
[null,null,null,null,null,null,null,null,null,null,null,null,null,null,null,null,null,null,null,null,null,null,null,null,null,null,null,730,13,"","",{"$f":"AF743+IF(COUNTIF($AC$15:AC744,AC744)>1,0,1)","v":13},{"$f":"IF(ROWS(AF$15:AF744)>MAX(AF:AF),\"\",INDEX(AC:AC,MATCH(ROWS(AF$15:AF744),AF:AF,0)))","v":""},{"$f":"IF(AD744=\"\",AH743,AH743+IF(COUNTIF($AD$15:AD744,AD744)>1,0,1))","v":0},{"$f":"IF(ROWS($AH$15:AH744)>MAX(AH:AH),\"\",INDEX(AD:AD,MATCH(ROWS($AH$15:AH744),AH:AH,0)))","v":""}]
[null,null,null,null,null,null,null,null,null,null,null,null,null,null,null,null,null,null,null,null,null,null,null,null,null,null,null,731,13,"","",{"$f":"AF744+IF(COUNTIF($AC$15:AC745,AC745)>1,0,1)","v":13},{"$f":"IF(ROWS(AF$15:AF745)>MAX(AF:AF),\"\",INDEX(AC:AC,MATCH(ROWS(AF$15:AF745),AF:AF,0)))","v":""},{"$f":"IF(AD745=\"\",AH744,AH744+IF(COUNTIF($AD$15:AD745,AD745)>1,0,1))","v":0},{"$f":"IF(ROWS($AH$15:AH745)>MAX(AH:AH),\"\",INDEX(AD:AD,MATCH(ROWS($AH$15:AH745),AH:AH,0)))","v":""}]
[null,null,null,null,null,null,null,null,null,null,null,null,null,null,null,null,null,null,null,null,null,null,null,null,null,null,null,732,14,"","",{"$f":"AF745+IF(COUNTIF($AC$15:AC746,AC746)>1,0,1)","v":14},{"$f":"IF(ROWS(AF$15:AF746)>MAX(AF:AF),\"\",INDEX(AC:AC,MATCH(ROWS(AF$15:AF746),AF:AF,0)))","v":""},{"$f":"IF(AD746=\"\",AH745,AH745+IF(COUNTIF($AD$15:AD746,AD746)>1,0,1))","v":0},{"$f":"IF(ROWS($AH$15:AH746)>MAX(AH:AH),\"\",INDEX(AD:AD,MATCH(ROWS($AH$15:AH746),AH:AH,0)))","v":""}]
[null,null,null,null,null,null,null,null,null,null,null,null,null,null,null,null,null,null,null,null,null,null,null,null,null,null,null,733,14,"","",{"$f":"AF746+IF(COUNTIF($AC$15:AC747,AC747)>1,0,1)","v":14},{"$f":"IF(ROWS(AF$15:AF747)>MAX(AF:AF),\"\",INDEX(AC:AC,MATCH(ROWS(AF$15:AF747),AF:AF,0)))","v":""},{"$f":"IF(AD747=\"\",AH746,AH746+IF(COUNTIF($AD$15:AD747,AD747)>1,0,1))","v":0},{"$f":"IF(ROWS($AH$15:AH747)>MAX(AH:AH),\"\",INDEX(AD:AD,MATCH(ROWS($AH$15:AH747),AH:AH,0)))","v":""}]
[null,null,null,null,null,null,null,null,null,null,null,null,null,null,null,null,null,null,null,null,null,null,null,null,null,null,null,734,14,"","",{"$f":"AF747+IF(COUNTIF($AC$15:AC748,AC748)>1,0,1)","v":14},{"$f":"IF(ROWS(AF$15:AF748)>MAX(AF:AF),\"\",INDEX(AC:AC,MATCH(ROWS(AF$15:AF748),AF:AF,0)))","v":""},{"$f":"IF(AD748=\"\",AH747,AH747+IF(COUNTIF($AD$15:AD748,AD748)>1,0,1))","v":0},{"$f":"IF(ROWS($AH$15:AH748)>MAX(AH:AH),\"\",INDEX(AD:AD,MATCH(ROWS($AH$15:AH748),AH:AH,0)))","v":""}]
[null,null,null,null,null,null,null,null,null,null,null,null,null,null,null,null,null,null,null,null,null,null,null,null,null,null,null,735,14,"","",{"$f":"AF748+IF(COUNTIF($AC$15:AC749,AC749)>1,0,1)","v":14},{"$f":"IF(ROWS(AF$15:AF749)>MAX(AF:AF),\"\",INDEX(AC:AC,MATCH(ROWS(AF$15:AF749),AF:AF,0)))","v":""},{"$f":"IF(AD749=\"\",AH748,AH748+IF(COUNTIF($AD$15:AD749,AD749)>1,0,1))","v":0},{"$f":"IF(ROWS($AH$15:AH749)>MAX(AH:AH),\"\",INDEX(AD:AD,MATCH(ROWS($AH$15:AH749),AH:AH,0)))","v":""}]
[null,null,null,null,null,null,null,null,null,null,null,null,null,null,null,null,null,null,null,null,null,null,null,null,null,null,null,736,14,"","",{"$f":"AF749+IF(COUNTIF($AC$15:AC750,AC750)>1,0,1)","v":14},{"$f":"IF(ROWS(AF$15:AF750)>MAX(AF:AF),\"\",INDEX(AC:AC,MATCH(ROWS(AF$15:AF750),AF:AF,0)))","v":""},{"$f":"IF(AD750=\"\",AH749,AH749+IF(COUNTIF($AD$15:AD750,AD750)>1,0,1))","v":0},{"$f":"IF(ROWS($AH$15:AH750)>MAX(AH:AH),\"\",INDEX(AD:AD,MATCH(ROWS($AH$15:AH750),AH:AH,0)))","v":""}]
[null,null,null,null,null,null,null,null,null,null,null,null,null,null,null,null,null,null,null,null,null,null,null,null,null,null,null,737,14,"","",{"$f":"AF750+IF(COUNTIF($AC$15:AC751,AC751)>1,0,1)","v":14},{"$f":"IF(ROWS(AF$15:AF751)>MAX(AF:AF),\"\",INDEX(AC:AC,MATCH(ROWS(AF$15:AF751),AF:AF,0)))","v":""},{"$f":"IF(AD751=\"\",AH750,AH750+IF(COUNTIF($AD$15:AD751,AD751)>1,0,1))","v":0},{"$f":"IF(ROWS($AH$15:AH751)>MAX(AH:AH),\"\",INDEX(AD:AD,MATCH(ROWS($AH$15:AH751),AH:AH,0)))","v":""}]
[null,null,null,null,null,null,null,null,null,null,null,null,null,null,null,null,null,null,null,null,null,null,null,null,null,null,null,738,14,"","",{"$f":"AF751+IF(COUNTIF($AC$15:AC752,AC752)>1,0,1)","v":14},{"$f":"IF(ROWS(AF$15:AF752)>MAX(AF:AF),\"\",INDEX(AC:AC,MATCH(ROWS(AF$15:AF752),AF:AF,0)))","v":""},{"$f":"IF(AD752=\"\",AH751,AH751+IF(COUNTIF($AD$15:AD752,AD752)>1,0,1))","v":0},{"$f":"IF(ROWS($AH$15:AH752)>MAX(AH:AH),\"\",INDEX(AD:AD,MATCH(ROWS($AH$15:AH752),AH:AH,0)))","v":""}]
[null,null,null,null,null,null,null,null,null,null,null,null,null,null,null,null,null,null,null,null,null,null,null,null,null,null,null,739,14,"","",{"$f":"AF752+IF(COUNTIF($AC$15:AC753,AC753)>1,0,1)","v":14},{"$f":"IF(ROWS(AF$15:AF753)>MAX(AF:AF),\"\",INDEX(AC:AC,MATCH(ROWS(AF$15:AF753),AF:AF,0)))","v":""},{"$f":"IF(AD753=\"\",AH752,AH752+IF(COUNTIF($AD$15:AD753,AD753)>1,0,1))","v":0},{"$f":"IF(ROWS($AH$15:AH753)>MAX(AH:AH),\"\",INDEX(AD:AD,MATCH(ROWS($AH$15:AH753),AH:AH,0)))","v":""}]
[null,null,null,null,null,null,null,null,null,null,null,null,null,null,null,null,null,null,null,null,null,null,null,null,null,null,null,740,14,"","",{"$f":"AF753+IF(COUNTIF($AC$15:AC754,AC754)>1,0,1)","v":14},{"$f":"IF(ROWS(AF$15:AF754)>MAX(AF:AF),\"\",INDEX(AC:AC,MATCH(ROWS(AF$15:AF754),AF:AF,0)))","v":""},{"$f":"IF(AD754=\"\",AH753,AH753+IF(COUNTIF($AD$15:AD754,AD754)>1,0,1))","v":0},{"$f":"IF(ROWS($AH$15:AH754)>MAX(AH:AH),\"\",INDEX(AD:AD,MATCH(ROWS($AH$15:AH754),AH:AH,0)))","v":""}]
[null,null,null,null,null,null,null,null,null,null,null,null,null,null,null,null,null,null,null,null,null,null,null,null,null,null,null,741,14,"","",{"$f":"AF754+IF(COUNTIF($AC$15:AC755,AC755)>1,0,1)","v":14},{"$f":"IF(ROWS(AF$15:AF755)>MAX(AF:AF),\"\",INDEX(AC:AC,MATCH(ROWS(AF$15:AF755),AF:AF,0)))","v":""},{"$f":"IF(AD755=\"\",AH754,AH754+IF(COUNTIF($AD$15:AD755,AD755)>1,0,1))","v":0},{"$f":"IF(ROWS($AH$15:AH755)>MAX(AH:AH),\"\",INDEX(AD:AD,MATCH(ROWS($AH$15:AH755),AH:AH,0)))","v":""}]
[null,null,null,null,null,null,null,null,null,null,null,null,null,null,null,null,null,null,null,null,null,null,null,null,null,null,null,742,14,"","",{"$f":"AF755+IF(COUNTIF($AC$15:AC756,AC756)>1,0,1)","v":14},{"$f":"IF(ROWS(AF$15:AF756)>MAX(AF:AF),\"\",INDEX(AC:AC,MATCH(ROWS(AF$15:AF756),AF:AF,0)))","v":""},{"$f":"IF(AD756=\"\",AH755,AH755+IF(COUNTIF($AD$15:AD756,AD756)>1,0,1))","v":0},{"$f":"IF(ROWS($AH$15:AH756)>MAX(AH:AH),\"\",INDEX(AD:AD,MATCH(ROWS($AH$15:AH756),AH:AH,0)))","v":""}]
[null,null,null,null,null,null,null,null,null,null,null,null,null,null,null,null,null,null,null,null,null,null,null,null,null,null,null,743,14,"","",{"$f":"AF756+IF(COUNTIF($AC$15:AC757,AC757)>1,0,1)","v":14},{"$f":"IF(ROWS(AF$15:AF757)>MAX(AF:AF),\"\",INDEX(AC:AC,MATCH(ROWS(AF$15:AF757),AF:AF,0)))","v":""},{"$f":"IF(AD757=\"\",AH756,AH756+IF(COUNTIF($AD$15:AD757,AD757)>1,0,1))","v":0},{"$f":"IF(ROWS($AH$15:AH757)>MAX(AH:AH),\"\",INDEX(AD:AD,MATCH(ROWS($AH$15:AH757),AH:AH,0)))","v":""}]
[null,null,null,null,null,null,null,null,null,null,null,null,null,null,null,null,null,null,null,null,null,null,null,null,null,null,null,744,14,"","",{"$f":"AF757+IF(COUNTIF($AC$15:AC758,AC758)>1,0,1)","v":14},{"$f":"IF(ROWS(AF$15:AF758)>MAX(AF:AF),\"\",INDEX(AC:AC,MATCH(ROWS(AF$15:AF758),AF:AF,0)))","v":""},{"$f":"IF(AD758=\"\",AH757,AH757+IF(COUNTIF($AD$15:AD758,AD758)>1,0,1))","v":0},{"$f":"IF(ROWS($AH$15:AH758)>MAX(AH:AH),\"\",INDEX(AD:AD,MATCH(ROWS($AH$15:AH758),AH:AH,0)))","v":""}]
[null,null,null,null,null,null,null,null,null,null,null,null,null,null,null,null,null,null,null,null,null,null,null,null,null,null,null,745,14,"","",{"$f":"AF758+IF(COUNTIF($AC$15:AC759,AC759)>1,0,1)","v":14},{"$f":"IF(ROWS(AF$15:AF759)>MAX(AF:AF),\"\",INDEX(AC:AC,MATCH(ROWS(AF$15:AF759),AF:AF,0)))","v":""},{"$f":"IF(AD759=\"\",AH758,AH758+IF(COUNTIF($AD$15:AD759,AD759)>1,0,1))","v":0},{"$f":"IF(ROWS($AH$15:AH759)>MAX(AH:AH),\"\",INDEX(AD:AD,MATCH(ROWS($AH$15:AH759),AH:AH,0)))","v":""}]
[null,null,null,null,null,null,null,null,null,null,null,null,null,null,null,null,null,null,null,null,null,null,null,null,null,null,null,746,14,"","",{"$f":"AF759+IF(COUNTIF($AC$15:AC760,AC760)>1,0,1)","v":14},{"$f":"IF(ROWS(AF$15:AF760)>MAX(AF:AF),\"\",INDEX(AC:AC,MATCH(ROWS(AF$15:AF760),AF:AF,0)))","v":""},{"$f":"IF(AD760=\"\",AH759,AH759+IF(COUNTIF($AD$15:AD760,AD760)>1,0,1))","v":0},{"$f":"IF(ROWS($AH$15:AH760)>MAX(AH:AH),\"\",INDEX(AD:AD,MATCH(ROWS($AH$15:AH760),AH:AH,0)))","v":""}]
[null,null,null,null,null,null,null,null,null,null,null,null,null,null,null,null,null,null,null,null,null,null,null,null,null,null,null,747,14,"","",{"$f":"AF760+IF(COUNTIF($AC$15:AC761,AC761)>1,0,1)","v":14},{"$f":"IF(ROWS(AF$15:AF761)>MAX(AF:AF),\"\",INDEX(AC:AC,MATCH(ROWS(AF$15:AF761),AF:AF,0)))","v":""},{"$f":"IF(AD761=\"\",AH760,AH760+IF(COUNTIF($AD$15:AD761,AD761)>1,0,1))","v":0},{"$f":"IF(ROWS($AH$15:AH761)>MAX(AH:AH),\"\",INDEX(AD:AD,MATCH(ROWS($AH$15:AH761),AH:AH,0)))","v":""}]
[null,null,null,null,null,null,null,null,null,null,null,null,null,null,null,null,null,null,null,null,null,null,null,null,null,null,null,748,14,"","",{"$f":"AF761+IF(COUNTIF($AC$15:AC762,AC762)>1,0,1)","v":14},{"$f":"IF(ROWS(AF$15:AF762)>MAX(AF:AF),\"\",INDEX(AC:AC,MATCH(ROWS(AF$15:AF762),AF:AF,0)))","v":""},{"$f":"IF(AD762=\"\",AH761,AH761+IF(COUNTIF($AD$15:AD762,AD762)>1,0,1))","v":0},{"$f":"IF(ROWS($AH$15:AH762)>MAX(AH:AH),\"\",INDEX(AD:AD,MATCH(ROWS($AH$15:AH762),AH:AH,0)))","v":""}]
[null,null,null,null,null,null,null,null,null,null,null,null,null,null,null,null,null,null,null,null,null,null,null,null,null,null,null,749,14,"","",{"$f":"AF762+IF(COUNTIF($AC$15:AC763,AC763)>1,0,1)","v":14},{"$f":"IF(ROWS(AF$15:AF763)>MAX(AF:AF),\"\",INDEX(AC:AC,MATCH(ROWS(AF$15:AF763),AF:AF,0)))","v":""},{"$f":"IF(AD763=\"\",AH762,AH762+IF(COUNTIF($AD$15:AD763,AD763)>1,0,1))","v":0},{"$f":"IF(ROWS($AH$15:AH763)>MAX(AH:AH),\"\",INDEX(AD:AD,MATCH(ROWS($AH$15:AH763),AH:AH,0)))","v":""}]
[null,null,null,null,null,null,null,null,null,null,null,null,null,null,null,null,null,null,null,null,null,null,null,null,null,null,null,750,14,"","",{"$f":"AF763+IF(COUNTIF($AC$15:AC764,AC764)>1,0,1)","v":14},{"$f":"IF(ROWS(AF$15:AF764)>MAX(AF:AF),\"\",INDEX(AC:AC,MATCH(ROWS(AF$15:AF764),AF:AF,0)))","v":""},{"$f":"IF(AD764=\"\",AH763,AH763+IF(COUNTIF($AD$15:AD764,AD764)>1,0,1))","v":0},{"$f":"IF(ROWS($AH$15:AH764)>MAX(AH:AH),\"\",INDEX(AD:AD,MATCH(ROWS($AH$15:AH764),AH:AH,0)))","v":""}]
[null,null,null,null,null,null,null,null,null,null,null,null,null,null,null,null,null,null,null,null,null,null,null,null,null,null,null,751,14,"","",{"$f":"AF764+IF(COUNTIF($AC$15:AC765,AC765)>1,0,1)","v":14},{"$f":"IF(ROWS(AF$15:AF765)>MAX(AF:AF),\"\",INDEX(AC:AC,MATCH(ROWS(AF$15:AF765),AF:AF,0)))","v":""},{"$f":"IF(AD765=\"\",AH764,AH764+IF(COUNTIF($AD$15:AD765,AD765)>1,0,1))","v":0},{"$f":"IF(ROWS($AH$15:AH765)>MAX(AH:AH),\"\",INDEX(AD:AD,MATCH(ROWS($AH$15:AH765),AH:AH,0)))","v":""}]
[null,null,null,null,null,null,null,null,null,null,null,null,null,null,null,null,null,null,null,null,null,null,null,null,null,null,null,752,14,"","",{"$f":"AF765+IF(COUNTIF($AC$15:AC766,AC766)>1,0,1)","v":14},{"$f":"IF(ROWS(AF$15:AF766)>MAX(AF:AF),\"\",INDEX(AC:AC,MATCH(ROWS(AF$15:AF766),AF:AF,0)))","v":""},{"$f":"IF(AD766=\"\",AH765,AH765+IF(COUNTIF($AD$15:AD766,AD766)>1,0,1))","v":0},{"$f":"IF(ROWS($AH$15:AH766)>MAX(AH:AH),\"\",INDEX(AD:AD,MATCH(ROWS($AH$15:AH766),AH:AH,0)))","v":""}]
[null,null,null,null,null,null,null,null,null,null,null,null,null,null,null,null,null,null,null,null,null,null,null,null,null,null,null,753,14,"","",{"$f":"AF766+IF(COUNTIF($AC$15:AC767,AC767)>1,0,1)","v":14},{"$f":"IF(ROWS(AF$15:AF767)>MAX(AF:AF),\"\",INDEX(AC:AC,MATCH(ROWS(AF$15:AF767),AF:AF,0)))","v":""},{"$f":"IF(AD767=\"\",AH766,AH766+IF(COUNTIF($AD$15:AD767,AD767)>1,0,1))","v":0},{"$f":"IF(ROWS($AH$15:AH767)>MAX(AH:AH),\"\",INDEX(AD:AD,MATCH(ROWS($AH$15:AH767),AH:AH,0)))","v":""}]
[null,null,null,null,null,null,null,null,null,null,null,null,null,null,null,null,null,null,null,null,null,null,null,null,null,null,null,754,14,"","",{"$f":"AF767+IF(COUNTIF($AC$15:AC768,AC768)>1,0,1)","v":14},{"$f":"IF(ROWS(AF$15:AF768)>MAX(AF:AF),\"\",INDEX(AC:AC,MATCH(ROWS(AF$15:AF768),AF:AF,0)))","v":""},{"$f":"IF(AD768=\"\",AH767,AH767+IF(COUNTIF($AD$15:AD768,AD768)>1,0,1))","v":0},{"$f":"IF(ROWS($AH$15:AH768)>MAX(AH:AH),\"\",INDEX(AD:AD,MATCH(ROWS($AH$15:AH768),AH:AH,0)))","v":""}]
[null,null,null,null,null,null,null,null,null,null,null,null,null,null,null,null,null,null,null,null,null,null,null,null,null,null,null,755,14,"","",{"$f":"AF768+IF(COUNTIF($AC$15:AC769,AC769)>1,0,1)","v":14},{"$f":"IF(ROWS(AF$15:AF769)>MAX(AF:AF),\"\",INDEX(AC:AC,MATCH(ROWS(AF$15:AF769),AF:AF,0)))","v":""},{"$f":"IF(AD769=\"\",AH768,AH768+IF(COUNTIF($AD$15:AD769,AD769)>1,0,1))","v":0},{"$f":"IF(ROWS($AH$15:AH769)>MAX(AH:AH),\"\",INDEX(AD:AD,MATCH(ROWS($AH$15:AH769),AH:AH,0)))","v":""}]
[null,null,null,null,null,null,null,null,null,null,null,null,null,null,null,null,null,null,null,null,null,null,null,null,null,null,null,756,14,"","",{"$f":"AF769+IF(COUNTIF($AC$15:AC770,AC770)>1,0,1)","v":14},{"$f":"IF(ROWS(AF$15:AF770)>MAX(AF:AF),\"\",INDEX(AC:AC,MATCH(ROWS(AF$15:AF770),AF:AF,0)))","v":""},{"$f":"IF(AD770=\"\",AH769,AH769+IF(COUNTIF($AD$15:AD770,AD770)>1,0,1))","v":0},{"$f":"IF(ROWS($AH$15:AH770)>MAX(AH:AH),\"\",INDEX(AD:AD,MATCH(ROWS($AH$15:AH770),AH:AH,0)))","v":""}]
[null,null,null,null,null,null,null,null,null,null,null,null,null,null,null,null,null,null,null,null,null,null,null,null,null,null,null,757,14,"","",{"$f":"AF770+IF(COUNTIF($AC$15:AC771,AC771)>1,0,1)","v":14},{"$f":"IF(ROWS(AF$15:AF771)>MAX(AF:AF),\"\",INDEX(AC:AC,MATCH(ROWS(AF$15:AF771),AF:AF,0)))","v":""},{"$f":"IF(AD771=\"\",AH770,AH770+IF(COUNTIF($AD$15:AD771,AD771)>1,0,1))","v":0},{"$f":"IF(ROWS($AH$15:AH771)>MAX(AH:AH),\"\",INDEX(AD:AD,MATCH(ROWS($AH$15:AH771),AH:AH,0)))","v":""}]
[null,null,null,null,null,null,null,null,null,null,null,null,null,null,null,null,null,null,null,null,null,null,null,null,null,null,null,758,15,"","",{"$f":"AF771+IF(COUNTIF($AC$15:AC772,AC772)>1,0,1)","v":15},{"$f":"IF(ROWS(AF$15:AF772)>MAX(AF:AF),\"\",INDEX(AC:AC,MATCH(ROWS(AF$15:AF772),AF:AF,0)))","v":""},{"$f":"IF(AD772=\"\",AH771,AH771+IF(COUNTIF($AD$15:AD772,AD772)>1,0,1))","v":0},{"$f":"IF(ROWS($AH$15:AH772)>MAX(AH:AH),\"\",INDEX(AD:AD,MATCH(ROWS($AH$15:AH772),AH:AH,0)))","v":""}]
[null,null,null,null,null,null,null,null,null,null,null,null,null,null,null,null,null,null,null,null,null,null,null,null,null,null,null,759,15,"","",{"$f":"AF772+IF(COUNTIF($AC$15:AC773,AC773)>1,0,1)","v":15},{"$f":"IF(ROWS(AF$15:AF773)>MAX(AF:AF),\"\",INDEX(AC:AC,MATCH(ROWS(AF$15:AF773),AF:AF,0)))","v":""},{"$f":"IF(AD773=\"\",AH772,AH772+IF(COUNTIF($AD$15:AD773,AD773)>1,0,1))","v":0},{"$f":"IF(ROWS($AH$15:AH773)>MAX(AH:AH),\"\",INDEX(AD:AD,MATCH(ROWS($AH$15:AH773),AH:AH,0)))","v":""}]
[null,null,null,null,null,null,null,null,null,null,null,null,null,null,null,null,null,null,null,null,null,null,null,null,null,null,null,760,15,"","",{"$f":"AF773+IF(COUNTIF($AC$15:AC774,AC774)>1,0,1)","v":15},{"$f":"IF(ROWS(AF$15:AF774)>MAX(AF:AF),\"\",INDEX(AC:AC,MATCH(ROWS(AF$15:AF774),AF:AF,0)))","v":""},{"$f":"IF(AD774=\"\",AH773,AH773+IF(COUNTIF($AD$15:AD774,AD774)>1,0,1))","v":0},{"$f":"IF(ROWS($AH$15:AH774)>MAX(AH:AH),\"\",INDEX(AD:AD,MATCH(ROWS($AH$15:AH774),AH:AH,0)))","v":""}]
[null,null,null,null,null,null,null,null,null,null,null,null,null,null,null,null,null,null,null,null,null,null,null,null,null,null,null,761,15,"","",{"$f":"AF774+IF(COUNTIF($AC$15:AC775,AC775)>1,0,1)","v":15},{"$f":"IF(ROWS(AF$15:AF775)>MAX(AF:AF),\"\",INDEX(AC:AC,MATCH(ROWS(AF$15:AF775),AF:AF,0)))","v":""},{"$f":"IF(AD775=\"\",AH774,AH774+IF(COUNTIF($AD$15:AD775,AD775)>1,0,1))","v":0},{"$f":"IF(ROWS($AH$15:AH775)>MAX(AH:AH),\"\",INDEX(AD:AD,MATCH(ROWS($AH$15:AH775),AH:AH,0)))","v":""}]
[null,null,null,null,null,null,null,null,null,null,null,null,null,null,null,null,null,null,null,null,null,null,null,null,null,null,null,762,15,"","",{"$f":"AF775+IF(COUNTIF($AC$15:AC776,AC776)>1,0,1)","v":15},{"$f":"IF(ROWS(AF$15:AF776)>MAX(AF:AF),\"\",INDEX(AC:AC,MATCH(ROWS(AF$15:AF776),AF:AF,0)))","v":""},{"$f":"IF(AD776=\"\",AH775,AH775+IF(COUNTIF($AD$15:AD776,AD776)>1,0,1))","v":0},{"$f":"IF(ROWS($AH$15:AH776)>MAX(AH:AH),\"\",INDEX(AD:AD,MATCH(ROWS($AH$15:AH776),AH:AH,0)))","v":""}]
[null,null,null,null,null,null,null,null,null,null,null,null,null,null,null,null,null,null,null,null,null,null,null,null,null,null,null,763,15,"","",{"$f":"AF776+IF(COUNTIF($AC$15:AC777,AC777)>1,0,1)","v":15},{"$f":"IF(ROWS(AF$15:AF777)>MAX(AF:AF),\"\",INDEX(AC:AC,MATCH(ROWS(AF$15:AF777),AF:AF,0)))","v":""},{"$f":"IF(AD777=\"\",AH776,AH776+IF(COUNTIF($AD$15:AD777,AD777)>1,0,1))","v":0},{"$f":"IF(ROWS($AH$15:AH777)>MAX(AH:AH),\"\",INDEX(AD:AD,MATCH(ROWS($AH$15:AH777),AH:AH,0)))","v":""}]
[null,null,null,null,null,null,null,null,null,null,null,null,null,null,null,null,null,null,null,null,null,null,null,null,null,null,null,764,15,"","",{"$f":"AF777+IF(COUNTIF($AC$15:AC778,AC778)>1,0,1)","v":15},{"$f":"IF(ROWS(AF$15:AF778)>MAX(AF:AF),\"\",INDEX(AC:AC,MATCH(ROWS(AF$15:AF778),AF:AF,0)))","v":""},{"$f":"IF(AD778=\"\",AH777,AH777+IF(COUNTIF($AD$15:AD778,AD778)>1,0,1))","v":0},{"$f":"IF(ROWS($AH$15:AH778)>MAX(AH:AH),\"\",INDEX(AD:AD,MATCH(ROWS($AH$15:AH778),AH:AH,0)))","v":""}]
[null,null,null,null,null,null,null,null,null,null,null,null,null,null,null,null,null,null,null,null,null,null,null,null,null,null,null,765,15,"","",{"$f":"AF778+IF(COUNTIF($AC$15:AC779,AC779)>1,0,1)","v":15},{"$f":"IF(ROWS(AF$15:AF779)>MAX(AF:AF),\"\",INDEX(AC:AC,MATCH(ROWS(AF$15:AF779),AF:AF,0)))","v":""},{"$f":"IF(AD779=\"\",AH778,AH778+IF(COUNTIF($AD$15:AD779,AD779)>1,0,1))","v":0},{"$f":"IF(ROWS($AH$15:AH779)>MAX(AH:AH),\"\",INDEX(AD:AD,MATCH(ROWS($AH$15:AH779),AH:AH,0)))","v":""}]
[null,null,null,null,null,null,null,null,null,null,null,null,null,null,null,null,null,null,null,null,null,null,null,null,null,null,null,766,15,"","",{"$f":"AF779+IF(COUNTIF($AC$15:AC780,AC780)>1,0,1)","v":15},{"$f":"IF(ROWS(AF$15:AF780)>MAX(AF:AF),\"\",INDEX(AC:AC,MATCH(ROWS(AF$15:AF780),AF:AF,0)))","v":""},{"$f":"IF(AD780=\"\",AH779,AH779+IF(COUNTIF($AD$15:AD780,AD780)>1,0,1))","v":0},{"$f":"IF(ROWS($AH$15:AH780)>MAX(AH:AH),\"\",INDEX(AD:AD,MATCH(ROWS($AH$15:AH780),AH:AH,0)))","v":""}]
[null,null,null,null,null,null,null,null,null,null,null,null,null,null,null,null,null,null,null,null,null,null,null,null,null,null,null,767,15,"","",{"$f":"AF780+IF(COUNTIF($AC$15:AC781,AC781)>1,0,1)","v":15},{"$f":"IF(ROWS(AF$15:AF781)>MAX(AF:AF),\"\",INDEX(AC:AC,MATCH(ROWS(AF$15:AF781),AF:AF,0)))","v":""},{"$f":"IF(AD781=\"\",AH780,AH780+IF(COUNTIF($AD$15:AD781,AD781)>1,0,1))","v":0},{"$f":"IF(ROWS($AH$15:AH781)>MAX(AH:AH),\"\",INDEX(AD:AD,MATCH(ROWS($AH$15:AH781),AH:AH,0)))","v":""}]
[null,null,null,null,null,null,null,null,null,null,null,null,null,null,null,null,null,null,null,null,null,null,null,null,null,null,null,768,15,"","",{"$f":"AF781+IF(COUNTIF($AC$15:AC782,AC782)>1,0,1)","v":15},{"$f":"IF(ROWS(AF$15:AF782)>MAX(AF:AF),\"\",INDEX(AC:AC,MATCH(ROWS(AF$15:AF782),AF:AF,0)))","v":""},{"$f":"IF(AD782=\"\",AH781,AH781+IF(COUNTIF($AD$15:AD782,AD782)>1,0,1))","v":0},{"$f":"IF(ROWS($AH$15:AH782)>MAX(AH:AH),\"\",INDEX(AD:AD,MATCH(ROWS($AH$15:AH782),AH:AH,0)))","v":""}]
[null,null,null,null,null,null,null,null,null,null,null,null,null,null,null,null,null,null,null,null,null,null,null,null,null,null,null,769,15,"","",{"$f":"AF782+IF(COUNTIF($AC$15:AC783,AC783)>1,0,1)","v":15},{"$f":"IF(ROWS(AF$15:AF783)>MAX(AF:AF),\"\",INDEX(AC:AC,MATCH(ROWS(AF$15:AF783),AF:AF,0)))","v":""},{"$f":"IF(AD783=\"\",AH782,AH782+IF(COUNTIF($AD$15:AD783,AD783)>1,0,1))","v":0},{"$f":"IF(ROWS($AH$15:AH783)>MAX(AH:AH),\"\",INDEX(AD:AD,MATCH(ROWS($AH$15:AH783),AH:AH,0)))","v":""}]
[null,null,null,null,null,null,null,null,null,null,null,null,null,null,null,null,null,null,null,null,null,null,null,null,null,null,null,770,{"$f":"IF(INDIRECT($AC$1&\"D\"&$AB784+1)=\"\",\"\",INDIRECT($AC$1&\"D\"&$AB784+1))","v":15},{"$f":"IF(AC784=\"\",\"\",IF($E$16=AC784,INDIRECT($AC$1&\"E\"&$AB784+1),\"\"))","v":""},{"$f":"IF(ISBLANK($E$17),\"\",IF($E$17<>AD784,\"\",IF(INDIRECT($AC$1&\"U\"&$AB784+1)=\"Yes\",INDIRECT($AC$1&\"I\"&$AB784+1),\"\")))","v":""},{"$f":"AF783+IF(COUNTIF($AC$15:AC784,AC784)>1,0,1)","v":15},{"$f":"IF(ROWS(AF$15:AF784)>MAX(AF:AF),\"\",INDEX(AC:AC,MATCH(ROWS(AF$15:AF784),AF:AF,0)))","v":""},{"$f":"IF(AD784=\"\",AH783,AH783+IF(COUNTIF($AD$15:AD784,AD784)>1,0,1))","v":0},{"$f":"IF(ROWS($AH$15:AH784)>MAX(AH:AH),\"\",INDEX(AD:AD,MATCH(ROWS($AH$15:AH784),AH:AH,0)))","v":""}]
[null,null,null,null,null,null,null,null,null,null,null,null,null,null,null,null,null,null,null,null,null,null,null,null,null,null,null,{"$f":"AB784+1","v":771},15,"","",{"$f":"AF784+IF(COUNTIF($AC$15:AC785,AC785)>1,0,1)","v":15},{"$f":"IF(ROWS(AF$15:AF785)>MAX(AF:AF),\"\",INDEX(AC:AC,MATCH(ROWS(AF$15:AF785),AF:AF,0)))","v":""},{"$f":"IF(AD785=\"\",AH784,AH784+IF(COUNTIF($AD$15:AD785,AD785)>1,0,1))","v":0},{"$f":"IF(ROWS($AH$15:AH785)>MAX(AH:AH),\"\",INDEX(AD:AD,MATCH(ROWS($AH$15:AH785),AH:AH,0)))","v":""}]
[null,null,null,null,null,null,null,null,null,null,null,null,null,null,null,null,null,null,null,null,null,null,null,null,null,null,null,772,15,"","",{"$f":"AF785+IF(COUNTIF($AC$15:AC786,AC786)>1,0,1)","v":15},{"$f":"IF(ROWS(AF$15:AF786)>MAX(AF:AF),\"\",INDEX(AC:AC,MATCH(ROWS(AF$15:AF786),AF:AF,0)))","v":""},{"$f":"IF(AD786=\"\",AH785,AH785+IF(COUNTIF($AD$15:AD786,AD786)>1,0,1))","v":0},{"$f":"IF(ROWS($AH$15:AH786)>MAX(AH:AH),\"\",INDEX(AD:AD,MATCH(ROWS($AH$15:AH786),AH:AH,0)))","v":""}]
[null,null,null,null,null,null,null,null,null,null,null,null,null,null,null,null,null,null,null,null,null,null,null,null,null,null,null,773,15,"","",{"$f":"AF786+IF(COUNTIF($AC$15:AC787,AC787)>1,0,1)","v":15},{"$f":"IF(ROWS(AF$15:AF787)>MAX(AF:AF),\"\",INDEX(AC:AC,MATCH(ROWS(AF$15:AF787),AF:AF,0)))","v":""},{"$f":"IF(AD787=\"\",AH786,AH786+IF(COUNTIF($AD$15:AD787,AD787)>1,0,1))","v":0},{"$f":"IF(ROWS($AH$15:AH787)>MAX(AH:AH),\"\",INDEX(AD:AD,MATCH(ROWS($AH$15:AH787),AH:AH,0)))","v":""}]
[null,null,null,null,null,null,null,null,null,null,null,null,null,null,null,null,null,null,null,null,null,null,null,null,null,null,null,774,15,"","",{"$f":"AF787+IF(COUNTIF($AC$15:AC788,AC788)>1,0,1)","v":15},{"$f":"IF(ROWS(AF$15:AF788)>MAX(AF:AF),\"\",INDEX(AC:AC,MATCH(ROWS(AF$15:AF788),AF:AF,0)))","v":""},{"$f":"IF(AD788=\"\",AH787,AH787+IF(COUNTIF($AD$15:AD788,AD788)>1,0,1))","v":0},{"$f":"IF(ROWS($AH$15:AH788)>MAX(AH:AH),\"\",INDEX(AD:AD,MATCH(ROWS($AH$15:AH788),AH:AH,0)))","v":""}]
[null,null,null,null,null,null,null,null,null,null,null,null,null,null,null,null,null,null,null,null,null,null,null,null,null,null,null,775,15,"","",{"$f":"AF788+IF(COUNTIF($AC$15:AC789,AC789)>1,0,1)","v":15},{"$f":"IF(ROWS(AF$15:AF789)>MAX(AF:AF),\"\",INDEX(AC:AC,MATCH(ROWS(AF$15:AF789),AF:AF,0)))","v":""},{"$f":"IF(AD789=\"\",AH788,AH788+IF(COUNTIF($AD$15:AD789,AD789)>1,0,1))","v":0},{"$f":"IF(ROWS($AH$15:AH789)>MAX(AH:AH),\"\",INDEX(AD:AD,MATCH(ROWS($AH$15:AH789),AH:AH,0)))","v":""}]
[null,null,null,null,null,null,null,null,null,null,null,null,null,null,null,null,null,null,null,null,null,null,null,null,null,null,null,776,15,"","",{"$f":"AF789+IF(COUNTIF($AC$15:AC790,AC790)>1,0,1)","v":15},{"$f":"IF(ROWS(AF$15:AF790)>MAX(AF:AF),\"\",INDEX(AC:AC,MATCH(ROWS(AF$15:AF790),AF:AF,0)))","v":""},{"$f":"IF(AD790=\"\",AH789,AH789+IF(COUNTIF($AD$15:AD790,AD790)>1,0,1))","v":0},{"$f":"IF(ROWS($AH$15:AH790)>MAX(AH:AH),\"\",INDEX(AD:AD,MATCH(ROWS($AH$15:AH790),AH:AH,0)))","v":""}]
[null,null,null,null,null,null,null,null,null,null,null,null,null,null,null,null,null,null,null,null,null,null,null,null,null,null,null,777,15,"","",{"$f":"AF790+IF(COUNTIF($AC$15:AC791,AC791)>1,0,1)","v":15},{"$f":"IF(ROWS(AF$15:AF791)>MAX(AF:AF),\"\",INDEX(AC:AC,MATCH(ROWS(AF$15:AF791),AF:AF,0)))","v":""},{"$f":"IF(AD791=\"\",AH790,AH790+IF(COUNTIF($AD$15:AD791,AD791)>1,0,1))","v":0},{"$f":"IF(ROWS($AH$15:AH791)>MAX(AH:AH),\"\",INDEX(AD:AD,MATCH(ROWS($AH$15:AH791),AH:AH,0)))","v":""}]
[null,null,null,null,null,null,null,null,null,null,null,null,null,null,null,null,null,null,null,null,null,null,null,null,null,null,null,778,15,"","",{"$f":"AF791+IF(COUNTIF($AC$15:AC792,AC792)>1,0,1)","v":15},{"$f":"IF(ROWS(AF$15:AF792)>MAX(AF:AF),\"\",INDEX(AC:AC,MATCH(ROWS(AF$15:AF792),AF:AF,0)))","v":""},{"$f":"IF(AD792=\"\",AH791,AH791+IF(COUNTIF($AD$15:AD792,AD792)>1,0,1))","v":0},{"$f":"IF(ROWS($AH$15:AH792)>MAX(AH:AH),\"\",INDEX(AD:AD,MATCH(ROWS($AH$15:AH792),AH:AH,0)))","v":""}]
[null,null,null,null,null,null,null,null,null,null,null,null,null,null,null,null,null,null,null,null,null,null,null,null,null,null,null,779,15,"","",{"$f":"AF792+IF(COUNTIF($AC$15:AC793,AC793)>1,0,1)","v":15},{"$f":"IF(ROWS(AF$15:AF793)>MAX(AF:AF),\"\",INDEX(AC:AC,MATCH(ROWS(AF$15:AF793),AF:AF,0)))","v":""},{"$f":"IF(AD793=\"\",AH792,AH792+IF(COUNTIF($AD$15:AD793,AD793)>1,0,1))","v":0},{"$f":"IF(ROWS($AH$15:AH793)>MAX(AH:AH),\"\",INDEX(AD:AD,MATCH(ROWS($AH$15:AH793),AH:AH,0)))","v":""}]
[null,null,null,null,null,null,null,null,null,null,null,null,null,null,null,null,null,null,null,null,null,null,null,null,null,null,null,780,15,"","",{"$f":"AF793+IF(COUNTIF($AC$15:AC794,AC794)>1,0,1)","v":15},{"$f":"IF(ROWS(AF$15:AF794)>MAX(AF:AF),\"\",INDEX(AC:AC,MATCH(ROWS(AF$15:AF794),AF:AF,0)))","v":""},{"$f":"IF(AD794=\"\",AH793,AH793+IF(COUNTIF($AD$15:AD794,AD794)>1,0,1))","v":0},{"$f":"IF(ROWS($AH$15:AH794)>MAX(AH:AH),\"\",INDEX(AD:AD,MATCH(ROWS($AH$15:AH794),AH:AH,0)))","v":""}]
[null,null,null,null,null,null,null,null,null,null,null,null,null,null,null,null,null,null,null,null,null,null,null,null,null,null,null,781,15,"","",{"$f":"AF794+IF(COUNTIF($AC$15:AC795,AC795)>1,0,1)","v":15},{"$f":"IF(ROWS(AF$15:AF795)>MAX(AF:AF),\"\",INDEX(AC:AC,MATCH(ROWS(AF$15:AF795),AF:AF,0)))","v":""},{"$f":"IF(AD795=\"\",AH794,AH794+IF(COUNTIF($AD$15:AD795,AD795)>1,0,1))","v":0},{"$f":"IF(ROWS($AH$15:AH795)>MAX(AH:AH),\"\",INDEX(AD:AD,MATCH(ROWS($AH$15:AH795),AH:AH,0)))","v":""}]
[null,null,null,null,null,null,null,null,null,null,null,null,null,null,null,null,null,null,null,null,null,null,null,null,null,null,null,782,15,"","",{"$f":"AF795+IF(COUNTIF($AC$15:AC796,AC796)>1,0,1)","v":15},{"$f":"IF(ROWS(AF$15:AF796)>MAX(AF:AF),\"\",INDEX(AC:AC,MATCH(ROWS(AF$15:AF796),AF:AF,0)))","v":""},{"$f":"IF(AD796=\"\",AH795,AH795+IF(COUNTIF($AD$15:AD796,AD796)>1,0,1))","v":0},{"$f":"IF(ROWS($AH$15:AH796)>MAX(AH:AH),\"\",INDEX(AD:AD,MATCH(ROWS($AH$15:AH796),AH:AH,0)))","v":""}]
[null,null,null,null,null,null,null,null,null,null,null,null,null,null,null,null,null,null,null,null,null,null,null,null,null,null,null,783,15,"","",{"$f":"AF796+IF(COUNTIF($AC$15:AC797,AC797)>1,0,1)","v":15},{"$f":"IF(ROWS(AF$15:AF797)>MAX(AF:AF),\"\",INDEX(AC:AC,MATCH(ROWS(AF$15:AF797),AF:AF,0)))","v":""},{"$f":"IF(AD797=\"\",AH796,AH796+IF(COUNTIF($AD$15:AD797,AD797)>1,0,1))","v":0},{"$f":"IF(ROWS($AH$15:AH797)>MAX(AH:AH),\"\",INDEX(AD:AD,MATCH(ROWS($AH$15:AH797),AH:AH,0)))","v":""}]
[null,null,null,null,null,null,null,null,null,null,null,null,null,null,null,null,null,null,null,null,null,null,null,null,null,null,null,784,16,"","",{"$f":"AF797+IF(COUNTIF($AC$15:AC798,AC798)>1,0,1)","v":16},{"$f":"IF(ROWS(AF$15:AF798)>MAX(AF:AF),\"\",INDEX(AC:AC,MATCH(ROWS(AF$15:AF798),AF:AF,0)))","v":""},{"$f":"IF(AD798=\"\",AH797,AH797+IF(COUNTIF($AD$15:AD798,AD798)>1,0,1))","v":0},{"$f":"IF(ROWS($AH$15:AH798)>MAX(AH:AH),\"\",INDEX(AD:AD,MATCH(ROWS($AH$15:AH798),AH:AH,0)))","v":""}]
[null,null,null,null,null,null,null,null,null,null,null,null,null,null,null,null,null,null,null,null,null,null,null,null,null,null,null,785,16,"","",{"$f":"AF798+IF(COUNTIF($AC$15:AC799,AC799)>1,0,1)","v":16},{"$f":"IF(ROWS(AF$15:AF799)>MAX(AF:AF),\"\",INDEX(AC:AC,MATCH(ROWS(AF$15:AF799),AF:AF,0)))","v":""},{"$f":"IF(AD799=\"\",AH798,AH798+IF(COUNTIF($AD$15:AD799,AD799)>1,0,1))","v":0},{"$f":"IF(ROWS($AH$15:AH799)>MAX(AH:AH),\"\",INDEX(AD:AD,MATCH(ROWS($AH$15:AH799),AH:AH,0)))","v":""}]
[null,null,null,null,null,null,null,null,null,null,null,null,null,null,null,null,null,null,null,null,null,null,null,null,null,null,null,786,16,"","",{"$f":"AF799+IF(COUNTIF($AC$15:AC800,AC800)>1,0,1)","v":16},{"$f":"IF(ROWS(AF$15:AF800)>MAX(AF:AF),\"\",INDEX(AC:AC,MATCH(ROWS(AF$15:AF800),AF:AF,0)))","v":""},{"$f":"IF(AD800=\"\",AH799,AH799+IF(COUNTIF($AD$15:AD800,AD800)>1,0,1))","v":0},{"$f":"IF(ROWS($AH$15:AH800)>MAX(AH:AH),\"\",INDEX(AD:AD,MATCH(ROWS($AH$15:AH800),AH:AH,0)))","v":""}]
[null,null,null,null,null,null,null,null,null,null,null,null,null,null,null,null,null,null,null,null,null,null,null,null,null,null,null,787,16,"","",{"$f":"AF800+IF(COUNTIF($AC$15:AC801,AC801)>1,0,1)","v":16},{"$f":"IF(ROWS(AF$15:AF801)>MAX(AF:AF),\"\",INDEX(AC:AC,MATCH(ROWS(AF$15:AF801),AF:AF,0)))","v":""},{"$f":"IF(AD801=\"\",AH800,AH800+IF(COUNTIF($AD$15:AD801,AD801)>1,0,1))","v":0},{"$f":"IF(ROWS($AH$15:AH801)>MAX(AH:AH),\"\",INDEX(AD:AD,MATCH(ROWS($AH$15:AH801),AH:AH,0)))","v":""}]
[null,null,null,null,null,null,null,null,null,null,null,null,null,null,null,null,null,null,null,null,null,null,null,null,null,null,null,788,16,"","",{"$f":"AF801+IF(COUNTIF($AC$15:AC802,AC802)>1,0,1)","v":16},{"$f":"IF(ROWS(AF$15:AF802)>MAX(AF:AF),\"\",INDEX(AC:AC,MATCH(ROWS(AF$15:AF802),AF:AF,0)))","v":""},{"$f":"IF(AD802=\"\",AH801,AH801+IF(COUNTIF($AD$15:AD802,AD802)>1,0,1))","v":0},{"$f":"IF(ROWS($AH$15:AH802)>MAX(AH:AH),\"\",INDEX(AD:AD,MATCH(ROWS($AH$15:AH802),AH:AH,0)))","v":""}]
[null,null,null,null,null,null,null,null,null,null,null,null,null,null,null,null,null,null,null,null,null,null,null,null,null,null,null,789,16,"","",{"$f":"AF802+IF(COUNTIF($AC$15:AC803,AC803)>1,0,1)","v":16},{"$f":"IF(ROWS(AF$15:AF803)>MAX(AF:AF),\"\",INDEX(AC:AC,MATCH(ROWS(AF$15:AF803),AF:AF,0)))","v":""},{"$f":"IF(AD803=\"\",AH802,AH802+IF(COUNTIF($AD$15:AD803,AD803)>1,0,1))","v":0},{"$f":"IF(ROWS($AH$15:AH803)>MAX(AH:AH),\"\",INDEX(AD:AD,MATCH(ROWS($AH$15:AH803),AH:AH,0)))","v":""}]
[null,null,null,null,null,null,null,null,null,null,null,null,null,null,null,null,null,null,null,null,null,null,null,null,null,null,null,790,16,"","",{"$f":"AF803+IF(COUNTIF($AC$15:AC804,AC804)>1,0,1)","v":16},{"$f":"IF(ROWS(AF$15:AF804)>MAX(AF:AF),\"\",INDEX(AC:AC,MATCH(ROWS(AF$15:AF804),AF:AF,0)))","v":""},{"$f":"IF(AD804=\"\",AH803,AH803+IF(COUNTIF($AD$15:AD804,AD804)>1,0,1))","v":0},{"$f":"IF(ROWS($AH$15:AH804)>MAX(AH:AH),\"\",INDEX(AD:AD,MATCH(ROWS($AH$15:AH804),AH:AH,0)))","v":""}]
[null,null,null,null,null,null,null,null,null,null,null,null,null,null,null,null,null,null,null,null,null,null,null,null,null,null,null,791,16,"","",{"$f":"AF804+IF(COUNTIF($AC$15:AC805,AC805)>1,0,1)","v":16},{"$f":"IF(ROWS(AF$15:AF805)>MAX(AF:AF),\"\",INDEX(AC:AC,MATCH(ROWS(AF$15:AF805),AF:AF,0)))","v":""},{"$f":"IF(AD805=\"\",AH804,AH804+IF(COUNTIF($AD$15:AD805,AD805)>1,0,1))","v":0},{"$f":"IF(ROWS($AH$15:AH805)>MAX(AH:AH),\"\",INDEX(AD:AD,MATCH(ROWS($AH$15:AH805),AH:AH,0)))","v":""}]
[null,null,null,null,null,null,null,null,null,null,null,null,null,null,null,null,null,null,null,null,null,null,null,null,null,null,null,792,16,"","",{"$f":"AF805+IF(COUNTIF($AC$15:AC806,AC806)>1,0,1)","v":16},{"$f":"IF(ROWS(AF$15:AF806)>MAX(AF:AF),\"\",INDEX(AC:AC,MATCH(ROWS(AF$15:AF806),AF:AF,0)))","v":""},{"$f":"IF(AD806=\"\",AH805,AH805+IF(COUNTIF($AD$15:AD806,AD806)>1,0,1))","v":0},{"$f":"IF(ROWS($AH$15:AH806)>MAX(AH:AH),\"\",INDEX(AD:AD,MATCH(ROWS($AH$15:AH806),AH:AH,0)))","v":""}]
[null,null,null,null,null,null,null,null,null,null,null,null,null,null,null,null,null,null,null,null,null,null,null,null,null,null,null,793,16,"","",{"$f":"AF806+IF(COUNTIF($AC$15:AC807,AC807)>1,0,1)","v":16},{"$f":"IF(ROWS(AF$15:AF807)>MAX(AF:AF),\"\",INDEX(AC:AC,MATCH(ROWS(AF$15:AF807),AF:AF,0)))","v":""},{"$f":"IF(AD807=\"\",AH806,AH806+IF(COUNTIF($AD$15:AD807,AD807)>1,0,1))","v":0},{"$f":"IF(ROWS($AH$15:AH807)>MAX(AH:AH),\"\",INDEX(AD:AD,MATCH(ROWS($AH$15:AH807),AH:AH,0)))","v":""}]
[null,null,null,null,null,null,null,null,null,null,null,null,null,null,null,null,null,null,null,null,null,null,null,null,null,null,null,794,16,"","",{"$f":"AF807+IF(COUNTIF($AC$15:AC808,AC808)>1,0,1)","v":16},{"$f":"IF(ROWS(AF$15:AF808)>MAX(AF:AF),\"\",INDEX(AC:AC,MATCH(ROWS(AF$15:AF808),AF:AF,0)))","v":""},{"$f":"IF(AD808=\"\",AH807,AH807+IF(COUNTIF($AD$15:AD808,AD808)>1,0,1))","v":0},{"$f":"IF(ROWS($AH$15:AH808)>MAX(AH:AH),\"\",INDEX(AD:AD,MATCH(ROWS($AH$15:AH808),AH:AH,0)))","v":""}]
[null,null,null,null,null,null,null,null,null,null,null,null,null,null,null,null,null,null,null,null,null,null,null,null,null,null,null,795,16,"","",{"$f":"AF808+IF(COUNTIF($AC$15:AC809,AC809)>1,0,1)","v":16},{"$f":"IF(ROWS(AF$15:AF809)>MAX(AF:AF),\"\",INDEX(AC:AC,MATCH(ROWS(AF$15:AF809),AF:AF,0)))","v":""},{"$f":"IF(AD809=\"\",AH808,AH808+IF(COUNTIF($AD$15:AD809,AD809)>1,0,1))","v":0},{"$f":"IF(ROWS($AH$15:AH809)>MAX(AH:AH),\"\",INDEX(AD:AD,MATCH(ROWS($AH$15:AH809),AH:AH,0)))","v":""}]
[null,null,null,null,null,null,null,null,null,null,null,null,null,null,null,null,null,null,null,null,null,null,null,null,null,null,null,796,16,"","",{"$f":"AF809+IF(COUNTIF($AC$15:AC810,AC810)>1,0,1)","v":16},{"$f":"IF(ROWS(AF$15:AF810)>MAX(AF:AF),\"\",INDEX(AC:AC,MATCH(ROWS(AF$15:AF810),AF:AF,0)))","v":""},{"$f":"IF(AD810=\"\",AH809,AH809+IF(COUNTIF($AD$15:AD810,AD810)>1,0,1))","v":0},{"$f":"IF(ROWS($AH$15:AH810)>MAX(AH:AH),\"\",INDEX(AD:AD,MATCH(ROWS($AH$15:AH810),AH:AH,0)))","v":""}]
[null,null,null,null,null,null,null,null,null,null,null,null,null,null,null,null,null,null,null,null,null,null,null,null,null,null,null,797,16,"","",{"$f":"AF810+IF(COUNTIF($AC$15:AC811,AC811)>1,0,1)","v":16},{"$f":"IF(ROWS(AF$15:AF811)>MAX(AF:AF),\"\",INDEX(AC:AC,MATCH(ROWS(AF$15:AF811),AF:AF,0)))","v":""},{"$f":"IF(AD811=\"\",AH810,AH810+IF(COUNTIF($AD$15:AD811,AD811)>1,0,1))","v":0},{"$f":"IF(ROWS($AH$15:AH811)>MAX(AH:AH),\"\",INDEX(AD:AD,MATCH(ROWS($AH$15:AH811),AH:AH,0)))","v":""}]
[null,null,null,null,null,null,null,null,null,null,null,null,null,null,null,null,null,null,null,null,null,null,null,null,null,null,null,798,16,"","",{"$f":"AF811+IF(COUNTIF($AC$15:AC812,AC812)>1,0,1)","v":16},{"$f":"IF(ROWS(AF$15:AF812)>MAX(AF:AF),\"\",INDEX(AC:AC,MATCH(ROWS(AF$15:AF812),AF:AF,0)))","v":""},{"$f":"IF(AD812=\"\",AH811,AH811+IF(COUNTIF($AD$15:AD812,AD812)>1,0,1))","v":0},{"$f":"IF(ROWS($AH$15:AH812)>MAX(AH:AH),\"\",INDEX(AD:AD,MATCH(ROWS($AH$15:AH812),AH:AH,0)))","v":""}]
[null,null,null,null,null,null,null,null,null,null,null,null,null,null,null,null,null,null,null,null,null,null,null,null,null,null,null,799,17,"","",{"$f":"AF812+IF(COUNTIF($AC$15:AC813,AC813)>1,0,1)","v":17},{"$f":"IF(ROWS(AF$15:AF813)>MAX(AF:AF),\"\",INDEX(AC:AC,MATCH(ROWS(AF$15:AF813),AF:AF,0)))","v":""},{"$f":"IF(AD813=\"\",AH812,AH812+IF(COUNTIF($AD$15:AD813,AD813)>1,0,1))","v":0},{"$f":"IF(ROWS($AH$15:AH813)>MAX(AH:AH),\"\",INDEX(AD:AD,MATCH(ROWS($AH$15:AH813),AH:AH,0)))","v":""}]
[null,null,null,null,null,null,null,null,null,null,null,null,null,null,null,null,null,null,null,null,null,null,null,null,null,null,null,800,17,"","",{"$f":"AF813+IF(COUNTIF($AC$15:AC814,AC814)>1,0,1)","v":17},{"$f":"IF(ROWS(AF$15:AF814)>MAX(AF:AF),\"\",INDEX(AC:AC,MATCH(ROWS(AF$15:AF814),AF:AF,0)))","v":""},{"$f":"IF(AD814=\"\",AH813,AH813+IF(COUNTIF($AD$15:AD814,AD814)>1,0,1))","v":0},{"$f":"IF(ROWS($AH$15:AH814)>MAX(AH:AH),\"\",INDEX(AD:AD,MATCH(ROWS($AH$15:AH814),AH:AH,0)))","v":""}]
[null,null,null,null,null,null,null,null,null,null,null,null,null,null,null,null,null,null,null,null,null,null,null,null,null,null,null,801,17,"","",{"$f":"AF814+IF(COUNTIF($AC$15:AC815,AC815)>1,0,1)","v":17},{"$f":"IF(ROWS(AF$15:AF815)>MAX(AF:AF),\"\",INDEX(AC:AC,MATCH(ROWS(AF$15:AF815),AF:AF,0)))","v":""},{"$f":"IF(AD815=\"\",AH814,AH814+IF(COUNTIF($AD$15:AD815,AD815)>1,0,1))","v":0},{"$f":"IF(ROWS($AH$15:AH815)>MAX(AH:AH),\"\",INDEX(AD:AD,MATCH(ROWS($AH$15:AH815),AH:AH,0)))","v":""}]
[null,null,null,null,null,null,null,null,null,null,null,null,null,null,null,null,null,null,null,null,null,null,null,null,null,null,null,802,17,"","",{"$f":"AF815+IF(COUNTIF($AC$15:AC816,AC816)>1,0,1)","v":17},{"$f":"IF(ROWS(AF$15:AF816)>MAX(AF:AF),\"\",INDEX(AC:AC,MATCH(ROWS(AF$15:AF816),AF:AF,0)))","v":""},{"$f":"IF(AD816=\"\",AH815,AH815+IF(COUNTIF($AD$15:AD816,AD816)>1,0,1))","v":0},{"$f":"IF(ROWS($AH$15:AH816)>MAX(AH:AH),\"\",INDEX(AD:AD,MATCH(ROWS($AH$15:AH816),AH:AH,0)))","v":""}]
[null,null,null,null,null,null,null,null,null,null,null,null,null,null,null,null,null,null,null,null,null,null,null,null,null,null,null,803,17,"","",{"$f":"AF816+IF(COUNTIF($AC$15:AC817,AC817)>1,0,1)","v":17},{"$f":"IF(ROWS(AF$15:AF817)>MAX(AF:AF),\"\",INDEX(AC:AC,MATCH(ROWS(AF$15:AF817),AF:AF,0)))","v":""},{"$f":"IF(AD817=\"\",AH816,AH816+IF(COUNTIF($AD$15:AD817,AD817)>1,0,1))","v":0},{"$f":"IF(ROWS($AH$15:AH817)>MAX(AH:AH),\"\",INDEX(AD:AD,MATCH(ROWS($AH$15:AH817),AH:AH,0)))","v":""}]
[null,null,null,null,null,null,null,null,null,null,null,null,null,null,null,null,null,null,null,null,null,null,null,null,null,null,null,804,17,"","",{"$f":"AF817+IF(COUNTIF($AC$15:AC818,AC818)>1,0,1)","v":17},{"$f":"IF(ROWS(AF$15:AF818)>MAX(AF:AF),\"\",INDEX(AC:AC,MATCH(ROWS(AF$15:AF818),AF:AF,0)))","v":""},{"$f":"IF(AD818=\"\",AH817,AH817+IF(COUNTIF($AD$15:AD818,AD818)>1,0,1))","v":0},{"$f":"IF(ROWS($AH$15:AH818)>MAX(AH:AH),\"\",INDEX(AD:AD,MATCH(ROWS($AH$15:AH818),AH:AH,0)))","v":""}]
[null,null,null,null,null,null,null,null,null,null,null,null,null,null,null,null,null,null,null,null,null,null,null,null,null,null,null,805,17,"","",{"$f":"AF818+IF(COUNTIF($AC$15:AC819,AC819)>1,0,1)","v":17},{"$f":"IF(ROWS(AF$15:AF819)>MAX(AF:AF),\"\",INDEX(AC:AC,MATCH(ROWS(AF$15:AF819),AF:AF,0)))","v":""},{"$f":"IF(AD819=\"\",AH818,AH818+IF(COUNTIF($AD$15:AD819,AD819)>1,0,1))","v":0},{"$f":"IF(ROWS($AH$15:AH819)>MAX(AH:AH),\"\",INDEX(AD:AD,MATCH(ROWS($AH$15:AH819),AH:AH,0)))","v":""}]
[null,null,null,null,null,null,null,null,null,null,null,null,null,null,null,null,null,null,null,null,null,null,null,null,null,null,null,806,17,"","",{"$f":"AF819+IF(COUNTIF($AC$15:AC820,AC820)>1,0,1)","v":17},{"$f":"IF(ROWS(AF$15:AF820)>MAX(AF:AF),\"\",INDEX(AC:AC,MATCH(ROWS(AF$15:AF820),AF:AF,0)))","v":""},{"$f":"IF(AD820=\"\",AH819,AH819+IF(COUNTIF($AD$15:AD820,AD820)>1,0,1))","v":0},{"$f":"IF(ROWS($AH$15:AH820)>MAX(AH:AH),\"\",INDEX(AD:AD,MATCH(ROWS($AH$15:AH820),AH:AH,0)))","v":""}]
[null,null,null,null,null,null,null,null,null,null,null,null,null,null,null,null,null,null,null,null,null,null,null,null,null,null,null,807,17,"","",{"$f":"AF820+IF(COUNTIF($AC$15:AC821,AC821)>1,0,1)","v":17},{"$f":"IF(ROWS(AF$15:AF821)>MAX(AF:AF),\"\",INDEX(AC:AC,MATCH(ROWS(AF$15:AF821),AF:AF,0)))","v":""},{"$f":"IF(AD821=\"\",AH820,AH820+IF(COUNTIF($AD$15:AD821,AD821)>1,0,1))","v":0},{"$f":"IF(ROWS($AH$15:AH821)>MAX(AH:AH),\"\",INDEX(AD:AD,MATCH(ROWS($AH$15:AH821),AH:AH,0)))","v":""}]
[null,null,null,null,null,null,null,null,null,null,null,null,null,null,null,null,null,null,null,null,null,null,null,null,null,null,null,808,17,"","",{"$f":"AF821+IF(COUNTIF($AC$15:AC822,AC822)>1,0,1)","v":17},{"$f":"IF(ROWS(AF$15:AF822)>MAX(AF:AF),\"\",INDEX(AC:AC,MATCH(ROWS(AF$15:AF822),AF:AF,0)))","v":""},{"$f":"IF(AD822=\"\",AH821,AH821+IF(COUNTIF($AD$15:AD822,AD822)>1,0,1))","v":0},{"$f":"IF(ROWS($AH$15:AH822)>MAX(AH:AH),\"\",INDEX(AD:AD,MATCH(ROWS($AH$15:AH822),AH:AH,0)))","v":""}]
[null,null,null,null,null,null,null,null,null,null,null,null,null,null,null,null,null,null,null,null,null,null,null,null,null,null,null,809,17,"","",{"$f":"AF822+IF(COUNTIF($AC$15:AC823,AC823)>1,0,1)","v":17},{"$f":"IF(ROWS(AF$15:AF823)>MAX(AF:AF),\"\",INDEX(AC:AC,MATCH(ROWS(AF$15:AF823),AF:AF,0)))","v":""},{"$f":"IF(AD823=\"\",AH822,AH822+IF(COUNTIF($AD$15:AD823,AD823)>1,0,1))","v":0},{"$f":"IF(ROWS($AH$15:AH823)>MAX(AH:AH),\"\",INDEX(AD:AD,MATCH(ROWS($AH$15:AH823),AH:AH,0)))","v":""}]
[null,null,null,null,null,null,null,null,null,null,null,null,null,null,null,null,null,null,null,null,null,null,null,null,null,null,null,810,17,"","",{"$f":"AF823+IF(COUNTIF($AC$15:AC824,AC824)>1,0,1)","v":17},{"$f":"IF(ROWS(AF$15:AF824)>MAX(AF:AF),\"\",INDEX(AC:AC,MATCH(ROWS(AF$15:AF824),AF:AF,0)))","v":""},{"$f":"IF(AD824=\"\",AH823,AH823+IF(COUNTIF($AD$15:AD824,AD824)>1,0,1))","v":0},{"$f":"IF(ROWS($AH$15:AH824)>MAX(AH:AH),\"\",INDEX(AD:AD,MATCH(ROWS($AH$15:AH824),AH:AH,0)))","v":""}]
[null,null,null,null,null,null,null,null,null,null,null,null,null,null,null,null,null,null,null,null,null,null,null,null,null,null,null,811,17,"","",{"$f":"AF824+IF(COUNTIF($AC$15:AC825,AC825)>1,0,1)","v":17},{"$f":"IF(ROWS(AF$15:AF825)>MAX(AF:AF),\"\",INDEX(AC:AC,MATCH(ROWS(AF$15:AF825),AF:AF,0)))","v":""},{"$f":"IF(AD825=\"\",AH824,AH824+IF(COUNTIF($AD$15:AD825,AD825)>1,0,1))","v":0},{"$f":"IF(ROWS($AH$15:AH825)>MAX(AH:AH),\"\",INDEX(AD:AD,MATCH(ROWS($AH$15:AH825),AH:AH,0)))","v":""}]
[null,null,null,null,null,null,null,null,null,null,null,null,null,null,null,null,null,null,null,null,null,null,null,null,null,null,null,812,17,"","",{"$f":"AF825+IF(COUNTIF($AC$15:AC826,AC826)>1,0,1)","v":17},{"$f":"IF(ROWS(AF$15:AF826)>MAX(AF:AF),\"\",INDEX(AC:AC,MATCH(ROWS(AF$15:AF826),AF:AF,0)))","v":""},{"$f":"IF(AD826=\"\",AH825,AH825+IF(COUNTIF($AD$15:AD826,AD826)>1,0,1))","v":0},{"$f":"IF(ROWS($AH$15:AH826)>MAX(AH:AH),\"\",INDEX(AD:AD,MATCH(ROWS($AH$15:AH826),AH:AH,0)))","v":""}]
[null,null,null,null,null,null,null,null,null,null,null,null,null,null,null,null,null,null,null,null,null,null,null,null,null,null,null,813,17,"","",{"$f":"AF826+IF(COUNTIF($AC$15:AC827,AC827)>1,0,1)","v":17},{"$f":"IF(ROWS(AF$15:AF827)>MAX(AF:AF),\"\",INDEX(AC:AC,MATCH(ROWS(AF$15:AF827),AF:AF,0)))","v":""},{"$f":"IF(AD827=\"\",AH826,AH826+IF(COUNTIF($AD$15:AD827,AD827)>1,0,1))","v":0},{"$f":"IF(ROWS($AH$15:AH827)>MAX(AH:AH),\"\",INDEX(AD:AD,MATCH(ROWS($AH$15:AH827),AH:AH,0)))","v":""}]
[null,null,null,null,null,null,null,null,null,null,null,null,null,null,null,null,null,null,null,null,null,null,null,null,null,null,null,814,17,"","",{"$f":"AF827+IF(COUNTIF($AC$15:AC828,AC828)>1,0,1)","v":17},{"$f":"IF(ROWS(AF$15:AF828)>MAX(AF:AF),\"\",INDEX(AC:AC,MATCH(ROWS(AF$15:AF828),AF:AF,0)))","v":""},{"$f":"IF(AD828=\"\",AH827,AH827+IF(COUNTIF($AD$15:AD828,AD828)>1,0,1))","v":0},{"$f":"IF(ROWS($AH$15:AH828)>MAX(AH:AH),\"\",INDEX(AD:AD,MATCH(ROWS($AH$15:AH828),AH:AH,0)))","v":""}]
[null,null,null,null,null,null,null,null,null,null,null,null,null,null,null,null,null,null,null,null,null,null,null,null,null,null,null,815,17,"","",{"$f":"AF828+IF(COUNTIF($AC$15:AC829,AC829)>1,0,1)","v":17},{"$f":"IF(ROWS(AF$15:AF829)>MAX(AF:AF),\"\",INDEX(AC:AC,MATCH(ROWS(AF$15:AF829),AF:AF,0)))","v":""},{"$f":"IF(AD829=\"\",AH828,AH828+IF(COUNTIF($AD$15:AD829,AD829)>1,0,1))","v":0},{"$f":"IF(ROWS($AH$15:AH829)>MAX(AH:AH),\"\",INDEX(AD:AD,MATCH(ROWS($AH$15:AH829),AH:AH,0)))","v":""}]
[null,null,null,null,null,null,null,null,null,null,null,null,null,null,null,null,null,null,null,null,null,null,null,null,null,null,null,816,17,"","",{"$f":"AF829+IF(COUNTIF($AC$15:AC830,AC830)>1,0,1)","v":17},{"$f":"IF(ROWS(AF$15:AF830)>MAX(AF:AF),\"\",INDEX(AC:AC,MATCH(ROWS(AF$15:AF830),AF:AF,0)))","v":""},{"$f":"IF(AD830=\"\",AH829,AH829+IF(COUNTIF($AD$15:AD830,AD830)>1,0,1))","v":0},{"$f":"IF(ROWS($AH$15:AH830)>MAX(AH:AH),\"\",INDEX(AD:AD,MATCH(ROWS($AH$15:AH830),AH:AH,0)))","v":""}]
[null,null,null,null,null,null,null,null,null,null,null,null,null,null,null,null,null,null,null,null,null,null,null,null,null,null,null,817,17,"","",{"$f":"AF830+IF(COUNTIF($AC$15:AC831,AC831)>1,0,1)","v":17},{"$f":"IF(ROWS(AF$15:AF831)>MAX(AF:AF),\"\",INDEX(AC:AC,MATCH(ROWS(AF$15:AF831),AF:AF,0)))","v":""},{"$f":"IF(AD831=\"\",AH830,AH830+IF(COUNTIF($AD$15:AD831,AD831)>1,0,1))","v":0},{"$f":"IF(ROWS($AH$15:AH831)>MAX(AH:AH),\"\",INDEX(AD:AD,MATCH(ROWS($AH$15:AH831),AH:AH,0)))","v":""}]
[null,null,null,null,null,null,null,null,null,null,null,null,null,null,null,null,null,null,null,null,null,null,null,null,null,null,null,818,17,"","",{"$f":"AF831+IF(COUNTIF($AC$15:AC832,AC832)>1,0,1)","v":17},{"$f":"IF(ROWS(AF$15:AF832)>MAX(AF:AF),\"\",INDEX(AC:AC,MATCH(ROWS(AF$15:AF832),AF:AF,0)))","v":""},{"$f":"IF(AD832=\"\",AH831,AH831+IF(COUNTIF($AD$15:AD832,AD832)>1,0,1))","v":0},{"$f":"IF(ROWS($AH$15:AH832)>MAX(AH:AH),\"\",INDEX(AD:AD,MATCH(ROWS($AH$15:AH832),AH:AH,0)))","v":""}]
[null,null,null,null,null,null,null,null,null,null,null,null,null,null,null,null,null,null,null,null,null,null,null,null,null,null,null,819,17,"","",{"$f":"AF832+IF(COUNTIF($AC$15:AC833,AC833)>1,0,1)","v":17},{"$f":"IF(ROWS(AF$15:AF833)>MAX(AF:AF),\"\",INDEX(AC:AC,MATCH(ROWS(AF$15:AF833),AF:AF,0)))","v":""},{"$f":"IF(AD833=\"\",AH832,AH832+IF(COUNTIF($AD$15:AD833,AD833)>1,0,1))","v":0},{"$f":"IF(ROWS($AH$15:AH833)>MAX(AH:AH),\"\",INDEX(AD:AD,MATCH(ROWS($AH$15:AH833),AH:AH,0)))","v":""}]
[null,null,null,null,null,null,null,null,null,null,null,null,null,null,null,null,null,null,null,null,null,null,null,null,null,null,null,820,17,"","",{"$f":"AF833+IF(COUNTIF($AC$15:AC834,AC834)>1,0,1)","v":17},{"$f":"IF(ROWS(AF$15:AF834)>MAX(AF:AF),\"\",INDEX(AC:AC,MATCH(ROWS(AF$15:AF834),AF:AF,0)))","v":""},{"$f":"IF(AD834=\"\",AH833,AH833+IF(COUNTIF($AD$15:AD834,AD834)>1,0,1))","v":0},{"$f":"IF(ROWS($AH$15:AH834)>MAX(AH:AH),\"\",INDEX(AD:AD,MATCH(ROWS($AH$15:AH834),AH:AH,0)))","v":""}]
[null,null,null,null,null,null,null,null,null,null,null,null,null,null,null,null,null,null,null,null,null,null,null,null,null,null,null,821,17,"","",{"$f":"AF834+IF(COUNTIF($AC$15:AC835,AC835)>1,0,1)","v":17},{"$f":"IF(ROWS(AF$15:AF835)>MAX(AF:AF),\"\",INDEX(AC:AC,MATCH(ROWS(AF$15:AF835),AF:AF,0)))","v":""},{"$f":"IF(AD835=\"\",AH834,AH834+IF(COUNTIF($AD$15:AD835,AD835)>1,0,1))","v":0},{"$f":"IF(ROWS($AH$15:AH835)>MAX(AH:AH),\"\",INDEX(AD:AD,MATCH(ROWS($AH$15:AH835),AH:AH,0)))","v":""}]
[null,null,null,null,null,null,null,null,null,null,null,null,null,null,null,null,null,null,null,null,null,null,null,null,null,null,null,822,17,"","",{"$f":"AF835+IF(COUNTIF($AC$15:AC836,AC836)>1,0,1)","v":17},{"$f":"IF(ROWS(AF$15:AF836)>MAX(AF:AF),\"\",INDEX(AC:AC,MATCH(ROWS(AF$15:AF836),AF:AF,0)))","v":""},{"$f":"IF(AD836=\"\",AH835,AH835+IF(COUNTIF($AD$15:AD836,AD836)>1,0,1))","v":0},{"$f":"IF(ROWS($AH$15:AH836)>MAX(AH:AH),\"\",INDEX(AD:AD,MATCH(ROWS($AH$15:AH836),AH:AH,0)))","v":""}]
[null,null,null,null,null,null,null,null,null,null,null,null,null,null,null,null,null,null,null,null,null,null,null,null,null,null,null,823,17,"","",{"$f":"AF836+IF(COUNTIF($AC$15:AC837,AC837)>1,0,1)","v":17},{"$f":"IF(ROWS(AF$15:AF837)>MAX(AF:AF),\"\",INDEX(AC:AC,MATCH(ROWS(AF$15:AF837),AF:AF,0)))","v":""},{"$f":"IF(AD837=\"\",AH836,AH836+IF(COUNTIF($AD$15:AD837,AD837)>1,0,1))","v":0},{"$f":"IF(ROWS($AH$15:AH837)>MAX(AH:AH),\"\",INDEX(AD:AD,MATCH(ROWS($AH$15:AH837),AH:AH,0)))","v":""}]
[null,null,null,null,null,null,null,null,null,null,null,null,null,null,null,null,null,null,null,null,null,null,null,null,null,null,null,824,17,"","",{"$f":"AF837+IF(COUNTIF($AC$15:AC838,AC838)>1,0,1)","v":17},{"$f":"IF(ROWS(AF$15:AF838)>MAX(AF:AF),\"\",INDEX(AC:AC,MATCH(ROWS(AF$15:AF838),AF:AF,0)))","v":""},{"$f":"IF(AD838=\"\",AH837,AH837+IF(COUNTIF($AD$15:AD838,AD838)>1,0,1))","v":0},{"$f":"IF(ROWS($AH$15:AH838)>MAX(AH:AH),\"\",INDEX(AD:AD,MATCH(ROWS($AH$15:AH838),AH:AH,0)))","v":""}]
[null,null,null,null,null,null,null,null,null,null,null,null,null,null,null,null,null,null,null,null,null,null,null,null,null,null,null,825,17,"","",{"$f":"AF838+IF(COUNTIF($AC$15:AC839,AC839)>1,0,1)","v":17},{"$f":"IF(ROWS(AF$15:AF839)>MAX(AF:AF),\"\",INDEX(AC:AC,MATCH(ROWS(AF$15:AF839),AF:AF,0)))","v":""},{"$f":"IF(AD839=\"\",AH838,AH838+IF(COUNTIF($AD$15:AD839,AD839)>1,0,1))","v":0},{"$f":"IF(ROWS($AH$15:AH839)>MAX(AH:AH),\"\",INDEX(AD:AD,MATCH(ROWS($AH$15:AH839),AH:AH,0)))","v":""}]
[null,null,null,null,null,null,null,null,null,null,null,null,null,null,null,null,null,null,null,null,null,null,null,null,null,null,null,826,17,"","",{"$f":"AF839+IF(COUNTIF($AC$15:AC840,AC840)>1,0,1)","v":17},{"$f":"IF(ROWS(AF$15:AF840)>MAX(AF:AF),\"\",INDEX(AC:AC,MATCH(ROWS(AF$15:AF840),AF:AF,0)))","v":""},{"$f":"IF(AD840=\"\",AH839,AH839+IF(COUNTIF($AD$15:AD840,AD840)>1,0,1))","v":0},{"$f":"IF(ROWS($AH$15:AH840)>MAX(AH:AH),\"\",INDEX(AD:AD,MATCH(ROWS($AH$15:AH840),AH:AH,0)))","v":""}]
[null,null,null,null,null,null,null,null,null,null,null,null,null,null,null,null,null,null,null,null,null,null,null,null,null,null,null,827,17,"","",{"$f":"AF840+IF(COUNTIF($AC$15:AC841,AC841)>1,0,1)","v":17},{"$f":"IF(ROWS(AF$15:AF841)>MAX(AF:AF),\"\",INDEX(AC:AC,MATCH(ROWS(AF$15:AF841),AF:AF,0)))","v":""},{"$f":"IF(AD841=\"\",AH840,AH840+IF(COUNTIF($AD$15:AD841,AD841)>1,0,1))","v":0},{"$f":"IF(ROWS($AH$15:AH841)>MAX(AH:AH),\"\",INDEX(AD:AD,MATCH(ROWS($AH$15:AH841),AH:AH,0)))","v":""}]
[null,null,null,null,null,null,null,null,null,null,null,null,null,null,null,null,null,null,null,null,null,null,null,null,null,null,null,828,17,"","",{"$f":"AF841+IF(COUNTIF($AC$15:AC842,AC842)>1,0,1)","v":17},{"$f":"IF(ROWS(AF$15:AF842)>MAX(AF:AF),\"\",INDEX(AC:AC,MATCH(ROWS(AF$15:AF842),AF:AF,0)))","v":""},{"$f":"IF(AD842=\"\",AH841,AH841+IF(COUNTIF($AD$15:AD842,AD842)>1,0,1))","v":0},{"$f":"IF(ROWS($AH$15:AH842)>MAX(AH:AH),\"\",INDEX(AD:AD,MATCH(ROWS($AH$15:AH842),AH:AH,0)))","v":""}]
[null,null,null,null,null,null,null,null,null,null,null,null,null,null,null,null,null,null,null,null,null,null,null,null,null,null,null,829,18,"","",{"$f":"AF842+IF(COUNTIF($AC$15:AC843,AC843)>1,0,1)","v":18},{"$f":"IF(ROWS(AF$15:AF843)>MAX(AF:AF),\"\",INDEX(AC:AC,MATCH(ROWS(AF$15:AF843),AF:AF,0)))","v":""},{"$f":"IF(AD843=\"\",AH842,AH842+IF(COUNTIF($AD$15:AD843,AD843)>1,0,1))","v":0},{"$f":"IF(ROWS($AH$15:AH843)>MAX(AH:AH),\"\",INDEX(AD:AD,MATCH(ROWS($AH$15:AH843),AH:AH,0)))","v":""}]
[null,null,null,null,null,null,null,null,null,null,null,null,null,null,null,null,null,null,null,null,null,null,null,null,null,null,null,830,18,"","",{"$f":"AF843+IF(COUNTIF($AC$15:AC844,AC844)>1,0,1)","v":18},{"$f":"IF(ROWS(AF$15:AF844)>MAX(AF:AF),\"\",INDEX(AC:AC,MATCH(ROWS(AF$15:AF844),AF:AF,0)))","v":""},{"$f":"IF(AD844=\"\",AH843,AH843+IF(COUNTIF($AD$15:AD844,AD844)>1,0,1))","v":0},{"$f":"IF(ROWS($AH$15:AH844)>MAX(AH:AH),\"\",INDEX(AD:AD,MATCH(ROWS($AH$15:AH844),AH:AH,0)))","v":""}]
[null,null,null,null,null,null,null,null,null,null,null,null,null,null,null,null,null,null,null,null,null,null,null,null,null,null,null,831,18,"","",{"$f":"AF844+IF(COUNTIF($AC$15:AC845,AC845)>1,0,1)","v":18},{"$f":"IF(ROWS(AF$15:AF845)>MAX(AF:AF),\"\",INDEX(AC:AC,MATCH(ROWS(AF$15:AF845),AF:AF,0)))","v":""},{"$f":"IF(AD845=\"\",AH844,AH844+IF(COUNTIF($AD$15:AD845,AD845)>1,0,1))","v":0},{"$f":"IF(ROWS($AH$15:AH845)>MAX(AH:AH),\"\",INDEX(AD:AD,MATCH(ROWS($AH$15:AH845),AH:AH,0)))","v":""}]
[null,null,null,null,null,null,null,null,null,null,null,null,null,null,null,null,null,null,null,null,null,null,null,null,null,null,null,832,18,"","",{"$f":"AF845+IF(COUNTIF($AC$15:AC846,AC846)>1,0,1)","v":18},{"$f":"IF(ROWS(AF$15:AF846)>MAX(AF:AF),\"\",INDEX(AC:AC,MATCH(ROWS(AF$15:AF846),AF:AF,0)))","v":""},{"$f":"IF(AD846=\"\",AH845,AH845+IF(COUNTIF($AD$15:AD846,AD846)>1,0,1))","v":0},{"$f":"IF(ROWS($AH$15:AH846)>MAX(AH:AH),\"\",INDEX(AD:AD,MATCH(ROWS($AH$15:AH846),AH:AH,0)))","v":""}]
[null,null,null,null,null,null,null,null,null,null,null,null,null,null,null,null,null,null,null,null,null,null,null,null,null,null,null,833,18,"","",{"$f":"AF846+IF(COUNTIF($AC$15:AC847,AC847)>1,0,1)","v":18},{"$f":"IF(ROWS(AF$15:AF847)>MAX(AF:AF),\"\",INDEX(AC:AC,MATCH(ROWS(AF$15:AF847),AF:AF,0)))","v":""},{"$f":"IF(AD847=\"\",AH846,AH846+IF(COUNTIF($AD$15:AD847,AD847)>1,0,1))","v":0},{"$f":"IF(ROWS($AH$15:AH847)>MAX(AH:AH),\"\",INDEX(AD:AD,MATCH(ROWS($AH$15:AH847),AH:AH,0)))","v":""}]
[null,null,null,null,null,null,null,null,null,null,null,null,null,null,null,null,null,null,null,null,null,null,null,null,null,null,null,834,{"$f":"IF(INDIRECT($AC$1&\"D\"&$AB848+1)=\"\",\"\",INDIRECT($AC$1&\"D\"&$AB848+1))","v":18},{"$f":"IF(AC848=\"\",\"\",IF($E$16=AC848,INDIRECT($AC$1&\"E\"&$AB848+1),\"\"))","v":""},{"$f":"IF(ISBLANK($E$17),\"\",IF($E$17<>AD848,\"\",IF(INDIRECT($AC$1&\"U\"&$AB848+1)=\"Yes\",INDIRECT($AC$1&\"I\"&$AB848+1),\"\")))","v":""},{"$f":"AF847+IF(COUNTIF($AC$15:AC848,AC848)>1,0,1)","v":18},{"$f":"IF(ROWS(AF$15:AF848)>MAX(AF:AF),\"\",INDEX(AC:AC,MATCH(ROWS(AF$15:AF848),AF:AF,0)))","v":""},{"$f":"IF(AD848=\"\",AH847,AH847+IF(COUNTIF($AD$15:AD848,AD848)>1,0,1))","v":0},{"$f":"IF(ROWS($AH$15:AH848)>MAX(AH:AH),\"\",INDEX(AD:AD,MATCH(ROWS($AH$15:AH848),AH:AH,0)))","v":""}]
[null,null,null,null,null,null,null,null,null,null,null,null,null,null,null,null,null,null,null,null,null,null,null,null,null,null,null,{"$f":"AB848+1","v":835},18,"","",{"$f":"AF848+IF(COUNTIF($AC$15:AC849,AC849)>1,0,1)","v":18},{"$f":"IF(ROWS(AF$15:AF849)>MAX(AF:AF),\"\",INDEX(AC:AC,MATCH(ROWS(AF$15:AF849),AF:AF,0)))","v":""},{"$f":"IF(AD849=\"\",AH848,AH848+IF(COUNTIF($AD$15:AD849,AD849)>1,0,1))","v":0},{"$f":"IF(ROWS($AH$15:AH849)>MAX(AH:AH),\"\",INDEX(AD:AD,MATCH(ROWS($AH$15:AH849),AH:AH,0)))","v":""}]
[null,null,null,null,null,null,null,null,null,null,null,null,null,null,null,null,null,null,null,null,null,null,null,null,null,null,null,836,18,"","",{"$f":"AF849+IF(COUNTIF($AC$15:AC850,AC850)>1,0,1)","v":18},{"$f":"IF(ROWS(AF$15:AF850)>MAX(AF:AF),\"\",INDEX(AC:AC,MATCH(ROWS(AF$15:AF850),AF:AF,0)))","v":""},{"$f":"IF(AD850=\"\",AH849,AH849+IF(COUNTIF($AD$15:AD850,AD850)>1,0,1))","v":0},{"$f":"IF(ROWS($AH$15:AH850)>MAX(AH:AH),\"\",INDEX(AD:AD,MATCH(ROWS($AH$15:AH850),AH:AH,0)))","v":""}]
[null,null,null,null,null,null,null,null,null,null,null,null,null,null,null,null,null,null,null,null,null,null,null,null,null,null,null,837,18,"","",{"$f":"AF850+IF(COUNTIF($AC$15:AC851,AC851)>1,0,1)","v":18},{"$f":"IF(ROWS(AF$15:AF851)>MAX(AF:AF),\"\",INDEX(AC:AC,MATCH(ROWS(AF$15:AF851),AF:AF,0)))","v":""},{"$f":"IF(AD851=\"\",AH850,AH850+IF(COUNTIF($AD$15:AD851,AD851)>1,0,1))","v":0},{"$f":"IF(ROWS($AH$15:AH851)>MAX(AH:AH),\"\",INDEX(AD:AD,MATCH(ROWS($AH$15:AH851),AH:AH,0)))","v":""}]
[null,null,null,null,null,null,null,null,null,null,null,null,null,null,null,null,null,null,null,null,null,null,null,null,null,null,null,838,18,"","",{"$f":"AF851+IF(COUNTIF($AC$15:AC852,AC852)>1,0,1)","v":18},{"$f":"IF(ROWS(AF$15:AF852)>MAX(AF:AF),\"\",INDEX(AC:AC,MATCH(ROWS(AF$15:AF852),AF:AF,0)))","v":""},{"$f":"IF(AD852=\"\",AH851,AH851+IF(COUNTIF($AD$15:AD852,AD852)>1,0,1))","v":0},{"$f":"IF(ROWS($AH$15:AH852)>MAX(AH:AH),\"\",INDEX(AD:AD,MATCH(ROWS($AH$15:AH852),AH:AH,0)))","v":""}]
[null,null,null,null,null,null,null,null,null,null,null,null,null,null,null,null,null,null,null,null,null,null,null,null,null,null,null,839,18,"","",{"$f":"AF852+IF(COUNTIF($AC$15:AC853,AC853)>1,0,1)","v":18},{"$f":"IF(ROWS(AF$15:AF853)>MAX(AF:AF),\"\",INDEX(AC:AC,MATCH(ROWS(AF$15:AF853),AF:AF,0)))","v":""},{"$f":"IF(AD853=\"\",AH852,AH852+IF(COUNTIF($AD$15:AD853,AD853)>1,0,1))","v":0},{"$f":"IF(ROWS($AH$15:AH853)>MAX(AH:AH),\"\",INDEX(AD:AD,MATCH(ROWS($AH$15:AH853),AH:AH,0)))","v":""}]
[null,null,null,null,null,null,null,null,null,null,null,null,null,null,null,null,null,null,null,null,null,null,null,null,null,null,null,840,18,"","",{"$f":"AF853+IF(COUNTIF($AC$15:AC854,AC854)>1,0,1)","v":18},{"$f":"IF(ROWS(AF$15:AF854)>MAX(AF:AF),\"\",INDEX(AC:AC,MATCH(ROWS(AF$15:AF854),AF:AF,0)))","v":""},{"$f":"IF(AD854=\"\",AH853,AH853+IF(COUNTIF($AD$15:AD854,AD854)>1,0,1))","v":0},{"$f":"IF(ROWS($AH$15:AH854)>MAX(AH:AH),\"\",INDEX(AD:AD,MATCH(ROWS($AH$15:AH854),AH:AH,0)))","v":""}]
[null,null,null,null,null,null,null,null,null,null,null,null,null,null,null,null,null,null,null,null,null,null,null,null,null,null,null,841,18,"","",{"$f":"AF854+IF(COUNTIF($AC$15:AC855,AC855)>1,0,1)","v":18},{"$f":"IF(ROWS(AF$15:AF855)>MAX(AF:AF),\"\",INDEX(AC:AC,MATCH(ROWS(AF$15:AF855),AF:AF,0)))","v":""},{"$f":"IF(AD855=\"\",AH854,AH854+IF(COUNTIF($AD$15:AD855,AD855)>1,0,1))","v":0},{"$f":"IF(ROWS($AH$15:AH855)>MAX(AH:AH),\"\",INDEX(AD:AD,MATCH(ROWS($AH$15:AH855),AH:AH,0)))","v":""}]
[null,null,null,null,null,null,null,null,null,null,null,null,null,null,null,null,null,null,null,null,null,null,null,null,null,null,null,842,18,"","",{"$f":"AF855+IF(COUNTIF($AC$15:AC856,AC856)>1,0,1)","v":18},{"$f":"IF(ROWS(AF$15:AF856)>MAX(AF:AF),\"\",INDEX(AC:AC,MATCH(ROWS(AF$15:AF856),AF:AF,0)))","v":""},{"$f":"IF(AD856=\"\",AH855,AH855+IF(COUNTIF($AD$15:AD856,AD856)>1,0,1))","v":0},{"$f":"IF(ROWS($AH$15:AH856)>MAX(AH:AH),\"\",INDEX(AD:AD,MATCH(ROWS($AH$15:AH856),AH:AH,0)))","v":""}]
[null,null,null,null,null,null,null,null,null,null,null,null,null,null,null,null,null,null,null,null,null,null,null,null,null,null,null,843,18,"","",{"$f":"AF856+IF(COUNTIF($AC$15:AC857,AC857)>1,0,1)","v":18},{"$f":"IF(ROWS(AF$15:AF857)>MAX(AF:AF),\"\",INDEX(AC:AC,MATCH(ROWS(AF$15:AF857),AF:AF,0)))","v":""},{"$f":"IF(AD857=\"\",AH856,AH856+IF(COUNTIF($AD$15:AD857,AD857)>1,0,1))","v":0},{"$f":"IF(ROWS($AH$15:AH857)>MAX(AH:AH),\"\",INDEX(AD:AD,MATCH(ROWS($AH$15:AH857),AH:AH,0)))","v":""}]
[null,null,null,null,null,null,null,null,null,null,null,null,null,null,null,null,null,null,null,null,null,null,null,null,null,null,null,844,18,"","",{"$f":"AF857+IF(COUNTIF($AC$15:AC858,AC858)>1,0,1)","v":18},{"$f":"IF(ROWS(AF$15:AF858)>MAX(AF:AF),\"\",INDEX(AC:AC,MATCH(ROWS(AF$15:AF858),AF:AF,0)))","v":""},{"$f":"IF(AD858=\"\",AH857,AH857+IF(COUNTIF($AD$15:AD858,AD858)>1,0,1))","v":0},{"$f":"IF(ROWS($AH$15:AH858)>MAX(AH:AH),\"\",INDEX(AD:AD,MATCH(ROWS($AH$15:AH858),AH:AH,0)))","v":""}]
[null,null,null,null,null,null,null,null,null,null,null,null,null,null,null,null,null,null,null,null,null,null,null,null,null,null,null,845,18,"","",{"$f":"AF858+IF(COUNTIF($AC$15:AC859,AC859)>1,0,1)","v":18},{"$f":"IF(ROWS(AF$15:AF859)>MAX(AF:AF),\"\",INDEX(AC:AC,MATCH(ROWS(AF$15:AF859),AF:AF,0)))","v":""},{"$f":"IF(AD859=\"\",AH858,AH858+IF(COUNTIF($AD$15:AD859,AD859)>1,0,1))","v":0},{"$f":"IF(ROWS($AH$15:AH859)>MAX(AH:AH),\"\",INDEX(AD:AD,MATCH(ROWS($AH$15:AH859),AH:AH,0)))","v":""}]
[null,null,null,null,null,null,null,null,null,null,null,null,null,null,null,null,null,null,null,null,null,null,null,null,null,null,null,846,18,"","",{"$f":"AF859+IF(COUNTIF($AC$15:AC860,AC860)>1,0,1)","v":18},{"$f":"IF(ROWS(AF$15:AF860)>MAX(AF:AF),\"\",INDEX(AC:AC,MATCH(ROWS(AF$15:AF860),AF:AF,0)))","v":""},{"$f":"IF(AD860=\"\",AH859,AH859+IF(COUNTIF($AD$15:AD860,AD860)>1,0,1))","v":0},{"$f":"IF(ROWS($AH$15:AH860)>MAX(AH:AH),\"\",INDEX(AD:AD,MATCH(ROWS($AH$15:AH860),AH:AH,0)))","v":""}]
[null,null,null,null,null,null,null,null,null,null,null,null,null,null,null,null,null,null,null,null,null,null,null,null,null,null,null,847,19,"","",{"$f":"AF860+IF(COUNTIF($AC$15:AC861,AC861)>1,0,1)","v":19},{"$f":"IF(ROWS(AF$15:AF861)>MAX(AF:AF),\"\",INDEX(AC:AC,MATCH(ROWS(AF$15:AF861),AF:AF,0)))","v":""},{"$f":"IF(AD861=\"\",AH860,AH860+IF(COUNTIF($AD$15:AD861,AD861)>1,0,1))","v":0},{"$f":"IF(ROWS($AH$15:AH861)>MAX(AH:AH),\"\",INDEX(AD:AD,MATCH(ROWS($AH$15:AH861),AH:AH,0)))","v":""}]
[null,null,null,null,null,null,null,null,null,null,null,null,null,null,null,null,null,null,null,null,null,null,null,null,null,null,null,848,19,"","",{"$f":"AF861+IF(COUNTIF($AC$15:AC862,AC862)>1,0,1)","v":19},{"$f":"IF(ROWS(AF$15:AF862)>MAX(AF:AF),\"\",INDEX(AC:AC,MATCH(ROWS(AF$15:AF862),AF:AF,0)))","v":""},{"$f":"IF(AD862=\"\",AH861,AH861+IF(COUNTIF($AD$15:AD862,AD862)>1,0,1))","v":0},{"$f":"IF(ROWS($AH$15:AH862)>MAX(AH:AH),\"\",INDEX(AD:AD,MATCH(ROWS($AH$15:AH862),AH:AH,0)))","v":""}]
[null,null,null,null,null,null,null,null,null,null,null,null,null,null,null,null,null,null,null,null,null,null,null,null,null,null,null,849,19,"","",{"$f":"AF862+IF(COUNTIF($AC$15:AC863,AC863)>1,0,1)","v":19},{"$f":"IF(ROWS(AF$15:AF863)>MAX(AF:AF),\"\",INDEX(AC:AC,MATCH(ROWS(AF$15:AF863),AF:AF,0)))","v":""},{"$f":"IF(AD863=\"\",AH862,AH862+IF(COUNTIF($AD$15:AD863,AD863)>1,0,1))","v":0},{"$f":"IF(ROWS($AH$15:AH863)>MAX(AH:AH),\"\",INDEX(AD:AD,MATCH(ROWS($AH$15:AH863),AH:AH,0)))","v":""}]
[null,null,null,null,null,null,null,null,null,null,null,null,null,null,null,null,null,null,null,null,null,null,null,null,null,null,null,850,19,"","",{"$f":"AF863+IF(COUNTIF($AC$15:AC864,AC864)>1,0,1)","v":19},{"$f":"IF(ROWS(AF$15:AF864)>MAX(AF:AF),\"\",INDEX(AC:AC,MATCH(ROWS(AF$15:AF864),AF:AF,0)))","v":""},{"$f":"IF(AD864=\"\",AH863,AH863+IF(COUNTIF($AD$15:AD864,AD864)>1,0,1))","v":0},{"$f":"IF(ROWS($AH$15:AH864)>MAX(AH:AH),\"\",INDEX(AD:AD,MATCH(ROWS($AH$15:AH864),AH:AH,0)))","v":""}]
[null,null,null,null,null,null,null,null,null,null,null,null,null,null,null,null,null,null,null,null,null,null,null,null,null,null,null,851,19,"","",{"$f":"AF864+IF(COUNTIF($AC$15:AC865,AC865)>1,0,1)","v":19},{"$f":"IF(ROWS(AF$15:AF865)>MAX(AF:AF),\"\",INDEX(AC:AC,MATCH(ROWS(AF$15:AF865),AF:AF,0)))","v":""},{"$f":"IF(AD865=\"\",AH864,AH864+IF(COUNTIF($AD$15:AD865,AD865)>1,0,1))","v":0},{"$f":"IF(ROWS($AH$15:AH865)>MAX(AH:AH),\"\",INDEX(AD:AD,MATCH(ROWS($AH$15:AH865),AH:AH,0)))","v":""}]
[null,null,null,null,null,null,null,null,null,null,null,null,null,null,null,null,null,null,null,null,null,null,null,null,null,null,null,852,19,"","",{"$f":"AF865+IF(COUNTIF($AC$15:AC866,AC866)>1,0,1)","v":19},{"$f":"IF(ROWS(AF$15:AF866)>MAX(AF:AF),\"\",INDEX(AC:AC,MATCH(ROWS(AF$15:AF866),AF:AF,0)))","v":""},{"$f":"IF(AD866=\"\",AH865,AH865+IF(COUNTIF($AD$15:AD866,AD866)>1,0,1))","v":0},{"$f":"IF(ROWS($AH$15:AH866)>MAX(AH:AH),\"\",INDEX(AD:AD,MATCH(ROWS($AH$15:AH866),AH:AH,0)))","v":""}]
[null,null,null,null,null,null,null,null,null,null,null,null,null,null,null,null,null,null,null,null,null,null,null,null,null,null,null,853,19,"","",{"$f":"AF866+IF(COUNTIF($AC$15:AC867,AC867)>1,0,1)","v":19},{"$f":"IF(ROWS(AF$15:AF867)>MAX(AF:AF),\"\",INDEX(AC:AC,MATCH(ROWS(AF$15:AF867),AF:AF,0)))","v":""},{"$f":"IF(AD867=\"\",AH866,AH866+IF(COUNTIF($AD$15:AD867,AD867)>1,0,1))","v":0},{"$f":"IF(ROWS($AH$15:AH867)>MAX(AH:AH),\"\",INDEX(AD:AD,MATCH(ROWS($AH$15:AH867),AH:AH,0)))","v":""}]
[null,null,null,null,null,null,null,null,null,null,null,null,null,null,null,null,null,null,null,null,null,null,null,null,null,null,null,854,19,"","",{"$f":"AF867+IF(COUNTIF($AC$15:AC868,AC868)>1,0,1)","v":19},{"$f":"IF(ROWS(AF$15:AF868)>MAX(AF:AF),\"\",INDEX(AC:AC,MATCH(ROWS(AF$15:AF868),AF:AF,0)))","v":""},{"$f":"IF(AD868=\"\",AH867,AH867+IF(COUNTIF($AD$15:AD868,AD868)>1,0,1))","v":0},{"$f":"IF(ROWS($AH$15:AH868)>MAX(AH:AH),\"\",INDEX(AD:AD,MATCH(ROWS($AH$15:AH868),AH:AH,0)))","v":""}]
[null,null,null,null,null,null,null,null,null,null,null,null,null,null,null,null,null,null,null,null,null,null,null,null,null,null,null,855,19,"","",{"$f":"AF868+IF(COUNTIF($AC$15:AC869,AC869)>1,0,1)","v":19},{"$f":"IF(ROWS(AF$15:AF869)>MAX(AF:AF),\"\",INDEX(AC:AC,MATCH(ROWS(AF$15:AF869),AF:AF,0)))","v":""},{"$f":"IF(AD869=\"\",AH868,AH868+IF(COUNTIF($AD$15:AD869,AD869)>1,0,1))","v":0},{"$f":"IF(ROWS($AH$15:AH869)>MAX(AH:AH),\"\",INDEX(AD:AD,MATCH(ROWS($AH$15:AH869),AH:AH,0)))","v":""}]
[null,null,null,null,null,null,null,null,null,null,null,null,null,null,null,null,null,null,null,null,null,null,null,null,null,null,null,856,19,"","",{"$f":"AF869+IF(COUNTIF($AC$15:AC870,AC870)>1,0,1)","v":19},{"$f":"IF(ROWS(AF$15:AF870)>MAX(AF:AF),\"\",INDEX(AC:AC,MATCH(ROWS(AF$15:AF870),AF:AF,0)))","v":""},{"$f":"IF(AD870=\"\",AH869,AH869+IF(COUNTIF($AD$15:AD870,AD870)>1,0,1))","v":0},{"$f":"IF(ROWS($AH$15:AH870)>MAX(AH:AH),\"\",INDEX(AD:AD,MATCH(ROWS($AH$15:AH870),AH:AH,0)))","v":""}]
[null,null,null,null,null,null,null,null,null,null,null,null,null,null,null,null,null,null,null,null,null,null,null,null,null,null,null,857,19,"","",{"$f":"AF870+IF(COUNTIF($AC$15:AC871,AC871)>1,0,1)","v":19},{"$f":"IF(ROWS(AF$15:AF871)>MAX(AF:AF),\"\",INDEX(AC:AC,MATCH(ROWS(AF$15:AF871),AF:AF,0)))","v":""},{"$f":"IF(AD871=\"\",AH870,AH870+IF(COUNTIF($AD$15:AD871,AD871)>1,0,1))","v":0},{"$f":"IF(ROWS($AH$15:AH871)>MAX(AH:AH),\"\",INDEX(AD:AD,MATCH(ROWS($AH$15:AH871),AH:AH,0)))","v":""}]
[null,null,null,null,null,null,null,null,null,null,null,null,null,null,null,null,null,null,null,null,null,null,null,null,null,null,null,858,19,"","",{"$f":"AF871+IF(COUNTIF($AC$15:AC872,AC872)>1,0,1)","v":19},{"$f":"IF(ROWS(AF$15:AF872)>MAX(AF:AF),\"\",INDEX(AC:AC,MATCH(ROWS(AF$15:AF872),AF:AF,0)))","v":""},{"$f":"IF(AD872=\"\",AH871,AH871+IF(COUNTIF($AD$15:AD872,AD872)>1,0,1))","v":0},{"$f":"IF(ROWS($AH$15:AH872)>MAX(AH:AH),\"\",INDEX(AD:AD,MATCH(ROWS($AH$15:AH872),AH:AH,0)))","v":""}]
[null,null,null,null,null,null,null,null,null,null,null,null,null,null,null,null,null,null,null,null,null,null,null,null,null,null,null,859,19,"","",{"$f":"AF872+IF(COUNTIF($AC$15:AC873,AC873)>1,0,1)","v":19},{"$f":"IF(ROWS(AF$15:AF873)>MAX(AF:AF),\"\",INDEX(AC:AC,MATCH(ROWS(AF$15:AF873),AF:AF,0)))","v":""},{"$f":"IF(AD873=\"\",AH872,AH872+IF(COUNTIF($AD$15:AD873,AD873)>1,0,1))","v":0},{"$f":"IF(ROWS($AH$15:AH873)>MAX(AH:AH),\"\",INDEX(AD:AD,MATCH(ROWS($AH$15:AH873),AH:AH,0)))","v":""}]
[null,null,null,null,null,null,null,null,null,null,null,null,null,null,null,null,null,null,null,null,null,null,null,null,null,null,null,860,19,"","",{"$f":"AF873+IF(COUNTIF($AC$15:AC874,AC874)>1,0,1)","v":19},{"$f":"IF(ROWS(AF$15:AF874)>MAX(AF:AF),\"\",INDEX(AC:AC,MATCH(ROWS(AF$15:AF874),AF:AF,0)))","v":""},{"$f":"IF(AD874=\"\",AH873,AH873+IF(COUNTIF($AD$15:AD874,AD874)>1,0,1))","v":0},{"$f":"IF(ROWS($AH$15:AH874)>MAX(AH:AH),\"\",INDEX(AD:AD,MATCH(ROWS($AH$15:AH874),AH:AH,0)))","v":""}]
[null,null,null,null,null,null,null,null,null,null,null,null,null,null,null,null,null,null,null,null,null,null,null,null,null,null,null,861,19,"","",{"$f":"AF874+IF(COUNTIF($AC$15:AC875,AC875)>1,0,1)","v":19},{"$f":"IF(ROWS(AF$15:AF875)>MAX(AF:AF),\"\",INDEX(AC:AC,MATCH(ROWS(AF$15:AF875),AF:AF,0)))","v":""},{"$f":"IF(AD875=\"\",AH874,AH874+IF(COUNTIF($AD$15:AD875,AD875)>1,0,1))","v":0},{"$f":"IF(ROWS($AH$15:AH875)>MAX(AH:AH),\"\",INDEX(AD:AD,MATCH(ROWS($AH$15:AH875),AH:AH,0)))","v":""}]
[null,null,null,null,null,null,null,null,null,null,null,null,null,null,null,null,null,null,null,null,null,null,null,null,null,null,null,862,19,"","",{"$f":"AF875+IF(COUNTIF($AC$15:AC876,AC876)>1,0,1)","v":19},{"$f":"IF(ROWS(AF$15:AF876)>MAX(AF:AF),\"\",INDEX(AC:AC,MATCH(ROWS(AF$15:AF876),AF:AF,0)))","v":""},{"$f":"IF(AD876=\"\",AH875,AH875+IF(COUNTIF($AD$15:AD876,AD876)>1,0,1))","v":0},{"$f":"IF(ROWS($AH$15:AH876)>MAX(AH:AH),\"\",INDEX(AD:AD,MATCH(ROWS($AH$15:AH876),AH:AH,0)))","v":""}]
[null,null,null,null,null,null,null,null,null,null,null,null,null,null,null,null,null,null,null,null,null,null,null,null,null,null,null,863,20,"","",{"$f":"AF876+IF(COUNTIF($AC$15:AC877,AC877)>1,0,1)","v":20},{"$f":"IF(ROWS(AF$15:AF877)>MAX(AF:AF),\"\",INDEX(AC:AC,MATCH(ROWS(AF$15:AF877),AF:AF,0)))","v":""},{"$f":"IF(AD877=\"\",AH876,AH876+IF(COUNTIF($AD$15:AD877,AD877)>1,0,1))","v":0},{"$f":"IF(ROWS($AH$15:AH877)>MAX(AH:AH),\"\",INDEX(AD:AD,MATCH(ROWS($AH$15:AH877),AH:AH,0)))","v":""}]
[null,null,null,null,null,null,null,null,null,null,null,null,null,null,null,null,null,null,null,null,null,null,null,null,null,null,null,864,20,"","",{"$f":"AF877+IF(COUNTIF($AC$15:AC878,AC878)>1,0,1)","v":20},{"$f":"IF(ROWS(AF$15:AF878)>MAX(AF:AF),\"\",INDEX(AC:AC,MATCH(ROWS(AF$15:AF878),AF:AF,0)))","v":""},{"$f":"IF(AD878=\"\",AH877,AH877+IF(COUNTIF($AD$15:AD878,AD878)>1,0,1))","v":0},{"$f":"IF(ROWS($AH$15:AH878)>MAX(AH:AH),\"\",INDEX(AD:AD,MATCH(ROWS($AH$15:AH878),AH:AH,0)))","v":""}]
[null,null,null,null,null,null,null,null,null,null,null,null,null,null,null,null,null,null,null,null,null,null,null,null,null,null,null,865,20,"","",{"$f":"AF878+IF(COUNTIF($AC$15:AC879,AC879)>1,0,1)","v":20},{"$f":"IF(ROWS(AF$15:AF879)>MAX(AF:AF),\"\",INDEX(AC:AC,MATCH(ROWS(AF$15:AF879),AF:AF,0)))","v":""},{"$f":"IF(AD879=\"\",AH878,AH878+IF(COUNTIF($AD$15:AD879,AD879)>1,0,1))","v":0},{"$f":"IF(ROWS($AH$15:AH879)>MAX(AH:AH),\"\",INDEX(AD:AD,MATCH(ROWS($AH$15:AH879),AH:AH,0)))","v":""}]
[null,null,null,null,null,null,null,null,null,null,null,null,null,null,null,null,null,null,null,null,null,null,null,null,null,null,null,866,20,"","",{"$f":"AF879+IF(COUNTIF($AC$15:AC880,AC880)>1,0,1)","v":20},{"$f":"IF(ROWS(AF$15:AF880)>MAX(AF:AF),\"\",INDEX(AC:AC,MATCH(ROWS(AF$15:AF880),AF:AF,0)))","v":""},{"$f":"IF(AD880=\"\",AH879,AH879+IF(COUNTIF($AD$15:AD880,AD880)>1,0,1))","v":0},{"$f":"IF(ROWS($AH$15:AH880)>MAX(AH:AH),\"\",INDEX(AD:AD,MATCH(ROWS($AH$15:AH880),AH:AH,0)))","v":""}]
[null,null,null,null,null,null,null,null,null,null,null,null,null,null,null,null,null,null,null,null,null,null,null,null,null,null,null,867,20,"","",{"$f":"AF880+IF(COUNTIF($AC$15:AC881,AC881)>1,0,1)","v":20},{"$f":"IF(ROWS(AF$15:AF881)>MAX(AF:AF),\"\",INDEX(AC:AC,MATCH(ROWS(AF$15:AF881),AF:AF,0)))","v":""},{"$f":"IF(AD881=\"\",AH880,AH880+IF(COUNTIF($AD$15:AD881,AD881)>1,0,1))","v":0},{"$f":"IF(ROWS($AH$15:AH881)>MAX(AH:AH),\"\",INDEX(AD:AD,MATCH(ROWS($AH$15:AH881),AH:AH,0)))","v":""}]
[null,null,null,null,null,null,null,null,null,null,null,null,null,null,null,null,null,null,null,null,null,null,null,null,null,null,null,868,20,"","",{"$f":"AF881+IF(COUNTIF($AC$15:AC882,AC882)>1,0,1)","v":20},{"$f":"IF(ROWS(AF$15:AF882)>MAX(AF:AF),\"\",INDEX(AC:AC,MATCH(ROWS(AF$15:AF882),AF:AF,0)))","v":""},{"$f":"IF(AD882=\"\",AH881,AH881+IF(COUNTIF($AD$15:AD882,AD882)>1,0,1))","v":0},{"$f":"IF(ROWS($AH$15:AH882)>MAX(AH:AH),\"\",INDEX(AD:AD,MATCH(ROWS($AH$15:AH882),AH:AH,0)))","v":""}]
[null,null,null,null,null,null,null,null,null,null,null,null,null,null,null,null,null,null,null,null,null,null,null,null,null,null,null,869,20,"","",{"$f":"AF882+IF(COUNTIF($AC$15:AC883,AC883)>1,0,1)","v":20},{"$f":"IF(ROWS(AF$15:AF883)>MAX(AF:AF),\"\",INDEX(AC:AC,MATCH(ROWS(AF$15:AF883),AF:AF,0)))","v":""},{"$f":"IF(AD883=\"\",AH882,AH882+IF(COUNTIF($AD$15:AD883,AD883)>1,0,1))","v":0},{"$f":"IF(ROWS($AH$15:AH883)>MAX(AH:AH),\"\",INDEX(AD:AD,MATCH(ROWS($AH$15:AH883),AH:AH,0)))","v":""}]
[null,null,null,null,null,null,null,null,null,null,null,null,null,null,null,null,null,null,null,null,null,null,null,null,null,null,null,870,20,"","",{"$f":"AF883+IF(COUNTIF($AC$15:AC884,AC884)>1,0,1)","v":20},{"$f":"IF(ROWS(AF$15:AF884)>MAX(AF:AF),\"\",INDEX(AC:AC,MATCH(ROWS(AF$15:AF884),AF:AF,0)))","v":""},{"$f":"IF(AD884=\"\",AH883,AH883+IF(COUNTIF($AD$15:AD884,AD884)>1,0,1))","v":0},{"$f":"IF(ROWS($AH$15:AH884)>MAX(AH:AH),\"\",INDEX(AD:AD,MATCH(ROWS($AH$15:AH884),AH:AH,0)))","v":""}]
[null,null,null,null,null,null,null,null,null,null,null,null,null,null,null,null,null,null,null,null,null,null,null,null,null,null,null,871,20,"","",{"$f":"AF884+IF(COUNTIF($AC$15:AC885,AC885)>1,0,1)","v":20},{"$f":"IF(ROWS(AF$15:AF885)>MAX(AF:AF),\"\",INDEX(AC:AC,MATCH(ROWS(AF$15:AF885),AF:AF,0)))","v":""},{"$f":"IF(AD885=\"\",AH884,AH884+IF(COUNTIF($AD$15:AD885,AD885)>1,0,1))","v":0},{"$f":"IF(ROWS($AH$15:AH885)>MAX(AH:AH),\"\",INDEX(AD:AD,MATCH(ROWS($AH$15:AH885),AH:AH,0)))","v":""}]
[null,null,null,null,null,null,null,null,null,null,null,null,null,null,null,null,null,null,null,null,null,null,null,null,null,null,null,872,20,"","",{"$f":"AF885+IF(COUNTIF($AC$15:AC886,AC886)>1,0,1)","v":20},{"$f":"IF(ROWS(AF$15:AF886)>MAX(AF:AF),\"\",INDEX(AC:AC,MATCH(ROWS(AF$15:AF886),AF:AF,0)))","v":""},{"$f":"IF(AD886=\"\",AH885,AH885+IF(COUNTIF($AD$15:AD886,AD886)>1,0,1))","v":0},{"$f":"IF(ROWS($AH$15:AH886)>MAX(AH:AH),\"\",INDEX(AD:AD,MATCH(ROWS($AH$15:AH886),AH:AH,0)))","v":""}]
[null,null,null,null,null,null,null,null,null,null,null,null,null,null,null,null,null,null,null,null,null,null,null,null,null,null,null,873,20,"","",{"$f":"AF886+IF(COUNTIF($AC$15:AC887,AC887)>1,0,1)","v":20},{"$f":"IF(ROWS(AF$15:AF887)>MAX(AF:AF),\"\",INDEX(AC:AC,MATCH(ROWS(AF$15:AF887),AF:AF,0)))","v":""},{"$f":"IF(AD887=\"\",AH886,AH886+IF(COUNTIF($AD$15:AD887,AD887)>1,0,1))","v":0},{"$f":"IF(ROWS($AH$15:AH887)>MAX(AH:AH),\"\",INDEX(AD:AD,MATCH(ROWS($AH$15:AH887),AH:AH,0)))","v":""}]
[null,null,null,null,null,null,null,null,null,null,null,null,null,null,null,null,null,null,null,null,null,null,null,null,null,null,null,874,20,"","",{"$f":"AF887+IF(COUNTIF($AC$15:AC888,AC888)>1,0,1)","v":20},{"$f":"IF(ROWS(AF$15:AF888)>MAX(AF:AF),\"\",INDEX(AC:AC,MATCH(ROWS(AF$15:AF888),AF:AF,0)))","v":""},{"$f":"IF(AD888=\"\",AH887,AH887+IF(COUNTIF($AD$15:AD888,AD888)>1,0,1))","v":0},{"$f":"IF(ROWS($AH$15:AH888)>MAX(AH:AH),\"\",INDEX(AD:AD,MATCH(ROWS($AH$15:AH888),AH:AH,0)))","v":""}]
[null,null,null,null,null,null,null,null,null,null,null,null,null,null,null,null,null,null,null,null,null,null,null,null,null,null,null,875,20,"","",{"$f":"AF888+IF(COUNTIF($AC$15:AC889,AC889)>1,0,1)","v":20},{"$f":"IF(ROWS(AF$15:AF889)>MAX(AF:AF),\"\",INDEX(AC:AC,MATCH(ROWS(AF$15:AF889),AF:AF,0)))","v":""},{"$f":"IF(AD889=\"\",AH888,AH888+IF(COUNTIF($AD$15:AD889,AD889)>1,0,1))","v":0},{"$f":"IF(ROWS($AH$15:AH889)>MAX(AH:AH),\"\",INDEX(AD:AD,MATCH(ROWS($AH$15:AH889),AH:AH,0)))","v":""}]
[null,null,null,null,null,null,null,null,null,null,null,null,null,null,null,null,null,null,null,null,null,null,null,null,null,null,null,876,20,"","",{"$f":"AF889+IF(COUNTIF($AC$15:AC890,AC890)>1,0,1)","v":20},{"$f":"IF(ROWS(AF$15:AF890)>MAX(AF:AF),\"\",INDEX(AC:AC,MATCH(ROWS(AF$15:AF890),AF:AF,0)))","v":""},{"$f":"IF(AD890=\"\",AH889,AH889+IF(COUNTIF($AD$15:AD890,AD890)>1,0,1))","v":0},{"$f":"IF(ROWS($AH$15:AH890)>MAX(AH:AH),\"\",INDEX(AD:AD,MATCH(ROWS($AH$15:AH890),AH:AH,0)))","v":""}]
[null,null,null,null,null,null,null,null,null,null,null,null,null,null,null,null,null,null,null,null,null,null,null,null,null,null,null,877,"","","",{"$f":"AF890+IF(COUNTIF($AC$15:AC891,AC891)>1,0,1)","v":21},{"$f":"IF(ROWS(AF$15:AF891)>MAX(AF:AF),\"\",INDEX(AC:AC,MATCH(ROWS(AF$15:AF891),AF:AF,0)))","v":""},{"$f":"IF(AD891=\"\",AH890,AH890+IF(COUNTIF($AD$15:AD891,AD891)>1,0,1))","v":0},{"$f":"IF(ROWS($AH$15:AH891)>MAX(AH:AH),\"\",INDEX(AD:AD,MATCH(ROWS($AH$15:AH891),AH:AH,0)))","v":""}]
[null,null,null,null,null,null,null,null,null,null,null,null,null,null,null,null,null,null,null,null,null,null,null,null,null,null,null,878,"","","",{"$f":"AF891+IF(COUNTIF($AC$15:AC892,AC892)>1,0,1)","v":21},{"$f":"IF(ROWS(AF$15:AF892)>MAX(AF:AF),\"\",INDEX(AC:AC,MATCH(ROWS(AF$15:AF892),AF:AF,0)))","v":""},{"$f":"IF(AD892=\"\",AH891,AH891+IF(COUNTIF($AD$15:AD892,AD892)>1,0,1))","v":0},{"$f":"IF(ROWS($AH$15:AH892)>MAX(AH:AH),\"\",INDEX(AD:AD,MATCH(ROWS($AH$15:AH892),AH:AH,0)))","v":""}]
[null,null,null,null,null,null,null,null,null,null,null,null,null,null,null,null,null,null,null,null,null,null,null,null,null,null,null,879,"","","",{"$f":"AF892+IF(COUNTIF($AC$15:AC893,AC893)>1,0,1)","v":21},{"$f":"IF(ROWS(AF$15:AF893)>MAX(AF:AF),\"\",INDEX(AC:AC,MATCH(ROWS(AF$15:AF893),AF:AF,0)))","v":""},{"$f":"IF(AD893=\"\",AH892,AH892+IF(COUNTIF($AD$15:AD893,AD893)>1,0,1))","v":0},{"$f":"IF(ROWS($AH$15:AH893)>MAX(AH:AH),\"\",INDEX(AD:AD,MATCH(ROWS($AH$15:AH893),AH:AH,0)))","v":""}]
[null,null,null,null,null,null,null,null,null,null,null,null,null,null,null,null,null,null,null,null,null,null,null,null,null,null,null,880,"","","",{"$f":"AF893+IF(COUNTIF($AC$15:AC894,AC894)>1,0,1)","v":21},{"$f":"IF(ROWS(AF$15:AF894)>MAX(AF:AF),\"\",INDEX(AC:AC,MATCH(ROWS(AF$15:AF894),AF:AF,0)))","v":""},{"$f":"IF(AD894=\"\",AH893,AH893+IF(COUNTIF($AD$15:AD894,AD894)>1,0,1))","v":0},{"$f":"IF(ROWS($AH$15:AH894)>MAX(AH:AH),\"\",INDEX(AD:AD,MATCH(ROWS($AH$15:AH894),AH:AH,0)))","v":""}]
[null,null,null,null,null,null,null,null,null,null,null,null,null,null,null,null,null,null,null,null,null,null,null,null,null,null,null,881,"","","",{"$f":"AF894+IF(COUNTIF($AC$15:AC895,AC895)>1,0,1)","v":21},{"$f":"IF(ROWS(AF$15:AF895)>MAX(AF:AF),\"\",INDEX(AC:AC,MATCH(ROWS(AF$15:AF895),AF:AF,0)))","v":""},{"$f":"IF(AD895=\"\",AH894,AH894+IF(COUNTIF($AD$15:AD895,AD895)>1,0,1))","v":0},{"$f":"IF(ROWS($AH$15:AH895)>MAX(AH:AH),\"\",INDEX(AD:AD,MATCH(ROWS($AH$15:AH895),AH:AH,0)))","v":""}]
[null,null,null,null,null,null,null,null,null,null,null,null,null,null,null,null,null,null,null,null,null,null,null,null,null,null,null,882,"","","",{"$f":"AF895+IF(COUNTIF($AC$15:AC896,AC896)>1,0,1)","v":21},{"$f":"IF(ROWS(AF$15:AF896)>MAX(AF:AF),\"\",INDEX(AC:AC,MATCH(ROWS(AF$15:AF896),AF:AF,0)))","v":""},{"$f":"IF(AD896=\"\",AH895,AH895+IF(COUNTIF($AD$15:AD896,AD896)>1,0,1))","v":0},{"$f":"IF(ROWS($AH$15:AH896)>MAX(AH:AH),\"\",INDEX(AD:AD,MATCH(ROWS($AH$15:AH896),AH:AH,0)))","v":""}]
[null,null,null,null,null,null,null,null,null,null,null,null,null,null,null,null,null,null,null,null,null,null,null,null,null,null,null,883,"","","",{"$f":"AF896+IF(COUNTIF($AC$15:AC897,AC897)>1,0,1)","v":21},{"$f":"IF(ROWS(AF$15:AF897)>MAX(AF:AF),\"\",INDEX(AC:AC,MATCH(ROWS(AF$15:AF897),AF:AF,0)))","v":""},{"$f":"IF(AD897=\"\",AH896,AH896+IF(COUNTIF($AD$15:AD897,AD897)>1,0,1))","v":0},{"$f":"IF(ROWS($AH$15:AH897)>MAX(AH:AH),\"\",INDEX(AD:AD,MATCH(ROWS($AH$15:AH897),AH:AH,0)))","v":""}]
[null,null,null,null,null,null,null,null,null,null,null,null,null,null,null,null,null,null,null,null,null,null,null,null,null,null,null,884,"","","",{"$f":"AF897+IF(COUNTIF($AC$15:AC898,AC898)>1,0,1)","v":21},{"$f":"IF(ROWS(AF$15:AF898)>MAX(AF:AF),\"\",INDEX(AC:AC,MATCH(ROWS(AF$15:AF898),AF:AF,0)))","v":""},{"$f":"IF(AD898=\"\",AH897,AH897+IF(COUNTIF($AD$15:AD898,AD898)>1,0,1))","v":0},{"$f":"IF(ROWS($AH$15:AH898)>MAX(AH:AH),\"\",INDEX(AD:AD,MATCH(ROWS($AH$15:AH898),AH:AH,0)))","v":""}]
[null,null,null,null,null,null,null,null,null,null,null,null,null,null,null,null,null,null,null,null,null,null,null,null,null,null,null,885,"","","",{"$f":"AF898+IF(COUNTIF($AC$15:AC899,AC899)>1,0,1)","v":21},{"$f":"IF(ROWS(AF$15:AF899)>MAX(AF:AF),\"\",INDEX(AC:AC,MATCH(ROWS(AF$15:AF899),AF:AF,0)))","v":""},{"$f":"IF(AD899=\"\",AH898,AH898+IF(COUNTIF($AD$15:AD899,AD899)>1,0,1))","v":0},{"$f":"IF(ROWS($AH$15:AH899)>MAX(AH:AH),\"\",INDEX(AD:AD,MATCH(ROWS($AH$15:AH899),AH:AH,0)))","v":""}]
[null,null,null,null,null,null,null,null,null,null,null,null,null,null,null,null,null,null,null,null,null,null,null,null,null,null,null,886,"","","",{"$f":"AF899+IF(COUNTIF($AC$15:AC900,AC900)>1,0,1)","v":21},{"$f":"IF(ROWS(AF$15:AF900)>MAX(AF:AF),\"\",INDEX(AC:AC,MATCH(ROWS(AF$15:AF900),AF:AF,0)))","v":""},{"$f":"IF(AD900=\"\",AH899,AH899+IF(COUNTIF($AD$15:AD900,AD900)>1,0,1))","v":0},{"$f":"IF(ROWS($AH$15:AH900)>MAX(AH:AH),\"\",INDEX(AD:AD,MATCH(ROWS($AH$15:AH900),AH:AH,0)))","v":""}]
[null,null,null,null,null,null,null,null,null,null,null,null,null,null,null,null,null,null,null,null,null,null,null,null,null,null,null,887,"","","",{"$f":"AF900+IF(COUNTIF($AC$15:AC901,AC901)>1,0,1)","v":21},{"$f":"IF(ROWS(AF$15:AF901)>MAX(AF:AF),\"\",INDEX(AC:AC,MATCH(ROWS(AF$15:AF901),AF:AF,0)))","v":""},{"$f":"IF(AD901=\"\",AH900,AH900+IF(COUNTIF($AD$15:AD901,AD901)>1,0,1))","v":0},{"$f":"IF(ROWS($AH$15:AH901)>MAX(AH:AH),\"\",INDEX(AD:AD,MATCH(ROWS($AH$15:AH901),AH:AH,0)))","v":""}]
[null,null,null,null,null,null,null,null,null,null,null,null,null,null,null,null,null,null,null,null,null,null,null,null,null,null,null,888,"","","",{"$f":"AF901+IF(COUNTIF($AC$15:AC902,AC902)>1,0,1)","v":21},{"$f":"IF(ROWS(AF$15:AF902)>MAX(AF:AF),\"\",INDEX(AC:AC,MATCH(ROWS(AF$15:AF902),AF:AF,0)))","v":""},{"$f":"IF(AD902=\"\",AH901,AH901+IF(COUNTIF($AD$15:AD902,AD902)>1,0,1))","v":0},{"$f":"IF(ROWS($AH$15:AH902)>MAX(AH:AH),\"\",INDEX(AD:AD,MATCH(ROWS($AH$15:AH902),AH:AH,0)))","v":""}]
[null,null,null,null,null,null,null,null,null,null,null,null,null,null,null,null,null,null,null,null,null,null,null,null,null,null,null,889,"","","",{"$f":"AF902+IF(COUNTIF($AC$15:AC903,AC903)>1,0,1)","v":21},{"$f":"IF(ROWS(AF$15:AF903)>MAX(AF:AF),\"\",INDEX(AC:AC,MATCH(ROWS(AF$15:AF903),AF:AF,0)))","v":""},{"$f":"IF(AD903=\"\",AH902,AH902+IF(COUNTIF($AD$15:AD903,AD903)>1,0,1))","v":0},{"$f":"IF(ROWS($AH$15:AH903)>MAX(AH:AH),\"\",INDEX(AD:AD,MATCH(ROWS($AH$15:AH903),AH:AH,0)))","v":""}]
[null,null,null,null,null,null,null,null,null,null,null,null,null,null,null,null,null,null,null,null,null,null,null,null,null,null,null,890,"","","",{"$f":"AF903+IF(COUNTIF($AC$15:AC904,AC904)>1,0,1)","v":21},{"$f":"IF(ROWS(AF$15:AF904)>MAX(AF:AF),\"\",INDEX(AC:AC,MATCH(ROWS(AF$15:AF904),AF:AF,0)))","v":""},{"$f":"IF(AD904=\"\",AH903,AH903+IF(COUNTIF($AD$15:AD904,AD904)>1,0,1))","v":0},{"$f":"IF(ROWS($AH$15:AH904)>MAX(AH:AH),\"\",INDEX(AD:AD,MATCH(ROWS($AH$15:AH904),AH:AH,0)))","v":""}]
[null,null,null,null,null,null,null,null,null,null,null,null,null,null,null,null,null,null,null,null,null,null,null,null,null,null,null,891,"","","",{"$f":"AF904+IF(COUNTIF($AC$15:AC905,AC905)>1,0,1)","v":21},{"$f":"IF(ROWS(AF$15:AF905)>MAX(AF:AF),\"\",INDEX(AC:AC,MATCH(ROWS(AF$15:AF905),AF:AF,0)))","v":""},{"$f":"IF(AD905=\"\",AH904,AH904+IF(COUNTIF($AD$15:AD905,AD905)>1,0,1))","v":0},{"$f":"IF(ROWS($AH$15:AH905)>MAX(AH:AH),\"\",INDEX(AD:AD,MATCH(ROWS($AH$15:AH905),AH:AH,0)))","v":""}]
[null,null,null,null,null,null,null,null,null,null,null,null,null,null,null,null,null,null,null,null,null,null,null,null,null,null,null,892,"","","",{"$f":"AF905+IF(COUNTIF($AC$15:AC906,AC906)>1,0,1)","v":21},{"$f":"IF(ROWS(AF$15:AF906)>MAX(AF:AF),\"\",INDEX(AC:AC,MATCH(ROWS(AF$15:AF906),AF:AF,0)))","v":""},{"$f":"IF(AD906=\"\",AH905,AH905+IF(COUNTIF($AD$15:AD906,AD906)>1,0,1))","v":0},{"$f":"IF(ROWS($AH$15:AH906)>MAX(AH:AH),\"\",INDEX(AD:AD,MATCH(ROWS($AH$15:AH906),AH:AH,0)))","v":""}]
[null,null,null,null,null,null,null,null,null,null,null,null,null,null,null,null,null,null,null,null,null,null,null,null,null,null,null,893,"","","",{"$f":"AF906+IF(COUNTIF($AC$15:AC907,AC907)>1,0,1)","v":21},{"$f":"IF(ROWS(AF$15:AF907)>MAX(AF:AF),\"\",INDEX(AC:AC,MATCH(ROWS(AF$15:AF907),AF:AF,0)))","v":""},{"$f":"IF(AD907=\"\",AH906,AH906+IF(COUNTIF($AD$15:AD907,AD907)>1,0,1))","v":0},{"$f":"IF(ROWS($AH$15:AH907)>MAX(AH:AH),\"\",INDEX(AD:AD,MATCH(ROWS($AH$15:AH907),AH:AH,0)))","v":""}]
[null,null,null,null,null,null,null,null,null,null,null,null,null,null,null,null,null,null,null,null,null,null,null,null,null,null,null,894,"","","",{"$f":"AF907+IF(COUNTIF($AC$15:AC908,AC908)>1,0,1)","v":21},{"$f":"IF(ROWS(AF$15:AF908)>MAX(AF:AF),\"\",INDEX(AC:AC,MATCH(ROWS(AF$15:AF908),AF:AF,0)))","v":""},{"$f":"IF(AD908=\"\",AH907,AH907+IF(COUNTIF($AD$15:AD908,AD908)>1,0,1))","v":0},{"$f":"IF(ROWS($AH$15:AH908)>MAX(AH:AH),\"\",INDEX(AD:AD,MATCH(ROWS($AH$15:AH908),AH:AH,0)))","v":""}]
[null,null,null,null,null,null,null,null,null,null,null,null,null,null,null,null,null,null,null,null,null,null,null,null,null,null,null,895,"","","",{"$f":"AF908+IF(COUNTIF($AC$15:AC909,AC909)>1,0,1)","v":21},{"$f":"IF(ROWS(AF$15:AF909)>MAX(AF:AF),\"\",INDEX(AC:AC,MATCH(ROWS(AF$15:AF909),AF:AF,0)))","v":""},{"$f":"IF(AD909=\"\",AH908,AH908+IF(COUNTIF($AD$15:AD909,AD909)>1,0,1))","v":0},{"$f":"IF(ROWS($AH$15:AH909)>MAX(AH:AH),\"\",INDEX(AD:AD,MATCH(ROWS($AH$15:AH909),AH:AH,0)))","v":""}]
[null,null,null,null,null,null,null,null,null,null,null,null,null,null,null,null,null,null,null,null,null,null,null,null,null,null,null,896,"","","",{"$f":"AF909+IF(COUNTIF($AC$15:AC910,AC910)>1,0,1)","v":21},{"$f":"IF(ROWS(AF$15:AF910)>MAX(AF:AF),\"\",INDEX(AC:AC,MATCH(ROWS(AF$15:AF910),AF:AF,0)))","v":""},{"$f":"IF(AD910=\"\",AH909,AH909+IF(COUNTIF($AD$15:AD910,AD910)>1,0,1))","v":0},{"$f":"IF(ROWS($AH$15:AH910)>MAX(AH:AH),\"\",INDEX(AD:AD,MATCH(ROWS($AH$15:AH910),AH:AH,0)))","v":""}]
[null,null,null,null,null,null,null,null,null,null,null,null,null,null,null,null,null,null,null,null,null,null,null,null,null,null,null,897,"","","",{"$f":"AF910+IF(COUNTIF($AC$15:AC911,AC911)>1,0,1)","v":21},{"$f":"IF(ROWS(AF$15:AF911)>MAX(AF:AF),\"\",INDEX(AC:AC,MATCH(ROWS(AF$15:AF911),AF:AF,0)))","v":""},{"$f":"IF(AD911=\"\",AH910,AH910+IF(COUNTIF($AD$15:AD911,AD911)>1,0,1))","v":0},{"$f":"IF(ROWS($AH$15:AH911)>MAX(AH:AH),\"\",INDEX(AD:AD,MATCH(ROWS($AH$15:AH911),AH:AH,0)))","v":""}]
[null,null,null,null,null,null,null,null,null,null,null,null,null,null,null,null,null,null,null,null,null,null,null,null,null,null,null,898,{"$f":"IF(INDIRECT($AC$1&\"D\"&$AB912+1)=\"\",\"\",INDIRECT($AC$1&\"D\"&$AB912+1))","v":""},{"$f":"IF(AC912=\"\",\"\",IF($E$16=AC912,INDIRECT($AC$1&\"E\"&$AB912+1),\"\"))","v":""},{"$f":"IF(ISBLANK($E$17),\"\",IF($E$17<>AD912,\"\",IF(INDIRECT($AC$1&\"U\"&$AB912+1)=\"Yes\",INDIRECT($AC$1&\"I\"&$AB912+1),\"\")))","v":""},{"$f":"AF911+IF(COUNTIF($AC$15:AC912,AC912)>1,0,1)","v":21},{"$f":"IF(ROWS(AF$15:AF912)>MAX(AF:AF),\"\",INDEX(AC:AC,MATCH(ROWS(AF$15:AF912),AF:AF,0)))","v":""},{"$f":"IF(AD912=\"\",AH911,AH911+IF(COUNTIF($AD$15:AD912,AD912)>1,0,1))","v":0},{"$f":"IF(ROWS($AH$15:AH912)>MAX(AH:AH),\"\",INDEX(AD:AD,MATCH(ROWS($AH$15:AH912),AH:AH,0)))","v":""}]
[null,null,null,null,null,null,null,null,null,null,null,null,null,null,null,null,null,null,null,null,null,null,null,null,null,null,null,{"$f":"AB912+1","v":899},"","","",{"$f":"AF912+IF(COUNTIF($AC$15:AC913,AC913)>1,0,1)","v":21},{"$f":"IF(ROWS(AF$15:AF913)>MAX(AF:AF),\"\",INDEX(AC:AC,MATCH(ROWS(AF$15:AF913),AF:AF,0)))","v":""},{"$f":"IF(AD913=\"\",AH912,AH912+IF(COUNTIF($AD$15:AD913,AD913)>1,0,1))","v":0},{"$f":"IF(ROWS($AH$15:AH913)>MAX(AH:AH),\"\",INDEX(AD:AD,MATCH(ROWS($AH$15:AH913),AH:AH,0)))","v":""}]
[null,null,null,null,null,null,null,null,null,null,null,null,null,null,null,null,null,null,null,null,null,null,null,null,null,null,null,900,"","","",{"$f":"AF913+IF(COUNTIF($AC$15:AC914,AC914)>1,0,1)","v":21},{"$f":"IF(ROWS(AF$15:AF914)>MAX(AF:AF),\"\",INDEX(AC:AC,MATCH(ROWS(AF$15:AF914),AF:AF,0)))","v":""},{"$f":"IF(AD914=\"\",AH913,AH913+IF(COUNTIF($AD$15:AD914,AD914)>1,0,1))","v":0},{"$f":"IF(ROWS($AH$15:AH914)>MAX(AH:AH),\"\",INDEX(AD:AD,MATCH(ROWS($AH$15:AH914),AH:AH,0)))","v":""}]
[null,null,null,null,null,null,null,null,null,null,null,null,null,null,null,null,null,null,null,null,null,null,null,null,null,null,null,901,"","","",{"$f":"AF914+IF(COUNTIF($AC$15:AC915,AC915)>1,0,1)","v":21},{"$f":"IF(ROWS(AF$15:AF915)>MAX(AF:AF),\"\",INDEX(AC:AC,MATCH(ROWS(AF$15:AF915),AF:AF,0)))","v":""},{"$f":"IF(AD915=\"\",AH914,AH914+IF(COUNTIF($AD$15:AD915,AD915)>1,0,1))","v":0},{"$f":"IF(ROWS($AH$15:AH915)>MAX(AH:AH),\"\",INDEX(AD:AD,MATCH(ROWS($AH$15:AH915),AH:AH,0)))","v":""}]
[null,null,null,null,null,null,null,null,null,null,null,null,null,null,null,null,null,null,null,null,null,null,null,null,null,null,null,902,"","","",{"$f":"AF915+IF(COUNTIF($AC$15:AC916,AC916)>1,0,1)","v":21},{"$f":"IF(ROWS(AF$15:AF916)>MAX(AF:AF),\"\",INDEX(AC:AC,MATCH(ROWS(AF$15:AF916),AF:AF,0)))","v":""},{"$f":"IF(AD916=\"\",AH915,AH915+IF(COUNTIF($AD$15:AD916,AD916)>1,0,1))","v":0},{"$f":"IF(ROWS($AH$15:AH916)>MAX(AH:AH),\"\",INDEX(AD:AD,MATCH(ROWS($AH$15:AH916),AH:AH,0)))","v":""}]
[null,null,null,null,null,null,null,null,null,null,null,null,null,null,null,null,null,null,null,null,null,null,null,null,null,null,null,903,"","","",{"$f":"AF916+IF(COUNTIF($AC$15:AC917,AC917)>1,0,1)","v":21},{"$f":"IF(ROWS(AF$15:AF917)>MAX(AF:AF),\"\",INDEX(AC:AC,MATCH(ROWS(AF$15:AF917),AF:AF,0)))","v":""},{"$f":"IF(AD917=\"\",AH916,AH916+IF(COUNTIF($AD$15:AD917,AD917)>1,0,1))","v":0},{"$f":"IF(ROWS($AH$15:AH917)>MAX(AH:AH),\"\",INDEX(AD:AD,MATCH(ROWS($AH$15:AH917),AH:AH,0)))","v":""}]
[null,null,null,null,null,null,null,null,null,null,null,null,null,null,null,null,null,null,null,null,null,null,null,null,null,null,null,904,"","","",{"$f":"AF917+IF(COUNTIF($AC$15:AC918,AC918)>1,0,1)","v":21},{"$f":"IF(ROWS(AF$15:AF918)>MAX(AF:AF),\"\",INDEX(AC:AC,MATCH(ROWS(AF$15:AF918),AF:AF,0)))","v":""},{"$f":"IF(AD918=\"\",AH917,AH917+IF(COUNTIF($AD$15:AD918,AD918)>1,0,1))","v":0},{"$f":"IF(ROWS($AH$15:AH918)>MAX(AH:AH),\"\",INDEX(AD:AD,MATCH(ROWS($AH$15:AH918),AH:AH,0)))","v":""}]
[null,null,null,null,null,null,null,null,null,null,null,null,null,null,null,null,null,null,null,null,null,null,null,null,null,null,null,905,"","","",{"$f":"AF918+IF(COUNTIF($AC$15:AC919,AC919)>1,0,1)","v":21},{"$f":"IF(ROWS(AF$15:AF919)>MAX(AF:AF),\"\",INDEX(AC:AC,MATCH(ROWS(AF$15:AF919),AF:AF,0)))","v":""},{"$f":"IF(AD919=\"\",AH918,AH918+IF(COUNTIF($AD$15:AD919,AD919)>1,0,1))","v":0},{"$f":"IF(ROWS($AH$15:AH919)>MAX(AH:AH),\"\",INDEX(AD:AD,MATCH(ROWS($AH$15:AH919),AH:AH,0)))","v":""}]
[null,null,null,null,null,null,null,null,null,null,null,null,null,null,null,null,null,null,null,null,null,null,null,null,null,null,null,906,"","","",{"$f":"AF919+IF(COUNTIF($AC$15:AC920,AC920)>1,0,1)","v":21},{"$f":"IF(ROWS(AF$15:AF920)>MAX(AF:AF),\"\",INDEX(AC:AC,MATCH(ROWS(AF$15:AF920),AF:AF,0)))","v":""},{"$f":"IF(AD920=\"\",AH919,AH919+IF(COUNTIF($AD$15:AD920,AD920)>1,0,1))","v":0},{"$f":"IF(ROWS($AH$15:AH920)>MAX(AH:AH),\"\",INDEX(AD:AD,MATCH(ROWS($AH$15:AH920),AH:AH,0)))","v":""}]
[null,null,null,null,null,null,null,null,null,null,null,null,null,null,null,null,null,null,null,null,null,null,null,null,null,null,null,907,"","","",{"$f":"AF920+IF(COUNTIF($AC$15:AC921,AC921)>1,0,1)","v":21},{"$f":"IF(ROWS(AF$15:AF921)>MAX(AF:AF),\"\",INDEX(AC:AC,MATCH(ROWS(AF$15:AF921),AF:AF,0)))","v":""},{"$f":"IF(AD921=\"\",AH920,AH920+IF(COUNTIF($AD$15:AD921,AD921)>1,0,1))","v":0},{"$f":"IF(ROWS($AH$15:AH921)>MAX(AH:AH),\"\",INDEX(AD:AD,MATCH(ROWS($AH$15:AH921),AH:AH,0)))","v":""}]
[null,null,null,null,null,null,null,null,null,null,null,null,null,null,null,null,null,null,null,null,null,null,null,null,null,null,null,908,"","","",{"$f":"AF921+IF(COUNTIF($AC$15:AC922,AC922)>1,0,1)","v":21},{"$f":"IF(ROWS(AF$15:AF922)>MAX(AF:AF),\"\",INDEX(AC:AC,MATCH(ROWS(AF$15:AF922),AF:AF,0)))","v":""},{"$f":"IF(AD922=\"\",AH921,AH921+IF(COUNTIF($AD$15:AD922,AD922)>1,0,1))","v":0},{"$f":"IF(ROWS($AH$15:AH922)>MAX(AH:AH),\"\",INDEX(AD:AD,MATCH(ROWS($AH$15:AH922),AH:AH,0)))","v":""}]
[null,null,null,null,null,null,null,null,null,null,null,null,null,null,null,null,null,null,null,null,null,null,null,null,null,null,null,909,"","","",{"$f":"AF922+IF(COUNTIF($AC$15:AC923,AC923)>1,0,1)","v":21},{"$f":"IF(ROWS(AF$15:AF923)>MAX(AF:AF),\"\",INDEX(AC:AC,MATCH(ROWS(AF$15:AF923),AF:AF,0)))","v":""},{"$f":"IF(AD923=\"\",AH922,AH922+IF(COUNTIF($AD$15:AD923,AD923)>1,0,1))","v":0},{"$f":"IF(ROWS($AH$15:AH923)>MAX(AH:AH),\"\",INDEX(AD:AD,MATCH(ROWS($AH$15:AH923),AH:AH,0)))","v":""}]
[null,null,null,null,null,null,null,null,null,null,null,null,null,null,null,null,null,null,null,null,null,null,null,null,null,null,null,910,"","","",{"$f":"AF923+IF(COUNTIF($AC$15:AC924,AC924)>1,0,1)","v":21},{"$f":"IF(ROWS(AF$15:AF924)>MAX(AF:AF),\"\",INDEX(AC:AC,MATCH(ROWS(AF$15:AF924),AF:AF,0)))","v":""},{"$f":"IF(AD924=\"\",AH923,AH923+IF(COUNTIF($AD$15:AD924,AD924)>1,0,1))","v":0},{"$f":"IF(ROWS($AH$15:AH924)>MAX(AH:AH),\"\",INDEX(AD:AD,MATCH(ROWS($AH$15:AH924),AH:AH,0)))","v":""}]
[null,null,null,null,null,null,null,null,null,null,null,null,null,null,null,null,null,null,null,null,null,null,null,null,null,null,null,911,"","","",{"$f":"AF924+IF(COUNTIF($AC$15:AC925,AC925)>1,0,1)","v":21},{"$f":"IF(ROWS(AF$15:AF925)>MAX(AF:AF),\"\",INDEX(AC:AC,MATCH(ROWS(AF$15:AF925),AF:AF,0)))","v":""},{"$f":"IF(AD925=\"\",AH924,AH924+IF(COUNTIF($AD$15:AD925,AD925)>1,0,1))","v":0},{"$f":"IF(ROWS($AH$15:AH925)>MAX(AH:AH),\"\",INDEX(AD:AD,MATCH(ROWS($AH$15:AH925),AH:AH,0)))","v":""}]
[null,null,null,null,null,null,null,null,null,null,null,null,null,null,null,null,null,null,null,null,null,null,null,null,null,null,null,912,"","","",{"$f":"AF925+IF(COUNTIF($AC$15:AC926,AC926)>1,0,1)","v":21},{"$f":"IF(ROWS(AF$15:AF926)>MAX(AF:AF),\"\",INDEX(AC:AC,MATCH(ROWS(AF$15:AF926),AF:AF,0)))","v":""},{"$f":"IF(AD926=\"\",AH925,AH925+IF(COUNTIF($AD$15:AD926,AD926)>1,0,1))","v":0},{"$f":"IF(ROWS($AH$15:AH926)>MAX(AH:AH),\"\",INDEX(AD:AD,MATCH(ROWS($AH$15:AH926),AH:AH,0)))","v":""}]
[null,null,null,null,null,null,null,null,null,null,null,null,null,null,null,null,null,null,null,null,null,null,null,null,null,null,null,913,"","","",{"$f":"AF926+IF(COUNTIF($AC$15:AC927,AC927)>1,0,1)","v":21},{"$f":"IF(ROWS(AF$15:AF927)>MAX(AF:AF),\"\",INDEX(AC:AC,MATCH(ROWS(AF$15:AF927),AF:AF,0)))","v":""},{"$f":"IF(AD927=\"\",AH926,AH926+IF(COUNTIF($AD$15:AD927,AD927)>1,0,1))","v":0},{"$f":"IF(ROWS($AH$15:AH927)>MAX(AH:AH),\"\",INDEX(AD:AD,MATCH(ROWS($AH$15:AH927),AH:AH,0)))","v":""}]
[null,null,null,null,null,null,null,null,null,null,null,null,null,null,null,null,null,null,null,null,null,null,null,null,null,null,null,914,"","","",{"$f":"AF927+IF(COUNTIF($AC$15:AC928,AC928)>1,0,1)","v":21},{"$f":"IF(ROWS(AF$15:AF928)>MAX(AF:AF),\"\",INDEX(AC:AC,MATCH(ROWS(AF$15:AF928),AF:AF,0)))","v":""},{"$f":"IF(AD928=\"\",AH927,AH927+IF(COUNTIF($AD$15:AD928,AD928)>1,0,1))","v":0},{"$f":"IF(ROWS($AH$15:AH928)>MAX(AH:AH),\"\",INDEX(AD:AD,MATCH(ROWS($AH$15:AH928),AH:AH,0)))","v":""}]
[null,null,null,null,null,null,null,null,null,null,null,null,null,null,null,null,null,null,null,null,null,null,null,null,null,null,null,915,"","","",{"$f":"AF928+IF(COUNTIF($AC$15:AC929,AC929)>1,0,1)","v":21},{"$f":"IF(ROWS(AF$15:AF929)>MAX(AF:AF),\"\",INDEX(AC:AC,MATCH(ROWS(AF$15:AF929),AF:AF,0)))","v":""},{"$f":"IF(AD929=\"\",AH928,AH928+IF(COUNTIF($AD$15:AD929,AD929)>1,0,1))","v":0},{"$f":"IF(ROWS($AH$15:AH929)>MAX(AH:AH),\"\",INDEX(AD:AD,MATCH(ROWS($AH$15:AH929),AH:AH,0)))","v":""}]
[null,null,null,null,null,null,null,null,null,null,null,null,null,null,null,null,null,null,null,null,null,null,null,null,null,null,null,916,"","","",{"$f":"AF929+IF(COUNTIF($AC$15:AC930,AC930)>1,0,1)","v":21},{"$f":"IF(ROWS(AF$15:AF930)>MAX(AF:AF),\"\",INDEX(AC:AC,MATCH(ROWS(AF$15:AF930),AF:AF,0)))","v":""},{"$f":"IF(AD930=\"\",AH929,AH929+IF(COUNTIF($AD$15:AD930,AD930)>1,0,1))","v":0},{"$f":"IF(ROWS($AH$15:AH930)>MAX(AH:AH),\"\",INDEX(AD:AD,MATCH(ROWS($AH$15:AH930),AH:AH,0)))","v":""}]
[null,null,null,null,null,null,null,null,null,null,null,null,null,null,null,null,null,null,null,null,null,null,null,null,null,null,null,917,"","","",{"$f":"AF930+IF(COUNTIF($AC$15:AC931,AC931)>1,0,1)","v":21},{"$f":"IF(ROWS(AF$15:AF931)>MAX(AF:AF),\"\",INDEX(AC:AC,MATCH(ROWS(AF$15:AF931),AF:AF,0)))","v":""},{"$f":"IF(AD931=\"\",AH930,AH930+IF(COUNTIF($AD$15:AD931,AD931)>1,0,1))","v":0},{"$f":"IF(ROWS($AH$15:AH931)>MAX(AH:AH),\"\",INDEX(AD:AD,MATCH(ROWS($AH$15:AH931),AH:AH,0)))","v":""}]
[null,null,null,null,null,null,null,null,null,null,null,null,null,null,null,null,null,null,null,null,null,null,null,null,null,null,null,918,"","","",{"$f":"AF931+IF(COUNTIF($AC$15:AC932,AC932)>1,0,1)","v":21},{"$f":"IF(ROWS(AF$15:AF932)>MAX(AF:AF),\"\",INDEX(AC:AC,MATCH(ROWS(AF$15:AF932),AF:AF,0)))","v":""},{"$f":"IF(AD932=\"\",AH931,AH931+IF(COUNTIF($AD$15:AD932,AD932)>1,0,1))","v":0},{"$f":"IF(ROWS($AH$15:AH932)>MAX(AH:AH),\"\",INDEX(AD:AD,MATCH(ROWS($AH$15:AH932),AH:AH,0)))","v":""}]
[null,null,null,null,null,null,null,null,null,null,null,null,null,null,null,null,null,null,null,null,null,null,null,null,null,null,null,919,"","","",{"$f":"AF932+IF(COUNTIF($AC$15:AC933,AC933)>1,0,1)","v":21},{"$f":"IF(ROWS(AF$15:AF933)>MAX(AF:AF),\"\",INDEX(AC:AC,MATCH(ROWS(AF$15:AF933),AF:AF,0)))","v":""},{"$f":"IF(AD933=\"\",AH932,AH932+IF(COUNTIF($AD$15:AD933,AD933)>1,0,1))","v":0},{"$f":"IF(ROWS($AH$15:AH933)>MAX(AH:AH),\"\",INDEX(AD:AD,MATCH(ROWS($AH$15:AH933),AH:AH,0)))","v":""}]
[null,null,null,null,null,null,null,null,null,null,null,null,null,null,null,null,null,null,null,null,null,null,null,null,null,null,null,920,"","","",{"$f":"AF933+IF(COUNTIF($AC$15:AC934,AC934)>1,0,1)","v":21},{"$f":"IF(ROWS(AF$15:AF934)>MAX(AF:AF),\"\",INDEX(AC:AC,MATCH(ROWS(AF$15:AF934),AF:AF,0)))","v":""},{"$f":"IF(AD934=\"\",AH933,AH933+IF(COUNTIF($AD$15:AD934,AD934)>1,0,1))","v":0},{"$f":"IF(ROWS($AH$15:AH934)>MAX(AH:AH),\"\",INDEX(AD:AD,MATCH(ROWS($AH$15:AH934),AH:AH,0)))","v":""}]
[null,null,null,null,null,null,null,null,null,null,null,null,null,null,null,null,null,null,null,null,null,null,null,null,null,null,null,921,"","","",{"$f":"AF934+IF(COUNTIF($AC$15:AC935,AC935)>1,0,1)","v":21},{"$f":"IF(ROWS(AF$15:AF935)>MAX(AF:AF),\"\",INDEX(AC:AC,MATCH(ROWS(AF$15:AF935),AF:AF,0)))","v":""},{"$f":"IF(AD935=\"\",AH934,AH934+IF(COUNTIF($AD$15:AD935,AD935)>1,0,1))","v":0},{"$f":"IF(ROWS($AH$15:AH935)>MAX(AH:AH),\"\",INDEX(AD:AD,MATCH(ROWS($AH$15:AH935),AH:AH,0)))","v":""}]
[null,null,null,null,null,null,null,null,null,null,null,null,null,null,null,null,null,null,null,null,null,null,null,null,null,null,null,922,"","","",{"$f":"AF935+IF(COUNTIF($AC$15:AC936,AC936)>1,0,1)","v":21},{"$f":"IF(ROWS(AF$15:AF936)>MAX(AF:AF),\"\",INDEX(AC:AC,MATCH(ROWS(AF$15:AF936),AF:AF,0)))","v":""},{"$f":"IF(AD936=\"\",AH935,AH935+IF(COUNTIF($AD$15:AD936,AD936)>1,0,1))","v":0},{"$f":"IF(ROWS($AH$15:AH936)>MAX(AH:AH),\"\",INDEX(AD:AD,MATCH(ROWS($AH$15:AH936),AH:AH,0)))","v":""}]
[null,null,null,null,null,null,null,null,null,null,null,null,null,null,null,null,null,null,null,null,null,null,null,null,null,null,null,923,"","","",{"$f":"AF936+IF(COUNTIF($AC$15:AC937,AC937)>1,0,1)","v":21},{"$f":"IF(ROWS(AF$15:AF937)>MAX(AF:AF),\"\",INDEX(AC:AC,MATCH(ROWS(AF$15:AF937),AF:AF,0)))","v":""},{"$f":"IF(AD937=\"\",AH936,AH936+IF(COUNTIF($AD$15:AD937,AD937)>1,0,1))","v":0},{"$f":"IF(ROWS($AH$15:AH937)>MAX(AH:AH),\"\",INDEX(AD:AD,MATCH(ROWS($AH$15:AH937),AH:AH,0)))","v":""}]
[null,null,null,null,null,null,null,null,null,null,null,null,null,null,null,null,null,null,null,null,null,null,null,null,null,null,null,924,"","","",{"$f":"AF937+IF(COUNTIF($AC$15:AC938,AC938)>1,0,1)","v":21},{"$f":"IF(ROWS(AF$15:AF938)>MAX(AF:AF),\"\",INDEX(AC:AC,MATCH(ROWS(AF$15:AF938),AF:AF,0)))","v":""},{"$f":"IF(AD938=\"\",AH937,AH937+IF(COUNTIF($AD$15:AD938,AD938)>1,0,1))","v":0},{"$f":"IF(ROWS($AH$15:AH938)>MAX(AH:AH),\"\",INDEX(AD:AD,MATCH(ROWS($AH$15:AH938),AH:AH,0)))","v":""}]
[null,null,null,null,null,null,null,null,null,null,null,null,null,null,null,null,null,null,null,null,null,null,null,null,null,null,null,925,"","","",{"$f":"AF938+IF(COUNTIF($AC$15:AC939,AC939)>1,0,1)","v":21},{"$f":"IF(ROWS(AF$15:AF939)>MAX(AF:AF),\"\",INDEX(AC:AC,MATCH(ROWS(AF$15:AF939),AF:AF,0)))","v":""},{"$f":"IF(AD939=\"\",AH938,AH938+IF(COUNTIF($AD$15:AD939,AD939)>1,0,1))","v":0},{"$f":"IF(ROWS($AH$15:AH939)>MAX(AH:AH),\"\",INDEX(AD:AD,MATCH(ROWS($AH$15:AH939),AH:AH,0)))","v":""}]
[null,null,null,null,null,null,null,null,null,null,null,null,null,null,null,null,null,null,null,null,null,null,null,null,null,null,null,926,"","","",{"$f":"AF939+IF(COUNTIF($AC$15:AC940,AC940)>1,0,1)","v":21},{"$f":"IF(ROWS(AF$15:AF940)>MAX(AF:AF),\"\",INDEX(AC:AC,MATCH(ROWS(AF$15:AF940),AF:AF,0)))","v":""},{"$f":"IF(AD940=\"\",AH939,AH939+IF(COUNTIF($AD$15:AD940,AD940)>1,0,1))","v":0},{"$f":"IF(ROWS($AH$15:AH940)>MAX(AH:AH),\"\",INDEX(AD:AD,MATCH(ROWS($AH$15:AH940),AH:AH,0)))","v":""}]
[null,null,null,null,null,null,null,null,null,null,null,null,null,null,null,null,null,null,null,null,null,null,null,null,null,null,null,927,"","","",{"$f":"AF940+IF(COUNTIF($AC$15:AC941,AC941)>1,0,1)","v":21},{"$f":"IF(ROWS(AF$15:AF941)>MAX(AF:AF),\"\",INDEX(AC:AC,MATCH(ROWS(AF$15:AF941),AF:AF,0)))","v":""},{"$f":"IF(AD941=\"\",AH940,AH940+IF(COUNTIF($AD$15:AD941,AD941)>1,0,1))","v":0},{"$f":"IF(ROWS($AH$15:AH941)>MAX(AH:AH),\"\",INDEX(AD:AD,MATCH(ROWS($AH$15:AH941),AH:AH,0)))","v":""}]
[null,null,null,null,null,null,null,null,null,null,null,null,null,null,null,null,null,null,null,null,null,null,null,null,null,null,null,928,"","","",{"$f":"AF941+IF(COUNTIF($AC$15:AC942,AC942)>1,0,1)","v":21},{"$f":"IF(ROWS(AF$15:AF942)>MAX(AF:AF),\"\",INDEX(AC:AC,MATCH(ROWS(AF$15:AF942),AF:AF,0)))","v":""},{"$f":"IF(AD942=\"\",AH941,AH941+IF(COUNTIF($AD$15:AD942,AD942)>1,0,1))","v":0},{"$f":"IF(ROWS($AH$15:AH942)>MAX(AH:AH),\"\",INDEX(AD:AD,MATCH(ROWS($AH$15:AH942),AH:AH,0)))","v":""}]
[null,null,null,null,null,null,null,null,null,null,null,null,null,null,null,null,null,null,null,null,null,null,null,null,null,null,null,929,"","","",{"$f":"AF942+IF(COUNTIF($AC$15:AC943,AC943)>1,0,1)","v":21},{"$f":"IF(ROWS(AF$15:AF943)>MAX(AF:AF),\"\",INDEX(AC:AC,MATCH(ROWS(AF$15:AF943),AF:AF,0)))","v":""},{"$f":"IF(AD943=\"\",AH942,AH942+IF(COUNTIF($AD$15:AD943,AD943)>1,0,1))","v":0},{"$f":"IF(ROWS($AH$15:AH943)>MAX(AH:AH),\"\",INDEX(AD:AD,MATCH(ROWS($AH$15:AH943),AH:AH,0)))","v":""}]
[null,null,null,null,null,null,null,null,null,null,null,null,null,null,null,null,null,null,null,null,null,null,null,null,null,null,null,930,"","","",{"$f":"AF943+IF(COUNTIF($AC$15:AC944,AC944)>1,0,1)","v":21},{"$f":"IF(ROWS(AF$15:AF944)>MAX(AF:AF),\"\",INDEX(AC:AC,MATCH(ROWS(AF$15:AF944),AF:AF,0)))","v":""},{"$f":"IF(AD944=\"\",AH943,AH943+IF(COUNTIF($AD$15:AD944,AD944)>1,0,1))","v":0},{"$f":"IF(ROWS($AH$15:AH944)>MAX(AH:AH),\"\",INDEX(AD:AD,MATCH(ROWS($AH$15:AH944),AH:AH,0)))","v":""}]
[null,null,null,null,null,null,null,null,null,null,null,null,null,null,null,null,null,null,null,null,null,null,null,null,null,null,null,931,"","","",{"$f":"AF944+IF(COUNTIF($AC$15:AC945,AC945)>1,0,1)","v":21},{"$f":"IF(ROWS(AF$15:AF945)>MAX(AF:AF),\"\",INDEX(AC:AC,MATCH(ROWS(AF$15:AF945),AF:AF,0)))","v":""},{"$f":"IF(AD945=\"\",AH944,AH944+IF(COUNTIF($AD$15:AD945,AD945)>1,0,1))","v":0},{"$f":"IF(ROWS($AH$15:AH945)>MAX(AH:AH),\"\",INDEX(AD:AD,MATCH(ROWS($AH$15:AH945),AH:AH,0)))","v":""}]
[null,null,null,null,null,null,null,null,null,null,null,null,null,null,null,null,null,null,null,null,null,null,null,null,null,null,null,932,"","","",{"$f":"AF945+IF(COUNTIF($AC$15:AC946,AC946)>1,0,1)","v":21},{"$f":"IF(ROWS(AF$15:AF946)>MAX(AF:AF),\"\",INDEX(AC:AC,MATCH(ROWS(AF$15:AF946),AF:AF,0)))","v":""},{"$f":"IF(AD946=\"\",AH945,AH945+IF(COUNTIF($AD$15:AD946,AD946)>1,0,1))","v":0},{"$f":"IF(ROWS($AH$15:AH946)>MAX(AH:AH),\"\",INDEX(AD:AD,MATCH(ROWS($AH$15:AH946),AH:AH,0)))","v":""}]
[null,null,null,null,null,null,null,null,null,null,null,null,null,null,null,null,null,null,null,null,null,null,null,null,null,null,null,933,"","","",{"$f":"AF946+IF(COUNTIF($AC$15:AC947,AC947)>1,0,1)","v":21},{"$f":"IF(ROWS(AF$15:AF947)>MAX(AF:AF),\"\",INDEX(AC:AC,MATCH(ROWS(AF$15:AF947),AF:AF,0)))","v":""},{"$f":"IF(AD947=\"\",AH946,AH946+IF(COUNTIF($AD$15:AD947,AD947)>1,0,1))","v":0},{"$f":"IF(ROWS($AH$15:AH947)>MAX(AH:AH),\"\",INDEX(AD:AD,MATCH(ROWS($AH$15:AH947),AH:AH,0)))","v":""}]
[null,null,null,null,null,null,null,null,null,null,null,null,null,null,null,null,null,null,null,null,null,null,null,null,null,null,null,934,"","","",{"$f":"AF947+IF(COUNTIF($AC$15:AC948,AC948)>1,0,1)","v":21},{"$f":"IF(ROWS(AF$15:AF948)>MAX(AF:AF),\"\",INDEX(AC:AC,MATCH(ROWS(AF$15:AF948),AF:AF,0)))","v":""},{"$f":"IF(AD948=\"\",AH947,AH947+IF(COUNTIF($AD$15:AD948,AD948)>1,0,1))","v":0},{"$f":"IF(ROWS($AH$15:AH948)>MAX(AH:AH),\"\",INDEX(AD:AD,MATCH(ROWS($AH$15:AH948),AH:AH,0)))","v":""}]
[null,null,null,null,null,null,null,null,null,null,null,null,null,null,null,null,null,null,null,null,null,null,null,null,null,null,null,935,"","","",{"$f":"AF948+IF(COUNTIF($AC$15:AC949,AC949)>1,0,1)","v":21},{"$f":"IF(ROWS(AF$15:AF949)>MAX(AF:AF),\"\",INDEX(AC:AC,MATCH(ROWS(AF$15:AF949),AF:AF,0)))","v":""},{"$f":"IF(AD949=\"\",AH948,AH948+IF(COUNTIF($AD$15:AD949,AD949)>1,0,1))","v":0},{"$f":"IF(ROWS($AH$15:AH949)>MAX(AH:AH),\"\",INDEX(AD:AD,MATCH(ROWS($AH$15:AH949),AH:AH,0)))","v":""}]
[null,null,null,null,null,null,null,null,null,null,null,null,null,null,null,null,null,null,null,null,null,null,null,null,null,null,null,936,"","","",{"$f":"AF949+IF(COUNTIF($AC$15:AC950,AC950)>1,0,1)","v":21},{"$f":"IF(ROWS(AF$15:AF950)>MAX(AF:AF),\"\",INDEX(AC:AC,MATCH(ROWS(AF$15:AF950),AF:AF,0)))","v":""},{"$f":"IF(AD950=\"\",AH949,AH949+IF(COUNTIF($AD$15:AD950,AD950)>1,0,1))","v":0},{"$f":"IF(ROWS($AH$15:AH950)>MAX(AH:AH),\"\",INDEX(AD:AD,MATCH(ROWS($AH$15:AH950),AH:AH,0)))","v":""}]
[null,null,null,null,null,null,null,null,null,null,null,null,null,null,null,null,null,null,null,null,null,null,null,null,null,null,null,937,"","","",{"$f":"AF950+IF(COUNTIF($AC$15:AC951,AC951)>1,0,1)","v":21},{"$f":"IF(ROWS(AF$15:AF951)>MAX(AF:AF),\"\",INDEX(AC:AC,MATCH(ROWS(AF$15:AF951),AF:AF,0)))","v":""},{"$f":"IF(AD951=\"\",AH950,AH950+IF(COUNTIF($AD$15:AD951,AD951)>1,0,1))","v":0},{"$f":"IF(ROWS($AH$15:AH951)>MAX(AH:AH),\"\",INDEX(AD:AD,MATCH(ROWS($AH$15:AH951),AH:AH,0)))","v":""}]
[null,null,null,null,null,null,null,null,null,null,null,null,null,null,null,null,null,null,null,null,null,null,null,null,null,null,null,938,"","","",{"$f":"AF951+IF(COUNTIF($AC$15:AC952,AC952)>1,0,1)","v":21},{"$f":"IF(ROWS(AF$15:AF952)>MAX(AF:AF),\"\",INDEX(AC:AC,MATCH(ROWS(AF$15:AF952),AF:AF,0)))","v":""},{"$f":"IF(AD952=\"\",AH951,AH951+IF(COUNTIF($AD$15:AD952,AD952)>1,0,1))","v":0},{"$f":"IF(ROWS($AH$15:AH952)>MAX(AH:AH),\"\",INDEX(AD:AD,MATCH(ROWS($AH$15:AH952),AH:AH,0)))","v":""}]
[null,null,null,null,null,null,null,null,null,null,null,null,null,null,null,null,null,null,null,null,null,null,null,null,null,null,null,939,"","","",{"$f":"AF952+IF(COUNTIF($AC$15:AC953,AC953)>1,0,1)","v":21},{"$f":"IF(ROWS(AF$15:AF953)>MAX(AF:AF),\"\",INDEX(AC:AC,MATCH(ROWS(AF$15:AF953),AF:AF,0)))","v":""},{"$f":"IF(AD953=\"\",AH952,AH952+IF(COUNTIF($AD$15:AD953,AD953)>1,0,1))","v":0},{"$f":"IF(ROWS($AH$15:AH953)>MAX(AH:AH),\"\",INDEX(AD:AD,MATCH(ROWS($AH$15:AH953),AH:AH,0)))","v":""}]
[null,null,null,null,null,null,null,null,null,null,null,null,null,null,null,null,null,null,null,null,null,null,null,null,null,null,null,940,"","","",{"$f":"AF953+IF(COUNTIF($AC$15:AC954,AC954)>1,0,1)","v":21},{"$f":"IF(ROWS(AF$15:AF954)>MAX(AF:AF),\"\",INDEX(AC:AC,MATCH(ROWS(AF$15:AF954),AF:AF,0)))","v":""},{"$f":"IF(AD954=\"\",AH953,AH953+IF(COUNTIF($AD$15:AD954,AD954)>1,0,1))","v":0},{"$f":"IF(ROWS($AH$15:AH954)>MAX(AH:AH),\"\",INDEX(AD:AD,MATCH(ROWS($AH$15:AH954),AH:AH,0)))","v":""}]
[null,null,null,null,null,null,null,null,null,null,null,null,null,null,null,null,null,null,null,null,null,null,null,null,null,null,null,941,"","","",{"$f":"AF954+IF(COUNTIF($AC$15:AC955,AC955)>1,0,1)","v":21},{"$f":"IF(ROWS(AF$15:AF955)>MAX(AF:AF),\"\",INDEX(AC:AC,MATCH(ROWS(AF$15:AF955),AF:AF,0)))","v":""},{"$f":"IF(AD955=\"\",AH954,AH954+IF(COUNTIF($AD$15:AD955,AD955)>1,0,1))","v":0},{"$f":"IF(ROWS($AH$15:AH955)>MAX(AH:AH),\"\",INDEX(AD:AD,MATCH(ROWS($AH$15:AH955),AH:AH,0)))","v":""}]
[null,null,null,null,null,null,null,null,null,null,null,null,null,null,null,null,null,null,null,null,null,null,null,null,null,null,null,942,"","","",{"$f":"AF955+IF(COUNTIF($AC$15:AC956,AC956)>1,0,1)","v":21},{"$f":"IF(ROWS(AF$15:AF956)>MAX(AF:AF),\"\",INDEX(AC:AC,MATCH(ROWS(AF$15:AF956),AF:AF,0)))","v":""},{"$f":"IF(AD956=\"\",AH955,AH955+IF(COUNTIF($AD$15:AD956,AD956)>1,0,1))","v":0},{"$f":"IF(ROWS($AH$15:AH956)>MAX(AH:AH),\"\",INDEX(AD:AD,MATCH(ROWS($AH$15:AH956),AH:AH,0)))","v":""}]
[null,null,null,null,null,null,null,null,null,null,null,null,null,null,null,null,null,null,null,null,null,null,null,null,null,null,null,943,"","","",{"$f":"AF956+IF(COUNTIF($AC$15:AC957,AC957)>1,0,1)","v":21},{"$f":"IF(ROWS(AF$15:AF957)>MAX(AF:AF),\"\",INDEX(AC:AC,MATCH(ROWS(AF$15:AF957),AF:AF,0)))","v":""},{"$f":"IF(AD957=\"\",AH956,AH956+IF(COUNTIF($AD$15:AD957,AD957)>1,0,1))","v":0},{"$f":"IF(ROWS($AH$15:AH957)>MAX(AH:AH),\"\",INDEX(AD:AD,MATCH(ROWS($AH$15:AH957),AH:AH,0)))","v":""}]
[null,null,null,null,null,null,null,null,null,null,null,null,null,null,null,null,null,null,null,null,null,null,null,null,null,null,null,944,"","","",{"$f":"AF957+IF(COUNTIF($AC$15:AC958,AC958)>1,0,1)","v":21},{"$f":"IF(ROWS(AF$15:AF958)>MAX(AF:AF),\"\",INDEX(AC:AC,MATCH(ROWS(AF$15:AF958),AF:AF,0)))","v":""},{"$f":"IF(AD958=\"\",AH957,AH957+IF(COUNTIF($AD$15:AD958,AD958)>1,0,1))","v":0},{"$f":"IF(ROWS($AH$15:AH958)>MAX(AH:AH),\"\",INDEX(AD:AD,MATCH(ROWS($AH$15:AH958),AH:AH,0)))","v":""}]
[null,null,null,null,null,null,null,null,null,null,null,null,null,null,null,null,null,null,null,null,null,null,null,null,null,null,null,945,"","","",{"$f":"AF958+IF(COUNTIF($AC$15:AC959,AC959)>1,0,1)","v":21},{"$f":"IF(ROWS(AF$15:AF959)>MAX(AF:AF),\"\",INDEX(AC:AC,MATCH(ROWS(AF$15:AF959),AF:AF,0)))","v":""},{"$f":"IF(AD959=\"\",AH958,AH958+IF(COUNTIF($AD$15:AD959,AD959)>1,0,1))","v":0},{"$f":"IF(ROWS($AH$15:AH959)>MAX(AH:AH),\"\",INDEX(AD:AD,MATCH(ROWS($AH$15:AH959),AH:AH,0)))","v":""}]
[null,null,null,null,null,null,null,null,null,null,null,null,null,null,null,null,null,null,null,null,null,null,null,null,null,null,null,946,"","","",{"$f":"AF959+IF(COUNTIF($AC$15:AC960,AC960)>1,0,1)","v":21},{"$f":"IF(ROWS(AF$15:AF960)>MAX(AF:AF),\"\",INDEX(AC:AC,MATCH(ROWS(AF$15:AF960),AF:AF,0)))","v":""},{"$f":"IF(AD960=\"\",AH959,AH959+IF(COUNTIF($AD$15:AD960,AD960)>1,0,1))","v":0},{"$f":"IF(ROWS($AH$15:AH960)>MAX(AH:AH),\"\",INDEX(AD:AD,MATCH(ROWS($AH$15:AH960),AH:AH,0)))","v":""}]
[null,null,null,null,null,null,null,null,null,null,null,null,null,null,null,null,null,null,null,null,null,null,null,null,null,null,null,947,"","","",{"$f":"AF960+IF(COUNTIF($AC$15:AC961,AC961)>1,0,1)","v":21},{"$f":"IF(ROWS(AF$15:AF961)>MAX(AF:AF),\"\",INDEX(AC:AC,MATCH(ROWS(AF$15:AF961),AF:AF,0)))","v":""},{"$f":"IF(AD961=\"\",AH960,AH960+IF(COUNTIF($AD$15:AD961,AD961)>1,0,1))","v":0},{"$f":"IF(ROWS($AH$15:AH961)>MAX(AH:AH),\"\",INDEX(AD:AD,MATCH(ROWS($AH$15:AH961),AH:AH,0)))","v":""}]
[null,null,null,null,null,null,null,null,null,null,null,null,null,null,null,null,null,null,null,null,null,null,null,null,null,null,null,948,"","","",{"$f":"AF961+IF(COUNTIF($AC$15:AC962,AC962)>1,0,1)","v":21},{"$f":"IF(ROWS(AF$15:AF962)>MAX(AF:AF),\"\",INDEX(AC:AC,MATCH(ROWS(AF$15:AF962),AF:AF,0)))","v":""},{"$f":"IF(AD962=\"\",AH961,AH961+IF(COUNTIF($AD$15:AD962,AD962)>1,0,1))","v":0},{"$f":"IF(ROWS($AH$15:AH962)>MAX(AH:AH),\"\",INDEX(AD:AD,MATCH(ROWS($AH$15:AH962),AH:AH,0)))","v":""}]
[null,null,null,null,null,null,null,null,null,null,null,null,null,null,null,null,null,null,null,null,null,null,null,null,null,null,null,949,"","","",{"$f":"AF962+IF(COUNTIF($AC$15:AC963,AC963)>1,0,1)","v":21},{"$f":"IF(ROWS(AF$15:AF963)>MAX(AF:AF),\"\",INDEX(AC:AC,MATCH(ROWS(AF$15:AF963),AF:AF,0)))","v":""},{"$f":"IF(AD963=\"\",AH962,AH962+IF(COUNTIF($AD$15:AD963,AD963)>1,0,1))","v":0},{"$f":"IF(ROWS($AH$15:AH963)>MAX(AH:AH),\"\",INDEX(AD:AD,MATCH(ROWS($AH$15:AH963),AH:AH,0)))","v":""}]
[null,null,null,null,null,null,null,null,null,null,null,null,null,null,null,null,null,null,null,null,null,null,null,null,null,null,null,950,"","","",{"$f":"AF963+IF(COUNTIF($AC$15:AC964,AC964)>1,0,1)","v":21},{"$f":"IF(ROWS(AF$15:AF964)>MAX(AF:AF),\"\",INDEX(AC:AC,MATCH(ROWS(AF$15:AF964),AF:AF,0)))","v":""},{"$f":"IF(AD964=\"\",AH963,AH963+IF(COUNTIF($AD$15:AD964,AD964)>1,0,1))","v":0},{"$f":"IF(ROWS($AH$15:AH964)>MAX(AH:AH),\"\",INDEX(AD:AD,MATCH(ROWS($AH$15:AH964),AH:AH,0)))","v":""}]
[null,null,null,null,null,null,null,null,null,null,null,null,null,null,null,null,null,null,null,null,null,null,null,null,null,null,null,951,"","","",{"$f":"AF964+IF(COUNTIF($AC$15:AC965,AC965)>1,0,1)","v":21},{"$f":"IF(ROWS(AF$15:AF965)>MAX(AF:AF),\"\",INDEX(AC:AC,MATCH(ROWS(AF$15:AF965),AF:AF,0)))","v":""},{"$f":"IF(AD965=\"\",AH964,AH964+IF(COUNTIF($AD$15:AD965,AD965)>1,0,1))","v":0},{"$f":"IF(ROWS($AH$15:AH965)>MAX(AH:AH),\"\",INDEX(AD:AD,MATCH(ROWS($AH$15:AH965),AH:AH,0)))","v":""}]
[null,null,null,null,null,null,null,null,null,null,null,null,null,null,null,null,null,null,null,null,null,null,null,null,null,null,null,952,"","","",{"$f":"AF965+IF(COUNTIF($AC$15:AC966,AC966)>1,0,1)","v":21},{"$f":"IF(ROWS(AF$15:AF966)>MAX(AF:AF),\"\",INDEX(AC:AC,MATCH(ROWS(AF$15:AF966),AF:AF,0)))","v":""},{"$f":"IF(AD966=\"\",AH965,AH965+IF(COUNTIF($AD$15:AD966,AD966)>1,0,1))","v":0},{"$f":"IF(ROWS($AH$15:AH966)>MAX(AH:AH),\"\",INDEX(AD:AD,MATCH(ROWS($AH$15:AH966),AH:AH,0)))","v":""}]
[null,null,null,null,null,null,null,null,null,null,null,null,null,null,null,null,null,null,null,null,null,null,null,null,null,null,null,953,"","","",{"$f":"AF966+IF(COUNTIF($AC$15:AC967,AC967)>1,0,1)","v":21},{"$f":"IF(ROWS(AF$15:AF967)>MAX(AF:AF),\"\",INDEX(AC:AC,MATCH(ROWS(AF$15:AF967),AF:AF,0)))","v":""},{"$f":"IF(AD967=\"\",AH966,AH966+IF(COUNTIF($AD$15:AD967,AD967)>1,0,1))","v":0},{"$f":"IF(ROWS($AH$15:AH967)>MAX(AH:AH),\"\",INDEX(AD:AD,MATCH(ROWS($AH$15:AH967),AH:AH,0)))","v":""}]
[null,null,null,null,null,null,null,null,null,null,null,null,null,null,null,null,null,null,null,null,null,null,null,null,null,null,null,954,"","","",{"$f":"AF967+IF(COUNTIF($AC$15:AC968,AC968)>1,0,1)","v":21},{"$f":"IF(ROWS(AF$15:AF968)>MAX(AF:AF),\"\",INDEX(AC:AC,MATCH(ROWS(AF$15:AF968),AF:AF,0)))","v":""},{"$f":"IF(AD968=\"\",AH967,AH967+IF(COUNTIF($AD$15:AD968,AD968)>1,0,1))","v":0},{"$f":"IF(ROWS($AH$15:AH968)>MAX(AH:AH),\"\",INDEX(AD:AD,MATCH(ROWS($AH$15:AH968),AH:AH,0)))","v":""}]
[null,null,null,null,null,null,null,null,null,null,null,null,null,null,null,null,null,null,null,null,null,null,null,null,null,null,null,955,"","","",{"$f":"AF968+IF(COUNTIF($AC$15:AC969,AC969)>1,0,1)","v":21},{"$f":"IF(ROWS(AF$15:AF969)>MAX(AF:AF),\"\",INDEX(AC:AC,MATCH(ROWS(AF$15:AF969),AF:AF,0)))","v":""},{"$f":"IF(AD969=\"\",AH968,AH968+IF(COUNTIF($AD$15:AD969,AD969)>1,0,1))","v":0},{"$f":"IF(ROWS($AH$15:AH969)>MAX(AH:AH),\"\",INDEX(AD:AD,MATCH(ROWS($AH$15:AH969),AH:AH,0)))","v":""}]
[null,null,null,null,null,null,null,null,null,null,null,null,null,null,null,null,null,null,null,null,null,null,null,null,null,null,null,956,"","","",{"$f":"AF969+IF(COUNTIF($AC$15:AC970,AC970)>1,0,1)","v":21},{"$f":"IF(ROWS(AF$15:AF970)>MAX(AF:AF),\"\",INDEX(AC:AC,MATCH(ROWS(AF$15:AF970),AF:AF,0)))","v":""},{"$f":"IF(AD970=\"\",AH969,AH969+IF(COUNTIF($AD$15:AD970,AD970)>1,0,1))","v":0},{"$f":"IF(ROWS($AH$15:AH970)>MAX(AH:AH),\"\",INDEX(AD:AD,MATCH(ROWS($AH$15:AH970),AH:AH,0)))","v":""}]
[null,null,null,null,null,null,null,null,null,null,null,null,null,null,null,null,null,null,null,null,null,null,null,null,null,null,null,957,"","","",{"$f":"AF970+IF(COUNTIF($AC$15:AC971,AC971)>1,0,1)","v":21},{"$f":"IF(ROWS(AF$15:AF971)>MAX(AF:AF),\"\",INDEX(AC:AC,MATCH(ROWS(AF$15:AF971),AF:AF,0)))","v":""},{"$f":"IF(AD971=\"\",AH970,AH970+IF(COUNTIF($AD$15:AD971,AD971)>1,0,1))","v":0},{"$f":"IF(ROWS($AH$15:AH971)>MAX(AH:AH),\"\",INDEX(AD:AD,MATCH(ROWS($AH$15:AH971),AH:AH,0)))","v":""}]
[null,null,null,null,null,null,null,null,null,null,null,null,null,null,null,null,null,null,null,null,null,null,null,null,null,null,null,958,"","","",{"$f":"AF971+IF(COUNTIF($AC$15:AC972,AC972)>1,0,1)","v":21},{"$f":"IF(ROWS(AF$15:AF972)>MAX(AF:AF),\"\",INDEX(AC:AC,MATCH(ROWS(AF$15:AF972),AF:AF,0)))","v":""},{"$f":"IF(AD972=\"\",AH971,AH971+IF(COUNTIF($AD$15:AD972,AD972)>1,0,1))","v":0},{"$f":"IF(ROWS($AH$15:AH972)>MAX(AH:AH),\"\",INDEX(AD:AD,MATCH(ROWS($AH$15:AH972),AH:AH,0)))","v":""}]
[null,null,null,null,null,null,null,null,null,null,null,null,null,null,null,null,null,null,null,null,null,null,null,null,null,null,null,959,"","","",{"$f":"AF972+IF(COUNTIF($AC$15:AC973,AC973)>1,0,1)","v":21},{"$f":"IF(ROWS(AF$15:AF973)>MAX(AF:AF),\"\",INDEX(AC:AC,MATCH(ROWS(AF$15:AF973),AF:AF,0)))","v":""},{"$f":"IF(AD973=\"\",AH972,AH972+IF(COUNTIF($AD$15:AD973,AD973)>1,0,1))","v":0},{"$f":"IF(ROWS($AH$15:AH973)>MAX(AH:AH),\"\",INDEX(AD:AD,MATCH(ROWS($AH$15:AH973),AH:AH,0)))","v":""}]
[null,null,null,null,null,null,null,null,null,null,null,null,null,null,null,null,null,null,null,null,null,null,null,null,null,null,null,960,"","","",{"$f":"AF973+IF(COUNTIF($AC$15:AC974,AC974)>1,0,1)","v":21},{"$f":"IF(ROWS(AF$15:AF974)>MAX(AF:AF),\"\",INDEX(AC:AC,MATCH(ROWS(AF$15:AF974),AF:AF,0)))","v":""},{"$f":"IF(AD974=\"\",AH973,AH973+IF(COUNTIF($AD$15:AD974,AD974)>1,0,1))","v":0},{"$f":"IF(ROWS($AH$15:AH974)>MAX(AH:AH),\"\",INDEX(AD:AD,MATCH(ROWS($AH$15:AH974),AH:AH,0)))","v":""}]
[null,null,null,null,null,null,null,null,null,null,null,null,null,null,null,null,null,null,null,null,null,null,null,null,null,null,null,961,"","","",{"$f":"AF974+IF(COUNTIF($AC$15:AC975,AC975)>1,0,1)","v":21},{"$f":"IF(ROWS(AF$15:AF975)>MAX(AF:AF),\"\",INDEX(AC:AC,MATCH(ROWS(AF$15:AF975),AF:AF,0)))","v":""},{"$f":"IF(AD975=\"\",AH974,AH974+IF(COUNTIF($AD$15:AD975,AD975)>1,0,1))","v":0},{"$f":"IF(ROWS($AH$15:AH975)>MAX(AH:AH),\"\",INDEX(AD:AD,MATCH(ROWS($AH$15:AH975),AH:AH,0)))","v":""}]
[null,null,null,null,null,null,null,null,null,null,null,null,null,null,null,null,null,null,null,null,null,null,null,null,null,null,null,962,{"$f":"IF(INDIRECT($AC$1&\"D\"&$AB976+1)=\"\",\"\",INDIRECT($AC$1&\"D\"&$AB976+1))","v":""},{"$f":"IF(AC976=\"\",\"\",IF($E$16=AC976,INDIRECT($AC$1&\"E\"&$AB976+1),\"\"))","v":""},{"$f":"IF(ISBLANK($E$17),\"\",IF($E$17<>AD976,\"\",IF(INDIRECT($AC$1&\"U\"&$AB976+1)=\"Yes\",INDIRECT($AC$1&\"I\"&$AB976+1),\"\")))","v":""},{"$f":"AF975+IF(COUNTIF($AC$15:AC976,AC976)>1,0,1)","v":21},{"$f":"IF(ROWS(AF$15:AF976)>MAX(AF:AF),\"\",INDEX(AC:AC,MATCH(ROWS(AF$15:AF976),AF:AF,0)))","v":""},{"$f":"IF(AD976=\"\",AH975,AH975+IF(COUNTIF($AD$15:AD976,AD976)>1,0,1))","v":0},{"$f":"IF(ROWS($AH$15:AH976)>MAX(AH:AH),\"\",INDEX(AD:AD,MATCH(ROWS($AH$15:AH976),AH:AH,0)))","v":""}]
[null,null,null,null,null,null,null,null,null,null,null,null,null,null,null,null,null,null,null,null,null,null,null,null,null,null,null,{"$f":"AB976+1","v":963},"","","",{"$f":"AF976+IF(COUNTIF($AC$15:AC977,AC977)>1,0,1)","v":21},{"$f":"IF(ROWS(AF$15:AF977)>MAX(AF:AF),\"\",INDEX(AC:AC,MATCH(ROWS(AF$15:AF977),AF:AF,0)))","v":""},{"$f":"IF(AD977=\"\",AH976,AH976+IF(COUNTIF($AD$15:AD977,AD977)>1,0,1))","v":0},{"$f":"IF(ROWS($AH$15:AH977)>MAX(AH:AH),\"\",INDEX(AD:AD,MATCH(ROWS($AH$15:AH977),AH:AH,0)))","v":""}]
[null,null,null,null,null,null,null,null,null,null,null,null,null,null,null,null,null,null,null,null,null,null,null,null,null,null,null,964,"","","",{"$f":"AF977+IF(COUNTIF($AC$15:AC978,AC978)>1,0,1)","v":21},{"$f":"IF(ROWS(AF$15:AF978)>MAX(AF:AF),\"\",INDEX(AC:AC,MATCH(ROWS(AF$15:AF978),AF:AF,0)))","v":""},{"$f":"IF(AD978=\"\",AH977,AH977+IF(COUNTIF($AD$15:AD978,AD978)>1,0,1))","v":0},{"$f":"IF(ROWS($AH$15:AH978)>MAX(AH:AH),\"\",INDEX(AD:AD,MATCH(ROWS($AH$15:AH978),AH:AH,0)))","v":""}]
[null,null,null,null,null,null,null,null,null,null,null,null,null,null,null,null,null,null,null,null,null,null,null,null,null,null,null,965,"","","",{"$f":"AF978+IF(COUNTIF($AC$15:AC979,AC979)>1,0,1)","v":21},{"$f":"IF(ROWS(AF$15:AF979)>MAX(AF:AF),\"\",INDEX(AC:AC,MATCH(ROWS(AF$15:AF979),AF:AF,0)))","v":""},{"$f":"IF(AD979=\"\",AH978,AH978+IF(COUNTIF($AD$15:AD979,AD979)>1,0,1))","v":0},{"$f":"IF(ROWS($AH$15:AH979)>MAX(AH:AH),\"\",INDEX(AD:AD,MATCH(ROWS($AH$15:AH979),AH:AH,0)))","v":""}]
[null,null,null,null,null,null,null,null,null,null,null,null,null,null,null,null,null,null,null,null,null,null,null,null,null,null,null,966,"","","",{"$f":"AF979+IF(COUNTIF($AC$15:AC980,AC980)>1,0,1)","v":21},{"$f":"IF(ROWS(AF$15:AF980)>MAX(AF:AF),\"\",INDEX(AC:AC,MATCH(ROWS(AF$15:AF980),AF:AF,0)))","v":""},{"$f":"IF(AD980=\"\",AH979,AH979+IF(COUNTIF($AD$15:AD980,AD980)>1,0,1))","v":0},{"$f":"IF(ROWS($AH$15:AH980)>MAX(AH:AH),\"\",INDEX(AD:AD,MATCH(ROWS($AH$15:AH980),AH:AH,0)))","v":""}]
[null,null,null,null,null,null,null,null,null,null,null,null,null,null,null,null,null,null,null,null,null,null,null,null,null,null,null,967,"","","",{"$f":"AF980+IF(COUNTIF($AC$15:AC981,AC981)>1,0,1)","v":21},{"$f":"IF(ROWS(AF$15:AF981)>MAX(AF:AF),\"\",INDEX(AC:AC,MATCH(ROWS(AF$15:AF981),AF:AF,0)))","v":""},{"$f":"IF(AD981=\"\",AH980,AH980+IF(COUNTIF($AD$15:AD981,AD981)>1,0,1))","v":0},{"$f":"IF(ROWS($AH$15:AH981)>MAX(AH:AH),\"\",INDEX(AD:AD,MATCH(ROWS($AH$15:AH981),AH:AH,0)))","v":""}]
[null,null,null,null,null,null,null,null,null,null,null,null,null,null,null,null,null,null,null,null,null,null,null,null,null,null,null,968,"","","",{"$f":"AF981+IF(COUNTIF($AC$15:AC982,AC982)>1,0,1)","v":21},{"$f":"IF(ROWS(AF$15:AF982)>MAX(AF:AF),\"\",INDEX(AC:AC,MATCH(ROWS(AF$15:AF982),AF:AF,0)))","v":""},{"$f":"IF(AD982=\"\",AH981,AH981+IF(COUNTIF($AD$15:AD982,AD982)>1,0,1))","v":0},{"$f":"IF(ROWS($AH$15:AH982)>MAX(AH:AH),\"\",INDEX(AD:AD,MATCH(ROWS($AH$15:AH982),AH:AH,0)))","v":""}]
[null,null,null,null,null,null,null,null,null,null,null,null,null,null,null,null,null,null,null,null,null,null,null,null,null,null,null,969,"","","",{"$f":"AF982+IF(COUNTIF($AC$15:AC983,AC983)>1,0,1)","v":21},{"$f":"IF(ROWS(AF$15:AF983)>MAX(AF:AF),\"\",INDEX(AC:AC,MATCH(ROWS(AF$15:AF983),AF:AF,0)))","v":""},{"$f":"IF(AD983=\"\",AH982,AH982+IF(COUNTIF($AD$15:AD983,AD983)>1,0,1))","v":0},{"$f":"IF(ROWS($AH$15:AH983)>MAX(AH:AH),\"\",INDEX(AD:AD,MATCH(ROWS($AH$15:AH983),AH:AH,0)))","v":""}]
[null,null,null,null,null,null,null,null,null,null,null,null,null,null,null,null,null,null,null,null,null,null,null,null,null,null,null,970,"","","",{"$f":"AF983+IF(COUNTIF($AC$15:AC984,AC984)>1,0,1)","v":21},{"$f":"IF(ROWS(AF$15:AF984)>MAX(AF:AF),\"\",INDEX(AC:AC,MATCH(ROWS(AF$15:AF984),AF:AF,0)))","v":""},{"$f":"IF(AD984=\"\",AH983,AH983+IF(COUNTIF($AD$15:AD984,AD984)>1,0,1))","v":0},{"$f":"IF(ROWS($AH$15:AH984)>MAX(AH:AH),\"\",INDEX(AD:AD,MATCH(ROWS($AH$15:AH984),AH:AH,0)))","v":""}]
[null,null,null,null,null,null,null,null,null,null,null,null,null,null,null,null,null,null,null,null,null,null,null,null,null,null,null,971,"","","",{"$f":"AF984+IF(COUNTIF($AC$15:AC985,AC985)>1,0,1)","v":21},{"$f":"IF(ROWS(AF$15:AF985)>MAX(AF:AF),\"\",INDEX(AC:AC,MATCH(ROWS(AF$15:AF985),AF:AF,0)))","v":""},{"$f":"IF(AD985=\"\",AH984,AH984+IF(COUNTIF($AD$15:AD985,AD985)>1,0,1))","v":0},{"$f":"IF(ROWS($AH$15:AH985)>MAX(AH:AH),\"\",INDEX(AD:AD,MATCH(ROWS($AH$15:AH985),AH:AH,0)))","v":""}]
[null,null,null,null,null,null,null,null,null,null,null,null,null,null,null,null,null,null,null,null,null,null,null,null,null,null,null,972,"","","",{"$f":"AF985+IF(COUNTIF($AC$15:AC986,AC986)>1,0,1)","v":21},{"$f":"IF(ROWS(AF$15:AF986)>MAX(AF:AF),\"\",INDEX(AC:AC,MATCH(ROWS(AF$15:AF986),AF:AF,0)))","v":""},{"$f":"IF(AD986=\"\",AH985,AH985+IF(COUNTIF($AD$15:AD986,AD986)>1,0,1))","v":0},{"$f":"IF(ROWS($AH$15:AH986)>MAX(AH:AH),\"\",INDEX(AD:AD,MATCH(ROWS($AH$15:AH986),AH:AH,0)))","v":""}]
[null,null,null,null,null,null,null,null,null,null,null,null,null,null,null,null,null,null,null,null,null,null,null,null,null,null,null,973,"","","",{"$f":"AF986+IF(COUNTIF($AC$15:AC987,AC987)>1,0,1)","v":21},{"$f":"IF(ROWS(AF$15:AF987)>MAX(AF:AF),\"\",INDEX(AC:AC,MATCH(ROWS(AF$15:AF987),AF:AF,0)))","v":""},{"$f":"IF(AD987=\"\",AH986,AH986+IF(COUNTIF($AD$15:AD987,AD987)>1,0,1))","v":0},{"$f":"IF(ROWS($AH$15:AH987)>MAX(AH:AH),\"\",INDEX(AD:AD,MATCH(ROWS($AH$15:AH987),AH:AH,0)))","v":""}]
[null,null,null,null,null,null,null,null,null,null,null,null,null,null,null,null,null,null,null,null,null,null,null,null,null,null,null,974,"","","",{"$f":"AF987+IF(COUNTIF($AC$15:AC988,AC988)>1,0,1)","v":21},{"$f":"IF(ROWS(AF$15:AF988)>MAX(AF:AF),\"\",INDEX(AC:AC,MATCH(ROWS(AF$15:AF988),AF:AF,0)))","v":""},{"$f":"IF(AD988=\"\",AH987,AH987+IF(COUNTIF($AD$15:AD988,AD988)>1,0,1))","v":0},{"$f":"IF(ROWS($AH$15:AH988)>MAX(AH:AH),\"\",INDEX(AD:AD,MATCH(ROWS($AH$15:AH988),AH:AH,0)))","v":""}]
[null,null,null,null,null,null,null,null,null,null,null,null,null,null,null,null,null,null,null,null,null,null,null,null,null,null,null,975,"","","",{"$f":"AF988+IF(COUNTIF($AC$15:AC989,AC989)>1,0,1)","v":21},{"$f":"IF(ROWS(AF$15:AF989)>MAX(AF:AF),\"\",INDEX(AC:AC,MATCH(ROWS(AF$15:AF989),AF:AF,0)))","v":""},{"$f":"IF(AD989=\"\",AH988,AH988+IF(COUNTIF($AD$15:AD989,AD989)>1,0,1))","v":0},{"$f":"IF(ROWS($AH$15:AH989)>MAX(AH:AH),\"\",INDEX(AD:AD,MATCH(ROWS($AH$15:AH989),AH:AH,0)))","v":""}]
[null,null,null,null,null,null,null,null,null,null,null,null,null,null,null,null,null,null,null,null,null,null,null,null,null,null,null,976,"","","",{"$f":"AF989+IF(COUNTIF($AC$15:AC990,AC990)>1,0,1)","v":21},{"$f":"IF(ROWS(AF$15:AF990)>MAX(AF:AF),\"\",INDEX(AC:AC,MATCH(ROWS(AF$15:AF990),AF:AF,0)))","v":""},{"$f":"IF(AD990=\"\",AH989,AH989+IF(COUNTIF($AD$15:AD990,AD990)>1,0,1))","v":0},{"$f":"IF(ROWS($AH$15:AH990)>MAX(AH:AH),\"\",INDEX(AD:AD,MATCH(ROWS($AH$15:AH990),AH:AH,0)))","v":""}]
[null,null,null,null,null,null,null,null,null,null,null,null,null,null,null,null,null,null,null,null,null,null,null,null,null,null,null,977,"","","",{"$f":"AF990+IF(COUNTIF($AC$15:AC991,AC991)>1,0,1)","v":21},{"$f":"IF(ROWS(AF$15:AF991)>MAX(AF:AF),\"\",INDEX(AC:AC,MATCH(ROWS(AF$15:AF991),AF:AF,0)))","v":""},{"$f":"IF(AD991=\"\",AH990,AH990+IF(COUNTIF($AD$15:AD991,AD991)>1,0,1))","v":0},{"$f":"IF(ROWS($AH$15:AH991)>MAX(AH:AH),\"\",INDEX(AD:AD,MATCH(ROWS($AH$15:AH991),AH:AH,0)))","v":""}]
[null,null,null,null,null,null,null,null,null,null,null,null,null,null,null,null,null,null,null,null,null,null,null,null,null,null,null,978,"","","",{"$f":"AF991+IF(COUNTIF($AC$15:AC992,AC992)>1,0,1)","v":21},{"$f":"IF(ROWS(AF$15:AF992)>MAX(AF:AF),\"\",INDEX(AC:AC,MATCH(ROWS(AF$15:AF992),AF:AF,0)))","v":""},{"$f":"IF(AD992=\"\",AH991,AH991+IF(COUNTIF($AD$15:AD992,AD992)>1,0,1))","v":0},{"$f":"IF(ROWS($AH$15:AH992)>MAX(AH:AH),\"\",INDEX(AD:AD,MATCH(ROWS($AH$15:AH992),AH:AH,0)))","v":""}]
[null,null,null,null,null,null,null,null,null,null,null,null,null,null,null,null,null,null,null,null,null,null,null,null,null,null,null,979,"","","",{"$f":"AF992+IF(COUNTIF($AC$15:AC993,AC993)>1,0,1)","v":21},{"$f":"IF(ROWS(AF$15:AF993)>MAX(AF:AF),\"\",INDEX(AC:AC,MATCH(ROWS(AF$15:AF993),AF:AF,0)))","v":""},{"$f":"IF(AD993=\"\",AH992,AH992+IF(COUNTIF($AD$15:AD993,AD993)>1,0,1))","v":0},{"$f":"IF(ROWS($AH$15:AH993)>MAX(AH:AH),\"\",INDEX(AD:AD,MATCH(ROWS($AH$15:AH993),AH:AH,0)))","v":""}]
[null,null,null,null,null,null,null,null,null,null,null,null,null,null,null,null,null,null,null,null,null,null,null,null,null,null,null,980,"","","",{"$f":"AF993+IF(COUNTIF($AC$15:AC994,AC994)>1,0,1)","v":21},{"$f":"IF(ROWS(AF$15:AF994)>MAX(AF:AF),\"\",INDEX(AC:AC,MATCH(ROWS(AF$15:AF994),AF:AF,0)))","v":""},{"$f":"IF(AD994=\"\",AH993,AH993+IF(COUNTIF($AD$15:AD994,AD994)>1,0,1))","v":0},{"$f":"IF(ROWS($AH$15:AH994)>MAX(AH:AH),\"\",INDEX(AD:AD,MATCH(ROWS($AH$15:AH994),AH:AH,0)))","v":""}]
[null,null,null,null,null,null,null,null,null,null,null,null,null,null,null,null,null,null,null,null,null,null,null,null,null,null,null,981,"","","",{"$f":"AF994+IF(COUNTIF($AC$15:AC995,AC995)>1,0,1)","v":21},{"$f":"IF(ROWS(AF$15:AF995)>MAX(AF:AF),\"\",INDEX(AC:AC,MATCH(ROWS(AF$15:AF995),AF:AF,0)))","v":""},{"$f":"IF(AD995=\"\",AH994,AH994+IF(COUNTIF($AD$15:AD995,AD995)>1,0,1))","v":0},{"$f":"IF(ROWS($AH$15:AH995)>MAX(AH:AH),\"\",INDEX(AD:AD,MATCH(ROWS($AH$15:AH995),AH:AH,0)))","v":""}]
[null,null,null,null,null,null,null,null,null,null,null,null,null,null,null,null,null,null,null,null,null,null,null,null,null,null,null,982,"","","",{"$f":"AF995+IF(COUNTIF($AC$15:AC996,AC996)>1,0,1)","v":21},{"$f":"IF(ROWS(AF$15:AF996)>MAX(AF:AF),\"\",INDEX(AC:AC,MATCH(ROWS(AF$15:AF996),AF:AF,0)))","v":""},{"$f":"IF(AD996=\"\",AH995,AH995+IF(COUNTIF($AD$15:AD996,AD996)>1,0,1))","v":0},{"$f":"IF(ROWS($AH$15:AH996)>MAX(AH:AH),\"\",INDEX(AD:AD,MATCH(ROWS($AH$15:AH996),AH:AH,0)))","v":""}]
[null,null,null,null,null,null,null,null,null,null,null,null,null,null,null,null,null,null,null,null,null,null,null,null,null,null,null,983,"","","",{"$f":"AF996+IF(COUNTIF($AC$15:AC997,AC997)>1,0,1)","v":21},{"$f":"IF(ROWS(AF$15:AF997)>MAX(AF:AF),\"\",INDEX(AC:AC,MATCH(ROWS(AF$15:AF997),AF:AF,0)))","v":""},{"$f":"IF(AD997=\"\",AH996,AH996+IF(COUNTIF($AD$15:AD997,AD997)>1,0,1))","v":0},{"$f":"IF(ROWS($AH$15:AH997)>MAX(AH:AH),\"\",INDEX(AD:AD,MATCH(ROWS($AH$15:AH997),AH:AH,0)))","v":""}]
[null,null,null,null,null,null,null,null,null,null,null,null,null,null,null,null,null,null,null,null,null,null,null,null,null,null,null,984,"","","",{"$f":"AF997+IF(COUNTIF($AC$15:AC998,AC998)>1,0,1)","v":21},{"$f":"IF(ROWS(AF$15:AF998)>MAX(AF:AF),\"\",INDEX(AC:AC,MATCH(ROWS(AF$15:AF998),AF:AF,0)))","v":""},{"$f":"IF(AD998=\"\",AH997,AH997+IF(COUNTIF($AD$15:AD998,AD998)>1,0,1))","v":0},{"$f":"IF(ROWS($AH$15:AH998)>MAX(AH:AH),\"\",INDEX(AD:AD,MATCH(ROWS($AH$15:AH998),AH:AH,0)))","v":""}]
[null,null,null,null,null,null,null,null,null,null,null,null,null,null,null,null,null,null,null,null,null,null,null,null,null,null,null,985,"","","",{"$f":"AF998+IF(COUNTIF($AC$15:AC999,AC999)>1,0,1)","v":21},{"$f":"IF(ROWS(AF$15:AF999)>MAX(AF:AF),\"\",INDEX(AC:AC,MATCH(ROWS(AF$15:AF999),AF:AF,0)))","v":""},{"$f":"IF(AD999=\"\",AH998,AH998+IF(COUNTIF($AD$15:AD999,AD999)>1,0,1))","v":0},{"$f":"IF(ROWS($AH$15:AH999)>MAX(AH:AH),\"\",INDEX(AD:AD,MATCH(ROWS($AH$15:AH999),AH:AH,0)))","v":""}]
[null,null,null,null,null,null,null,null,null,null,null,null,null,null,null,null,null,null,null,null,null,null,null,null,null,null,null,986,"","","",{"$f":"AF999+IF(COUNTIF($AC$15:AC1000,AC1000)>1,0,1)","v":21},{"$f":"IF(ROWS(AF$15:AF1000)>MAX(AF:AF),\"\",INDEX(AC:AC,MATCH(ROWS(AF$15:AF1000),AF:AF,0)))","v":""},{"$f":"IF(AD1000=\"\",AH999,AH999+IF(COUNTIF($AD$15:AD1000,AD1000)>1,0,1))","v":0},{"$f":"IF(ROWS($AH$15:AH1000)>MAX(AH:AH),\"\",INDEX(AD:AD,MATCH(ROWS($AH$15:AH1000),AH:AH,0)))","v":""}]

{"sheet":"DY3 Category 4","index":1,"n_rows":877,"n_cols":25,"rows_kept":877,"cut":false,"hidden":true,"merged":[]}
["DC_Check TPI","DC TPI_RD","RHP_TPI","RHP","TPI","Provider Name","Project ID","Old Reporting Domain ID","Mstone/RD","Year","Rd 1 Achieved?","Rd 1 HHSC Signoff","Rd 1 HHSC Comment","Rd 2 Progress Update Signoff","Rd 2 Achieved?","Rd 2 HHSC Signoff","Rd 2 HHSC Comment","Reported","Measurement Period Component 1 End Date","Measurement Period Component 2 End Date","April Eligible","Begin DY4 Comp 1","End DY4 Comp 1","Begin DY4 Comp 2","End DY4 Comp 2"]
[{"$f":"LEN(E2)","v":9},{"$f":"E2&\"_\"&I2","v":"017624007_3"},{"$f":"D2&\"_\"&E2","v":"1_017624007"},1,"017624007","ETMC Quitman","017624002.4","017624002.4.1",3,3,"Yes-Completed","Approved","Provider submitted required documentation to support Category 4 achievement. Project 017624002.4.1 is approved and eligible for DY3 payment.",null,"Yes-Completed","Previously Approved",null,"Round 1 (April)","2012-12-31",null,"YES","2013-01-01","2013-12-31","",""]
[{"$f":"LEN(E3)","v":9},{"$f":"E3&\"_\"&I3","v":"017624007_1"},{"$f":"D3&\"_\"&E3","v":"1_017624007"},1,"017624007","ETMC Quitman","017624002.4","017624002.4.2",1,3,"Yes-Completed","Approved","Provider submitted required documentation to support Category 4 achievement. Project 017624002.4.2 is approved and eligible for DY3 payment.",null,"Yes-Completed","Previously Approved",null,"Round 1 (April)","2012-12-31",null,"YES","2013-01-01","2013-12-31","",""]
[9,"017624007_2","1_017624007",1,"017624007","ETMC Quitman","017624002.4","017624002.4.3",2,3,"Yes-Completed","Approved","Provider submitted required documentation to support Category 4 achievement. Project 017624002.4.3 is approved and eligible for DY3 payment.",null,"Yes-Completed","Previously Approved",null,"Round 1 (April)","2012-12-31",null,"YES","2013-01-01","2013-12-31","",""]
[9,"017624007_4","1_017624007",1,"017624007","ETMC Quitman","017624002.4","017624002.4.5",4,3,"No-Not Started","Did Not Report",null,null,"Yes-Completed","Approved","Category 4 reporting domian was reviewed, and HHSC found provider submitted documentation to support achievement. Project is approved and eligible for payment.\n","Round 2 (October)","2013-06-30","2014-09-30","NO","2013-07-01","2014-06-30","2014-10-01","2015-09-30"]
[9,"017624007_5","1_017624007",1,"017624007","ETMC Quitman","017624002.4","017624002.4.6",5,3,"No-Not Started","Did Not Report",null,null,"Yes-Completed","Needs More Info - Approved","Category 4 reporting domain was reviewed, and HHSC found provider submitted documentation to support achievement. Reporting domain is approved and eligible for payment.\n","Round 2 (October) - Needs More Info","2014-09-30",null,"NO","2014-10-01","2015-09-30","",""]
[9,"020812601_3","1_020812601",1,"020812601","East Texas Medical Center","020812601.4","020812601.4.1",3,3,"Yes-Completed","Approved","Provider submitted required documentation to support Category 4 achievement. Project 020812601.4.1 is approved and eligible for DY3 payment.",null,"Yes-Completed","Previously Approved",null,"Round 1 (April)","2012-12-31",null,"YES","2013-01-01","2013-12-31","",""]
[9,"020812601_1","1_020812601",1,"020812601","East Texas Medical Center","020812601.4","020812601.4.2",1,3,"Yes-Completed","Approved","Provider submitted required documentation to support Category 4 achievement. Project 020812601.4.2 is approved and eligible for DY3 payment.",null,"Yes-Completed","Previously Approved",null,"Round 1 (April)","2012-12-31",null,"YES","2013-01-01","2013-12-31","",""]
[9,"020812601_2","1_020812601",1,"020812601","East Texas Medical Center","020812601.4","020812601.4.3",2,3,"Yes-Completed","Approved","Provider submitted required documentation to support Category 4 achievement. Project 020812601.4.3 is approved and eligible for DY3 payment.",null,"Yes-Completed","Previously Approved",null,"Round 1 (April)","2012-12-31",null,"YES","2013-01-01","2013-12-31","",""]
[9,"020812601_4","1_020812601",1,"020812601","East Texas Medical Center","020812601.4","020812601.4.5",4,3,"No-Not Started","Did Not Report",null,null,"Yes-Completed","Approved","Category 4 reporting domain was reviewed, and HHSC found provider submitted documentation to support achievement. Project is approved and eligible for payment.\n","Round 2 (October)","2013-06-30","2014-09-30","NO","2013-07-01","2014-06-30","2014-10-01","2015-09-30"]
[9,"020812601_5","1_020812601",1,"020812601","East Texas Medical Center","020812601.4","020812601.4.6",5,3,"No-Not Started","Did Not Report",null,null,"Yes-Completed","Needs More Info - Approved","Category 4 reporting domain was reviewed, and HHSC found provider submitted documentation to support achievement. Reporting domain is approved and eligible for payment.\n","Round 2 (October) - Needs More Info","2014-09-30",null,"NO","2014-10-01","2015-09-30","",""]
[9,"094095902_3","1_094095902",1,"094095902","The Good Shepherd Hospital dba Good Shepherd Medic","094095902.4","094095902.4.1",3,3,"No-Not Started","Did Not Report",null,null,null,null,null,"Did Not Report","2012-12-31",null,"YES","2013-01-01","2013-12-31","",""]
[9,"094095902_1","1_094095902",1,"094095902","The Good Shepherd Hospital dba Good Shepherd Medic","094095902.4","094095902.4.2",1,3,"No-Not Started","Did Not Report",null,null,"Yes-Completed","Approved","Category 4 reporting domain was reviewed, and HHSC found provider submitted documentation to support achievement. Project is approved and eligible for payment.\n","Round 2 (October)","2012-12-31",null,"YES","2013-01-01","2013-12-31","",""]
[9,"094095902_2","1_094095902",1,"094095902","The Good Shepherd Hospital dba Good Shepherd Medic","094095902.4","094095902.4.3",2,3,"No-Not Started","Did Not Report",null,null,"Yes-Completed","Approved","Category 4 reporting domain was reviewed, and HHSC found provider submitted documentation to support achievement. Project is approved and eligible for payment.\n","Round 2 (October)","2012-12-31",null,"YES","2013-01-01","2013-12-31","",""]
[9,"094095902_4","1_094095902",1,"094095902","The Good Shepherd Hospital dba Good Shepherd Medic","094095902.4","094095902.4.5",4,3,"No-Not Started","Did Not Report",null,null,"Yes-Completed","Not Approved","HHSC found achievement of Category 4 reporting domain is not clearly demonstrated. Provider did not report a medication management rate in accordance with the October DY3 reporting companion. Reporting domain is not approved and is no longer eligible for payment.\n","Round 2 (October) - Not Approved","2013-09-30","DNR","YES","2013-10-01","2014-09-30","TBD","TBD"]
[9,"094095902_5","1_094095902",1,"094095902","The Good Shepherd Hospital dba Good Shepherd Medic","094095902.4","094095902.4.6",5,3,"No-Not Started","Did Not Report",null,null,"Yes-Completed","Approved","Category 4 reporting domain was reviewed, and HHSC found provider submitted documentation to support achievement. Project is approved and eligible for payment.\n","Round 2 (October)","2014-09-30",null,"NO","2014-10-01","2015-09-30","",""]
[9,"094095902_6","1_094095902",1,"094095902","The Good Shepherd Hospital dba Good Shepherd Medic","094095902.4","094095902.4.7",6,3,"No-Not Started","Did Not Report",null,null,"Yes-Completed","Needs More Info - Approved","Category 4 reporting domain was reviewed, and HHSC found provider submitted documentation to support achievement. Reporting domain is approved and eligible for payment.","Round 2 (October) - Needs More Info","2013-09-30",null,"YES","2013-10-01","2014-09-30","",""]
[9,"094108002_3","1_094108002",1,"094108002","Mother Frances Hospital Regional Healthcare Center","094108002.4","094108002.4.1",3,3,"Yes-Completed","Approved","Provider submitted required documentation to support Category 4 achievement. Project 094108002.4.1 is approved and eligible for DY3 payment.",null,"Yes-Completed","Previously Approved",null,"Round 1 (April)","2012-12-31",null,"YES","2013-01-01","2013-12-31","",""]
[9,"094108002_1","1_094108002",1,"094108002","Mother Frances Hospital Regional Healthcare Center","094108002.4","094108002.4.2",1,3,"Yes-Completed","Approved","Provider submitted required documentation to support Category 4 achievement. Project 094108002.4.2 is approved and eligible for DY3 payment.",null,"Yes-Completed","Previously Approved",null,"Round 1 (April)","2012-12-31",null,"YES","2013-01-01","2013-12-31","",""]
[9,"094108002_2","1_094108002",1,"094108002","Mother Frances Hospital Regional Healthcare Center","094108002.4","094108002.4.3",2,3,"Yes-Completed","Approved","Provider submitted required documentation to support Category 4 achievement. Project 094108002.4.3 is approved and eligible for DY3 payment.",null,"Yes-Completed","Previously Approved",null,"Round 1 (April)","2012-12-31",null,"YES","2013-01-01","2013-12-31","",""]
[9,"094108002_4","1_094108002",1,"094108002","Mother Frances Hospital Regional Healthcare Center","094108002.4","094108002.4.5",4,3,"No-Not Started","Did Not Report",null,null,"Yes-Completed","Approved","Category 4 reporting domain was reviewed, and HHSC found provider submitted documentation to support achievement. Reporting domain is approved and eligible for payment.\n","Round 2 (October)","2013-12-31","2013-12-31","YES","2014-01-01","2014-12-31","2014-01-01","2014-12-31"]
[9,"094108002_5","1_094108002",1,"094108002","Mother Frances Hospital Regional Healthcare Center","094108002.4","094108002.4.6",5,3,"No-Not Started","Did Not Report",null,null,"Yes-Completed","Needs More Info - Approved","Category 4 reporting domain was reviewed, and HHSC found provider submitted documentation to support achievement. Reporting domain is approved and eligible for payment.","Round 2 (October) - Needs More Info","2013-12-31",null,"YES","2014-01-01","2014-12-31","",""]
[9,"094127002_3","1_094127002",1,"094127002","East Texas Medical Center Carthage","094127002.4","094127002.4.1",3,3,"Yes-Completed","Approved","Provider submitted required documentation to support Category 4 achievement. Project 094127002.4.1 is approved and eligible for DY3 payment.",null,"Yes-Completed","Previously Approved",null,"Round 1 (April)","2012-12-31",null,"YES","2013-01-01","2013-12-31","",""]
[9,"094127002_1","1_094127002",1,"094127002","East Texas Medical Center Carthage","094127002.4","094127002.4.2",1,3,"Yes-Completed","Approved","Provider submitted required documentation to support Category 4 achievement. Project 094127002.4.2 is approved and eligible for DY3 payment.",null,"Yes-Completed","Previously Approved",null,"Round 1 (April)","2012-12-31",null,"YES","2013-01-01","2013-12-31","",""]
[9,"094127002_2","1_094127002",1,"094127002","East Texas Medical Center Carthage","094127002.4","094127002.4.3",2,3,"Yes-Completed","Approved","Provider submitted required documentation to support Category 4 achievement. Project 094127002.4.3 is approved and eligible for DY3 payment.",null,"Yes-Completed","Previously Approved",null,"Round 1 (April)","2012-12-31",null,"YES","2013-01-01","2013-12-31","",""]
[9,"094127002_4","1_094127002",1,"094127002","East Texas Medical Center Carthage","094127002.4","094127002.4.5",4,3,"No-Not Started","Did Not Report",null,null,"Yes-Completed","Approved","Category 4 reporting domain was reviewed, and HHSC found provider submitted documentation to support achievement. Reporting domain is approved and eligible for payment.\n","Round 2 (October)","2013-06-30","2013-06-30","YES","2013-07-01","2014-06-30","2013-07-01","2014-06-30"]
[9,"094127002_5","1_094127002",1,"094127002","East Texas Medical Center Carthage","094127002.4","094127002.4.6",5,3,"No-Not Started","Did Not Report",null,null,"Yes-Completed","Needs More Info - Approved","Category 4 reporting domain was reviewed, and HHSC found provider submitted documentation to support achievement. Reporting domain is approved and eligible for payment.\n","Round 2 (October) - Needs More Info","2014-09-30",null,"NO","2014-10-01","2015-09-30","",""]
[9,"094190802_3","1_094190802",1,"094190802","East Texas Medical Center Fairfield dba ETMC Fairf","094190802.4","094190802.4.1",3,3,"Yes-Completed","Approved","Provider submitted required documentation to support Category 4 achievement. Project 094190802.4.1 is approved and eligible for DY3 payment.",null,"Yes-Completed","Previously Approved",null,"Round 1 (April)","2012-12-31",null,"YES","2013-01-01","2013-12-31","",""]
[9,"094190802_1","1_094190802",1,"094190802","East Texas Medical Center Fairfield dba ETMC Fairf","094190802.4","094190802.4.2",1,3,"Yes-Completed","Approved","Provider submitted required documentation to support Category 4 achievement. Project 094190802.4.2 is approved and eligible for DY3 payment.",null,"Yes-Completed","Previously Approved",null,"Round 1 (April)","2012-12-31",null,"YES","2013-01-01","2013-12-31","",""]
[9,"094190802_2","1_094190802",1,"094190802","East Texas Medical Center Fairfield dba ETMC Fairf","094190802.4","094190802.4.3",2,3,"Yes-Completed","Approved","Provider submitted required documentation to support Category 4 achievement. Project 094190802.4.3 is approved and eligible for DY3 payment.",null,"Yes-Completed","Previously Approved",null,"Round 1 (April)","2012-12-31",null,"YES","2013-01-01","2013-12-31","",""]
[9,"094190802_4","1_094190802",1,"094190802","East Texas Medical Center Fairfield dba ETMC Fairf","094190802.4","094190802.4.5",4,3,"No-Not Started","Did Not Report",null,null,"Yes-Completed","Needs More Info - Approved","Category 4 reporting domain was reviewed, and HHSC found provider submitted documentation to support achievement. Reporting domain is approved and eligible for payment.\n","Round 2 (October) - Needs More Info","2013-06-30","2014-09-30","NO","2013-07-01","2014-06-30","2014-10-01","2015-09-30"]
[9,"094190802_5","1_094190802",1,"094190802","East Texas Medical Center Fairfield dba ETMC Fairf","094190802.4","094190802.4.6",5,3,"No-Not Started","Did Not Report",null,null,"Yes-Completed","Needs More Info - Approved","Category 4 reporting domain was reviewed, and HHSC found provider submitted documentation to support achievement. Reporting domain is approved and eligible for payment.\n\n","Round 2 (October) - Needs More Info","2014-09-30",null,"NO","2014-10-01","2015-09-30","",""]
[9,"121817401_3","1_121817401",1,"121817401","East Texas Medical Center Trinity","121817401.4","121817401.4.1",3,3,"Yes-Completed","Approved","Provider submitted required documentation to support Category 4 achievement. Project 121817401.4.1 is approved and eligible for DY3 payment.",null,"Yes-Completed","Previously Approved",null,"Round 1 (April)","2012-12-31",null,"YES","2013-01-01","2013-12-31","",""]
[9,"121817401_1","1_121817401",1,"121817401","East Texas Medical Center Trinity","121817401.4","121817401.4.2",1,3,"Yes-Completed","Approved","Provider submitted required documentation to support Category 4 achievement. Project 121817401.4.2 is approved and eligible for DY3 payment.",null,"Yes-Completed","Previously Approved",null,"Round 1 (April)","2012-12-31",null,"YES","2013-01-01","2013-12-31","",""]
[9,"121817401_2","1_121817401",1,"121817401","East Texas Medical Center Trinity","121817401.4","121817401.4.3",2,3,"Yes-Completed","Approved","Provider submitted required documentation to support Category 4 achievement. Project 121817401.4.3 is approved and eligible for DY3 payment.",null,"Yes-Completed","Previously Approved",null,"Round 1 (April)","2012-12-31",null,"YES","2013-01-01","2013-12-31","",""]
[9,"121817401_4","1_121817401",1,"121817401","East Texas Medical Center Trinity","121817401.4","121817401.4.5",4,3,"No-Not Started","Did Not Report",null,null,"Yes-Completed","Approved","Category 4 reporting domain was reviewed, and HHSC found provider submitted documentation to support achievement. Reporting domain is approved and eligible for payment.\n","Round 2 (October)","2013-06-30","2013-06-30","YES","2013-07-01","2014-06-30","2013-07-01","2014-06-30"]
[9,"121817401_5","1_121817401",1,"121817401","East Texas Medical Center Trinity","121817401.4","121817401.4.6",5,3,"No-Not Started","Did Not Report",null,null,"Yes-Completed","Needs More Info - Approved","Category 4 reporting domain was reviewed, and HHSC found provider submitted documentation to support achievement. Reporting domain is approved and eligible for payment.\n","Round 2 (October) - Needs More Info","2014-09-30",null,"NO","2014-10-01","2015-09-30","",""]
[9,"130612806_3","1_130612806",1,"130612806","East Texas Medical Center, Jacksonville","130612806.4","130612806.4.1",3,3,"Yes-Completed","Approved","Provider submitted required documentation to support Category 4 achievement. Project 130612806.4.1 is approved and eligible for DY3 payment.",null,"Yes-Completed","Previously Approved",null,"Round 1 (April)","2012-12-31",null,"YES","2013-01-01","2013-12-31","",""]
[9,"130612806_1","1_130612806",1,"130612806","East Texas Medical Center, Jacksonville","130612806.4","130612806.4.2",1,3,"Yes-Completed","Approved","Provider submitted required documentation to support Category 4 achievement. Project 130612806.4.2 is approved and eligible for DY3 payment.",null,"Yes-Completed","Previously Approved",null,"Round 1 (April)","2012-12-31",null,"YES","2013-01-01","2013-12-31","",""]
[9,"130612806_2","1_130612806",1,"130612806","East Texas Medical Center, Jacksonville","130612806.4","130612806.4.3",2,3,"Yes-Completed","Approved","Provider submitted required documentation to support Category 4 achievement. Project 130612806.4.3 is approved and eligible for DY3 payment.",null,"Yes-Completed","Previously Approved",null,"Round 1 (April)","2012-12-31",null,"YES","2013-01-01","2013-12-31","",""]
[9,"130612806_4","1_130612806",1,"130612806","East Texas Medical Center, Jacksonville","130612806.4","130612806.4.5",4,3,"No-Not Started","Did Not Report",null,null,"Yes-Completed","Approved","Category 4 reporting domain was reviewed, and HHSC found provider submitted documentation to support achievement. Project is approved and eligible for payment.\n","Round 2 (October)","2013-06-30","2014-09-30","NO","2013-07-01","2014-06-30","2014-10-01","2015-09-30"]
[9,"130612806_5","1_130612806",1,"130612806","East Texas Medical Center, Jacksonville","130612806.4","130612806.4.6",5,3,"No-Not Started","Did Not Report",null,null,"Yes-Completed","Needs More Info - Approved","Category 4 reporting domain was reviewed, and HHSC found provider submitted documentation to support achievement. Reporting domain is approved and eligible for payment.\n","Round 2 (October) - Needs More Info","2014-09-30",null,"NO","2014-10-01","2015-09-30","",""]
[9,"130862905_3","1_130862905",1,"130862905","East Texas Medical Center Clarksville","130862905.4","130862905.4.1",3,3,"Yes-Completed","Approved","Provider submitted required documentation to support Category 4 achievement. Project 130862905.4.1 is approved and eligible for DY3 payment.",null,"Yes-Completed","Previously Approved",null,"Round 1 (April)","2012-12-31",null,"YES","2013-01-01","2013-12-31","",""]
[9,"130862905_1","1_130862905",1,"130862905","East Texas Medical Center Clarksville","130862905.4","130862905.4.2",1,3,"Yes-Completed","Approved","Provider submitted required documentation to support Category 4 achievement. Project 130862905.4.2 is approved and eligible for DY3 payment.",null,"Yes-Completed","Previously Approved",null,"Round 1 (April)","2012-12-31",null,"YES","2013-01-01","2013-12-31","",""]
[9,"130862905_2","1_130862905",1,"130862905","East Texas Medical Center Clarksville","130862905.4","130862905.4.3",2,3,"Yes-Completed","Approved","Provider submitted required documentation to support Category 4 achievement. Project 130862905.4.3 is approved and eligible for DY3 payment.",null,"Yes-Completed","Previously Approved",null,"Round 1 (April)","2012-12-31",null,"YES","2013-01-01","2013-12-31","",""]
[9,"130862905_4","1_130862905",1,"130862905","East Texas Medical Center Clarksville","130862905.4","130862905.4.5",4,3,"No-Not Started","Did Not Report",null,null,"Yes-Completed","Approved","Category 4 reporting domain was reviewed, and HHSC found provider submitted documentation to support achievement. Project is approved and eligible for payment.","Round 2 (October)","2013-07-01","2013-07-01","YES","2013-07-02","2014-07-01","2013-07-02","2014-07-01"]
[9,"130862905_5","1_130862905",1,"130862905","East Texas Medical Center Clarksville","130862905.4","130862905.4.6",5,3,"No-Not Started","Did Not Report",null,null,"Yes-Completed","Not Approved","HHSC found successful reporting of Category 4 Reporting Domain 4 is not clearly demonstrated. Provider has not reported emergency department admit decision time during the DY3 reporting period, and has stated that they are not pursuing this project further due to facility closure. Project is not approved and is no longer eligible for payment.","Round 2 (October) - Not Approved","DNR-closed fac",null,"YES","TBD","TBD","",""]
[9,"131038504_3","1_131038504",1,"131038504","Hunt Mem Hosp Dist dba Hunt Reg Med Ctr Greenville","131038504.4","131038504.4.1",3,3,"Yes-Completed","Approved","Provider submitted required documentation to support Category 4 achievement. Project 131038504.4.1 is approved and eligible for DY3 payment.",null,"Yes-Completed","Previously Approved",null,"Round 1 (April)","2012-12-31",null,"YES","2013-01-01","2013-12-31","",""]
[9,"131038504_1","1_131038504",1,"131038504","Hunt Mem Hosp Dist dba Hunt Reg Med Ctr Greenville","131038504.4","131038504.4.2",1,3,"Yes-Completed","Approved","Provider submitted required documentation to support Category 4 achievement. Project 131038504.4.2 is approved and eligible for DY3 payment.",null,"Yes-Completed","Previously Approved",null,"Round 1 (April)","2012-12-31",null,"YES","2013-01-01","2013-12-31","",""]
[9,"131038504_2","1_131038504",1,"131038504","Hunt Mem Hosp Dist dba Hunt Reg Med Ctr Greenville","131038504.4","131038504.4.3",2,3,"Yes-Completed","Approved","Provider submitted required documentation to support Category 4 achievement. Project 131038504.4.3 is approved and eligible for DY3 payment.",null,"Yes-Completed","Previously Approved",null,"Round 1 (April)","2012-12-31",null,"YES","2013-01-01","2013-12-31","",""]
[9,"131038504_4","1_131038504",1,"131038504","Hunt Mem Hosp Dist dba Hunt Reg Med Ctr Greenville","131038504.4","131038504.4.5",4,3,"Yes-Completed","Approved","Provider submitted required documentation to support Category 4 achievement. Project 131038504.4.5 is approved and eligible for DY3 payment.",null,"Yes-Completed","Previously Approved",null,"Round 1 (April)","2013-12-31","2013-12-31","YES","2014-01-01","2014-12-31","2014-01-01","2014-12-31"]
[9,"131038504_5","1_131038504",1,"131038504","Hunt Mem Hosp Dist dba Hunt Reg Med Ctr Greenville","131038504.4","131038504.4.6",5,3,"Yes-Completed","Approved","Provider submitted required documentation to support Category 4 achievement. Project 131038504.4.6 is approved and eligible for DY3 payment.",null,"Yes-Completed","Previously Approved",null,"Round 1 (April)","2013-12-31",null,"YES","2014-01-01","2014-12-31","",""]
[9,"136140407_3","1_136140407",1,"136140407","East Texas Medical Center Mount Vernon","136140407.4","136140407.4.1",3,3,"Yes-Completed","Approved","Provider submitted required documentation to support Category 4 achievement. Project 136140407.4.1 is approved and eligible for DY3 payment.",null,"Yes-Completed","Previously Approved",null,"Round 1 (April)","2012-12-31",null,"YES","2013-01-01","2013-12-31","",""]
[9,"136140407_1","1_136140407",1,"136140407","East Texas Medical Center Mount Vernon","136140407.4","136140407.4.2",1,3,"Yes-Completed","Approved","Provider submitted required documentation to support Category 4 achievement. Project 136140407.4.2 is approved and eligible for DY3 payment.",null,"Yes-Completed","Previously Approved",null,"Round 1 (April)","2012-12-31",null,"YES","2013-01-01","2013-12-31","",""]
[9,"136140407_2","1_136140407",1,"136140407","East Texas Medical Center Mount Vernon","136140407.4","136140407.4.3",2,3,"Yes-Completed","Approved","Provider submitted required documentation to support Category 4 achievement. Project 136140407.4.3 is approved and eligible for DY3 payment.",null,"Yes-Completed","Previously Approved",null,"Round 1 (April)","2012-12-31",null,"YES","2013-01-01","2013-12-31","",""]
[9,"136140407_4","1_136140407",1,"136140407","East Texas Medical Center Mount Vernon","136140407.4","136140407.4.5",4,3,"No-Not Started","Did Not Report",null,null,"Yes-Completed","Approved","Category 4 reporting domain was reviewed, and HHSC found provider submitted documentation to support achievement. Project is approved and eligible for payment.\n","Round 2 (October)","2013-06-30","2014-09-30","NO","2013-07-01","2014-06-30","2014-10-01","2015-09-30"]
[9,"136140407_5","1_136140407",1,"136140407","East Texas Medical Center Mount Vernon","136140407.4","136140407.4.6",5,3,"No-Not Started","Did Not Report",null,null,"Yes-Completed","Not Approved","HHSC found successful reporting of Category 4 Reporting Domain 4 is not clearly demonstrated. Provider has not reported emergency department admit decision time during the DY3 reporting period, and has stated that they are not pursuing this project further due to facility closure. Project is not approved and is no longer eligible for payment.\n","Round 2 (October) - Not Approved","DNR-closed fac",null,"YES","TBD","TBD","",""]
[9,"137319306_3","1_137319306",1,"137319306","East Texas Medical Center- Crockett","137319306.4","137319306.4.1",3,3,"Yes-Completed","Approved","Provider submitted required documentation to support Category 4 achievement. Project 137319306.4.1 is approved and eligible for DY3 payment.",null,"Yes-Completed","Previously Approved",null,"Round 1 (April)","2012-12-31",null,"YES","2013-01-01","2013-12-31","",""]
[9,"137319306_1","1_137319306",1,"137319306","East Texas Medical Center- Crockett","137319306.4","137319306.4.2",1,3,"Yes-Completed","Approved","Provider submitted required documentation to support Category 4 achievement. Project 137319306.4.2 is approved and eligible for DY3 payment.",null,"Yes-Completed","Previously Approved",null,"Round 1 (April)","2012-12-31",null,"YES","2013-01-01","2013-12-31","",""]
[9,"137319306_2","1_137319306",1,"137319306","East Texas Medical Center- Crockett","137319306.4","137319306.4.3",2,3,"Yes-Completed","Approved","Provider submitted required documentation to support Category 4 achievement. Project 137319306.4.3 is approved and eligible for DY3 payment.",null,"Yes-Completed","Previously Approved",null,"Round 1 (April)","2012-12-31",null,"YES","2013-01-01","2013-12-31","",""]
[9,"137319306_4","1_137319306",1,"137319306","East Texas Medical Center- Crockett","137319306.4","137319306.4.5",4,3,"No-Not Started","Did Not Report",null,null,"Yes-Completed","Approved","Category 4 reporting domain was reviewed, and HHSC found provider submitted documentation to support achievement. Project is approved and eligible for payment.\n","Round 2 (October)","2013-06-30","2014-09-30","NO","2013-07-01","2014-06-30","2014-10-01","2015-09-30"]
[9,"137319306_5","1_137319306",1,"137319306","East Texas Medical Center- Crockett","137319306.4","137319306.4.6",5,3,"No-Not Started","Did Not Report",null,null,"Yes-Completed","Needs More Info - Approved","Category 4 reporting domain was reviewed, and HHSC found provider submitted documentation to support achievement. Reporting domain is approved and eligible for payment.\n","Round 2 (October) - Needs More Info","2014-09-30",null,"NO","2014-10-01","2015-09-30","",""]
[9,"138374715_3","1_138374715",1,"138374715","East Texas Medical Center Pittsburg","138374715.4","138374715.4.1",3,3,"Yes-Completed","Approved","Provider submitted required documentation to support Category 4 achievement. Project 138374715.4.1 is approved and eligible for DY3 payment.",null,"Yes-Completed","Previously Approved",null,"Round 1 (April)","2012-12-31",null,"YES","2013-01-01","2013-12-31","",""]
[9,"138374715_1","1_138374715",1,"138374715","East Texas Medical Center Pittsburg","138374715.4","138374715.4.2",1,3,"Yes-Completed","Approved","Provider submitted required documentation to support Category 4 achievement. Project 138374715.4.2 is approved and eligible for DY3 payment.",null,"Yes-Completed","Previously Approved",null,"Round 1 (April)","2012-12-31",null,"YES","2013-01-01","2013-12-31","",""]
[9,"138374715_2","1_138374715",1,"138374715","East Texas Medical Center Pittsburg","138374715.4","138374715.4.3",2,3,"Yes-Completed","Approved","Provider submitted required documentation to support Category 4 achievement. Project 138374715.4.3 is approved and eligible for DY3 payment.",null,"Yes-Completed","Previously Approved",null,"Round 1 (April)","2012-12-31",null,"YES","2013-01-01","2013-12-31","",""]
[9,"138374715_4","1_138374715",1,"138374715","East Texas Medical Center Pittsburg","138374715.4","138374715.4.5",4,3,"No-Not Started","Did Not Report",null,null,"Yes-Completed","Approved","Category 4 reporting domain was reviewed, and HHSC found provider submitted documentation to support achievement. Project is approved and eligible for payment.\n","Round 2 (October)","2013-06-30","2014-09-30","NO","2013-07-01","2014-06-30","2014-10-01","2015-09-30"]
[{"$f":"LEN(E67)","v":9},{"$f":"E67&\"_\"&I67","v":"138374715_5"},{"$f":"D67&\"_\"&E67","v":"1_138374715"},1,"138374715","East Texas Medical Center Pittsburg","138374715.4","138374715.4.6",5,3,"No-Not Started","Did Not Report",null,null,"Yes-Completed","Needs More Info - Approved","Category 4 reporting domain was reviewed, and HHSC found provider submitted documentation to support achievement. Reporting domain is approved and eligible for payment.\n","Round 2 (October) - Needs More Info","2014-09-30",null,"NO","2014-10-01","2015-09-30","",""]
[9,"138913209_3","1_138913209",1,"138913209","Titus County Memorial Hospital dba Titus Regional","138913209.4","138913209.4.1",3,3,"Yes-Completed","Approved","Provider submitted required documentation to support Category 4 achievement. Project 138913209.4.1 is approved and eligible for DY3 payment.",null,"Yes-Completed","Previously Approved",null,"Round 1 (April)","2012-12-31",null,"YES","2013-01-01","2013-12-31","",""]
[9,"138913209_1","1_138913209",1,"138913209","Titus County Memorial Hospital dba Titus Regional","138913209.4","138913209.4.2",1,3,"Yes-Completed","Approved","Provider submitted required documentation to support Category 4 achievement. Project 138913209.4.2 is approved and eligible for DY3 payment.",null,"Yes-Completed","Previously Approved",null,"Round 1 (April)","2012-12-31",null,"YES","2013-01-01","2013-12-31","",""]
[9,"138913209_2","1_138913209",1,"138913209","Titus County Memorial Hospital dba Titus Regional","138913209.4","138913209.4.3",2,3,"Yes-Completed","Approved","Provider submitted required documentation to support Category 4 achievement. Project 138913209.4.3 is approved and eligible for DY3 payment.",null,"Yes-Completed","Previously Approved",null,"Round 1 (April)","2012-12-31",null,"YES","2013-01-01","2013-12-31","",""]
[9,"138913209_4","1_138913209",1,"138913209","Titus County Memorial Hospital dba Titus Regional","138913209.4","138913209.4.5",4,3,"No-Not Started","Did Not Report",null,null,"Yes-Completed","Needs More Info - Approved","Category 4 reporting domain was reviewed, and HHSC found provider submitted documentation to support achievement. Reporting domain is approved and eligible for payment.\n","Round 2 (October) - Needs More Info","2014-09-30","2014-09-30","NO","2014-10-01","2015-09-30","2014-10-01","2015-09-30"]
[9,"138913209_5","1_138913209",1,"138913209","Titus County Memorial Hospital dba Titus Regional","138913209.4","138913209.4.6",5,3,"Yes-Completed","Needs More Info - Approved","Provider submitted required documentation to support Category 4 achievement. Project 138913209.4.6 is approved and eligible for DY3 payment.",null,"Yes-Completed","Previously Approved",null,"Round 1 (April) - Needs More Info","2013-06-30",null,"YES","2013-07-01","2014-06-30","",""]
[9,"138913209_6","1_138913209",1,"138913209","Titus County Memorial Hospital dba Titus Regional","138913209.4","138913209.4.7",6,3,"No-Not Started","Did Not Report",null,null,"Yes-Completed","Needs More Info - Approved","Category 4 reporting domain was reviewed, and HHSC found provider submitted documentation to support achievement. Reporting domain is approved and eligible for payment.\n ","Round 2 (October) - Needs More Info","2014-09-30",null,"NO","2014-10-01","2015-09-30","",""]
[9,"139173209_3","1_139173209",1,"139173209","East Texas Medical Center Athens","139173209.4","139173209.4.1",3,3,"Yes-Completed","Approved","Provider submitted required documentation to support Category 4 achievement. Project 139173209.4.1 is approved and eligible for DY3 payment.",null,"Yes-Completed","Previously Approved",null,"Round 1 (April)","2012-12-31",null,"YES","2013-01-01","2013-12-31","",""]
[9,"139173209_1","1_139173209",1,"139173209","East Texas Medical Center Athens","139173209.4","139173209.4.2",1,3,"Yes-Completed","Approved","Provider submitted required documentation to support Category 4 achievement. Project 139173209.4.2 is approved and eligible for DY3 payment.",null,"Yes-Completed","Previously Approved",null,"Round 1 (April)","2012-12-31",null,"YES","2013-01-01","2013-12-31","",""]
[9,"139173209_2","1_139173209",1,"139173209","East Texas Medical Center Athens","139173209.4","139173209.4.3",2,3,"Yes-Completed","Approved","Provider submitted required documentation to support Category 4 achievement. Project 139173209.4.3 is approved and eligible for DY3 payment.",null,"Yes-Completed","Previously Approved",null,"Round 1 (April)","2012-12-31",null,"YES","2013-01-01","2013-12-31","",""]
[9,"139173209_4","1_139173209",1,"139173209","East Texas Medical Center Athens","139173209.4","139173209.4.5",4,3,"No-Not Started","Did Not Report",null,null,"Yes-Completed","Approved","Category 4 reporting domain was reviewed, and HHSC found provider submitted documentation to support achievement. Project is approved and eligible for payment.\n","Round 2 (October)","2013-06-30","2013-06-30","YES","2013-07-01","2014-06-30","2013-07-01","2014-06-30"]
[9,"139173209_5","1_139173209",1,"139173209","East Texas Medical Center Athens","139173209.4","139173209.4.6",5,3,"No-Not Started","Did Not Report",null,null,"Yes-Completed","Needs More Info - Approved","Category 4 reporting domain was reviewed, and HHSC found provider submitted documentation to support achievement. Reporting domain is approved and eligible for payment.","Round 2 (October) - Needs More Info","2014-09-30",null,"NO","2014-10-01","2015-09-30","",""]
[9,"168447401_3","1_168447401",1,"168447401","East Texas Medical Center Gilmer","168447401.4","168447401.4.1",3,3,"Yes-Completed","Approved","Provider submitted required documentation to support Category 4 achievement. Project 168447401.4.1 is approved and eligible for DY3 payment.",null,"Yes-Completed","Previously Approved",null,"Round 1 (April)","2012-12-31",null,"YES","2013-01-01","2013-12-31","",""]
[9,"168447401_1","1_168447401",1,"168447401","East Texas Medical Center Gilmer","168447401.4","168447401.4.2",1,3,"Yes-Completed","Approved","Provider submitted required documentation to support Category 4 achievement. Project 168447401.4.2 is approved and eligible for DY3 payment.",null,"Yes-Completed","Previously Approved",null,"Round 1 (April)","2012-12-31",null,"YES","2013-01-01","2013-12-31","",""]
[9,"168447401_2","1_168447401",1,"168447401","East Texas Medical Center Gilmer","168447401.4","168447401.4.3",2,3,"Yes-Completed","Approved","Provider submitted required documentation to support Category 4 achievement. Project 168447401.4.3 is approved and eligible for DY3 payment.",null,"Yes-Completed","Previously Approved",null,"Round 1 (April)","2012-12-31",null,"YES","2013-01-01","2013-12-31","",""]
[9,"168447401_4","1_168447401",1,"168447401","East Texas Medical Center Gilmer","168447401.4","168447401.4.5",4,3,"No-Not Started","Did Not Report",null,null,"Yes-Completed","Not Approved","HHSC found successful reporting of Category 4 Reporting Domain 4 is not clearly demonstrated. Provider has not reported HCAHPS during the DY3 reporting period, and has stated that they are not pursuing this project further due to facility closure. Project is not approved and is no longer eligible for payment.\n","Round 2 (October) - Not Approved","2013-06-30","2014-09-30","NO","2013-07-01","2014-06-30","2014-10-01","2015-09-30"]
[9,"168447401_5","1_168447401",1,"168447401","East Texas Medical Center Gilmer","168447401.4","168447401.4.6",5,3,"No-Not Started","Did Not Report",null,null,"Yes-Completed","Not Approved","HHSC found successful reporting of Category 4 Reporting Domain 5 is not clearly demonstrated. Provider has not reported emergency department admit decision time during the DY3 reporting period, and has stated that they are not pursuing this project further due to facility closure. Project is not approved and is no longer eligible for payment.\n","Round 2 (October) - Not Approved","DNR-closed fac",null,"YES","TBD","TBD","",""]
[9,"177870603_3","1_177870603",1,"177870603","Fannin County Hospital Authority dba Red River Reg","177870603.4","177870603.4.1",3,3,"Yes-Completed","Needs More Info - Approved","Provider submitted required documentation to support Category 4 achievement. Project 177870603.4.1 is approved and eligible for DY3 payment.",null,"Yes-Completed","Previously Approved",null,"Round 1 (April) - Needs More Info","2012-12-31",null,"YES","2013-01-01","2013-12-31","",""]
[9,"177870603_1","1_177870603",1,"177870603","Fannin County Hospital Authority dba Red River Reg","177870603.4","177870603.4.2",1,3,"Yes-Completed","Approved","Provider submitted required documentation to support Category 4 achievement. Project 177870603.4.2 is approved and eligible for DY3 payment.",null,"Yes-Completed","Previously Approved",null,"Round 1 (April)","2012-12-31",null,"YES","2013-01-01","2013-12-31","",""]
[9,"177870603_2","1_177870603",1,"177870603","Fannin County Hospital Authority dba Red River Reg","177870603.4","177870603.4.3",2,3,"Yes-Completed","Approved","Provider submitted required documentation to support Category 4 achievement. Project 177870603.4.3 is approved and eligible for DY3 payment.",null,"Yes-Completed","Previously Approved",null,"Round 1 (April)","2012-12-31",null,"YES","2013-01-01","2013-12-31","",""]
[9,"177870603_4","1_177870603",1,"177870603","Fannin County Hospital Authority dba Red River Reg","177870603.4","177870603.4.5",4,3,"No-Not Started","Did Not Report",null,null,"Yes-Completed","Approved","Category 4 reporting domain was reviewed, and HHSC found provider submitted documentation to support achievement. Project is approved and eligible for payment.\n","Round 2 (October)","2014-09-30","2014-09-30","NO","2014-10-01","2015-09-30","2014-10-01","2015-09-30"]
[9,"177870603_5","1_177870603",1,"177870603","Fannin County Hospital Authority dba Red River Reg","177870603.4","177870603.4.6",5,3,"No-Not Started","Did Not Report",null,null,"Yes-Completed","Approved","Category 4 reporting domain was reviewed, and HHSC found provider submitted documentation to support achievement. Project is approved and eligible for payment.\n","Round 2 (October)","2014-09-30",null,"NO","2014-10-01","2015-09-30","",""]
[9,"208843701_3","1_208843701",1,"208843701","East Texas Medical Center Henderson","208843701.4","208843701.4.1",3,3,"Yes-Completed","Approved","Provider submitted required documentation to support Category 4 achievement. Project 208843701.4.1 is approved and eligible for DY3 payment.",null,"Yes-Completed","Previously Approved",null,"Round 1 (April)","2012-12-31",null,"YES","2013-01-01","2013-12-31","",""]
[9,"208843701_1","1_208843701",1,"208843701","East Texas Medical Center Henderson","208843701.4","208843701.4.2",1,3,"Yes-Completed","Approved","Provider submitted required documentation to support Category 4 achievement. Project 208843701.4.2 is approved and eligible for DY3 payment.",null,"Yes-Completed","Previously Approved",null,"Round 1 (April)","2012-12-31",null,"YES","2013-01-01","2013-12-31","",""]
[9,"208843701_2","1_208843701",1,"208843701","East Texas Medical Center Henderson","208843701.4","208843701.4.3",2,3,"Yes-Completed","Approved","Provider submitted required documentation to support Category 4 achievement. Project 208843701.4.3 is approved and eligible for DY3 payment.",null,"Yes-Completed","Previously Approved",null,"Round 1 (April)","2012-12-31",null,"YES","2013-01-01","2013-12-31","",""]
[9,"208843701_4","1_208843701",1,"208843701","East Texas Medical Center Henderson","208843701.4","208843701.4.5",4,3,"No-Not Started","Did Not Report",null,null,"Yes-Completed","Approved","Category 4 reporting domain was reviewed, and HHSC found provider submitted documentation to support achievement. Project is approved and eligible for payment.\n","Round 2 (October)","2013-06-30","2014-09-30","NO","2013-07-01","2014-06-30","2014-10-01","2015-09-30"]
[9,"208843701_5","1_208843701",1,"208843701","East Texas Medical Center Henderson","208843701.4","208843701.4.6",5,3,"No-Not Started","Did Not Report",null,null,"Yes-Completed","Needs More Info - Approved","Category 4 reporting domain was reviewed, and HHSC found provider submitted documentation to support achievement. Reporting domain is approved and eligible for payment.\n","Round 2 (October) - Needs More Info","2014-09-30",null,"NO","2014-10-01","2015-09-30","",""]
[9,"094092602_3","2_094092602",2,"094092602","University of Texas Medical Branch - Galveston","094092602.4","094092602.4.1",3,3,"No-Not Started","Did Not Report",null,null,"Yes-Completed","Approved","Category 4 reporting domain was reviewed, and HHSC found provider submitted documentation to support achievement. Project is approved and eligible for payment.\n","Round 2 (October)","2012-12-31",null,"YES","2013-01-01","2013-12-31","",""]
[9,"094092602_1","2_094092602",2,"094092602","University of Texas Medical Branch - Galveston","094092602.4","094092602.4.2",1,3,"No-Not Started","Did Not Report",null,null,"Yes-Completed","Approved","Category 4 reporting domain was reviewed, and HHSC found provider submitted documentation to support achievement. Project is approved and eligible for payment.\n","Round 2 (October)","2012-12-31",null,"YES","2013-01-01","2013-12-31","",""]
[9,"094092602_2","2_094092602",2,"094092602","University of Texas Medical Branch - Galveston","094092602.4","094092602.4.3",2,3,"No-Not Started","Did Not Report",null,null,"Yes-Completed","Approved","Category 4 reporting domain was reviewed, and HHSC found provider submitted documentation to support achievement. Project is approved and eligible for payment.\n","Round 2 (October)","2012-12-31",null,"YES","2013-01-01","2013-12-31","",""]
[9,"094092602_4","2_094092602",2,"094092602","University of Texas Medical Branch - Galveston","094092602.4","094092602.4.5",4,3,"No-Not Started","Did Not Report",null,null,"Yes-Completed","Approved","Category 4 reporting domain was reviewed, and HHSC found provider submitted documentation to support achievement. Project is approved and eligible for payment.\n","Round 2 (October)","2013-08-31","2013-08-31","YES","2013-09-01","2014-08-31","2013-09-01","2014-08-31"]
[9,"094092602_5","2_094092602",2,"094092602","University of Texas Medical Branch - Galveston","094092602.4","094092602.4.6",5,3,"No-Not Started","Did Not Report",null,null,"Yes-Completed","Approved","Category 4 reporting domain was reviewed, and HHSC found provider submitted documentation to support achievement. Project is approved and eligible for payment.\n","Round 2 (October)","2014-09-30",null,"NO","2014-10-01","2015-09-30","",""]
[9,"094148602_3","2_094148602",2,"094148602","Baptist Hosp of SE TX dba Mem Hermann Bapt Beaumon","094148602.4","094148602.4.1",3,3,"Yes-Completed","Approved","Provider submitted required documentation to support Category 4 achievement. Project 094148602.4.1 is approved and eligible for DY3 payment.",null,"Yes-Completed","Previously Approved",null,"Round 1 (April)","2012-12-31",null,"YES","2013-01-01","2013-12-31","",""]
[9,"094148602_1","2_094148602",2,"094148602","Baptist Hosp of SE TX dba Mem Hermann Bapt Beaumon","094148602.4","094148602.4.2",1,3,"Yes-Completed","Approved","Provider submitted required documentation to support Category 4 achievement. Project 094148602.4.2 is approved and eligible for DY3 payment.",null,"Yes-Completed","Previously Approved",null,"Round 1 (April)","2012-12-31",null,"YES","2013-01-01","2013-12-31","",""]
[9,"094148602_2","2_094148602",2,"094148602","Baptist Hosp of SE TX dba Mem Hermann Bapt Beaumon","094148602.4","094148602.4.3",2,3,"Yes-Completed","Approved","Provider submitted required documentation to support Category 4 achievement. Project 094148602.4.3 is approved and eligible for DY3 payment.",null,"Yes-Completed","Previously Approved",null,"Round 1 (April)","2012-12-31",null,"YES","2013-01-01","2013-12-31","",""]
[9,"094148602_4","2_094148602",2,"094148602","Baptist Hosp of SE TX dba Mem Hermann Bapt Beaumon","094148602.4","094148602.4.5",4,3,"No-Not Started","Did Not Report",null,null,"Yes-Completed","Approved","Category 4 reporting domain was reviewed, and HHSC found provider submitted documentation to support achievement. Project is approved and eligible for payment.\n","Round 2 (October)","2013-09-30","2013-12-31","YES","2013-10-01","2014-09-30","2014-01-01","2014-12-31"]
[9,"094148602_5","2_094148602",2,"094148602","Baptist Hosp of SE TX dba Mem Hermann Bapt Beaumon","094148602.4","094148602.4.6",5,3,"Yes-Completed","Approved","Provider submitted required documentation to support Category 4 achievement. Project 094148602.4.6 is approved and eligible for DY3 payment.",null,"Yes-Completed","Previously Approved",null,"Round 1 (April)","2013-09-30",null,"YES","2013-10-01","2014-09-30","",""]
[9,"094148602_6","2_094148602",2,"094148602","Baptist Hosp of SE TX dba Mem Hermann Bapt Beaumon","094148602.4","094148602.4.7",6,3,"No-Not Started","Did Not Report",null,null,"Yes-Completed","Approved","Category 4 reporting domain was reviewed, and HHSC found provider submitted documentation to support achievement. Project is approved and eligible for payment.\n","Round 2 (October)","2013-12-31",null,"YES","2014-01-01","2014-12-31","",""]
[9,"112671602_3","2_112671602",2,"112671602","Brazosport Regional Health System","112671602.4","112671602.4.1",3,3,"No-Not Started","Did Not Report",null,null,null,null,null,"Did Not Report","2012-12-31",null,"YES","2013-01-01","2013-12-31","",""]
[9,"112671602_1","2_112671602",2,"112671602","Brazosport Regional Health System","112671602.4","112671602.4.2",1,3,"No-Not Started","Did Not Report",null,null,"Yes-Completed","Not Approved","HHSC found achievement of Category 4 reporting domain is not clearly demonstrated. Provider did not respond to HHSC's request to submit template with the PPA rate as reported to the provider by ICHP (sent via email from HHSC to the provider on April 16, 2014. Project is not approved and is no longer eligible for payment.","Round 2 (October) - Not Approved","2012-12-31",null,"YES","2013-01-01","2013-12-31","",""]
[9,"112671602_2","2_112671602",2,"112671602","Brazosport Regional Health System","112671602.4","112671602.4.3",2,3,"No-Not Started","Did Not Report",null,null,"Yes-Completed","Not Approved","HHSC found achievement of Category 4 reporting domain is not clearly demonstrated. Provider did not respond to HHSC's request to submit template with the PPR rate as reported to the provider by ICHP (sent via email from HHSC to the provider on April 16, 2014. Project is not approved and is no longer eligible for payment.","Round 2 (October) - Not Approved","2012-12-31",null,"YES","2013-01-01","2013-12-31","",""]
[9,"112671602_4","2_112671602",2,"112671602","Brazosport Regional Health System","112671602.4","112671602.4.5",4,3,"No-Not Started","Did Not Report",null,null,"Yes-Completed","Not Approved","HHSC found achievement of Category 4 reporting domain is not clearly demonstrated. This reporting domain is not approved at this time. Provider did not respond to HHSC's request to submit a template that included a response to qualitative questions for HCAHPS and medication management performance. Project is not approved and is no longer eligible for payment.\n","Round 2 (October) - Not Approved","DNR","2014-09-30","NO","TBD","TBD","2014-10-01","2015-09-30"]
[9,"112671602_5","2_112671602",2,"112671602","Brazosport Regional Health System","112671602.4","112671602.4.6",5,3,"No-Not Started","Did Not Report",null,null,"Yes-Completed","Not Approved","HHSC found achievement of Category 4 reporting domain is not clearly demonstrated. Provider did not respond to HHSC's request to submit a template that included a response to qualitative questions as outlined in the October DY3 reporting companion which states on page 37 that \"Responses to qualitative questions must be included for RDs 4 & 5 and optional RD-6.\" Project is not approved and is no longer eligible for payment.\n","Round 2 (October) - Not Approved","2014-09-30",null,"NO","2014-10-01","2015-09-30","",""]
[9,"121805903_3","2_121805903",2,"121805903","Angleton-Danbury Medical Center","121805903.4","121805903.4.1",3,3,"Yes-Completed","Approved","Provider submitted required documentation to support Category 4 achievement. Project 121805903.4.1 is approved and eligible for DY3 payment.",null,"Yes-Completed","Previously Approved",null,"Round 1 (April)","2012-12-31",null,"YES","2013-01-01","2013-12-31","",""]
[9,"121805903_1","2_121805903",2,"121805903","Angleton-Danbury Medical Center","121805903.4","121805903.4.2",1,3,"Yes-Completed","Approved","Provider submitted required documentation to support Category 4 achievement. Project 121805903.4.2 is approved and eligible for DY3 payment.",null,"Yes-Completed","Previously Approved",null,"Round 1 (April)","2012-12-31",null,"YES","2013-01-01","2013-12-31","",""]
[9,"121805903_2","2_121805903",2,"121805903","Angleton-Danbury Medical Center","121805903.4","121805903.4.3",2,3,"Yes-Completed","Approved","Provider submitted required documentation to support Category 4 achievement. Project 121805903.4.3 is approved and eligible for DY3 payment.",null,"Yes-Completed","Previously Approved",null,"Round 1 (April)","2012-12-31",null,"YES","2013-01-01","2013-12-31","",""]
[9,"121805903_4","2_121805903",2,"121805903","Angleton-Danbury Medical Center","121805903.4","121805903.4.5",4,3,"Yes-Completed","Approved","Provider submitted required documentation to support Category 4 achievement. Project 121805903.4.5 is approved and eligible for DY3 payment.",null,"Yes-Completed","Previously Approved",null,"Round 1 (April)","2013-09-30","2013-09-30","YES","2013-10-01","2014-09-30","2013-10-01","2014-09-30"]
[9,"121805903_5","2_121805903",2,"121805903","Angleton-Danbury Medical Center","121805903.4","121805903.4.6",5,3,"Yes-Completed","Approved","Provider submitted required documentation to support Category 4 achievement. Project 121805903.4.6 is approved and eligible for DY3 payment.",null,"Yes-Completed","Previously Approved",null,"Round 1 (April)","2013-09-30",null,"YES","2013-10-01","2014-09-30","",""]
[9,"131030203_3","2_131030203",2,"131030203","Nacogdoches County Hospital District","131030203.4","131030203.4.1",3,3,"Yes-Completed","Approved","Provider submitted required documentation to support Category 4 achievement. Project 131030203.4.1 is approved and eligible for DY3 payment.",null,"Yes-Completed","Previously Approved",null,"Round 1 (April)","2012-12-31",null,"YES","2013-01-01","2013-12-31","",""]
[9,"131030203_1","2_131030203",2,"131030203","Nacogdoches County Hospital District","131030203.4","131030203.4.2",1,3,"Yes-Completed","Approved","Provider submitted required documentation to support Category 4 achievement. Project 131030203.4.2 is approved and eligible for DY3 payment.",null,"Yes-Completed","Previously Approved",null,"Round 1 (April)","2012-12-31",null,"YES","2013-01-01","2013-12-31","",""]
[9,"131030203_2","2_131030203",2,"131030203","Nacogdoches County Hospital District","131030203.4","131030203.4.3",2,3,"Yes-Completed","Approved","Provider submitted required documentation to support Category 4 achievement. Project 131030203.4.3 is approved and eligible for DY3 payment.",null,"Yes-Completed","Previously Approved",null,"Round 1 (April)","2012-12-31",null,"YES","2013-01-01","2013-12-31","",""]
[9,"131030203_4","2_131030203",2,"131030203","Nacogdoches County Hospital District","131030203.4","131030203.4.5",4,3,"No-Not Started","Did Not Report",null,null,"Yes-Completed","Approved","Category 4 reporting domain was reviewed, and HHSC found provider submitted documentation to support achievement. Project is approved and eligible for payment.\n","Round 2 (October)","2013-12-31","2013-12-31","YES","2014-01-01","2014-12-31","2014-01-01","2014-12-31"]
[9,"131030203_5","2_131030203",2,"131030203","Nacogdoches County Hospital District","131030203.4","131030203.4.6",5,3,"No-Not Started","Did Not Report",null,null,"Yes-Completed","Approved","Category 4 reporting domain was reviewed, and HHSC found provider submitted documentation to support achievement. Project is approved and eligible for payment.\n","Round 2 (October)","2013-12-31",null,"YES","2014-01-01","2014-12-31","",""]
[9,"138296208_3","2_138296208",2,"138296208","Christus Hospital (prev St. Elizabeth)","138296208.4","138296208.4.1",3,3,"Yes-Completed","Approved","Provider submitted required documentation to support Category 4 achievement. Project 138296208.4.1 is approved and eligible for DY3 payment.",null,"Yes-Completed","Previously Approved",null,"Round 1 (April)","2012-12-31",null,"YES","2013-01-01","2013-12-31","",""]
[9,"138296208_1","2_138296208",2,"138296208","Christus Hospital (prev St. Elizabeth)","138296208.4","138296208.4.2",1,3,"Yes-Completed","Approved","Provider submitted required documentation to support Category 4 achievement. Project 138296208.4.2 is approved and eligible for DY3 payment.",null,"Yes-Completed","Previously Approved",null,"Round 1 (April)","2012-12-31",null,"YES","2013-01-01","2013-12-31","",""]
[9,"138296208_2","2_138296208",2,"138296208","Christus Hospital (prev St. Elizabeth)","138296208.4","138296208.4.3",2,3,"Yes-Completed","Approved","Provider submitted required documentation to support Category 4 achievement. Project 138296208.4.3 is approved and eligible for DY3 payment.",null,"Yes-Completed","Previously Approved",null,"Round 1 (April)","2012-12-31",null,"YES","2013-01-01","2013-12-31","",""]
[9,"138296208_4","2_138296208",2,"138296208","Christus Hospital (prev St. Elizabeth)","138296208.4","138296208.4.5",4,3,"No-Not Started","Did Not Report",null,null,"Yes-Completed","Approved","Category 4 reporting domain was reviewed, and HHSC found provider submitted documentation to support achievement. Project is approved and eligible for payment.\n","Round 2 (October)","2013-12-31","2013-12-31","YES","2014-01-01","2014-12-31","2014-01-01","2014-12-31"]
[9,"138296208_5","2_138296208",2,"138296208","Christus Hospital (prev St. Elizabeth)","138296208.4","138296208.4.6",5,3,"No-Not Started","Did Not Report",null,null,"Yes-Completed","Approved","Category 4 reporting domain was reviewed, and HHSC found provider submitted documentation to support achievement. Project is approved and eligible for payment.\n","Round 2 (October)","2013-12-31",null,"YES","2014-01-01","2014-12-31","",""]
[9,"138296208_6","2_138296208",2,"138296208","Christus Hospital (prev St. Elizabeth)","138296208.4","138296208.4.7",6,3,"No-Not Started","Did Not Report",null,null,"Yes-Completed","Needs More Info - Approved","Category 4 reporting domain was reviewed, and HHSC found provider submitted documentation to support achievement. Reporting domain is approved and eligible for payment.\n","Round 2 (October) - Needs More Info","2013-12-31",{"$error":"#VALUE!"},"YES","2014-01-01","2014-12-31","",""]
[9,"200683501_3","2_200683501",2,"200683501","Preferred Hospital Leasing Hemphill Inc","261955689.4","261955689.4.1",3,3,"No-Not Started","Did Not Report",null,null,"Yes-Completed","Needs More Info - Approved","Category 4 Reporting Domain (RD) was reviewed, and HHSC found provider submitted documentation to support achievement. RD is approved and eligible for payment.","Round 2 (October) - Needs More Info","2012-12-31",null,"YES","2013-01-01","2013-12-31","",""]
[9,"200683501_1","2_200683501",2,"200683501","Preferred Hospital Leasing Hemphill Inc","261955689.4","261955689.4.2",1,3,"No-Not Started","Did Not Report",null,null,"Yes-Completed","Needs More Info - Approved","Category 4 Reporting Domain (RD) was reviewed, and HHSC found provider submitted documentation to support achievement. RD is approved and eligible for payment.\n","Round 2 (October) - Needs More Info","2012-12-31",null,"YES","2013-01-01","2013-12-31","",""]
[9,"200683501_2","2_200683501",2,"200683501","Preferred Hospital Leasing Hemphill Inc","261955689.4","261955689.4.3",2,3,"No-Not Started","Did Not Report",null,null,"Yes-Completed","Needs More Info - Approved","Category 4 Reporting Domain (RD) was reviewed, and HHSC found provider submitted documentation to support achievement. RD is approved and eligible for payment.","Round 2 (October) - Needs More Info","2012-12-31",null,"YES","2013-01-01","2013-12-31","",""]
[9,"200683501_4","2_200683501",2,"200683501","Preferred Hospital Leasing Hemphill Inc","261955689.4","261955689.4.5",4,3,"No-Not Started","Did Not Report",null,null,"Yes-Completed","Not Approved","HHSC found achievement of Category 4 reporting domain is not clearly demonstrated.  Provider did not submit a template that included any response to the Medication Management component of this domain. This reporting domain is not approved for DY3 payment.\n","Round 2 (October) - Not Approved","2014-09-30","DNR","NO","2014-10-01","2015-09-30","TBD","TBD"]
[9,"200683501_5","2_200683501",2,"200683501","Preferred Hospital Leasing Hemphill Inc","261955689.4","261955689.4.6",5,3,"No-Not Started","Did Not Report",null,null,"Yes-Completed","Not Approved","HHSC found achievement of Category 4 reporting domain is not clearly demonstrated.  Provider did not submit a template that included a complete response to the ED Admit time. This reporting domain is not approved for DY3 payment.","Round 2 (October) - Not Approved","DNR",null,"YES","TBD","TBD","",""]
[{"$f":"LEN(E131)","v":9},{"$f":"E131&\"_\"&I131","v":"284333601_3"},{"$f":"D131&\"_\"&E131","v":"2_284333601"},2,"284333601","Liberty-Dayton Regional Medical Center LLC","284333601.4","284333601.4.1",3,3,"Yes-Completed","Approved","Provider submitted required documentation to support Category 4 achievement. Project 284333601.4.1 is approved and eligible for DY3 payment.",null,"Yes-Completed","Previously Approved",null,"Round 1 (April)","2012-12-31",null,"YES","2013-01-01","2013-12-31","",""]
[9,"284333601_1","2_284333601",2,"284333601","Liberty-Dayton Regional Medical Center LLC","284333601.4","284333601.4.2",1,3,"Yes-Completed","Approved","Provider submitted required documentation to support Category 4 achievement. Project 284333601.4.2 is approved and eligible for DY3 payment.",null,"Yes-Completed","Previously Approved",null,"Round 1 (April)","2012-12-31",null,"YES","2013-01-01","2013-12-31","",""]
[9,"284333601_2","2_284333601",2,"284333601","Liberty-Dayton Regional Medical Center LLC","284333601.4","284333601.4.3",2,3,"Yes-Completed","Approved","Provider submitted required documentation to support Category 4 achievement. Project 284333601.4.3 is approved and eligible for DY3 payment.",null,"Yes-Completed","Previously Approved",null,"Round 1 (April)","2012-12-31",null,"YES","2013-01-01","2013-12-31","",""]
[9,"284333601_4","2_284333601",2,"284333601","Liberty-Dayton Regional Medical Center LLC","284333601.4","284333601.4.5",4,3,"No-Not Started","Did Not Report",null,null,"No-Not Started","Not Approved","HHSC found achievement of Category 4 reporting domain is not clearly demonstrated. Provider could not provide at least 10 months of HCAHPS for reporting in DY3. Project is not approved and is no longer eligible for payment.","Round 2 (October) - Not Approved","DNR","2014-09-30","NO","TBD","TBD","2014-10-01","2015-09-30"]
[9,"284333601_5","2_284333601",2,"284333601","Liberty-Dayton Regional Medical Center LLC","284333601.4","284333601.4.6",5,3,"Yes-Completed","Approved","Provider submitted required documentation to support Category 4 achievement. Project 284333601.4.6 is approved and eligible for DY3 payment.",null,"Yes-Completed","Previously Approved",null,"Round 1 (April)","2014-03-31",null,"YES","2014-04-01","2015-03-31","",""]
[9,"020817501_3","3_020817501",3,"020817501","CHCA Bayshore LP dba Bayshore Medical Center","020817501.4","020817501.4.1",3,3,"Yes-Completed","Approved","Provider submitted required documentation to support Category 4 achievement. Project 020817501.4.1 is approved and eligible for DY3 payment.",null,"Yes-Completed","Previously Approved",null,"Round 1 (April)","2012-12-31",null,"YES","2013-01-01","2013-12-31","",""]
[9,"020817501_1","3_020817501",3,"020817501","CHCA Bayshore LP dba Bayshore Medical Center","020817501.4","020817501.4.2",1,3,"Yes-Completed","Approved","Provider submitted required documentation to support Category 4 achievement. Project 020817501.4.2 is approved and eligible for DY3 payment.",null,"Yes-Completed","Previously Approved",null,"Round 1 (April)","2012-12-31",null,"YES","2013-01-01","2013-12-31","",""]
[9,"020817501_2","3_020817501",3,"020817501","CHCA Bayshore LP dba Bayshore Medical Center","020817501.4","020817501.4.3",2,3,"Yes-Completed","Approved","Provider submitted required documentation to support Category 4 achievement. Project 020817501.4.3 is approved and eligible for DY3 payment.",null,"Yes-Completed","Previously Approved",null,"Round 1 (April)","2012-12-31",null,"YES","2013-01-01","2013-12-31","",""]
[9,"020817501_4","3_020817501",3,"020817501","CHCA Bayshore LP dba Bayshore Medical Center","020817501.4","020817501.4.5",4,3,"No-Not Started","Did Not Report",null,null,"Yes-Completed","Approved","Category 4 reporting domain was reviewed, and HHSC found provider submitted documentation to support achievement. Project is approved and eligible for payment.\n","Round 2 (October)","2013-09-30","2013-12-31","YES","2013-10-01","2014-09-30","2014-01-01","2014-12-31"]
[9,"020817501_5","3_020817501",3,"020817501","CHCA Bayshore LP dba Bayshore Medical Center","020817501.4","020817501.4.6",5,3,"No-Not Started","Did Not Report",null,null,"Yes-Completed","Approved","Category 4 reporting domain was reviewed, and HHSC found provider submitted documentation to support achievement. Project is approved and eligible for payment.\n","Round 2 (October)","2013-12-31",null,"YES","2014-01-01","2014-12-31","",""]
[9,"020834001_3","3_020834001",3,"020834001","Memorial Hermann Hospital System (The Woodlands)","020834001.4","020834001.4.1",3,3,"Yes-Completed","Approved","Provider submitted required documentation to support Category 4 achievement. Project 020834001.4.1 is approved and eligible for DY3 payment.",null,"Yes-Completed","Previously Approved",null,"Round 1 (April)","2012-12-31",null,"YES","2013-01-01","2013-12-31","",""]
[9,"020834001_1","3_020834001",3,"020834001","Memorial Hermann Hospital System (The Woodlands)","020834001.4","020834001.4.2",1,3,"Yes-Completed","Approved","Provider submitted required documentation to support Category 4 achievement. Project 020834001.4.2 is approved and eligible for DY3 payment.",null,"Yes-Completed","Previously Approved",null,"Round 1 (April)","2012-12-31",null,"YES","2013-01-01","2013-12-31","",""]
[9,"020834001_2","3_020834001",3,"020834001","Memorial Hermann Hospital System (The Woodlands)","020834001.4","020834001.4.3",2,3,"Yes-Completed","Approved","Provider submitted required documentation to support Category 4 achievement. Project 020834001.4.3 is approved and eligible for DY3 payment.",null,"Yes-Completed","Previously Approved",null,"Round 1 (April)","2012-12-31",null,"YES","2013-01-01","2013-12-31","",""]
[9,"020834001_4","3_020834001",3,"020834001","Memorial Hermann Hospital System (The Woodlands)","020834001.4","020834001.4.5",4,3,"No-Not Started","Did Not Report",null,null,"Yes-Completed","Approved","Category 4 reporting domain was reviewed, and HHSC found provider submitted documentation to support achievement. Project is approved and eligible for payment.\n","Round 2 (October)","2014-09-30","2014-06-30","NO","2014-10-01","2015-09-30","2014-07-01","2015-06-30"]
[9,"020834001_5","3_020834001",3,"020834001","Memorial Hermann Hospital System (The Woodlands)","020834001.4","020834001.4.6",5,3,"Yes-Completed","Approved","Provider submitted required documentation to support Category 4 achievement. Project 020834001.4.6 is approved and eligible for DY3 payment.",null,"Yes-Completed","Previously Approved",null,"Round 1 (April)","2013-12-31",null,"YES","2014-01-01","2014-12-31","",""]
[9,"094187402_3","3_094187402",3,"094187402","CHCA West Houston LP dba West Houston Medical Cent","094187402.4","094187402.4.1",3,3,"Yes-Completed","Approved","Provider submitted required documentation to support Category 4 achievement. Project 094187402.4.1 is approved and eligible for DY3 payment.",null,"Yes-Completed","Previously Approved",null,"Round 1 (April)","2012-12-31",null,"YES","2013-01-01","2013-12-31","",""]
[9,"094187402_1","3_094187402",3,"094187402","CHCA West Houston LP dba West Houston Medical Cent","094187402.4","094187402.4.2",1,3,"Yes-Completed","Approved","Provider submitted required documentation to support Category 4 achievement. Project 094187402.4.2 is approved and eligible for DY3 payment.",null,"Yes-Completed","Previously Approved",null,"Round 1 (April)","2012-12-31",null,"YES","2013-01-01","2013-12-31","",""]
[9,"094187402_2","3_094187402",3,"094187402","CHCA West Houston LP dba West Houston Medical Cent","094187402.4","094187402.4.3",2,3,"Yes-Completed","Approved","Provider submitted required documentation to support Category 4 achievement. Project 094187402.4.3 is approved and eligible for DY3 payment.",null,"Yes-Completed","Previously Approved",null,"Round 1 (April)","2012-12-31",null,"YES","2013-01-01","2013-12-31","",""]
[9,"094187402_4","3_094187402",3,"094187402","CHCA West Houston LP dba West Houston Medical Cent","094187402.4","094187402.4.5",4,3,"No-Not Started","Did Not Report",null,null,"Yes-Completed","Approved","Category 4 reporting domain was reviewed, and HHSC found provider submitted documentation to support achievement. Project is approved and eligible for payment.\n","Round 2 (October)","2013-09-30","2013-12-31","YES","2013-10-01","2014-09-30","2014-01-01","2014-12-31"]
[9,"094187402_5","3_094187402",3,"094187402","CHCA West Houston LP dba West Houston Medical Cent","094187402.4","094187402.4.6",5,3,"No-Not Started","Did Not Report",null,null,"Yes-Completed","Approved","Category 4 reporting domain was reviewed, and HHSC found provider submitted documentation to support achievement. Project is approved and eligible for payment.\n","Round 2 (October)","2013-12-31",null,"YES","2014-01-01","2014-12-31","",""]
[9,"112672402_3","3_112672402",3,"112672402","UT MD Anderson Cancer Center","112672402.4","112672402.4.1",3,3,"Yes-Completed","Approved","Provider submitted required documentation to support Category 4 achievement. Project 112672402.4.1 is approved and eligible for DY3 payment.",null,"Yes-Completed","Previously Approved",null,"Round 1 (April)","2012-12-31",null,"YES","2013-01-01","2013-12-31","",""]
[9,"112672402_1","3_112672402",3,"112672402","UT MD Anderson Cancer Center","112672402.4","112672402.4.2",1,3,"Yes-Completed","Approved","Provider submitted required documentation to support Category 4 achievement. Project 112672402.4.2 is approved and eligible for DY3 payment.",null,"Yes-Completed","Previously Approved",null,"Round 1 (April)","2012-12-31",null,"YES","2013-01-01","2013-12-31","",""]
[9,"112672402_4","3_112672402",3,"112672402","UT MD Anderson Cancer Center","112672402.4","112672402.4.5",4,3,"Yes-Completed","Approved","Provider submitted required documentation to support Category 4 achievement. Project 112672402.4.4 is approved and eligible for DY3 payment.",null,"Yes-Completed","Previously Approved",null,"Round 1 (April)","2013-09-30","2013-09-30","YES","2013-10-01","2014-09-30","2013-10-01","2014-09-30"]
[9,"112672402_5","3_112672402",3,"112672402","UT MD Anderson Cancer Center","112672402.4","112672402.4.6",5,3,"Yes-Completed","Approved","Provider submitted required documentation to support Category 4 achievement. Project 112672402.4.5 is approved and eligible for DY3 payment.",null,"Yes-Completed","Previously Approved",null,"Round 1 (April)","2013-09-30",null,"YES","2013-10-01","2014-09-30","",""]
[9,"127300503_3","3_127300503",3,"127300503","St. Luke's Episcopal Hospital","127300503.4","127300503.4.1",3,3,"No-Not Started","Did Not Report",null,null,"Yes-Completed","Approved","Category 4 reporting domain was reviewed, and HHSC found provider submitted documentation to support achievement. Project is approved and eligible for payment.\n","Round 2 (October)","2012-12-31",null,"YES","2013-01-01","2013-12-31","",""]
[9,"127300503_1","3_127300503",3,"127300503","St. Luke's Episcopal Hospital","127300503.4","127300503.4.2",1,3,"Yes-Completed","Approved","Provider submitted required documentation to support Category 4 achievement. Project 127300503.4.2 is approved and eligible for DY3 payment.",null,"Yes-Completed","Previously Approved",null,"Round 1 (April)","2012-12-31",null,"YES","2013-01-01","2013-12-31","",""]
[9,"127300503_2","3_127300503",3,"127300503","St. Luke's Episcopal Hospital","127300503.4","127300503.4.3",2,3,"Yes-Completed","Approved","Provider submitted required documentation to support Category 4 achievement. Project 127300503.4.3 is approved and eligible for DY3 payment.",null,"Yes-Completed","Previously Approved",null,"Round 1 (April)","2012-12-31",null,"YES","2013-01-01","2013-12-31","",""]
[9,"127300503_4","3_127300503",3,"127300503","St. Luke's Episcopal Hospital","127300503.4","127300503.4.5",4,3,"No-Not Started","Did Not Report",null,null,"Yes-Completed","Needs More Info - Approved","Category 4 reporting domain was reviewed, and HHSC found provider submitted documentation to support achievement. Reporting domain is approved and eligible for payment.\n","Round 2 (October) - Needs More Info","2013-12-31","2014-06-30","NO","2014-01-01","2014-12-31","2014-07-01","2015-06-30"]
[9,"127300503_5","3_127300503",3,"127300503","St. Luke's Episcopal Hospital","127300503.4","127300503.4.6",5,3,"No-Not Started","Did Not Report",null,null,"Yes-Completed","Approved","Category 4 reporting domain was reviewed, and HHSC found provider submitted documentation to support achievement. Project is approved and eligible for payment.\n","Round 2 (October)","2013-12-31",null,"YES","2014-01-01","2014-12-31","",""]
[9,"127303903_3","3_127303903",3,"127303903","Oak Bend Medical Center","127303903.4","127303903.4.1",3,3,"Yes-Completed","Approved","Provider submitted required documentation to support Category 4 achievement. Project 127303903.4.1 is approved and eligible for DY3 payment.",null,"Yes-Completed","Previously Approved",null,"Round 1 (April)","2012-12-31",null,"YES","2013-01-01","2013-12-31","",""]
[9,"127303903_1","3_127303903",3,"127303903","Oak Bend Medical Center","127303903.4","127303903.4.2",1,3,"Yes-Completed","Approved","Provider submitted required documentation to support Category 4 achievement. Project 127303903.4.2 is approved and eligible for DY3 payment.",null,"Yes-Completed","Previously Approved",null,"Round 1 (April)","2012-12-31",null,"YES","2013-01-01","2013-12-31","",""]
[9,"127303903_2","3_127303903",3,"127303903","Oak Bend Medical Center","127303903.4","127303903.4.3",2,3,"Yes-Completed","Approved","Provider submitted required documentation to support Category 4 achievement. Project 127303903.4.3 is approved and eligible for DY3 payment.",null,"Yes-Completed","Previously Approved",null,"Round 1 (April)","2012-12-31",null,"YES","2013-01-01","2013-12-31","",""]
[9,"127303903_4","3_127303903",3,"127303903","Oak Bend Medical Center","127303903.4","127303903.4.5",4,3,"No-Not Started","Did Not Report",null,null,"Yes-Completed","Approved","Category 4 reporting domain was reviewed, and HHSC found provider submitted documentation to support achievement. Project is approved and eligible for payment.\n","Round 2 (October)","2013-12-31","2013-12-31","YES","2014-01-01","2014-12-31","2014-01-01","2014-12-31"]
[9,"127303903_5","3_127303903",3,"127303903","Oak Bend Medical Center","127303903.4","127303903.4.6",5,3,"No-Not Started","Did Not Report",null,null,"Yes-Completed","Approved","Category 4 reporting domain was reviewed, and HHSC found provider submitted documentation to support achievement. Project is approved and eligible for payment.\n","Round 2 (October)","2013-12-31",null,"YES","2014-01-01","2014-12-31","",""]
[9,"130959304_3","3_130959304",3,"130959304","Matagorda County Hospital District dba Matagorda R","130959304.4","130959304.4.1",3,3,"No-Not Started","Did Not Report",null,null,"Yes-Completed","Approved","Category 4 reporting domain was reviewed, and HHSC found provider submitted documentation to support achievement. Project is approved and eligible for payment.\n","Round 2 (October)","2012-12-31",null,"YES","2013-01-01","2013-12-31","",""]
[9,"130959304_1","3_130959304",3,"130959304","Matagorda County Hospital District dba Matagorda R","130959304.4","130959304.4.2",1,3,"No-Not Started","Did Not Report",null,null,"Yes-Completed","Approved","Category 4 reporting domain was reviewed, and HHSC found provider submitted documentation to support achievement. Project is approved and eligible for payment.\n","Round 2 (October)","2012-12-31",null,"YES","2013-01-01","2013-12-31","",""]
[9,"130959304_2","3_130959304",3,"130959304","Matagorda County Hospital District dba Matagorda R","130959304.4","130959304.4.3",2,3,"No-Not Started","Did Not Report",null,null,"Yes-Completed","Approved","Category 4 reporting domain was reviewed, and HHSC found provider submitted documentation to support achievement. Project is approved and eligible for payment.\n","Round 2 (October)","2012-12-31",null,"YES","2013-01-01","2013-12-31","",""]
[9,"130959304_4","3_130959304",3,"130959304","Matagorda County Hospital District dba Matagorda R","130959304.4","130959304.4.5",4,3,"No-Not Started","Did Not Report",null,null,"Yes-Completed","Needs More Info - Approved","Category 4 reporting domain was reviewed, and HHSC found provider submitted documentation to support achievement. Reporting domain is approved and eligible for payment.\n","Round 2 (October) - Needs More Info","2013-12-31","2013-12-31","YES","2014-01-01","2014-12-31","2014-01-01","2014-12-31"]
[9,"130959304_5","3_130959304",3,"130959304","Matagorda County Hospital District dba Matagorda R","130959304.4","130959304.4.6",5,3,"No-Not Started","Did Not Report",null,null,"Yes-Completed","Needs More Info - Approved","Category 4 reporting domain was reviewed, and HHSC found provider submitted documentation to support achievement. Reporting domain is approved and eligible for payment.\n","Round 2 (October) - Needs More Info","2013-12-31",null,"YES","2014-01-01","2014-12-31","",""]
[9,"288523801_3","3_288523801",3,"288523801","Tomball Texas Hospital Company, LLC dba Tomball Re","131044305.4","131044305.4.1",3,3,"Yes-Completed","Approved","Provider submitted required documentation to support Category 4 achievement. Project 131044305.4.1 is approved and eligible for DY3 payment.",null,"Yes-Completed","Previously Approved",null,"Round 1 (April)","2012-12-31",null,"YES","2013-01-01","2013-12-31","",""]
[9,"288523801_1","3_288523801",3,"288523801","Tomball Texas Hospital Company, LLC dba Tomball Re","131044305.4","131044305.4.2",1,3,"Yes-Completed","Approved","Provider submitted required documentation to support Category 4 achievement. Project 131044305.4.2 is approved and eligible for DY3 payment.",null,"Yes-Completed","Previously Approved",null,"Round 1 (April)","2012-12-31",null,"YES","2013-01-01","2013-12-31","",""]
[9,"288523801_2","3_288523801",3,"288523801","Tomball Texas Hospital Company, LLC dba Tomball Re","131044305.4","131044305.4.3",2,3,"Yes-Completed","Approved","Provider submitted required documentation to support Category 4 achievement. Project 131044305.4.3 is approved and eligible for DY3 payment.",null,"Yes-Completed","Previously Approved",null,"Round 1 (April)","2012-12-31",null,"YES","2013-01-01","2013-12-31","",""]
[9,"288523801_4","3_288523801",3,"288523801","Tomball Texas Hospital Company, LLC dba Tomball Re","131044305.4","131044305.4.5",4,3,"No-Not Started","Did Not Report","Category 4 Status Report was reviewed, and HHSC changed to \"Did Not Report\" because provider used reporting period shorter than 12-months (as specified in the April DY3 Reporting Companion) for the Medication Management measure -- which was reported as 2/1/2014 to 2/28/2014, which is not 12 months. Provider must report the RD-4 metrics over a 12-month period (note: measurement period cannot be earlier than DY2 [10/1/12 - 9/30/12]). Provider should report in October.",null,"No-Not Started","Not Approved","HHSC found achievement of Category 4 reporting domain is not clearly demonstrated. Provider has indicated that they are not reporting RD4 in DY3. Project is not approved and is no longer eligible for payment.","Round 2 (October) - Not Approved","DNR","DNR","YES","TBD","TBD","TBD","TBD"]
[9,"288523801_5","3_288523801",3,"288523801","Tomball Texas Hospital Company, LLC dba Tomball Re","131044305.4","131044305.4.6",5,3,"No-Not Started","Did Not Report","Category 4 Status Report was reviewed, and HHSC changed to \"Did Not Report\" because provider used reporting period shorter than 12-months (as specified in the April DY3 Reporting Companion). Provider must report the RD-5 metrics over a 12-month period (note: measurement period cannot be earlier than DY2 [10/1/12 - 9/30/12]). The measurement period specified is 1/1/14 to 3/31/14. Provider should report in October.",null,"No-Not Started","Not Approved","HHSC found achievement of Category 4 reporting domain is not clearly demonstrated. Provider has indicated that they are not reporting RD5 in DY3. Project is not approved and is no longer eligible for payment.","Round 2 (October) - Not Approved","DNR",null,"YES","TBD","TBD","",""]
[9,"131045004_3","3_131045004",3,"131045004","El Campo Memorial Hospital","131045004.4","131045004.4.1",3,3,"No-Not Started","Did Not Report",null,null,"Yes-Completed","Approved","Category 4 reporting domain was reviewed, and HHSC found provider submitted documentation to support achievement. Project is approved and eligible for payment.\n","Round 2 (October)","2012-12-31",null,"YES","2013-01-01","2013-12-31","",""]
[9,"131045004_1","3_131045004",3,"131045004","El Campo Memorial Hospital","131045004.4","131045004.4.2",1,3,"No-Not Started","Did Not Report",null,null,"Yes-Completed","Approved","Category 4 reporting domain was reviewed, and HHSC found provider submitted documentation to support achievement. Project is approved and eligible for payment.\n","Round 2 (October)","2012-12-31",null,"YES","2013-01-01","2013-12-31","",""]
[9,"131045004_2","3_131045004",3,"131045004","El Campo Memorial Hospital","131045004.4","131045004.4.3",2,3,"No-Not Started","Did Not Report",null,null,"Yes-Completed","Approved","Category 4 reporting domain was reviewed, and HHSC found provider submitted documentation to support achievement. Project is approved and eligible for payment.\n","Round 2 (October)","2012-12-31",null,"YES","2013-01-01","2013-12-31","",""]
[9,"131045004_4","3_131045004",3,"131045004","El Campo Memorial Hospital","131045004.4","131045004.4.5",4,3,"No-Not Started","Did Not Report",null,null,"Yes-Completed","Approved","Category 4 reporting domain was reviewed, and HHSC found provider submitted documentation to support achievement. Project is approved and eligible for payment.\n","Round 2 (October)","2013-09-30","2013-09-30","YES","2013-10-01","2014-09-30","2013-10-01","2014-09-30"]
[9,"131045004_5","3_131045004",3,"131045004","El Campo Memorial Hospital","131045004.4","131045004.4.6",5,3,"No-Not Started","Did Not Report",null,null,"Yes-Completed","Approved","Category 4 reporting domain was reviewed, and HHSC found provider submitted documentation to support achievement. Project is approved and eligible for payment.\n","Round 2 (October)","2013-12-31",null,"YES","2014-01-01","2014-12-31","",""]
[9,"133355104_3","3_133355104",3,"133355104","Harris County Hospital District","133355104.4","133355104.4.1",3,3,"Yes-Completed","Approved","Provider submitted required documentation to support Category 4 achievement. Project 133355104.4.1 is approved and eligible for DY3 payment.",null,"Yes-Completed","Previously Approved",null,"Round 1 (April)","2012-12-31",null,"YES","2013-01-01","2013-12-31","",""]
[9,"133355104_1","3_133355104",3,"133355104","Harris County Hospital District","133355104.4","133355104.4.2",1,3,"Yes-Completed","Approved","Provider submitted required documentation to support Category 4 achievement. Project 133355104.4.2 is approved and eligible for DY3 payment.",null,"Yes-Completed","Previously Approved",null,"Round 1 (April)","2012-12-31",null,"YES","2013-01-01","2013-12-31","",""]
[9,"133355104_2","3_133355104",3,"133355104","Harris County Hospital District","133355104.4","133355104.4.3",2,3,"Yes-Completed","Approved","Provider submitted required documentation to support Category 4 achievement. Project 133355104.4.3 is approved and eligible for DY3 payment.",null,"Yes-Completed","Previously Approved",null,"Round 1 (April)","2012-12-31",null,"YES","2013-01-01","2013-12-31","",""]
[9,"133355104_4","3_133355104",3,"133355104","Harris County Hospital District","133355104.4","133355104.4.5",4,3,"Yes-Completed","Approved","Provider submitted required documentation to support Category 4 achievement. Project 133355104.4.5 is approved and eligible for DY3 payment.",null,"Yes-Completed","Previously Approved",null,"Round 1 (April)","2013-12-31","2013-12-31","YES","2014-01-01","2014-12-31","2014-01-01","2014-12-31"]
[9,"133355104_5","3_133355104",3,"133355104","Harris County Hospital District","133355104.4","133355104.4.6",5,3,"Yes-Completed","Approved","Provider submitted required documentation to support Category 4 achievement. Project 133355104.4.6 is approved and eligible for DY3 payment.",null,"Yes-Completed","Previously Approved",null,"Round 1 (April)","2013-12-31",null,"YES","2014-01-01","2014-12-31","",""]
[9,"137805107_3","3_137805107",3,"137805107","Memorial Hermann Hospital Southwest dba Memorial H","137805107.4","137805107.4.1",3,3,"Yes-Completed","Approved","Provider submitted required documentation to support Category 4 achievement. Project 137805107.4.1 is approved and eligible for DY3 payment.",null,"Yes-Completed","Previously Approved",null,"Round 1 (April)","2012-12-31",null,"YES","2013-01-01","2013-12-31","",""]
[9,"137805107_1","3_137805107",3,"137805107","Memorial Hermann Hospital Southwest dba Memorial H","137805107.4","137805107.4.2",1,3,"Yes-Completed","Approved","Provider submitted required documentation to support Category 4 achievement. Project 137805107.4.2 is approved and eligible for DY3 payment.",null,"Yes-Completed","Previously Approved",null,"Round 1 (April)","2012-12-31",null,"YES","2013-01-01","2013-12-31","",""]
[9,"137805107_2","3_137805107",3,"137805107","Memorial Hermann Hospital Southwest dba Memorial H","137805107.4","137805107.4.3",2,3,"Yes-Completed","Approved","Provider submitted required documentation to support Category 4 achievement. Project 137805107.4.3 is approved and eligible for DY3 payment.",null,"Yes-Completed","Previously Approved",null,"Round 1 (April)","2012-12-31",null,"YES","2013-01-01","2013-12-31","",""]
[9,"137805107_4","3_137805107",3,"137805107","Memorial Hermann Hospital Southwest dba Memorial H","137805107.4","137805107.4.5",4,3,"No-Not Started","Did Not Report",null,null,"Yes-Completed","Approved","Category 4 reporting domain was reviewed, and HHSC found provider submitted documentation to support achievement. Project is approved and eligible for payment.\n","Round 2 (October)","2014-09-30","2014-06-30","NO","2014-10-01","2015-09-30","2014-07-01","2015-06-30"]
[9,"137805107_5","3_137805107",3,"137805107","Memorial Hermann Hospital Southwest dba Memorial H","137805107.4","137805107.4.6",5,3,"Yes-Completed","Approved","Provider submitted required documentation to support Category 4 achievement. Project 137805107.4.6 is approved and eligible for DY3 payment.",null,"Yes-Completed","Previously Approved",null,"Round 1 (April)","2013-12-31",null,"YES","2014-01-01","2014-12-31","",""]
[9,"137949705_3","3_137949705",3,"137949705","Houston Methodist Hospital","137949705.4","137949705.4.1",3,3,"No-Not Started","Did Not Report",null,null,"Yes-Completed","Approved","Category 4 reporting domain was reviewed, and HHSC found provider submitted documentation to support achievement. Project is approved and eligible for payment.\n","Round 2 (October)","2012-12-31",null,"YES","2013-01-01","2013-12-31","",""]
[9,"137949705_1","3_137949705",3,"137949705","Houston Methodist Hospital","137949705.4","137949705.4.2",1,3,"No-Not Started","Did Not Report",null,null,"Yes-Completed","Approved","Category 4 reporting domain was reviewed, and HHSC found provider submitted documentation to support achievement. Project is approved and eligible for payment.\n","Round 2 (October)","2012-12-31",null,"YES","2013-01-01","2013-12-31","",""]
[9,"137949705_2","3_137949705",3,"137949705","Houston Methodist Hospital","137949705.4","137949705.4.3",2,3,"No-Not Started","Did Not Report",null,null,"Yes-Completed","Approved","Category 4 reporting domain was reviewed, and HHSC found provider submitted documentation to support achievement. Project is approved and eligible for payment.\n","Round 2 (October)","2012-12-31",null,"YES","2013-01-01","2013-12-31","",""]
[9,"137949705_4","3_137949705",3,"137949705","Houston Methodist Hospital","137949705.4","137949705.4.5",4,3,"No-Not Started","Did Not Report",null,null,"Yes-Completed","Approved","Category 4 reporting domain was reviewed, and HHSC found provider submitted documentation to support achievement. Project is approved and eligible for payment.","Round 2 (October)","2013-09-30","2014-09-30","NO","2013-10-01","2014-09-30","2014-10-01","2015-09-30"]
[9,"137949705_5","3_137949705",3,"137949705","Houston Methodist Hospital","137949705.4","137949705.4.6",5,3,"No-Not Started","Did Not Report",null,null,"Yes-Completed","Approved","Category 4 reporting domain was reviewed, and HHSC found provider submitted documentation to support achievement. Project is approved and eligible for payment.","Round 2 (October)","2014-09-30",null,"NO","2014-10-01","2015-09-30","",""]
[{"$f":"LEN(E195)","v":9},{"$f":"E195&\"_\"&I195","v":"139135109_3"},{"$f":"D195&\"_\"&E195","v":"3_139135109"},3,"139135109","Texas Children's Hospital","139135109.4","139135109.4.1",3,3,"Yes-Completed","Approved","Provider submitted required documentation to support Category 4 achievement. Project 139135109.4.1 is approved and eligible for DY3 payment.",null,"Yes-Completed","Previously Approved",null,"Round 1 (April)","2012-12-31",null,"YES","2013-01-01","2013-12-31","",""]
[9,"139135109_1","3_139135109",3,"139135109","Texas Children's Hospital","139135109.4","139135109.4.2",1,3,"Yes-Completed","Approved","Provider submitted required documentation to support Category 4 achievement. Project 139135109.4.2 is approved and eligible for DY3 payment.",null,"Yes-Completed","Previously Approved",null,"Round 1 (April)","2012-12-31",null,"YES","2013-01-01","2013-12-31","",""]
[9,"139135109_2","3_139135109",3,"139135109","Texas Children's Hospital","139135109.4","139135109.4.3",2,3,"Yes-Completed","Approved","Provider submitted required documentation to support Category 4 achievement. Project 139135109.4.3 is approved and eligible for DY3 payment.",null,"Yes-Completed","Previously Approved",null,"Round 1 (April)","2012-12-31",null,"YES","2013-01-01","2013-12-31","",""]
[9,"139135109_4","3_139135109",3,"139135109","Texas Children's Hospital","139135109.4","139135109.4.5",4,3,"No-Not Started","Did Not Report",null,null,"Yes-Completed","Approved","Category 4 reporting domain was reviewed, and HHSC found provider submitted documentation to support achievement. Project is approved and eligible for payment.\n","Round 2 (October)","2012-12-31","2013-12-31","YES","2013-01-01","2013-12-31","2014-01-01","2014-12-31"]
[9,"139135109_5","3_139135109",3,"139135109","Texas Children's Hospital","139135109.4","139135109.4.6",5,3,"No-Not Started","Did Not Report",null,null,"Yes-Completed","Approved","Category 4 reporting domain was reviewed, and HHSC found provider submitted documentation to support achievement. Project is approved and eligible for payment.\n","Round 2 (October)","2012-12-31",null,"YES","2013-01-01","2013-12-31","",""]
[9,"140713201_3","3_140713201",3,"140713201","Methodist Willowbrook","140713201.4","140713201.4.1",3,3,"No-Not Started","Did Not Report",null,null,"Yes-Completed","Approved","Category 4 reporting domain was reviewed, and HHSC found provider submitted documentation to support achievement. Project is approved and eligible for payment.\n","Round 2 (October)","2012-12-31",null,"YES","2013-01-01","2013-12-31","",""]
[9,"140713201_1","3_140713201",3,"140713201","Methodist Willowbrook","140713201.4","140713201.4.2",1,3,"No-Not Started","Did Not Report",null,null,"Yes-Completed","Approved","Category 4 reporting domain was reviewed, and HHSC found provider submitted documentation to support achievement. Project is approved and eligible for payment.\n","Round 2 (October)","2012-12-31",null,"YES","2013-01-01","2013-12-31","",""]
[9,"140713201_2","3_140713201",3,"140713201","Methodist Willowbrook","140713201.4","140713201.4.3",2,3,"No-Not Started","Did Not Report",null,null,"Yes-Completed","Approved","Category 4 reporting domain was reviewed, and HHSC found provider submitted documentation to support achievement. Project is approved and eligible for payment.\n","Round 2 (October)","2012-12-31",null,"YES","2013-01-01","2013-12-31","",""]
[9,"140713201_4","3_140713201",3,"140713201","Methodist Willowbrook","140713201.4","140713201.4.5",4,3,"No-Not Started","Did Not Report",null,null,"Yes-Completed","Approved","Category 4 reporting domain was reviewed, and HHSC found provider submitted documentation to support achievement. Project is approved and eligible for payment.\n","Round 2 (October)","2013-09-30","2014-09-30","NO","2013-10-01","2014-09-30","2014-10-01","2015-09-30"]
[9,"140713201_5","3_140713201",3,"140713201","Methodist Willowbrook","140713201.4","140713201.4.6",5,3,"No-Not Started","Did Not Report",null,null,"Yes-Completed","Approved","Category 4 reporting domain was reviewed, and HHSC found provider submitted documentation to support achievement. Project is approved and eligible for payment.\n","Round 2 (October)","2014-09-30",null,"NO","2014-10-01","2015-09-30","",""]
[9,"181706601_3","3_181706601",3,"181706601","St Joseph Medical Center LLC","181706601.4","181706601.4.1",3,3,"Yes-Completed","Approved","Provider submitted required documentation to support Category 4 achievement. Project 181706601.4.1 is approved and eligible for DY3 payment.",null,"Yes-Completed","Previously Approved",null,"Round 1 (April)","2012-12-31",null,"YES","2013-01-01","2013-12-31","",""]
[9,"181706601_1","3_181706601",3,"181706601","St Joseph Medical Center LLC","181706601.4","181706601.4.2",1,3,"Yes-Completed","Approved","Provider submitted required documentation to support Category 4 achievement. Project 181706601.4.2 is approved and eligible for DY3 payment.",null,"Yes-Completed","Previously Approved",null,"Round 1 (April)","2012-12-31",null,"YES","2013-01-01","2013-12-31","",""]
[9,"181706601_2","3_181706601",3,"181706601","St Joseph Medical Center LLC","181706601.4","181706601.4.3",2,3,"Yes-Completed","Approved","Provider submitted required documentation to support Category 4 achievement. Project 181706601.4.3 is approved and eligible for DY3 payment.",null,"Yes-Completed","Previously Approved",null,"Round 1 (April)","2012-12-31",null,"YES","2013-01-01","2013-12-31","",""]
[9,"181706601_4","3_181706601",3,"181706601","St Joseph Medical Center LLC","181706601.4","181706601.4.5",4,3,"No-Not Started","Did Not Report",null,null,"Yes-Completed","Needs More Info - Approved","Category 4 reporting domain was reviewed, and HHSC found provider submitted documentation to support achievement. Reporting domain is approved and eligible for payment.\n\n","Round 2 (October) - Needs More Info","2013-09-30","2013-12-31","YES","2013-10-01","2014-09-30","2014-01-01","2014-12-31"]
[9,"181706601_5","3_181706601",3,"181706601","St Joseph Medical Center LLC","181706601.4","181706601.4.6",5,3,"No-Not Started","Did Not Report",null,null,"Yes-Completed","Needs More Info - Approved","Category 4 reporting domain was reviewed, and HHSC found provider submitted documentation to support achievement. Reporting domain is approved and eligible for payment.\n","Round 2 (October) - Needs More Info","2013-09-30",null,"YES","2013-10-01","2014-09-30","",""]
[9,"181706601_6","3_181706601",3,"181706601","St Joseph Medical Center LLC","181706601.4","181706601.4.7",6,3,"No-Not Started","Did Not Report",null,null,"Yes-Completed","Approved","Category 4 reporting domain was reviewed, and HHSC found provider submitted documentation to support achievement. Project is approved and eligible for payment.\n","Round 2 (October)","2012-12-31",null,"YES","2013-01-01","2013-12-31","",""]
[9,"212060201_3","3_212060201",3,"212060201","Rice Medical Center","212060201.4","212060201.4.1",3,3,"Yes-Completed","Approved","Provider submitted required documentation to support Category 4 achievement. Project 212060201.4.1 is approved and eligible for DY3 payment.",null,"Yes-Completed","Previously Approved",null,"Round 1 (April)","2012-12-31",null,"YES","2013-01-01","2013-12-31","",""]
[9,"212060201_1","3_212060201",3,"212060201","Rice Medical Center","212060201.4","212060201.4.2",1,3,"Yes-Completed","Approved","Provider submitted required documentation to support Category 4 achievement. Project 212060201.4.2 is approved and eligible for DY3 payment.",null,"Yes-Completed","Previously Approved",null,"Round 1 (April)","2012-12-31",null,"YES","2013-01-01","2013-12-31","",""]
[9,"212060201_2","3_212060201",3,"212060201","Rice Medical Center","212060201.4","212060201.4.3",2,3,"Yes-Completed","Approved","Provider submitted required documentation to support Category 4 achievement. Project 212060201.4.3 is approved and eligible for DY3 payment.",null,"Yes-Completed","Previously Approved",null,"Round 1 (April)","2012-12-31",null,"YES","2013-01-01","2013-12-31","",""]
[9,"212060201_4","3_212060201",3,"212060201","Rice Medical Center","212060201.4","212060201.4.5",4,3,"No-Not Started","Did Not Report",null,null,"Yes-Completed","Not Approved","Provider reported less than 3 months of HCAHPS data. HHSC did not received approval from the Center for Medicaid and Medicare Services to authorize payment for providers reporting less than 10 months of HCAHPS data during DY3. Project is not approved and is no longer eligible for payment.","Round 2 (October) - Not Approved","2014-09-30","2014-09-30","NO","2014-10-01","2015-09-30","2014-10-01","2015-09-30"]
[9,"212060201_5","3_212060201",3,"212060201","Rice Medical Center","212060201.4","212060201.4.6",5,3,"No-Not Started","Did Not Report",null,null,"Yes-Completed","Approved","Category 4 reporting domain was reviewed, and HHSC found provider submitted documentation to support achievement. Project is approved and eligible for payment.\n","Round 2 (October)","2013-09-30",null,"YES","2013-10-01","2014-09-30","",""]
[9,"020811801_3","4_020811801",4,"020811801","Christus Spohn Hospital Beeville","020811801.4","020811801.4.1",3,3,"Yes-Completed","Approved","Provider submitted required documentation to support Category 4 achievement. Project 020811801.4.1 is approved and eligible for DY3 payment.",null,"Yes-Completed","Previously Approved",null,"Round 1 (April)","2012-12-31",null,"YES","2013-01-01","2013-12-31","",""]
[9,"020811801_1","4_020811801",4,"020811801","Christus Spohn Hospital Beeville","020811801.4","020811801.4.2",1,3,"Yes-Completed","Approved","Provider submitted required documentation to support Category 4 achievement. Project 020811801.4.2 is approved and eligible for DY3 payment.",null,"Yes-Completed","Previously Approved",null,"Round 1 (April)","2012-12-31",null,"YES","2013-01-01","2013-12-31","",""]
[9,"020811801_2","4_020811801",4,"020811801","Christus Spohn Hospital Beeville","020811801.4","020811801.4.3",2,3,"Yes-Completed","Approved","Provider submitted required documentation to support Category 4 achievement. Project 020811801.4.3 is approved and eligible for DY3 payment.",null,"Yes-Completed","Previously Approved",null,"Round 1 (April)","2012-12-31",null,"YES","2013-01-01","2013-12-31","",""]
[9,"020811801_4","4_020811801",4,"020811801","Christus Spohn Hospital Beeville","020811801.4","020811801.4.5",4,3,"Yes-Completed","Approved","Provider submitted required documentation to support Category 4 achievement. Project 020811801.4.5 is approved and eligible for DY3 payment.",null,"Yes-Completed","Previously Approved",null,"Round 1 (April)","2013-12-31","2013-12-31","YES","2014-01-01","2014-12-31","2014-01-01","2014-12-31"]
[9,"020811801_5","4_020811801",4,"020811801","Christus Spohn Hospital Beeville","020811801.4","020811801.4.6",5,3,"Yes-Completed","Approved","Provider submitted required documentation to support Category 4 achievement. Project 020811801.4.6 is approved and eligible for DY3 payment.",null,"Yes-Completed","Previously Approved",null,"Round 1 (April)","2013-12-31",null,"YES","2014-01-01","2014-12-31","",""]
[9,"020811801_6","4_020811801",4,"020811801","Christus Spohn Hospital Beeville","020811801.4","020811801.4.7",6,3,"No-Not Started","Did Not Report",null,null,"Yes-Completed","Approved","Category 4 reporting domain was reviewed, and HHSC found provider submitted documentation to support achievement. Project is approved and eligible for payment.\n","Round 2 (October)","2013-12-31",null,"YES","2014-01-01","2014-12-31","",""]
[9,"020973601_3","4_020973601",4,"020973601","Corpus Christi Medical Center","020973601.4","020973601.4.1",3,3,"Yes-Completed","Approved","Provider submitted required documentation to support Category 4 achievement. Project 020973601.4.1 is approved and eligible for DY3 payment.",null,"Yes-Completed","Previously Approved",null,"Round 1 (April)","2012-12-31",null,"YES","2013-01-01","2013-12-31","",""]
[9,"020973601_1","4_020973601",4,"020973601","Corpus Christi Medical Center","020973601.4","020973601.4.2",1,3,"Yes-Completed","Approved","Provider submitted required documentation to support Category 4 achievement. Project 020973601.4.2 is approved and eligible for DY3 payment.",null,"Yes-Completed","Previously Approved",null,"Round 1 (April)","2012-12-31",null,"YES","2013-01-01","2013-12-31","",""]
[9,"020973601_2","4_020973601",4,"020973601","Corpus Christi Medical Center","020973601.4","020973601.4.3",2,3,"Yes-Completed","Approved","Provider submitted required documentation to support Category 4 achievement. Project 020973601.4.3 is approved and eligible for DY3 payment.",null,"Yes-Completed","Previously Approved",null,"Round 1 (April)","2012-12-31",null,"YES","2013-01-01","2013-12-31","",""]
[9,"020973601_4","4_020973601",4,"020973601","Corpus Christi Medical Center","020973601.4","020973601.4.5",4,3,"No-Not Started","Did Not Report",null,null,"Yes-Completed","Approved","Category 4 reporting domain was reviewed, and HHSC found provider submitted documentation to support achievement. Project is approved and eligible for payment.\n","Round 2 (October)","2013-09-30","2013-12-31","YES","2013-10-01","2014-09-30","2014-01-01","2014-12-31"]
[9,"020973601_5","4_020973601",4,"020973601","Corpus Christi Medical Center","020973601.4","020973601.4.6",5,3,"No-Not Started","Did Not Report",null,null,"Yes-Completed","Approved","Category 4 reporting domain was reviewed, and HHSC found provider submitted documentation to support achievement. Project is approved and eligible for payment.\n","Round 2 (October)","2013-12-31",null,"YES","2014-01-01","2014-12-31","",""]
[9,"094118902_3","4_094118902",4,"094118902","DeTar Hospital (Victoria of Tx)","094118902.4","094118902.4.1",3,3,"Yes-Completed","Approved","Provider submitted required documentation to support Category 4 achievement. Project 094118902.4.1 is approved and eligible for DY3 payment.",null,"Yes-Completed","Previously Approved",null,"Round 1 (April)","2012-12-31",null,"YES","2013-01-01","2013-12-31","",""]
[9,"094118902_1","4_094118902",4,"094118902","DeTar Hospital (Victoria of Tx)","094118902.4","094118902.4.2",1,3,"Yes-Completed","Approved","Provider submitted required documentation to support Category 4 achievement. Project 094118902.4.2 is approved and eligible for DY3 payment.",null,"Yes-Completed","Previously Approved",null,"Round 1 (April)","2012-12-31",null,"YES","2013-01-01","2013-12-31","",""]
[9,"094118902_2","4_094118902",4,"094118902","DeTar Hospital (Victoria of Tx)","094118902.4","094118902.4.3",2,3,"Yes-Completed","Approved","Provider submitted required documentation to support Category 4 achievement. Project 094118902.4.3 is approved and eligible for DY3 payment.",null,"Yes-Completed","Previously Approved",null,"Round 1 (April)","2012-12-31",null,"YES","2013-01-01","2013-12-31","",""]
[9,"094118902_4","4_094118902",4,"094118902","DeTar Hospital (Victoria of Tx)","094118902.4","094118902.4.5",4,3,"Yes-Completed","Needs More Info - Approved","Provider submitted required documentation to support Category 4 achievement. Project 094118902.4.5 is approved and eligible for DY3 payment.",null,"Yes-Completed","Previously Approved",null,"Round 1 (April) - Needs More Info","2013-12-31","2013-12-31","YES","2014-01-01","2014-12-31","2014-01-01","2014-12-31"]
[9,"094118902_5","4_094118902",4,"094118902","DeTar Hospital (Victoria of Tx)","094118902.4","094118902.4.6",5,3,"Yes-Completed","Needs More Info - Approved","Provider submitted required documentation to support Category 4 achievement. Project 094118902.4.6 is approved and eligible for DY3 payment.",null,"Yes-Completed","Previously Approved",null,"Round 1 (April) - Needs More Info","2014-03-31",null,"YES","2014-04-01","2015-03-31","",""]
[9,"094222902_3","4_094222902",4,"094222902","Christus Spohn Hospital Alice","094222902.4","094222902.4.1",3,3,"Yes-Completed","Approved","Provider submitted required documentation to support Category 4 achievement. Project 094222902.4.1 is approved and eligible for DY3 payment.",null,"Yes-Completed","Previously Approved",null,"Round 1 (April)","2012-12-31",null,"YES","2013-01-01","2013-12-31","",""]
[9,"094222902_1","4_094222902",4,"094222902","Christus Spohn Hospital Alice","094222902.4","094222902.4.2",1,3,"Yes-Completed","Approved","Provider submitted required documentation to support Category 4 achievement. Project 094222902.4.2 is approved and eligible for DY3 payment.",null,"Yes-Completed","Previously Approved",null,"Round 1 (April)","2012-12-31",null,"YES","2013-01-01","2013-12-31","",""]
[9,"094222902_2","4_094222902",4,"094222902","Christus Spohn Hospital Alice","094222902.4","094222902.4.3",2,3,"Yes-Completed","Approved","Provider submitted required documentation to support Category 4 achievement. Project 094222902.4.3 is approved and eligible for DY3 payment.",null,"Yes-Completed","Previously Approved",null,"Round 1 (April)","2012-12-31",null,"YES","2013-01-01","2013-12-31","",""]
[9,"094222902_4","4_094222902",4,"094222902","Christus Spohn Hospital Alice","094222902.4","094222902.4.5",4,3,"Yes-Completed","Approved","Provider submitted required documentation to support Category 4 achievement. Project 094222902.4.5 is approved and eligible for DY3 payment.",null,"Yes-Completed","Previously Approved",null,"Round 1 (April)","2013-12-31","2013-12-31","YES","2014-01-01","2014-12-31","2014-01-01","2014-12-31"]
[9,"094222902_5","4_094222902",4,"094222902","Christus Spohn Hospital Alice","094222902.4","094222902.4.6",5,3,"Yes-Completed","Approved","Provider submitted required documentation to support Category 4 achievement. Project 094222902.4.6 is approved and eligible for DY3 payment.",null,"Yes-Completed","Previously Approved",null,"Round 1 (April)","2014-03-31",null,"YES","2014-04-01","2015-03-31","",""]
[9,"094222902_6","4_094222902",4,"094222902","Christus Spohn Hospital Alice","094222902.4","094222902.4.7",6,3,"No-Not Started","Did Not Report",null,null,"Yes-Completed","Approved","Category 4 reporting domain was reviewed, and HHSC found provider submitted documentation to support achievement. Project is approved and eligible for payment.\n","Round 2 (October)","2013-12-31",null,"YES","2014-01-01","2014-12-31","",""]
[9,"112673204_3","4_112673204",4,"112673204","Yoakum Community Hospital","112673204.4","112673204.4.1",3,3,"Yes-Completed","Approved","Provider submitted required documentation to support Category 4 achievement. Project 112673204.4.1 is approved and eligible for DY3 payment.",null,"Yes-Completed","Previously Approved",null,"Round 1 (April)","2012-12-31",null,"YES","2013-01-01","2013-12-31","",""]
[9,"112673204_1","4_112673204",4,"112673204","Yoakum Community Hospital","112673204.4","112673204.4.2",1,3,"Yes-Completed","Approved","Provider submitted required documentation to support Category 4 achievement. Project 112673204.4.2 is approved and eligible for DY3 payment.",null,"Yes-Completed","Previously Approved",null,"Round 1 (April)","2012-12-31",null,"YES","2013-01-01","2013-12-31","",""]
[9,"112673204_2","4_112673204",4,"112673204","Yoakum Community Hospital","112673204.4","112673204.4.3",2,3,"Yes-Completed","Approved","Provider submitted required documentation to support Category 4 achievement. Project 112673204.4.3 is approved and eligible for DY3 payment.",null,"Yes-Completed","Previously Approved",null,"Round 1 (April)","2012-12-31",null,"YES","2013-01-01","2013-12-31","",""]
[9,"112673204_4","4_112673204",4,"112673204","Yoakum Community Hospital","112673204.4","112673204.4.5",4,3,"No-Not Started","Did Not Report",null,null,"No-Not Started","Not Approved","HHSC found achievement of Category 4 reporting domain is not clearly demonstrated. Provider has declined to report this domain in DY3. Project is not approved and is no longer eligible for payment.","Round 2 (October) - Not Approved","DNR","DNR","YES","TBD","TBD","TBD","TBD"]
[9,"112673204_5","4_112673204",4,"112673204","Yoakum Community Hospital","112673204.4","112673204.4.6",5,3,"No-Not Started","Did Not Report",null,null,"No-Not Started","Not Approved","HHSC found achievement of Category 4 reporting domain is not clearly demonstrated. Provider has declined to report this domain in DY3. Project is not approved and is no longer eligible for payment.\n","Round 2 (October) - Not Approved","DNR",null,"YES","TBD","TBD","",""]
[9,"121775403_3","4_121775403",4,"121775403","Spohn Health System dba Spohn Memorial Hospital","121775403.4","121775403.4.1",3,3,"Yes-Completed","Approved","Provider submitted required documentation to support Category 4 achievement. Project 121775403.4.1 is approved and eligible for DY3 payment.",null,"Yes-Completed","Previously Approved",null,"Round 1 (April)","2012-12-31",null,"YES","2013-01-01","2013-12-31","",""]
[9,"121775403_1","4_121775403",4,"121775403","Spohn Health System dba Spohn Memorial Hospital","121775403.4","121775403.4.2",1,3,"Yes-Completed","Approved","Provider submitted required documentation to support Category 4 achievement. Project 121775403.4.2 is approved and eligible for DY3 payment.",null,"Yes-Completed","Previously Approved",null,"Round 1 (April)","2012-12-31",null,"YES","2013-01-01","2013-12-31","",""]
[9,"121775403_2","4_121775403",4,"121775403","Spohn Health System dba Spohn Memorial Hospital","121775403.4","121775403.4.3",2,3,"Yes-Completed","Approved","Provider submitted required documentation to support Category 4 achievement. Project 121775403.4.3 is approved and eligible for DY3 payment.",null,"Yes-Completed","Previously Approved",null,"Round 1 (April)","2012-12-31",null,"YES","2013-01-01","2013-12-31","",""]
[9,"121775403_4","4_121775403",4,"121775403","Spohn Health System dba Spohn Memorial Hospital","121775403.4","121775403.4.5",4,3,"Yes-Completed","Approved","Provider submitted required documentation to support Category 4 achievement. Project 121775403.4.5 is approved and eligible for DY3 payment.",null,"Yes-Completed","Previously Approved",null,"Round 1 (April)","2013-12-31","2013-12-31","YES","2014-01-01","2014-12-31","2014-01-01","2014-12-31"]
[9,"121775403_5","4_121775403",4,"121775403","Spohn Health System dba Spohn Memorial Hospital","121775403.4","121775403.4.6",5,3,"Yes-Completed","Approved","Provider submitted required documentation to support Category 4 achievement. Project 121775403.4.6 is approved and eligible for DY3 payment.",null,"Yes-Completed","Previously Approved",null,"Round 1 (April)","2013-12-31",null,"YES","2014-01-01","2014-12-31","",""]
[9,"121775403_6","4_121775403",4,"121775403","Spohn Health System dba Spohn Memorial Hospital","121775403.4","121775403.4.7",6,3,"No-Not Started","Did Not Report",null,null,"Yes-Completed","Approved","Category 4 reporting domain was reviewed, and HHSC found provider submitted documentation to support achievement. Project is approved and eligible for payment.\n","Round 2 (October)","2013-12-31",null,"YES","2014-01-01","2014-12-31","",""]
[9,"132812205_3","4_132812205",4,"132812205","Driscoll Children's Hospital","132812205.4","132812205.4.1",3,3,"Yes-Completed","Approved","Provider submitted required documentation to support Category 4 achievement. Project 132812205.4.1 is approved and eligible for DY3 payment.",null,"Yes-Completed","Previously Approved",null,"Round 1 (April)","2012-12-31",null,"YES","2013-01-01","2013-12-31","",""]
[9,"132812205_1","4_132812205",4,"132812205","Driscoll Children's Hospital","132812205.4","132812205.4.2",1,3,"Yes-Completed","Approved","Provider submitted required documentation to support Category 4 achievement. Project 132812205.4.2 is approved and eligible for DY3 payment.",null,"Yes-Completed","Previously Approved",null,"Round 1 (April)","2012-12-31",null,"YES","2013-01-01","2013-12-31","",""]
[9,"132812205_2","4_132812205",4,"132812205","Driscoll Children's Hospital","132812205.4","132812205.4.3",2,3,"Yes-Completed","Approved","Provider submitted required documentation to support Category 4 achievement. Project 132812205.4.3 is approved and eligible for DY3 payment.",null,"Yes-Completed","Previously Approved",null,"Round 1 (April)","2012-12-31",null,"YES","2013-01-01","2013-12-31","",""]
[9,"132812205_4","4_132812205",4,"132812205","Driscoll Children's Hospital","132812205.4","132812205.4.5",4,3,"Yes-Completed","Approved","Provider submitted required documentation to support Category 4 achievement. Project 132812205.4.5 is approved and eligible for DY3 payment.",null,"Yes-Completed","Previously Approved",null,"Round 1 (April)","2012-12-31","2013-09-30","YES","2013-01-01","2013-12-31","2013-10-01","2014-09-30"]
[9,"132812205_5","4_132812205",4,"132812205","Driscoll Children's Hospital","132812205.4","132812205.4.6",5,3,"Yes-Completed","Approved","Provider submitted required documentation to support Category 4 achievement. Project 132812205.4.6 is approved and eligible for DY3 payment.",null,"Yes-Completed","Previously Approved",null,"Round 1 (April)","2012-12-31",null,"YES","2013-01-01","2013-12-31","",""]
[9,"136436606_3","4_136436606",4,"136436606","CHRISTUS Spohn Hospital Kleberg","136436606.4","136436606.4.1",3,3,"Yes-Completed","Approved","Provider submitted required documentation to support Category 4 achievement. Project 136436606.4.1 is approved and eligible for DY3 payment.",null,"Yes-Completed","Previously Approved",null,"Round 1 (April)","2012-12-31",null,"YES","2013-01-01","2013-12-31","",""]
[9,"136436606_1","4_136436606",4,"136436606","CHRISTUS Spohn Hospital Kleberg","136436606.4","136436606.4.2",1,3,"Yes-Completed","Approved","Provider submitted required documentation to support Category 4 achievement. Project 136436606.4.2 is approved and eligible for DY3 payment.",null,"Yes-Completed","Previously Approved",null,"Round 1 (April)","2012-12-31",null,"YES","2013-01-01","2013-12-31","",""]
[9,"136436606_2","4_136436606",4,"136436606","CHRISTUS Spohn Hospital Kleberg","136436606.4","136436606.4.3",2,3,"Yes-Completed","Approved","Provider submitted required documentation to support Category 4 achievement. Project 136436606.4.3 is approved and eligible for DY3 payment.",null,"Yes-Completed","Previously Approved",null,"Round 1 (April)","2012-12-31",null,"YES","2013-01-01","2013-12-31","",""]
[9,"136436606_4","4_136436606",4,"136436606","CHRISTUS Spohn Hospital Kleberg","136436606.4","136436606.4.5",4,3,"Yes-Completed","Approved","Provider submitted required documentation to support Category 4 achievement. Project 136436606.4.5 is approved and eligible for DY3 payment.",null,"Yes-Completed","Previously Approved",null,"Round 1 (April)","2013-12-31","2013-12-31","YES","2014-01-01","2014-12-31","2014-01-01","2014-12-31"]
[9,"136436606_5","4_136436606",4,"136436606","CHRISTUS Spohn Hospital Kleberg","136436606.4","136436606.4.6",5,3,"Yes-Completed","Approved","Provider submitted required documentation to support Category 4 achievement. Project 136436606.4.6 is approved and eligible for DY3 payment.",null,"Yes-Completed","Previously Approved",null,"Round 1 (April)","2013-12-31",null,"YES","2014-01-01","2014-12-31","",""]
[{"$f":"LEN(E259)","v":9},{"$f":"E259&\"_\"&I259","v":"136436606_6"},{"$f":"D259&\"_\"&E259","v":"4_136436606"},4,"136436606","CHRISTUS Spohn Hospital Kleberg","136436606.4","136436606.4.7",6,3,"No-Not Started","Did Not Report",null,null,"Yes-Completed","Approved","Category 4 reporting domain was reviewed, and HHSC found provider submitted documentation to support achievement. Project is approved and eligible for payment.\n","Round 2 (October)","2013-12-31",null,"YES","2014-01-01","2014-12-31","",""]
[9,"137907508_3","4_137907508",4,"137907508","County of Victoria dba Citizens Medical Center","137907508.4","137907508.4.1",3,3,"Yes-Completed","Approved","Provider submitted required documentation to support Category 4 achievement. Project 137907508.4.1 is approved and eligible for DY3 payment.",null,"Yes-Completed","Previously Approved",null,"Round 1 (April)","2012-12-31",null,"YES","2013-01-01","2013-12-31","",""]
[9,"137907508_1","4_137907508",4,"137907508","County of Victoria dba Citizens Medical Center","137907508.4","137907508.4.2",1,3,"Yes-Completed","Approved","Provider submitted required documentation to support Category 4 achievement. Project 137907508.4.2 is approved and eligible for DY3 payment.",null,"Yes-Completed","Previously Approved",null,"Round 1 (April)","2012-12-31",null,"YES","2013-01-01","2013-12-31","",""]
[9,"137907508_2","4_137907508",4,"137907508","County of Victoria dba Citizens Medical Center","137907508.4","137907508.4.3",2,3,"Yes-Completed","Approved","Provider submitted required documentation to support Category 4 achievement. Project 137907508.4.3 is approved and eligible for DY3 payment.",null,"Yes-Completed","Previously Approved",null,"Round 1 (April)","2012-12-31",null,"YES","2013-01-01","2013-12-31","",""]
[9,"137907508_4","4_137907508",4,"137907508","County of Victoria dba Citizens Medical Center","137907508.4","137907508.4.5",4,3,"Yes-Completed","Approved","Provider submitted required documentation to support Category 4 achievement. Project 137907508.4.5 is approved and eligible for DY3 payment.",null,"Yes-Completed","Previously Approved",null,"Round 1 (April)","MISSING","MISSING","YES","TBD","TBD","TBD","TBD"]
[9,"137907508_5","4_137907508",4,"137907508","County of Victoria dba Citizens Medical Center","137907508.4","137907508.4.6",5,3,"Yes-Completed","Approved","Provider submitted required documentation to support Category 4 achievement. Project 137907508.4.6 is approved and eligible for DY3 payment.",null,"Yes-Completed","Previously Approved",null,"Round 1 (April)","MISSING",null,"YES","TBD","TBD","",""]
[9,"137907508_6","4_137907508",4,"137907508","County of Victoria dba Citizens Medical Center","137907508.4","137907508.4.7",6,3,"No-Not Started","Did Not Report",null,null,"No-Not Started","Not Approved","HHSC found achievement of Category 4 reporting domain is not clearly demonstrated. Provider has declined to report this domain in DY3. Project is not approved and is no longer eligible for payment.","Round 2 (October) - Not Approved","DNR",null,"YES","TBD","TBD","",""]
[9,"020947001_3","5_020947001",5,"020947001","Columbia Valley Regional Medical Center","020947001.4","020947001.4.1",3,3,"Yes-Completed","Approved","Provider submitted required documentation to support Category 4 achievement. Project 020947001.4.100 is approved and eligible for DY3 payment.",null,"Yes-Completed","Previously Approved",null,"Round 1 (April)","2012-12-31",null,"YES","2013-01-01","2013-12-31","",""]
[9,"020947001_1","5_020947001",5,"020947001","Columbia Valley Regional Medical Center","020947001.4","020947001.4.2",1,3,"Yes-Completed","Approved","Provider submitted required documentation to support Category 4 achievement. Project 020947001.4.101 is approved and eligible for DY3 payment.",null,"Yes-Completed","Previously Approved",null,"Round 1 (April)","2012-12-31",null,"YES","2013-01-01","2013-12-31","",""]
[9,"020947001_2","5_020947001",5,"020947001","Columbia Valley Regional Medical Center","020947001.4","020947001.4.3",2,3,"Yes-Completed","Approved","Provider submitted required documentation to support Category 4 achievement. Project 020947001.4.102 is approved and eligible for DY3 payment.",null,"Yes-Completed","Previously Approved",null,"Round 1 (April)","2012-12-31",null,"YES","2013-01-01","2013-12-31","",""]
[9,"020947001_4","5_020947001",5,"020947001","Columbia Valley Regional Medical Center","020947001.4","020947001.4.5",4,3,"No-Not Started","Did Not Report",null,null,"Yes-Completed","Approved","Category 4 reporting domain was reviewed, and HHSC found provider submitted documentation to support achievement. Project is approved and eligible for payment.\n","Round 2 (October)","2013-09-30","2013-12-31","YES","2013-10-01","2014-09-30","2014-01-01","2014-12-31"]
[9,"020947001_5","5_020947001",5,"020947001","Columbia Valley Regional Medical Center","020947001.4","020947001.4.6",5,3,"No-Not Started","Did Not Report",null,null,"Yes-Completed","Approved","Category 4 reporting domain was reviewed, and HHSC found provider submitted documentation to support achievement. Project is approved and eligible for payment.\n","Round 2 (October)","2013-12-31",null,"YES","2014-01-01","2014-12-31","",""]
[9,"094113001_3","5_094113001",5,"094113001","McAllen Hospitals LP dba Edinburg Regional Medical","094113001.4","094113001.4.1",3,3,"Yes-Completed","Approved","Provider submitted required documentation to support Category 4 achievement. Project 094113001.4.100 is approved and eligible for DY3 payment.",null,"Yes-Completed","Previously Approved",null,"Round 1 (April)","2012-12-31",null,"YES","2013-01-01","2013-12-31","",""]
[9,"094113001_1","5_094113001",5,"094113001","McAllen Hospitals LP dba Edinburg Regional Medical","094113001.4","094113001.4.2",1,3,"Yes-Completed","Approved","Provider submitted required documentation to support Category 4 achievement. Project 094113001.4.101 is approved and eligible for DY3 payment.",null,"Yes-Completed","Previously Approved",null,"Round 1 (April)","2012-12-31",null,"YES","2013-01-01","2013-12-31","",""]
[9,"094113001_2","5_094113001",5,"094113001","McAllen Hospitals LP dba Edinburg Regional Medical","094113001.4","094113001.4.3",2,3,"Yes-Completed","Approved","Provider submitted required documentation to support Category 4 achievement. Project 094113001.4.102 is approved and eligible for DY3 payment.",null,"Yes-Completed","Previously Approved",null,"Round 1 (April)","2012-12-31",null,"YES","2013-01-01","2013-12-31","",""]
[9,"094113001_4","5_094113001",5,"094113001","McAllen Hospitals LP dba Edinburg Regional Medical","094113001.4","094113001.4.5",4,3,"No-Not Started","Did Not Report",null,null,"Yes-Completed","Approved","Category 4 reporting domain was reviewed, and HHSC found provider submitted documentation to support achievement. Project is approved and eligible for payment.\n","Round 2 (October)","2013-09-30","2013-12-31","YES","2013-10-01","2014-09-30","2014-01-01","2014-12-31"]
[9,"094113001_5","5_094113001",5,"094113001","McAllen Hospitals LP dba Edinburg Regional Medical","094113001.4","094113001.4.6",5,3,"No-Not Started","Did Not Report",null,null,"Yes-Completed","Approved","Category 4 reporting domain was reviewed, and HHSC found provider submitted documentation to support achievement. Project is approved and eligible for payment.\n","Round 2 (October)","2013-09-30",null,"YES","2013-10-01","2014-09-30","",""]
[9,"112716902_3","5_112716902",5,"112716902","Columbia Rio Grande Healthcare dba Rio Grande Regi","112716902.4","112716902.4.1",3,3,"Yes-Completed","Approved","Provider submitted required documentation to support Category 4 achievement. Project 112716902.4.100 is approved and eligible for DY3 payment.",null,"Yes-Completed","Previously Approved",null,"Round 1 (April)","2012-12-31",null,"YES","2013-01-01","2013-12-31","",""]
[9,"112716902_1","5_112716902",5,"112716902","Columbia Rio Grande Healthcare dba Rio Grande Regi","112716902.4","112716902.4.2",1,3,"Yes-Completed","Approved","Provider submitted required documentation to support Category 4 achievement. Project 112716902.4.101 is approved and eligible for DY3 payment.",null,"Yes-Completed","Previously Approved",null,"Round 1 (April)","2012-12-31",null,"YES","2013-01-01","2013-12-31","",""]
[9,"112716902_2","5_112716902",5,"112716902","Columbia Rio Grande Healthcare dba Rio Grande Regi","112716902.4","112716902.4.3",2,3,"Yes-Completed","Approved","Provider submitted required documentation to support Category 4 achievement. Project 112716902.4.102 is approved and eligible for DY3 payment.",null,"Yes-Completed","Previously Approved",null,"Round 1 (April)","2012-12-31",null,"YES","2013-01-01","2013-12-31","",""]
[9,"112716902_4","5_112716902",5,"112716902","Columbia Rio Grande Healthcare dba Rio Grande Regi","112716902.4","112716902.4.5",4,3,"No-Not Started","Did Not Report",null,null,"Yes-Completed","Approved","Category 4 reporting domain was reviewed, and HHSC found provider submitted documentation to support achievement. Project is approved and eligible for payment.\n","Round 2 (October)","2013-09-30","2013-12-31","YES","2013-10-01","2014-09-30","2014-01-01","2014-12-31"]
[9,"112716902_5","5_112716902",5,"112716902","Columbia Rio Grande Healthcare dba Rio Grande Regi","112716902.4","112716902.4.6",5,3,"No-Not Started","Did Not Report",null,null,"Yes-Completed","Approved","Category 4 reporting domain was reviewed, and HHSC found provider submitted documentation to support achievement. Project is approved and eligible for payment.\n","Round 2 (October)","2013-12-31",null,"YES","2014-01-01","2014-12-31","",""]
[9,"132812205_3","5_132812205",5,"132812205","Driscoll Children's Hospital","132812205.4","132812205.4.1",3,3,"Yes-Completed","Approved","Provider submitted required documentation to support Category 4 achievement. Project 132812205.4.1 is approved and eligible for DY3 payment.",null,"Yes-Completed","Previously Approved",null,"Round 1 (April)","2012-12-31",null,"YES","2013-01-01","2013-12-31","",""]
[9,"132812205_1","5_132812205",5,"132812205","Driscoll Children's Hospital","132812205.4","132812205.4.2",1,3,"Yes-Completed","Approved","Provider submitted required documentation to support Category 4 achievement. Project 132812205.4.2 is approved and eligible for DY3 payment.",null,"Yes-Completed","Previously Approved",null,"Round 1 (April)","2012-12-31",null,"YES","2013-01-01","2013-12-31","",""]
[9,"132812205_2","5_132812205",5,"132812205","Driscoll Children's Hospital","132812205.4","132812205.4.3",2,3,"Yes-Completed","Approved","Provider submitted required documentation to support Category 4 achievement. Project 132812205.4.4 is approved and eligible for DY3 payment.",null,"Yes-Completed","Previously Approved",null,"Round 1 (April)","2012-12-31",null,"YES","2013-01-01","2013-12-31","",""]
[9,"132812205_4","5_132812205",5,"132812205","Driscoll Children's Hospital","132812205.4","132812205.4.5",4,3,"Yes-Completed","Approved","Provider submitted required documentation to support Category 4 achievement. Project 132812205.4.5 is approved and eligible for DY3 payment.",null,"Yes-Completed","Previously Approved",null,"Round 1 (April)","2012-12-31","2013-09-30","YES","2013-01-01","2013-12-31","2013-10-01","2014-09-30"]
[9,"132812205_5","5_132812205",5,"132812205","Driscoll Children's Hospital","132812205.4","132812205.4.6",5,3,"Yes-Completed","Approved","Provider submitted required documentation to support Category 4 achievement. Project 132812205.4.6 is approved and eligible for DY3 payment.",null,"Yes-Completed","Previously Approved",null,"Round 1 (April)","2012-12-31",null,"YES","2013-01-01","2013-12-31","",""]
[9,"135035706_3","5_135035706",5,"135035706","Knapp Medical Center","135035706.4","135035706.4.1",3,3,"Yes-Completed","Approved","Provider submitted required documentation to support Category 4 achievement. Project 135035706.4.100 is approved and eligible for DY3 payment.",null,"Yes-Completed","Previously Approved",null,"Round 1 (April)","2012-12-31",null,"YES","2013-01-01","2013-12-31","",""]
[9,"135035706_1","5_135035706",5,"135035706","Knapp Medical Center","135035706.4","135035706.4.2",1,3,"Yes-Completed","Approved","Provider submitted required documentation to support Category 4 achievement. Project 135035706.4.101 is approved and eligible for DY3 payment.",null,"Yes-Completed","Previously Approved",null,"Round 1 (April)","2012-12-31",null,"YES","2013-01-01","2013-12-31","",""]
[9,"135035706_2","5_135035706",5,"135035706","Knapp Medical Center","135035706.4","135035706.4.3",2,3,"Yes-Completed","Approved","Provider submitted required documentation to support Category 4 achievement. Project 135035706.4.102 is approved and eligible for DY3 payment.",null,"Yes-Completed","Previously Approved",null,"Round 1 (April)","2012-12-31",null,"YES","2013-01-01","2013-12-31","",""]
[9,"135035706_4","5_135035706",5,"135035706","Knapp Medical Center","135035706.4","135035706.4.5",4,3,"Yes-Completed","Approved","Provider submitted required documentation to support Category 4 achievement. Project 135035706.4.104 is approved and eligible for DY3 payment.",null,"Yes-Completed","Previously Approved",null,"Round 1 (April)","2013-12-31","2013-12-31","YES","2014-01-01","2014-12-31","2014-01-01","2014-12-31"]
[9,"135035706_5","5_135035706",5,"135035706","Knapp Medical Center","135035706.4","135035706.4.6",5,3,"Yes-Completed","Approved","Provider submitted required documentation to support Category 4 achievement. Project 135035706.4.105 is approved and eligible for DY3 payment.",null,"Yes-Completed","Previously Approved",null,"Round 1 (April)","2013-12-31",null,"YES","2014-01-01","2014-12-31","",""]
[9,"136332705_3","5_136332705",5,"136332705","Starr County Memorial Hospital","136332705.4","136332705.4.1",3,3,"No-Not Started","Did Not Report",null,null,"Yes-Completed","Needs More Info - Approved","Category 4 reporting domain was reviewed, and HHSC found provider submitted documentation to support achievement. Reporting domain is approved and eligible for payment.\n","Round 2 (October) - Needs More Info","2012-12-31",null,"YES","2013-01-01","2013-12-31","",""]
[9,"136332705_1","5_136332705",5,"136332705","Starr County Memorial Hospital","136332705.4","136332705.4.2",1,3,"No-Not Started","Did Not Report",null,null,"Yes-Completed","Needs More Info - Approved","Category 4 reporting domain was reviewed, and HHSC found provider submitted documentation to support achievement. Reporting domain is approved and eligible for payment.\n\n","Round 2 (October) - Needs More Info","2012-12-31",null,"YES","2013-01-01","2013-12-31","",""]
[9,"136332705_2","5_136332705",5,"136332705","Starr County Memorial Hospital","136332705.4","136332705.4.3",2,3,"No-Not Started","Did Not Report",null,null,"Yes-Completed","Needs More Info - Approved","Category 4 reporting domain was reviewed, and HHSC found provider submitted documentation to support achievement. Reporting domain is approved and eligible for payment.\n\n","Round 2 (October) - Needs More Info","2012-12-31",null,"YES","2013-01-01","2013-12-31","",""]
[9,"136332705_4","5_136332705",5,"136332705","Starr County Memorial Hospital","136332705.4","136332705.4.5",4,3,"No-Not Started","Did Not Report",null,null,"Yes-Completed","Not Approved","HHSC found achievement of Category 4 reporting domain is not clearly demonstrated. While provider did include responses for HCAHPS surveys and the denominator for the Medication Management component, provider did not include a numerator or qualitative summary of how Medication Management/Reconciliation is conducted within the facility as per the requirements for this reporting domain. This reporting domain is not approved for DY3 payment.","Round 2 (October) - Not Approved","2013-12-31","2013-12-31","YES","2014-01-01","2014-12-31","2014-01-01","2014-12-31"]
[9,"136332705_5","5_136332705",5,"136332705","Starr County Memorial Hospital","136332705.4","136332705.4.6",5,3,"No-Not Started","Did Not Report",null,null,"Yes-Completed","Not Approved","HHSC found achievement of Category 4 reporting domain is not clearly demonstrated. Provider did not submit  and qualitative responses for this reporting domain.  This reporting domain is not approved for DY3 payment.","Round 2 (October) - Not Approved","2012-12-31",null,"YES","2013-01-01","2013-12-31","",""]
[9,"154504801_3","5_154504801",5,"154504801","Harlingen Medical Center","154504801.4","154504801.4.1",3,3,"Yes-Completed","Approved","Provider submitted required documentation to support Category 4 achievement. Project 154504801.4.100 is approved and eligible for DY3 payment.",null,"Yes-Completed","Previously Approved",null,"Round 1 (April)","2012-12-31",null,"YES","2013-01-01","2013-12-31","",""]
[9,"154504801_1","5_154504801",5,"154504801","Harlingen Medical Center","154504801.4","154504801.4.2",1,3,"Yes-Completed","Approved","Provider submitted required documentation to support Category 4 achievement. Project 154504801.4.101 is approved and eligible for DY3 payment.",null,"Yes-Completed","Previously Approved",null,"Round 1 (April)","2012-12-31",null,"YES","2013-01-01","2013-12-31","",""]
[9,"154504801_2","5_154504801",5,"154504801","Harlingen Medical Center","154504801.4","154504801.4.3",2,3,"Yes-Completed","Approved","Provider submitted required documentation to support Category 4 achievement. Project 154504801.4.102 is approved and eligible for DY3 payment.",null,"Yes-Completed","Previously Approved",null,"Round 1 (April)","2012-12-31",null,"YES","2013-01-01","2013-12-31","",""]
[9,"154504801_4","5_154504801",5,"154504801","Harlingen Medical Center","154504801.4","154504801.4.5",4,3,"Yes-Completed","Approved","Provider submitted required documentation to support Category 4 achievement. Project 154504801.4.104 is approved and eligible for DY3 payment.",null,"Yes-Completed","Previously Approved",null,"Round 1 (April)","2013-06-30","2013-12-31","YES","2013-07-01","2014-06-30","2014-01-01","2014-12-31"]
[9,"154504801_5","5_154504801",5,"154504801","Harlingen Medical Center","154504801.4","154504801.4.6",5,3,"Yes-Completed","Approved","Provider submitted required documentation to support Category 4 achievement. Project 154504801.4.105 is approved and eligible for DY3 payment.",null,"Yes-Completed","Previously Approved",null,"Round 1 (April)","2013-12-31",null,"YES","2014-01-01","2014-12-31","",""]
[9,"160709501_3","5_160709501",5,"160709501","Doctor's Hospital at Renaissance","160709501.4","160709501.4.1",3,3,"Yes-Completed","Approved","Provider submitted required documentation to support Category 4 achievement. Project 160709501.4.1 is approved and eligible for DY3 payment.",null,"Yes-Completed","Previously Approved",null,"Round 1 (April)","2012-12-31",null,"YES","2013-01-01","2013-12-31","",""]
[9,"160709501_1","5_160709501",5,"160709501","Doctor's Hospital at Renaissance","160709501.4","160709501.4.2",1,3,"Yes-Completed","Approved","Provider submitted required documentation to support Category 4 achievement. Project 160709501.4.2 is approved and eligible for DY3 payment.",null,"Yes-Completed","Previously Approved",null,"Round 1 (April)","2012-12-31",null,"YES","2013-01-01","2013-12-31","",""]
[9,"160709501_2","5_160709501",5,"160709501","Doctor's Hospital at Renaissance","160709501.4","160709501.4.3",2,3,"Yes-Completed","Approved","Provider submitted required documentation to support Category 4 achievement. Project 160709501.4.4 is approved and eligible for DY3 payment.",null,"Yes-Completed","Previously Approved",null,"Round 1 (April)","2012-12-31",null,"YES","2013-01-01","2013-12-31","",""]
[9,"160709501_4","5_160709501",5,"160709501","Doctor's Hospital at Renaissance","160709501.4","160709501.4.5",4,3,"Yes-Completed","Approved","Provider submitted required documentation to support Category 4 achievement. Project 160709501.4.5 is approved and eligible for DY3 payment.",null,"Yes-Completed","Previously Approved",null,"Round 1 (April)","2013-06-30","2013-12-31","YES","2013-07-01","2014-06-30","2014-01-01","2014-12-31"]
[9,"160709501_5","5_160709501",5,"160709501","Doctor's Hospital at Renaissance","160709501.4","160709501.4.6",5,3,"No-Not Started","Did Not Report",null,null,"Yes-Completed","Approved","Category 4 reporting domain was reviewed, and HHSC found provider submitted documentation to support achievement. Project is approved and eligible for payment.\n","Round 2 (October)","2013-09-30",null,"YES","2013-10-01","2014-09-30","",""]
[9,"020844901_3","6_020844901",6,"020844901","CHRISTUS Santa Rosa Hospital","020844901.4","020844901.4.1",3,3,"Yes-Completed","Approved","Provider submitted required documentation to support Category 4 achievement. Project 020844901.4.1 is approved and eligible for DY3 payment.",null,"Yes-Completed","Previously Approved",null,"Round 1 (April)","2012-12-31",null,"YES","2013-01-01","2013-12-31","",""]
[9,"020844901_1","6_020844901",6,"020844901","CHRISTUS Santa Rosa Hospital","020844901.4","020844901.4.2",1,3,"Yes-Completed","Approved","Provider submitted required documentation to support Category 4 achievement. Project 020844901.4.2 is approved and eligible for DY3 payment.",null,"Yes-Completed","Previously Approved",null,"Round 1 (April)","2012-12-31",null,"YES","2013-01-01","2013-12-31","",""]
[9,"020844901_2","6_020844901",6,"020844901","CHRISTUS Santa Rosa Hospital","020844901.4","020844901.4.3",2,3,"Yes-Completed","Approved","Provider submitted required documentation to support Category 4 achievement. Project 020844901.4.3 is approved and eligible for DY3 payment.",null,"Yes-Completed","Previously Approved",null,"Round 1 (April)","2012-12-31",null,"YES","2013-01-01","2013-12-31","",""]
[9,"020844901_4","6_020844901",6,"020844901","CHRISTUS Santa Rosa Hospital","020844901.4","020844901.4.5",4,3,"No-Not Started","Did Not Report",null,null,"Yes-Completed","Approved","Category 4 reporting domain was reviewed, and HHSC found provider submitted documentation to support achievement. Project is approved and eligible for payment.\n","Round 2 (October)","2013-12-31","2013-12-31","YES","2014-01-01","2014-12-31","2014-01-01","2014-12-31"]
[9,"020844901_5","6_020844901",6,"020844901","CHRISTUS Santa Rosa Hospital","020844901.4","020844901.4.6",5,3,"No-Not Started","Did Not Report",null,null,"Yes-Completed","Approved","Category 4 reporting domain was reviewed, and HHSC found provider submitted documentation to support achievement. Project is approved and eligible for payment.\n","Round 2 (October)","2013-12-31",null,"YES","2014-01-01","2014-12-31","",""]
[9,"020844903_3","6_020844903",6,"020844903","CHRISTUS Santa Rosa Health Care (Children's Hospit","020844903.4","020844903.4.1",3,3,"Yes-Completed","Approved","Provider submitted required documentation to support Category 4 achievement. Project 020844903.4.1 is approved and eligible for DY3 payment.",null,"Yes-Completed","Previously Approved",null,"Round 1 (April)","2012-12-31",null,"YES","2013-01-01","2013-12-31","",""]
[9,"020844903_1","6_020844903",6,"020844903","CHRISTUS Santa Rosa Health Care (Children's Hospit","020844903.4","020844903.4.2",1,3,"Yes-Completed","Approved","Provider submitted required documentation to support Category 4 achievement. Project 020844903.4.2 is approved and eligible for DY3 payment.",null,"Yes-Completed","Previously Approved",null,"Round 1 (April)","2012-12-31",null,"YES","2013-01-01","2013-12-31","",""]
[9,"020844903_2","6_020844903",6,"020844903","CHRISTUS Santa Rosa Health Care (Children's Hospit","020844903.4","020844903.4.3",2,3,"Yes-Completed","Approved","Provider submitted required documentation to support Category 4 achievement. Project 020844903.4.3 is approved and eligible for DY3 payment.",null,"Yes-Completed","Previously Approved",null,"Round 1 (April)","2012-12-31",null,"YES","2013-01-01","2013-12-31","",""]
[9,"020844903_4","6_020844903",6,"020844903","CHRISTUS Santa Rosa Health Care (Children's Hospit","020844903.4","020844903.4.5",4,3,"No-Not Started","Did Not Report",null,null,"Yes-Completed","Approved","Category 4 reporting domain was reviewed, and HHSC found provider submitted documentation to support achievement. Project is approved and eligible for payment.\n","Round 2 (October)","2013-12-31","2013-12-31","YES","2014-01-01","2014-12-31","2014-01-01","2014-12-31"]
[9,"020844903_5","6_020844903",6,"020844903","CHRISTUS Santa Rosa Health Care (Children's Hospit","020844903.4","020844903.4.6",5,3,"No-Not Started","Did Not Report",null,null,"Yes-Completed","Approved","Category 4 reporting domain was reviewed, and HHSC found provider submitted documentation to support achievement. Project is approved and eligible for payment.\n","Round 2 (October)","2013-09-30",null,"YES","2013-10-01","2014-09-30","",""]
[9,"094154402_3","6_094154402",6,"094154402","Methodist Hlthcare Sys of SA Southwest Texas Metho","094154402.4","094154402.4.1",3,3,"Yes-Completed","Approved","Provider submitted required documentation to support Category 4 achievement. Project 094154402.4.1 is approved and eligible for DY3 payment.",null,"Yes-Completed","Previously Approved",null,"Round 1 (April)","2012-12-31",null,"YES","2013-01-01","2013-12-31","",""]
[9,"094154402_1","6_094154402",6,"094154402","Methodist Hlthcare Sys of SA Southwest Texas Metho","094154402.4","094154402.4.2",1,3,"Yes-Completed","Approved","Provider submitted required documentation to support Category 4 achievement. Project 094154402.4.2 is approved and eligible for DY3 payment.",null,"Yes-Completed","Previously Approved",null,"Round 1 (April)","2012-12-31",null,"YES","2013-01-01","2013-12-31","",""]
[9,"094154402_2","6_094154402",6,"094154402","Methodist Hlthcare Sys of SA Southwest Texas Metho","094154402.4","094154402.4.3",2,3,"Yes-Completed","Approved","Provider submitted required documentation to support Category 4 achievement. Project 094154402.4.3 is approved and eligible for DY3 payment.",null,"Yes-Completed","Previously Approved",null,"Round 1 (April)","2012-12-31",null,"YES","2013-01-01","2013-12-31","",""]
[9,"094154402_4","6_094154402",6,"094154402","Methodist Hlthcare Sys of SA Southwest Texas Metho","094154402.4","094154402.4.5",4,3,"No-Not Started","Did Not Report",null,null,"Yes-Completed","Approved","Category 4 reporting domain was reviewed, and HHSC found provider submitted documentation to support achievement. Project is approved and eligible for payment.\n","Round 2 (October)","2013-09-30","2013-09-30","YES","2013-10-01","2014-09-30","2013-10-01","2014-09-30"]
[9,"094154402_5","6_094154402",6,"094154402","Methodist Hlthcare Sys of SA Southwest Texas Metho","094154402.4","094154402.4.6",5,3,"No-Not Started","Did Not Report",null,null,"Yes-Completed","Approved","Category 4 reporting domain was reviewed, and HHSC found provider submitted documentation to support achievement. Project is approved and eligible for payment.\n","Round 2 (October)","2013-12-31",null,"YES","2014-01-01","2014-12-31","",""]
[9,"297342201_3","6_297342201",6,"297342201","Nix Hospitals System LLC dba Nix Health Care Syste","112676501.4","112676501.4.1",3,3,"Yes-Completed","Approved","Provider submitted required documentation to support Category 4 achievement. Project 112676501.4.1 is approved and eligible for DY3 payment.",null,"Yes-Completed","Previously Approved",null,"Round 1 (April)","2012-12-31",null,"YES","2013-01-01","2013-12-31","",""]
[9,"297342201_1","6_297342201",6,"297342201","Nix Hospitals System LLC dba Nix Health Care Syste","112676501.4","112676501.4.2",1,3,"Yes-Completed","Approved","Provider submitted required documentation to support Category 4 achievement. Project 112676501.4.2 is approved and eligible for DY3 payment.",null,"Yes-Completed","Previously Approved",null,"Round 1 (April)","2012-12-31",null,"YES","2013-01-01","2013-12-31","",""]
[{"$f":"LEN(E323)","v":9},{"$f":"E323&\"_\"&I323","v":"297342201_2"},{"$f":"D323&\"_\"&E323","v":"6_297342201"},6,"297342201","Nix Hospitals System LLC dba Nix Health Care Syste","112676501.4","112676501.4.3",2,3,"Yes-Completed","Approved","Provider submitted required documentation to support Category 4 achievement. Project 112676501.4.3 is approved and eligible for DY3 payment.",null,"Yes-Completed","Previously Approved",null,"Round 1 (April)","2012-12-31",null,"YES","2013-01-01","2013-12-31","",""]
[9,"297342201_4","6_297342201",6,"297342201","Nix Hospitals System LLC dba Nix Health Care Syste","112676501.4","112676501.4.5",4,3,"No-Not Started","Did Not Report","HHSC changed status to did not report and needs additional time to collaborate with provider to ensure medication reconciliation procedures meet minimum standards intended by Category 4 reporting and NQF 0646.",null,"Yes-Completed","Approved","Category 4 reporting domain was reviewed, and HHSC found provider submitted documentation to support achievement. Project is approved and eligible for payment.\n","Round 2 (October)","2012-12-31","2013-12-31","YES","2013-01-01","2013-12-31","2014-01-01","2014-12-31"]
[9,"297342201_5","6_297342201",6,"297342201","Nix Hospitals System LLC dba Nix Health Care Syste","112676501.4","112676501.4.6",5,3,"Yes-Completed","Approved","Provider submitted required documentation to support Category 4 achievement. Project 112676501.4.6 is approved and eligible for DY3 payment.",null,"Yes-Completed","Previously Approved",null,"Round 1 (April)","2013-12-31",{"$error":"#VALUE!"},"YES","2014-01-01","2014-12-31","",""]
[9,"112742503_3","6_112742503",6,"112742503","Southwest Mental Hlth Ctr (Clarity Child Guidance","112742503.4","112742503.4.1",3,3,"Yes-Completed","Approved","Provider submitted required documentation to support Category 4 achievement. Project 112742503.4.1 is approved and eligible for DY3 payment.",null,"Yes-Completed","Previously Approved",null,"Round 1 (April)","2012-12-31",null,"YES","2013-01-01","2013-12-31","",""]
[9,"112742503_1","6_112742503",6,"112742503","Southwest Mental Hlth Ctr (Clarity Child Guidance","112742503.4","112742503.4.2",1,3,"Yes-Completed","Approved","Provider submitted required documentation to support Category 4 achievement. Project 112742503.4.2 is approved and eligible for DY3 payment.",null,"Yes-Completed","Previously Approved",null,"Round 1 (April)","2012-12-31",null,"YES","2013-01-01","2013-12-31","",""]
[9,"112742503_2","6_112742503",6,"112742503","Southwest Mental Hlth Ctr (Clarity Child Guidance","112742503.4","112742503.4.3",2,3,"Yes-Completed","Approved","Provider submitted required documentation to support Category 4 achievement. Project 112742503.4.3 is approved and eligible for DY3 payment.",null,"Yes-Completed","Previously Approved",null,"Round 1 (April)","2012-12-31",null,"YES","2013-01-01","2013-12-31","",""]
[9,"112742503_4","6_112742503",6,"112742503","Southwest Mental Hlth Ctr (Clarity Child Guidance","112742503.4","112742503.4.5",4,3,"Yes-Completed","Approved","Provider submitted required documentation to support Category 4 achievement. Project 112742503.4.5 is approved and eligible for DY3 payment.",null,"Yes-Completed","Previously Approved",null,"Round 1 (April)","DNR","2013-12-31","YES","TBD","TBD","2014-01-01","2014-12-31"]
[9,"112742503_5","6_112742503",6,"112742503","Southwest Mental Hlth Ctr (Clarity Child Guidance","112742503.4","112742503.4.6",5,3,"Yes-Completed","Approved","Provider submitted required documentation to support Category 4 achievement. Project 112742503.4.6 is approved and eligible for DY3 payment.",null,"Yes-Completed","Previously Approved",null,"Round 1 (April)","2013-12-31",null,"YES","2014-01-01","2014-12-31","",""]
[9,"119877204_3","6_119877204",6,"119877204","Val Verde Regional Medical Center","119877204.4","119877204.4.1",3,3,"Yes-Completed","Approved","Provider submitted required documentation to support Category 4 achievement. Project 119877204.4.1 is approved and eligible for DY3 payment.",null,"Yes-Completed","Previously Approved",null,"Round 1 (April)","2012-12-31",null,"YES","2013-01-01","2013-12-31","",""]
[9,"119877204_1","6_119877204",6,"119877204","Val Verde Regional Medical Center","119877204.4","119877204.4.2",1,3,"Yes-Completed","Approved","Provider submitted required documentation to support Category 4 achievement. Project 119877204.4.2 is approved and eligible for DY3 payment.",null,"Yes-Completed","Previously Approved",null,"Round 1 (April)","2012-12-31",null,"YES","2013-01-01","2013-12-31","",""]
[9,"119877204_2","6_119877204",6,"119877204","Val Verde Regional Medical Center","119877204.4","119877204.4.3",2,3,"Yes-Completed","Approved","Provider submitted required documentation to support Category 4 achievement. Project 119877204.4.3 is approved and eligible for DY3 payment.",null,"Yes-Completed","Previously Approved",null,"Round 1 (April)","2012-12-31",null,"YES","2013-01-01","2013-12-31","",""]
[9,"119877204_4","6_119877204",6,"119877204","Val Verde Regional Medical Center","119877204.4","119877204.4.5",4,3,"No-Not Started","Did Not Report",null,null,"Yes-Completed","Approved","Category 4 reporting domain was reviewed, and HHSC found provider submitted documentation to support achievement. Project is approved and eligible for payment.\n","Round 2 (October)","2014-06-30","2014-09-30","NO","2014-07-01","2015-06-30","2014-10-01","2015-09-30"]
[9,"119877204_5","6_119877204",6,"119877204","Val Verde Regional Medical Center","119877204.4","119877204.4.6",5,3,"No-Not Started","Did Not Report",null,null,"Yes-Completed","Approved","Category 4 reporting domain was reviewed, and HHSC found provider submitted documentation to support achievement. Project is approved and eligible for payment.\n","Round 2 (October)","2014-06-30",null,"NO","2014-07-01","2015-06-30","",""]
[9,"121782003_3","6_121782003",6,"121782003","Uvalde County Hosp Authority dba Uvalde Memorial H","121782003.4","121782003.4.1",3,3,"Yes-Completed","Approved","Provider submitted required documentation to support Category 4 achievement. Project 121782003.4.1 is approved and eligible for DY3 payment.",null,"Yes-Completed","Previously Approved",null,"Round 1 (April)","2012-12-31",null,"YES","2013-01-01","2013-12-31","",""]
[9,"121782003_1","6_121782003",6,"121782003","Uvalde County Hosp Authority dba Uvalde Memorial H","121782003.4","121782003.4.2",1,3,"Yes-Completed","Approved","Provider submitted required documentation to support Category 4 achievement. Project 121782003.4.2 is approved and eligible for DY3 payment.",null,"Yes-Completed","Previously Approved",null,"Round 1 (April)","2012-12-31",null,"YES","2013-01-01","2013-12-31","",""]
[9,"121782003_2","6_121782003",6,"121782003","Uvalde County Hosp Authority dba Uvalde Memorial H","121782003.4","121782003.4.3",2,3,"Yes-Completed","Approved","Provider submitted required documentation to support Category 4 achievement. Project 121782003.4.3 is approved and eligible for DY3 payment.",null,"Yes-Completed","Previously Approved",null,"Round 1 (April)","2012-12-31",null,"YES","2013-01-01","2013-12-31","",""]
[9,"121782003_4","6_121782003",6,"121782003","Uvalde County Hosp Authority dba Uvalde Memorial H","121782003.4","121782003.4.5",4,3,"No-Not Started","Did Not Report",null,null,"Yes-Completed","Approved","Category 4 reporting domain was reviewed, and HHSC found provider submitted documentation to support achievement. Project is approved and eligible for payment.\n","Round 2 (October)","2013-12-31","2014-09-30","NO","2014-01-01","2014-12-31","2014-10-01","2015-09-30"]
[9,"121782003_5","6_121782003",6,"121782003","Uvalde County Hosp Authority dba Uvalde Memorial H","121782003.4","121782003.4.6",5,3,"No-Not Started","Did Not Report",null,null,"Yes-Completed","Approved","Category 4 reporting domain was reviewed, and HHSC found provider submitted documentation to support achievement. Project is approved and eligible for payment.\n","Round 2 (October)","2014-09-30",null,"NO","2014-10-01","2015-09-30","",""]
[9,"127294003_3","6_127294003",6,"127294003","Sid Peterson Memorial Hospital dba Peterson Region","127294003.4","127294003.4.1",3,3,"Yes-Completed","Approved","Provider submitted required documentation to support Category 4 achievement. Project 127294003.4.1 is approved and eligible for DY3 payment.",null,"Yes-Completed","Previously Approved",null,"Round 1 (April)","2012-12-31",null,"YES","2013-01-01","2013-12-31","",""]
[9,"127294003_1","6_127294003",6,"127294003","Sid Peterson Memorial Hospital dba Peterson Region","127294003.4","127294003.4.2",1,3,"Yes-Completed","Approved","Provider submitted required documentation to support Category 4 achievement. Project 127294003.4.2 is approved and eligible for DY3 payment.",null,"Yes-Completed","Previously Approved",null,"Round 1 (April)","2012-12-31",null,"YES","2013-01-01","2013-12-31","",""]
[9,"127294003_2","6_127294003",6,"127294003","Sid Peterson Memorial Hospital dba Peterson Region","127294003.4","127294003.4.3",2,3,"Yes-Completed","Approved","Provider submitted required documentation to support Category 4 achievement. Project 127294003.4.3 is approved and eligible for DY3 payment.",null,"Yes-Completed","Previously Approved",null,"Round 1 (April)","2012-12-31",null,"YES","2013-01-01","2013-12-31","",""]
[9,"127294003_4","6_127294003",6,"127294003","Sid Peterson Memorial Hospital dba Peterson Region","127294003.4","127294003.4.5",4,3,"No-Not Started","Did Not Report",null,null,"Yes-Completed","Approved","Category 4 reporting domain was reviewed, and HHSC found provider submitted documentation to support achievement. Project is approved and eligible for payment.\n","Round 2 (October)","2012-12-31","2014-09-30","NO","2013-01-01","2013-12-31","2014-10-01","2015-09-30"]
[9,"127294003_5","6_127294003",6,"127294003","Sid Peterson Memorial Hospital dba Peterson Region","127294003.4","127294003.4.6",5,3,"Yes-Completed","Approved","Provider submitted required documentation to support Category 4 achievement. Project 127294003.4.6 is approved and eligible for DY3 payment.",null,"Yes-Completed","Previously Approved",null,"Round 1 (April)","2013-12-31",null,"YES","2014-01-01","2014-12-31","",""]
[9,"133257904_4","6_133257904",6,"133257904","DSHS (Texas Center for Infectious Disease)","133257904.4","133257904.4.5",4,3,null,null,null,null,"Yes-Completed","Approved",null,"Round 2 (October)","2014-08-31","2014-09-30","NO","2014-09-01","2015-08-31","2014-10-01","2015-09-30"]
[9,"135151206_3","6_135151206",6,"135151206","Wilson County Mem Hosp Floresville dba Conally Mem","135151206.4","135151206.4.1",3,3,"Yes-Completed","Approved","Provider submitted required documentation to support Category 4 achievement. Project 135151206.4.1 is approved and eligible for DY3 payment.",null,"Yes-Completed","Previously Approved",null,"Round 1 (April)","2012-12-31",null,"YES","2013-01-01","2013-12-31","",""]
[9,"135151206_1","6_135151206",6,"135151206","Wilson County Mem Hosp Floresville dba Conally Mem","135151206.4","135151206.4.2",1,3,"Yes-Completed","Approved","Provider submitted required documentation to support Category 4 achievement. Project 135151206.4.2 is approved and eligible for DY3 payment.",null,"Yes-Completed","Previously Approved",null,"Round 1 (April)","2012-12-31",null,"YES","2013-01-01","2013-12-31","",""]
[9,"135151206_2","6_135151206",6,"135151206","Wilson County Mem Hosp Floresville dba Conally Mem","135151206.4","135151206.4.3",2,3,"Yes-Completed","Approved","Provider submitted required documentation to support Category 4 achievement. Project 135151206.4.3 is approved and eligible for DY3 payment.",null,"Yes-Completed","Previously Approved",null,"Round 1 (April)","2012-12-31",null,"YES","2013-01-01","2013-12-31","",""]
[9,"135151206_4","6_135151206",6,"135151206","Wilson County Mem Hosp Floresville dba Conally Mem","135151206.4","135151206.4.5",4,3,"Yes-Completed","Approved","Provider submitted required documentation to support Category 4 achievement. Project 135151206.4.5 is approved and eligible for DY3 payment.",null,"Yes-Completed","Previously Approved",null,"Round 1 (April)","2013-09-30","2014-04-30","NO","2013-10-01","2014-09-30","2014-05-01","2015-04-30"]
[9,"135151206_5","6_135151206",6,"135151206","Wilson County Mem Hosp Floresville dba Conally Mem","135151206.4","135151206.4.6",5,3,"Yes-Completed","Approved","Provider submitted required documentation to support Category 4 achievement. Project 135151206.4.6 is approved and eligible for DY3 payment.",null,"Yes-Completed","Previously Approved",null,"Round 1 (April)","2013-12-31",null,"YES","2014-01-01","2014-12-31","",""]
[9,"136141205_3","6_136141205",6,"136141205","University Health System  (Bexar County Hospital D","136141205.4","136141205.4.1",3,3,"Yes-Completed","Approved","Provider submitted required documentation to support Category 4 achievement. Project 136141205.4.1 is approved and eligible for DY3 payment.",null,"Yes-Completed","Previously Approved",null,"Round 1 (April)","2012-12-31",null,"YES","2013-01-01","2013-12-31","",""]
[9,"136141205_1","6_136141205",6,"136141205","University Health System  (Bexar County Hospital D","136141205.4","136141205.4.2",1,3,"Yes-Completed","Approved","Provider submitted required documentation to support Category 4 achievement. Project 136141205.4.2 is approved and eligible for DY3 payment.",null,"Yes-Completed","Previously Approved",null,"Round 1 (April)","2012-12-31",null,"YES","2013-01-01","2013-12-31","",""]
[9,"136141205_2","6_136141205",6,"136141205","University Health System  (Bexar County Hospital D","136141205.4","136141205.4.3",2,3,"Yes-Completed","Approved","Provider submitted required documentation to support Category 4 achievement. Project 136141205.4.3 is approved and eligible for DY3 payment.",null,"Yes-Completed","Previously Approved",null,"Round 1 (April)","2012-12-31",null,"YES","2013-01-01","2013-12-31","",""]
[9,"136141205_4","6_136141205",6,"136141205","University Health System  (Bexar County Hospital D","136141205.4","136141205.4.5",4,3,"No-Not Started","Did Not Report",null,null,"Yes-Completed","Approved","Category 4 reporting domain was reviewed, and HHSC found provider submitted documentation to support achievement. Project is approved and eligible for payment.\n","Round 2 (October)","2013-09-30","2014-09-30","NO","2013-10-01","2014-09-30","2014-10-01","2015-09-30"]
[9,"136141205_5","6_136141205",6,"136141205","University Health System  (Bexar County Hospital D","136141205.4","136141205.4.6",5,3,"No-Not Started","Did Not Report",null,null,"Yes-Completed","Approved","Category 4 reporting domain was reviewed, and HHSC found provider submitted documentation to support achievement. Project is approved and eligible for payment.\n","Round 2 (October)","2014-08-31",null,"NO","2014-09-01","2015-08-31","",""]
[9,"136430906_3","6_136430906",6,"136430906","Hill Country Memorial Hospital","136430906.4","136430906.4.1",3,3,"Yes-Completed","Approved","Provider submitted required documentation to support Category 4 achievement. Project 136430906.4.1 is approved and eligible for DY3 payment.",null,"Yes-Completed","Previously Approved",null,"Round 1 (April)","2012-12-31",null,"YES","2013-01-01","2013-12-31","",""]
[9,"136430906_1","6_136430906",6,"136430906","Hill Country Memorial Hospital","136430906.4","136430906.4.2",1,3,"Yes-Completed","Approved","Provider submitted required documentation to support Category 4 achievement. Project 136430906.4.2 is approved and eligible for DY3 payment.",null,"Yes-Completed","Previously Approved",null,"Round 1 (April)","2012-12-31",null,"YES","2013-01-01","2013-12-31","",""]
[9,"136430906_2","6_136430906",6,"136430906","Hill Country Memorial Hospital","136430906.4","136430906.4.3",2,3,"Yes-Completed","Approved","Provider submitted required documentation to support Category 4 achievement. Project 136430906.4.3 is approved and eligible for DY3 payment.",null,"Yes-Completed","Previously Approved",null,"Round 1 (April)","2012-12-31",null,"YES","2013-01-01","2013-12-31","",""]
[9,"136430906_4","6_136430906",6,"136430906","Hill Country Memorial Hospital","136430906.4","136430906.4.5",4,3,"No-Not Started","Did Not Report",null,null,"Yes-Completed","Approved","Category 4 reporting domain was reviewed, and HHSC found provider submitted documentation to support achievement. Project is approved and eligible for payment.\n","Round 2 (October)","2013-12-31","2013-12-31","YES","2014-01-01","2014-12-31","2014-01-01","2014-12-31"]
[9,"136430906_5","6_136430906",6,"136430906","Hill Country Memorial Hospital","136430906.4","136430906.4.6",5,3,"No-Not Started","Did Not Report",null,null,"Yes-Completed","Approved","Category 4 reporting domain was reviewed, and HHSC found provider submitted documentation to support achievement. Project is approved and eligible for payment.\n","Round 2 (October)","2013-12-31",null,"YES","2014-01-01","2014-12-31","",""]
[9,"136491104_3","6_136491104",6,"136491104","Southwest General Hospital","136491104.4","136491104.4.1",3,3,"Yes-Completed","Approved","Provider submitted required documentation to support Category 4 achievement. Project 136491104.4.1 is approved and eligible for DY3 payment.",null,"Yes-Completed","Previously Approved",null,"Round 1 (April)","2012-12-31",null,"YES","2013-01-01","2013-12-31","",""]
[9,"136491104_1","6_136491104",6,"136491104","Southwest General Hospital","136491104.4","136491104.4.2",1,3,"Yes-Completed","Approved","Provider submitted required documentation to support Category 4 achievement. Project 136491104.4.2 is approved and eligible for DY3 payment.",null,"Yes-Completed","Previously Approved",null,"Round 1 (April)","2012-12-31",null,"YES","2013-01-01","2013-12-31","",""]
[9,"136491104_2","6_136491104",6,"136491104","Southwest General Hospital","136491104.4","136491104.4.3",2,3,"Yes-Completed","Approved","Provider submitted required documentation to support Category 4 achievement. Project 136491104.4.3 is approved and eligible for DY3 payment.",null,"Yes-Completed","Previously Approved",null,"Round 1 (April)","2012-12-31",null,"YES","2013-01-01","2013-12-31","",""]
[9,"136491104_4","6_136491104",6,"136491104","Southwest General Hospital","136491104.4","136491104.4.5",4,3,"No-Not Started","Did Not Report","Category 4 Status Report was reviewed, and HHSC found that achievement is not clearly demonstrated. Provider supplied a 12-month measurement period, but did not include any data for medication management metric. HHSC is changing to Did Not Report.",null,"Yes-Completed","Approved","Category 4 reporting domain was reviewed, and HHSC found provider submitted documentation to support achievement. Project is approved and eligible for payment.\n","Round 2 (October)","2013-09-30","2014-09-30","NO","2013-10-01","2014-09-30","2014-10-01","2015-09-30"]
[9,"136491104_5","6_136491104",6,"136491104","Southwest General Hospital","136491104.4","136491104.4.6",5,3,"Yes-Completed","Needs More Info - Approved","Provider submitted required documentation to support Category 4 achievement. Project 136491104.4.6 is approved and eligible for DY3 payment.",null,"Yes-Completed","Previously Approved",null,"Round 1 (April) - Needs More Info","2014-03-31",null,"YES","2014-04-01","2015-03-31","",""]
[9,"138411709_3","6_138411709",6,"138411709","Guadalupe County Hospital Board dba Guadalupe Regi","138411709.4","138411709.4.1",3,3,"Yes-Completed","Approved","Provider submitted required documentation to support Category 4 achievement. Project 138411709.4.1 is approved and eligible for DY3 payment.",null,"Yes-Completed","Previously Approved",null,"Round 1 (April)","2012-12-31",null,"YES","2013-01-01","2013-12-31","",""]
[9,"138411709_1","6_138411709",6,"138411709","Guadalupe County Hospital Board dba Guadalupe Regi","138411709.4","138411709.4.2",1,3,"Yes-Completed","Approved","Provider submitted required documentation to support Category 4 achievement. Project 138411709.4.2 is approved and eligible for DY3 payment.",null,"Yes-Completed","Previously Approved",null,"Round 1 (April)","2012-12-31",null,"YES","2013-01-01","2013-12-31","",""]
[9,"138411709_2","6_138411709",6,"138411709","Guadalupe County Hospital Board dba Guadalupe Regi","138411709.4","138411709.4.3",2,3,"Yes-Completed","Approved","Provider submitted required documentation to support Category 4 achievement. Project 138411709.4.3 is approved and eligible for DY3 payment.",null,"Yes-Completed","Previously Approved",null,"Round 1 (April)","2012-12-31",null,"YES","2013-01-01","2013-12-31","",""]
[9,"138411709_4","6_138411709",6,"138411709","Guadalupe County Hospital Board dba Guadalupe Regi","138411709.4","138411709.4.5",4,3,"Yes-Completed","Approved","Provider submitted required documentation to support Category 4 achievement. Project 138411709.4.5 is approved and eligible for DY3 payment.",null,"Yes-Completed","Previously Approved",null,"Round 1 (April)","2013-09-30","2013-09-30","YES","2013-10-01","2014-09-30","2013-10-01","2014-09-30"]
[9,"138411709_5","6_138411709",6,"138411709","Guadalupe County Hospital Board dba Guadalupe Regi","138411709.4","138411709.4.6",5,3,"Yes-Completed","Approved","Provider submitted required documentation to support Category 4 achievement. Project 138411709.4.6 is approved and eligible for DY3 payment.",null,"Yes-Completed","Previously Approved",null,"Round 1 (April)","2013-09-30",null,"YES","2013-10-01","2014-09-30","",""]
[9,"138411709_6","6_138411709",6,"138411709","Guadalupe County Hospital Board dba Guadalupe Regi","138411709.4","138411709.4.7",6,3,"No-Not Started","Did Not Report",null,null,null,null,null,"Did Not Report","DNR",null,"YES","TBD","TBD","",""]
[9,"159156201_3","6_159156201",6,"159156201","Baptist Medical Center (VHS San Antonio Partners)","159156201.4","159156201.4.1",3,3,"Yes-Completed","Approved","Provider submitted required documentation to support Category 4 achievement. Project 159156201.4.1 is approved and eligible for DY3 payment.",null,"Yes-Completed","Previously Approved",null,"Round 1 (April)","2012-12-31",null,"YES","2013-01-01","2013-12-31","",""]
[9,"159156201_1","6_159156201",6,"159156201","Baptist Medical Center (VHS San Antonio Partners)","159156201.4","159156201.4.2",1,3,"Yes-Completed","Approved","Provider submitted required documentation to support Category 4 achievement. Project 159156201.4.2 is approved and eligible for DY3 payment.",null,"Yes-Completed","Previously Approved",null,"Round 1 (April)","2012-12-31",null,"YES","2013-01-01","2013-12-31","",""]
[9,"159156201_2","6_159156201",6,"159156201","Baptist Medical Center (VHS San Antonio Partners)","159156201.4","159156201.4.3",2,3,"Yes-Completed","Approved","Provider submitted required documentation to support Category 4 achievement. Project 159156201.4.3 is approved and eligible for DY3 payment.",null,"Yes-Completed","Previously Approved",null,"Round 1 (April)","2012-12-31",null,"YES","2013-01-01","2013-12-31","",""]
[9,"159156201_4","6_159156201",6,"159156201","Baptist Medical Center (VHS San Antonio Partners)","159156201.4","159156201.4.5",4,3,"No-Not Started","Did Not Report",null,null,"Yes-Completed","Needs More Info - Approved","Category 4 reporting domain was reviewed, and HHSC found provider submitted documentation to support achievement. Domain is approved and eligible for payment.","Round 2 (October) - Needs More Info","2013-12-31","2014-09-30","NO","2014-01-01","2014-12-31","2014-10-01","2015-09-30"]
[9,"159156201_5","6_159156201",6,"159156201","Baptist Medical Center (VHS San Antonio Partners)","159156201.4","159156201.4.6",5,3,"Yes-Completed","Approved","Provider submitted required documentation to support Category 4 achievement. Project 159156201.4.6 is approved and eligible for DY3 payment.",null,"Yes-Completed","Previously Approved",null,"Round 1 (April)","2013-12-31",null,"YES","2014-01-01","2014-12-31","",""]
[9,"112717702_1","7_112717702",7,"112717702","St David's Hlthcare Partnership dba South Austin M","112717702.4","112717702.4.2",1,3,null,null,null,null,"Yes-Completed","Approved","Category 4 reporting domain was reviewed, and HHSC found provider submitted documentation to support achievement. Project is approved and eligible for payment.\n","Round 2 (October)","2012-12-31",null,"YES","2013-01-01","2013-12-31","",""]
[9,"112717702_2","7_112717702",7,"112717702","St David's Hlthcare Partnership dba South Austin M","112717702.4","112717702.4.3",2,3,null,null,null,null,"Yes-Completed","Approved","Category 4 reporting domain was reviewed, and HHSC found provider submitted documentation to support achievement. Project is approved and eligible for payment.\n","Round 2 (October)","2012-12-31",null,"YES","2013-01-01","2013-12-31","",""]
[9,"112717702_4","7_112717702",7,"112717702","St David's Hlthcare Partnership dba South Austin M","112717702.4","112717702.4.5",4,3,null,null,null,null,"Yes-Completed","Approved","Category 4 reporting domain was reviewed, and HHSC found provider submitted documentation to support achievement. Project is approved and eligible for payment.\n","Round 2 (October)","2013-09-30","2013-12-31","YES","2013-10-01","2014-09-30","2014-01-01","2014-12-31"]
[9,"112717702_5","7_112717702",7,"112717702","St David's Hlthcare Partnership dba South Austin M","112717702.4","112717702.4.6",5,3,null,null,null,null,"Yes-Completed","Approved","Category 4 reporting domain was reviewed, and HHSC found provider submitted documentation to support achievement. Project is approved and eligible for payment.\n","Round 2 (October)","2013-12-31",null,"YES","2014-01-01","2014-12-31","",""]
[9,"121789503_3","7_121789503",7,"121789503","Central Texas Medical Center","121789503.4","121789503.4.1",3,3,"No-Not Started","Did Not Report",null,null,"Yes-Completed","Approved","Category 4 reporting domain was reviewed, and HHSC found provider submitted documentation to support achievement. Project is approved and eligible for payment.\n","Round 2 (October)","2012-12-31",null,"YES","2013-01-01","2013-12-31","",""]
[9,"121789503_1","7_121789503",7,"121789503","Central Texas Medical Center","121789503.4","121789503.4.2",1,3,"No-Not Started","Did Not Report",null,null,"Yes-Completed","Approved","Category 4 reporting domain was reviewed, and HHSC found provider submitted documentation to support achievement. Project is approved and eligible for payment.\n","Round 2 (October)","2012-12-31",null,"YES","2013-01-01","2013-12-31","",""]
[9,"121789503_2","7_121789503",7,"121789503","Central Texas Medical Center","121789503.4","121789503.4.3",2,3,"No-Not Started","Did Not Report",null,null,"Yes-Completed","Approved","Category 4 reporting domain was reviewed, and HHSC found provider submitted documentation to support achievement. Project is approved and eligible for payment.\n","Round 2 (October)","2012-12-31",null,"YES","2013-01-01","2013-12-31","",""]
[9,"121789503_4","7_121789503",7,"121789503","Central Texas Medical Center","121789503.4","121789503.4.5",4,3,"No-Not Started","Did Not Report",null,null,"Yes-Completed","Approved","Category 4 reporting domain was reviewed, and HHSC found provider submitted documentation to support achievement. Project is approved and eligible for payment.\n","Round 2 (October)","2013-12-31","2013-12-31","YES","2014-01-01","2014-12-31","2014-01-01","2014-12-31"]
[9,"121789503_5","7_121789503",7,"121789503","Central Texas Medical Center","121789503.4","121789503.4.6",5,3,"No-Not Started","Did Not Report",null,null,"Yes-Completed","Approved","Category 4 reporting domain was reviewed, and HHSC found provider submitted documentation to support achievement. Project is approved and eligible for payment.\n","Round 2 (October)","2013-12-31",null,"YES","2014-01-01","2014-12-31","",""]
[{"$f":"LEN(E387)","v":9},{"$f":"E387&\"_\"&I387","v":"137265806_3"},{"$f":"D387&\"_\"&E387","v":"7_137265806"},7,"137265806","Seton Healthcare dba University Medical Center at","137265806.4","137265806.4.1",3,3,"No-Not Started","Did Not Report",null,null,"Yes-Completed","Approved","Category 4 reporting domain was reviewed, and HHSC found provider submitted documentation to support achievement. Project is approved and eligible for payment.\n","Round 2 (October)","2012-12-31",null,"YES","2013-01-01","2013-12-31","",""]
[9,"137265806_1","7_137265806",7,"137265806","Seton Healthcare dba University Medical Center at","137265806.4","137265806.4.2",1,3,"No-Not Started","Did Not Report",null,null,"Yes-Completed","Approved","Category 4 reporting domain was reviewed, and HHSC found provider submitted documentation to support achievement. Project is approved and eligible for payment.\n","Round 2 (October)","2012-12-31",null,"YES","2013-01-01","2013-12-31","",""]
[9,"137265806_2","7_137265806",7,"137265806","Seton Healthcare dba University Medical Center at","137265806.4","137265806.4.3",2,3,"No-Not Started","Did Not Report",null,null,"Yes-Completed","Approved","Category 4 reporting domain was reviewed, and HHSC found provider submitted documentation to support achievement. Project is approved and eligible for payment.\n","Round 2 (October)","2012-12-31",null,"YES","2013-01-01","2013-12-31","",""]
[9,"137265806_4","7_137265806",7,"137265806","Seton Healthcare dba University Medical Center at","137265806.4","137265806.4.5",4,3,"No-Not Started","Did Not Report",null,null,"Yes-Completed","Approved","Category 4 reporting domain was reviewed, and HHSC found provider submitted documentation to support achievement. Project is approved and eligible for payment.\n","Round 2 (October)","2013-12-31","2013-12-31","YES","2014-01-01","2014-12-31","2014-01-01","2014-12-31"]
[9,"137265806_5","7_137265806",7,"137265806","Seton Healthcare dba University Medical Center at","137265806.4","137265806.4.6",5,3,"No-Not Started","Did Not Report",null,null,"Yes-Completed","Needs More Info - Approved","Category 4 reporting domain was reviewed, and HHSC found provider submitted documentation to support achievement. CMS has approved this reporting variance of 12 months of proxy data in combination with 6 months of reporting to measure specification. Reporting domain is approved and eligible for payment.\n","Round 2 (October) - Needs More Info","2014-06-30",null,"NO","2014-07-01","2015-06-30","",""]
[9,"176692501_3","7_176692501",7,"176692501","St. Mark's Medical Center","176692501.4","176692501.4.1",3,3,"No-Not Started","Did Not Report",null,null,"Yes-Completed","Approved","Category 4 reporting domain was reviewed, and HHSC found provider submitted documentation to support achievement. Project is approved and eligible for payment.\n","Round 2 (October)","2012-12-31",null,"YES","2013-01-01","2013-12-31","",""]
[9,"176692501_1","7_176692501",7,"176692501","St. Mark's Medical Center","176692501.4","176692501.4.2",1,3,"No-Not Started","Did Not Report",null,null,"Yes-Completed","Approved","Category 4 reporting domain was reviewed, and HHSC found provider submitted documentation to support achievement. Project is approved and eligible for payment.\n","Round 2 (October)","2012-12-31",null,"YES","2013-01-01","2013-12-31","",""]
[9,"176692501_2","7_176692501",7,"176692501","St. Mark's Medical Center","176692501.4","176692501.4.3",2,3,"No-Not Started","Did Not Report",null,null,"Yes-Completed","Approved","Category 4 reporting domain was reviewed, and HHSC found provider submitted documentation to support achievement. Project is approved and eligible for payment.\n","Round 2 (October)","2012-12-31",null,"YES","2013-01-01","2013-12-31","",""]
[9,"176692501_4","7_176692501",7,"176692501","St. Mark's Medical Center","176692501.4","176692501.4.5",4,3,"No-Not Started","Did Not Report",null,null,"Yes-Completed","Needs More Info - Approved","Category 4 reporting domain was reviewed, and HHSC found provider submitted documentation to support achievement. Reporting domain is approved and eligible for payment.\n","Round 2 (October) - Needs More Info","2014-09-30","2014-09-30","NO","2014-10-01","2015-09-30","2014-10-01","2015-09-30"]
[9,"176692501_5","7_176692501",7,"176692501","St. Mark's Medical Center","176692501.4","176692501.4.6",5,3,"No-Not Started","Did Not Report",null,null,"Yes-Completed","Needs More Info - Approved","Category 4 reporting domain was reviewed, and HHSC found provider submitted documentation to support achievement. Reporting domain is approved and eligible for payment.\n","Round 2 (October) - Needs More Info","2012-12-31",null,"YES","2013-01-01","2013-12-31","",""]
[9,"186599001_3","7_186599001",7,"186599001","Seton Healthcare dba Dell Children's Medical Cente","186599001.4","186599001.4.1",3,3,"No-Not Started","Did Not Report",null,null,"Yes-Completed","Approved","Category 4 reporting domain was reviewed, and HHSC found provider submitted documentation to support achievement. Project is approved and eligible for payment.\n","Round 2 (October)","2012-12-31",null,"YES","2013-01-01","2013-12-31","",""]
[9,"186599001_1","7_186599001",7,"186599001","Seton Healthcare dba Dell Children's Medical Cente","186599001.4","186599001.4.2",1,3,"No-Not Started","Did Not Report",null,null,"Yes-Completed","Approved","Category 4 reporting domain was reviewed, and HHSC found provider submitted documentation to support achievement. Project is approved and eligible for payment.\n","Round 2 (October)","2012-12-31",null,"YES","2013-01-01","2013-12-31","",""]
[9,"186599001_2","7_186599001",7,"186599001","Seton Healthcare dba Dell Children's Medical Cente","186599001.4","186599001.4.3",2,3,"No-Not Started","Did Not Report",null,null,"Yes-Completed","Approved","Category 4 reporting domain was reviewed, and HHSC found provider submitted documentation to support achievement. Project is approved and eligible for payment.\n","Round 2 (October)","2012-12-31",null,"YES","2013-01-01","2013-12-31","",""]
[9,"186599001_4","7_186599001",7,"186599001","Seton Healthcare dba Dell Children's Medical Cente","186599001.4","186599001.4.5",4,3,"No-Not Started","Did Not Report",null,null,"Yes-Completed","Approved","Category 4 reporting domain was reviewed, and HHSC found provider submitted documentation to support achievement. Project is approved and eligible for payment.\n","Round 2 (October)","2013-12-31","2013-12-31","YES","2014-01-01","2014-12-31","2014-01-01","2014-12-31"]
[9,"186599001_5","7_186599001",7,"186599001","Seton Healthcare dba Dell Children's Medical Cente","186599001.4","186599001.4.6",5,3,"No-Not Started","Did Not Report",null,null,"Yes-Completed","Needs More Info - Approved","Category 4 reporting domain was reviewed, and HHSC found provider submitted documentation to support achievement. CMS has approved this reporting variance of 12 months of proxy data in combination with 6 months of reporting to measure specification. Reporting domain is approved and eligible for payment.\n","Round 2 (October) - Needs More Info","2014-06-30",null,"NO","2014-07-01","2015-06-30","",""]
[9,"307459301_3","7_307459301",7,"307459301","Community Care Collaborative","307459301.4","307459301.4.1",3,3,"No-Not Started","Did Not Report",null,null,"Yes-Completed","Approved","Category 4 reporting domain was reviewed, and HHSC found provider submitted documentation to support achievement. Project is approved and eligible for payment.\n","Round 2 (October)","2012-12-31",null,"YES","2013-01-01","2013-12-31","",""]
[9,"307459301_1","7_307459301",7,"307459301","Community Care Collaborative","307459301.4","307459301.4.2",1,3,"No-Not Started","Did Not Report",null,null,"Yes-Completed","Approved","Category 4 reporting domain was reviewed, and HHSC found provider submitted documentation to support achievement. Project is approved and eligible for payment.\n","Round 2 (October)","2012-12-31",null,"YES","2013-01-01","2013-12-31","",""]
[9,"307459301_2","7_307459301",7,"307459301","Community Care Collaborative","307459301.4","307459301.4.3",2,3,"No-Not Started","Did Not Report",null,null,"Yes-Completed","Approved","Category 4 reporting domain was reviewed, and HHSC found provider submitted documentation to support achievement. Project is approved and eligible for payment.\n","Round 2 (October)","2012-12-31",null,"YES","2013-01-01","2013-12-31","",""]
[9,"307459301_4","7_307459301",7,"307459301","Community Care Collaborative","307459301.4","307459301.4.5",4,3,"No-Not Started","Did Not Report",null,null,"Yes-Completed","Approved","Category 4 reporting domain was reviewed, and HHSC found provider submitted documentation to support achievement. Project is approved and eligible for payment.\n","Round 2 (October)","2013-12-31","2013-12-31","YES","2014-01-01","2014-12-31","2014-01-01","2014-12-31"]
[9,"307459301_5","7_307459301",7,"307459301","Community Care Collaborative","307459301.4","307459301.4.6",5,3,"No-Not Started","Did Not Report",null,null,"Yes-Completed","Needs More Info - Approved","Category 4 reporting domain was reviewed, and HHSC found provider submitted documentation to support achievement. CMS has approved this reporting variance of 12 months of proxy data in combination with 6 months of reporting to measure specification. Reporting domain is approved and eligible for payment.\n","Round 2 (October) - Needs More Info","2014-06-30",null,"NO","2014-07-01","2015-06-30","",""]
[9,"312239201_3","8_312239201",8,"312239201","HH Killeen Hlth Sytm LLC dba Seton Med Ctr Harker","013122392.4","013122392.4.1",3,3,"Yes-Completed","Approved","Provider submitted required documentation to support Category 4 achievement. Project 013122392.4.100 is approved and eligible for DY3 payment.",null,"Yes-Completed","Previously Approved",null,"Round 1 (April)","2012-12-31",null,"YES","2013-01-01","2013-12-31","",""]
[9,"312239201_1","8_312239201",8,"312239201","HH Killeen Hlth Sytm LLC dba Seton Med Ctr Harker","013122392.4","013122392.4.2",1,3,"Yes-Completed","Approved","Provider submitted required documentation to support Category 4 achievement. Project 013122392.4.101 is approved and eligible for DY3 payment.",null,"Yes-Completed","Previously Approved",null,"Round 1 (April)","2012-12-31",null,"YES","2013-01-01","2013-12-31","",""]
[9,"312239201_2","8_312239201",8,"312239201","HH Killeen Hlth Sytm LLC dba Seton Med Ctr Harker","013122392.4","013122392.4.3",2,3,"Yes-Completed","Approved","Provider submitted required documentation to support Category 4 achievement. Project 013122392.4.102 is approved and eligible for DY3 payment.",null,"Yes-Completed","Previously Approved",null,"Round 1 (April)","2012-12-31",null,"YES","2013-01-01","2013-12-31","",""]
[9,"312239201_4","8_312239201",8,"312239201","HH Killeen Hlth Sytm LLC dba Seton Med Ctr Harker","013122392.4","013122392.4.5",4,3,"No-Not Started","Did Not Report","HHSC changed provider's response to \"No-Partially Completed.\"  Provider appears to have reported in error.  Provider entered NA for Medication Management fields and stated in qualitative section, \"At this time, the percentage of discharged patients receiving a reconciled medication list is not available.\"  Also, Medication Management Measurement Period was one month instead of 12 months.",null,"Yes-Completed","Needs More Info - Approved","Category 4 reporting domain was reviewed, and HHSC found provider submitted documentation to support achievement. Reporting domain is approved and eligible for payment.","Round 2 (October) - Needs More Info","2013-12-31","2014-09-30","NO","2014-01-01","2014-12-31","2014-10-01","2015-09-30"]
[9,"312239201_5","8_312239201",8,"312239201","HH Killeen Hlth Sytm LLC dba Seton Med Ctr Harker","013122392.4","013122392.4.6",5,3,"Yes-Completed","Approved","Provider submitted required documentation to support Category 4 achievement. Project 013122392.4.105 is approved and eligible for DY3 payment.",null,"Yes-Completed","Previously Approved",null,"Round 1 (April)","2013-12-31",null,"YES","2014-01-01","2014-12-31","",""]
[9,"220798701_3","8_220798701",8,"220798701","Scott & White Hospital - Llano","020840701.4","020840701.4.1",3,3,"No-Not Started","Did Not Report",null,null,"Yes-Completed","Approved","Category 4 reporting domain was reviewed, and HHSC found provider submitted documentation to support achievement. Project is approved and eligible for payment.\n","Round 2 (October)","2012-12-31",null,"YES","2013-01-01","2013-12-31","",""]
[9,"220798701_1","8_220798701",8,"220798701","Scott & White Hospital - Llano","020840701.4","020840701.4.2",1,3,"No-Not Started","Did Not Report",null,null,"Yes-Completed","Approved","Category 4 reporting domain was reviewed, and HHSC found provider submitted documentation to support achievement. Project is approved and eligible for payment.\n","Round 2 (October)","2012-12-31",null,"YES","2013-01-01","2013-12-31","",""]
[9,"220798701_2","8_220798701",8,"220798701","Scott & White Hospital - Llano","020840701.4","020840701.4.3",2,3,"No-Not Started","Did Not Report",null,null,"Yes-Completed","Approved","Category 4 reporting domain was reviewed, and HHSC found provider submitted documentation to support achievement. Project is approved and eligible for payment.\n","Round 2 (October)","2012-12-31",null,"YES","2013-01-01","2013-12-31","",""]
[9,"220798701_4","8_220798701",8,"220798701","Scott & White Hospital - Llano","020840701.4","020840701.4.5",4,3,"No-Not Started","Did Not Report",null,null,"Yes-Completed","Approved","Category 4 reporting domain was reviewed, and HHSC found provider submitted documentation to support achievement. Project is approved and eligible for payment.\n","Round 2 (October)","2014-06-30","2013-12-31","NO","2014-07-01","2015-06-30","2014-01-01","2014-12-31"]
[9,"220798701_5","8_220798701",8,"220798701","Scott & White Hospital - Llano","020840701.4","020840701.4.6",5,3,"No-Not Started","Did Not Report",null,null,"Yes-Completed","Approved","Category 4 reporting domain was reviewed, and HHSC found provider submitted documentation to support achievement. Project is approved and eligible for payment.\n","Round 2 (October)","2014-06-30",null,"NO","2014-07-01","2015-06-30","",""]
[9,"020957901_3","8_020957901",8,"020957901","St David's Hlthcare Partnership dba Round Rock Med","020957901.4","020957901.4.1",3,3,"No-Not Started","Did Not Report",null,null,"Yes-Completed","Approved","Category 4 reporting domain was reviewed, and HHSC found provider submitted documentation to support achievement. Project is approved and eligible for payment.\n","Round 2 (October)","2012-12-31",null,"YES","2013-01-01","2013-12-31","",""]
[9,"020957901_1","8_020957901",8,"020957901","St David's Hlthcare Partnership dba Round Rock Med","020957901.4","020957901.4.2",1,3,"No-Not Started","Did Not Report",null,null,"Yes-Completed","Approved","Category 4 reporting domain was reviewed, and HHSC found provider submitted documentation to support achievement. Project is approved and eligible for payment.\n","Round 2 (October)","2012-12-31",null,"YES","2013-01-01","2013-12-31","",""]
[9,"020957901_2","8_020957901",8,"020957901","St David's Hlthcare Partnership dba Round Rock Med","020957901.4","020957901.4.3",2,3,"No-Not Started","Did Not Report",null,null,"Yes-Completed","Approved","Category 4 reporting domain was reviewed, and HHSC found provider submitted documentation to support achievement. Project is approved and eligible for payment.\n","Round 2 (October)","2012-12-31",null,"YES","2013-01-01","2013-12-31","",""]
[9,"020957901_4","8_020957901",8,"020957901","St David's Hlthcare Partnership dba Round Rock Med","020957901.4","020957901.4.5",4,3,"No-Not Started","Did Not Report",null,null,"Yes-Completed","Approved","Category 4 reporting domain was reviewed, and HHSC found provider submitted documentation to support achievement. Project is approved and eligible for payment.\n","Round 2 (October)","2012-12-31","2014-09-30","NO","2013-01-01","2013-12-31","2014-10-01","2015-09-30"]
[9,"020957901_5","8_020957901",8,"020957901","St David's Hlthcare Partnership dba Round Rock Med","020957901.4","020957901.4.6",5,3,"No-Not Started","Did Not Report",null,null,"Yes-Completed","Approved","Category 4 reporting domain was reviewed, and HHSC found provider submitted documentation to support achievement. Project is approved and eligible for payment.\n","Round 2 (October)","2014-09-30",null,"NO","2014-10-01","2015-09-30","",""]
[9,"094151004_3","8_094151004",8,"094151004","Seton Highland Lakes","094151004.4","094151004.4.1",3,3,"No-Not Started","Did Not Report",null,null,"Yes-Completed","Approved","Category 4 reporting domain was reviewed, and HHSC found provider submitted documentation to support achievement. Project is approved and eligible for payment.\n","Round 2 (October)","2012-12-31",null,"YES","2013-01-01","2013-12-31","",""]
[9,"094151004_1","8_094151004",8,"094151004","Seton Highland Lakes","094151004.4","094151004.4.2",1,3,"No-Not Started","Did Not Report",null,null,"Yes-Completed","Approved","Category 4 reporting domain was reviewed, and HHSC found provider submitted documentation to support achievement. Project is approved and eligible for payment.\n","Round 2 (October)","2012-12-31",null,"YES","2013-01-01","2013-12-31","",""]
[9,"094151004_2","8_094151004",8,"094151004","Seton Highland Lakes","094151004.4","094151004.4.3",2,3,"No-Not Started","Did Not Report",null,null,"Yes-Completed","Approved","Category 4 reporting domain was reviewed, and HHSC found provider submitted documentation to support achievement. Project is approved and eligible for payment.\n","Round 2 (October)","2012-12-31",null,"YES","2013-01-01","2013-12-31","",""]
[9,"094151004_4","8_094151004",8,"094151004","Seton Highland Lakes","094151004.4","094151004.4.5",4,3,"No-Not Started","Did Not Report",null,null,"Yes-Completed","Approved","Category 4 reporting domain was reviewed, and HHSC found provider submitted documentation to support achievement. Project is approved and eligible for payment.\n","Round 2 (October)","2013-12-31","2013-12-31","YES","2014-01-01","2014-12-31","2014-01-01","2014-12-31"]
[9,"094151004_5","8_094151004",8,"094151004","Seton Highland Lakes","094151004.4","094151004.4.6",5,3,"No-Not Started","Did Not Report",null,null,"Yes-Completed","Needs More Info - Approved","Category 4 reporting domain was reviewed, and HHSC found provider submitted documentation to support achievement. CMS has approved this reporting variance of 12 months of proxy data in combination with 6 months of reporting to measure specification. Reporting domain is approved and eligible for payment.\n","Round 2 (October) - Needs More Info","2014-06-30",null,"NO","2014-07-01","2015-06-30","",""]
[9,"137249208_3","8_137249208",8,"137249208","Scott & White Memorial Hospital c/o State Comp Dep","137249208.4","137249208.4.1",3,3,"No-Not Started","Did Not Report",null,null,"Yes-Completed","Approved","Category 4 reporting domain was reviewed, and HHSC found provider submitted documentation to support achievement. Project is approved and eligible for payment.\n","Round 2 (October)","2012-12-31",null,"YES","2013-01-01","2013-12-31","",""]
[9,"137249208_1","8_137249208",8,"137249208","Scott & White Memorial Hospital c/o State Comp Dep","137249208.4","137249208.4.2",1,3,"No-Not Started","Did Not Report",null,null,"Yes-Completed","Approved","Category 4 reporting domain was reviewed, and HHSC found provider submitted documentation to support achievement. Project is approved and eligible for payment.\n","Round 2 (October)","2012-12-31",null,"YES","2013-01-01","2013-12-31","",""]
[9,"137249208_2","8_137249208",8,"137249208","Scott & White Memorial Hospital c/o State Comp Dep","137249208.4","137249208.4.3",2,3,"No-Not Started","Did Not Report",null,null,"Yes-Completed","Approved","Category 4 reporting domain was reviewed, and HHSC found provider submitted documentation to support achievement. Project is approved and eligible for payment.\n","Round 2 (October)","2012-12-31",null,"YES","2013-01-01","2013-12-31","",""]
[9,"137249208_4","8_137249208",8,"137249208","Scott & White Memorial Hospital c/o State Comp Dep","137249208.4","137249208.4.5",4,3,"No-Not Started","Did Not Report",null,null,"Yes-Completed","Approved","Category 4 reporting domain was reviewed, and HHSC found provider submitted documentation to support achievement. Project is approved and eligible for payment.\n","Round 2 (October)","2014-06-30","2014-01-31","NO","2014-07-01","2015-06-30","2014-02-01","2015-01-31"]
[9,"137249208_5","8_137249208",8,"137249208","Scott & White Memorial Hospital c/o State Comp Dep","137249208.4","137249208.4.6",5,3,"No-Not Started","Did Not Report",null,null,"Yes-Completed","Approved","Category 4 reporting domain was reviewed, and HHSC found provider submitted documentation to support achievement. Project is approved and eligible for payment.\n","Round 2 (October)","2013-12-31",null,"YES","2014-01-01","2014-12-31","",""]
[9,"183086102_3","8_183086102",8,"183086102","Rockdale Blackhawk, LLC dba Little River Healthcar","183086102.4","183086102.4.1",3,3,"Yes-Completed","Approved","Provider submitted required documentation to support Category 4 achievement. Project 183086102.4.1 is approved and eligible for DY3 payment.",null,"Yes-Completed","Previously Approved",null,"Round 1 (April)","2012-12-31",null,"YES","2013-01-01","2013-12-31","",""]
[9,"183086102_1","8_183086102",8,"183086102","Rockdale Blackhawk, LLC dba Little River Healthcar","183086102.4","183086102.4.2",1,3,"Yes-Completed","Approved","Provider submitted required documentation to support Category 4 achievement. Project 183086102.4.2 is approved and eligible for DY3 payment.",null,"Yes-Completed","Previously Approved",null,"Round 1 (April)","2012-12-31",null,"YES","2013-01-01","2013-12-31","",""]
[9,"183086102_2","8_183086102",8,"183086102","Rockdale Blackhawk, LLC dba Little River Healthcar","183086102.4","183086102.4.3",2,3,"Yes-Completed","Approved","Provider submitted required documentation to support Category 4 achievement. Project 183086102.4.3 is approved and eligible for DY3 payment.",null,"Yes-Completed","Previously Approved",null,"Round 1 (April)","2012-12-31",null,"YES","2013-01-01","2013-12-31","",""]
[9,"183086102_4","8_183086102",8,"183086102","Rockdale Blackhawk, LLC dba Little River Healthcar","183086102.4","183086102.4.5",4,3,"No-Not Started","Did Not Report",null,null,"Yes-Completed","Not Approved","HHSC found achievement of Category 4 project is not clearly demonstrated. The Center for Medicare and Medicaid Services has declined to approve for payment projects reporting less than a full 10 months of HCAHPS data for Category 4 Reporting Domain 4. Project is not approved and is no longer eligible for payment for DY3.\n","Round 2 (October) - Not Approved","2014-06-30","2013-12-31","NO","2014-07-01","2015-06-30","2014-01-01","2014-12-31"]
[9,"183086102_5","8_183086102",8,"183086102","Rockdale Blackhawk, LLC dba Little River Healthcar","183086102.4","183086102.4.6",5,3,"No-Not Started","Did Not Report",null,null,"Yes-Completed","Approved","Category 4 reporting domain was reviewed, and HHSC found provider submitted documentation to support achievement. Project is approved and eligible for payment.\n","Round 2 (October)","2014-06-30",null,"NO","2014-07-01","2015-06-30","",""]
[9,"020908201_3","9_020908201",9,"020908201","Presbyterian Hospital Of Dallas (TX Health Resourc","020908201.4","020908201.4.1",3,3,"Yes-Completed","Approved","Provider submitted required documentation to support Category 4 achievement. Project 020908201.4.1 is approved and eligible for DY3 payment.",null,"Yes-Completed","Previously Approved",null,"Round 1 (April)","2012-12-31",null,"YES","2013-01-01","2013-12-31","",""]
[9,"020908201_1","9_020908201",9,"020908201","Presbyterian Hospital Of Dallas (TX Health Resourc","020908201.4","020908201.4.2",1,3,"Yes-Completed","Approved","Provider submitted required documentation to support Category 4 achievement. Project 020908201.4.2 is approved and eligible for DY3 payment.",null,"Yes-Completed","Previously Approved",null,"Round 1 (April)","2012-12-31",null,"YES","2013-01-01","2013-12-31","",""]
[9,"020908201_2","9_020908201",9,"020908201","Presbyterian Hospital Of Dallas (TX Health Resourc","020908201.4","020908201.4.3",2,3,"Yes-Completed","Approved","Provider submitted required documentation to support Category 4 achievement. Project 020908201.4.3 is approved and eligible for DY3 payment.",null,"Yes-Completed","Previously Approved",null,"Round 1 (April)","2012-12-31",null,"YES","2013-01-01","2013-12-31","",""]
[9,"020908201_4","9_020908201",9,"020908201","Presbyterian Hospital Of Dallas (TX Health Resourc","020908201.4","020908201.4.5",4,3,"Yes-Completed","Approved","Provider submitted required documentation to support Category 4 achievement. Project 020908201.4.5 is approved and eligible for DY3 payment.",null,"Yes-Completed","Previously Approved",null,"Round 1 (April)","2013-12-31","2013-12-31","YES","2014-01-01","2014-12-31","2014-01-01","2014-12-31"]
[9,"020908201_5","9_020908201",9,"020908201","Presbyterian Hospital Of Dallas (TX Health Resourc","020908201.4","020908201.4.6",5,3,"Yes-Completed","Approved","Provider submitted required documentation to support Category 4 achievement. Project 020908201.4.6 is approved and eligible for DY3 payment.",null,"Yes-Completed","Previously Approved",null,"Round 1 (April)","2013-12-31",null,"YES","2014-01-01","2014-12-31","",""]
[9,"020943901_3","9_020943901",9,"020943901","Columbia Hosp at Med City Dallas Subsid dba Medica","020943901.4","020943901.4.1",3,3,"Yes-Completed","Approved","Provider submitted required documentation to support Category 4 achievement. Project 020943901.4.1 is approved and eligible for DY3 payment.",null,"Yes-Completed","Previously Approved",null,"Round 1 (April)","2012-12-31",null,"YES","2013-01-01","2013-12-31","",""]
[9,"020943901_1","9_020943901",9,"020943901","Columbia Hosp at Med City Dallas Subsid dba Medica","020943901.4","020943901.4.2",1,3,"Yes-Completed","Approved","Provider submitted required documentation to support Category 4 achievement. Project 020943901.4.2 is approved and eligible for DY3 payment.",null,"Yes-Completed","Previously Approved",null,"Round 1 (April)","2012-12-31",null,"YES","2013-01-01","2013-12-31","",""]
[9,"020943901_2","9_020943901",9,"020943901","Columbia Hosp at Med City Dallas Subsid dba Medica","020943901.4","020943901.4.3",2,3,"Yes-Completed","Approved","Provider submitted required documentation to support Category 4 achievement. Project 020943901.4.3 is approved and eligible for DY3 payment.",null,"Yes-Completed","Previously Approved",null,"Round 1 (April)","2012-12-31",null,"YES","2013-01-01","2013-12-31","",""]
[9,"020943901_4","9_020943901",9,"020943901","Columbia Hosp at Med City Dallas Subsid dba Medica","020943901.4","020943901.4.5",4,3,"No-Not Started","Did Not Report",null,null,"Yes-Completed","Approved","Category 4 reporting domain was reviewed, and HHSC found provider submitted documentation to support achievement. Project is approved and eligible for payment.\n","Round 2 (October)","2013-09-30","2014-09-30","NO","2013-10-01","2014-09-30","2014-10-01","2015-09-30"]
[9,"020943901_5","9_020943901",9,"020943901","Columbia Hosp at Med City Dallas Subsid dba Medica","020943901.4","020943901.4.6",5,3,"Yes-Completed","Approved","Provider submitted required documentation to support Category 4 achievement. Project 020943901.4.6 is approved and eligible for DY3 payment.",null,"Yes-Completed","Previously Approved",null,"Round 1 (April)","2013-12-31",null,"YES","2014-01-01","2014-12-31","",""]
[9,"020967801_3","9_020967801",9,"020967801","Texas Health Presbyterian Hospital Denton Presbyte","020967801.4","020967801.4.1",3,3,"Yes-Completed","Approved","Provider submitted required documentation to support Category 4 achievement. Project 020967801.4.1 is approved and eligible for DY3 payment.",null,"Yes-Completed","Previously Approved",null,"Round 1 (April)","2012-12-31",null,"YES","2013-01-01","2013-12-31","",""]
[9,"020967801_1","9_020967801",9,"020967801","Texas Health Presbyterian Hospital Denton Presbyte","020967801.4","020967801.4.2",1,3,"Yes-Completed","Approved","Provider submitted required documentation to support Category 4 achievement. Project 020967801.4.2 is approved and eligible for DY3 payment.",null,"Yes-Completed","Previously Approved",null,"Round 1 (April)","2012-12-31",null,"YES","2013-01-01","2013-12-31","",""]
[9,"020967801_2","9_020967801",9,"020967801","Texas Health Presbyterian Hospital Denton Presbyte","020967801.4","020967801.4.3",2,3,"Yes-Completed","Approved","Provider submitted required documentation to support Category 4 achievement. Project 020967801.4.3 is approved and eligible for DY3 payment.",null,"Yes-Completed","Previously Approved",null,"Round 1 (April)","2012-12-31",null,"YES","2013-01-01","2013-12-31","",""]
[9,"020967801_4","9_020967801",9,"020967801","Texas Health Presbyterian Hospital Denton Presbyte","020967801.4","020967801.4.5",4,3,"Yes-Completed","Approved","Provider submitted required documentation to support Category 4 achievement. Project 020967801.4.5 is approved and eligible for DY3 payment.",null,"Yes-Completed","Previously Approved",null,"Round 1 (April)","2013-12-31","2013-12-31","YES","2014-01-01","2014-12-31","2014-01-01","2014-12-31"]
[{"$f":"LEN(E451)","v":9},{"$f":"E451&\"_\"&I451","v":"020967801_5"},{"$f":"D451&\"_\"&E451","v":"9_020967801"},9,"020967801","Texas Health Presbyterian Hospital Denton Presbyte","020967801.4","020967801.4.6",5,3,"Yes-Completed","Approved","Provider submitted required documentation to support Category 4 achievement. Project 020967801.4.6 is approved and eligible for DY3 payment.",null,"Yes-Completed","Previously Approved",null,"Round 1 (April)","2013-12-31",null,"YES","2014-01-01","2014-12-31","",""]
[9,"020979301_3","9_020979301",9,"020979301","Columbia Medical Center of Las Colinas dba Las Col","020979301.4","020979301.4.1",3,3,"Yes-Completed","Approved","Provider submitted required documentation to support Category 4 achievement. Project 020979301.4.1 is approved and eligible for DY3 payment.",null,"Yes-Completed","Previously Approved",null,"Round 1 (April)","2012-12-31",null,"YES","2013-01-01","2013-12-31","",""]
[9,"020979301_1","9_020979301",9,"020979301","Columbia Medical Center of Las Colinas dba Las Col","020979301.4","020979301.4.2",1,3,"Yes-Completed","Approved","Provider submitted required documentation to support Category 4 achievement. Project 020979301.4.2 is approved and eligible for DY3 payment.",null,"Yes-Completed","Previously Approved",null,"Round 1 (April)","2012-12-31",null,"YES","2013-01-01","2013-12-31","",""]
[9,"020979301_2","9_020979301",9,"020979301","Columbia Medical Center of Las Colinas dba Las Col","020979301.4","020979301.4.3",2,3,"Yes-Completed","Approved","Provider submitted required documentation to support Category 4 achievement. Project 020979301.4.3 is approved and eligible for DY3 payment.",null,"Yes-Completed","Previously Approved",null,"Round 1 (April)","2012-12-31",null,"YES","2013-01-01","2013-12-31","",""]
[9,"020979301_4","9_020979301",9,"020979301","Columbia Medical Center of Las Colinas dba Las Col","020979301.4","020979301.4.5",4,3,"No-Not Started","Did Not Report",null,null,"Yes-Completed","Approved","Category 4 reporting domain was reviewed, and HHSC found provider submitted documentation to support achievement. Project is approved and eligible for payment.\n","Round 2 (October)","2013-09-30","2014-09-30","NO","2013-10-01","2014-09-30","2014-10-01","2015-09-30"]
[9,"020979301_5","9_020979301",9,"020979301","Columbia Medical Center of Las Colinas dba Las Col","020979301.4","020979301.4.6",5,3,"Yes-Completed","Approved","Provider submitted required documentation to support Category 4 achievement. Project 020979301.4.6 is approved and eligible for DY3 payment.",null,"Yes-Completed","Previously Approved",null,"Round 1 (April)","2013-12-31",null,"YES","2014-01-01","2014-12-31","",""]
[9,"094140302_3","9_094140302",9,"094140302","Texas Health Presbyterian Hospital Kaufman dba Pre","094140302.4","094140302.4.1",3,3,"Yes-Completed","Approved","Provider submitted required documentation to support Category 4 achievement. Project 094140302.4.1 is approved and eligible for DY3 payment.",null,"Yes-Completed","Previously Approved",null,"Round 1 (April)","2012-12-31",null,"YES","2013-01-01","2013-12-31","",""]
[9,"094140302_1","9_094140302",9,"094140302","Texas Health Presbyterian Hospital Kaufman dba Pre","094140302.4","094140302.4.2",1,3,"Yes-Completed","Approved","Provider submitted required documentation to support Category 4 achievement. Project 094140302.4.2 is approved and eligible for DY3 payment.",null,"Yes-Completed","Previously Approved",null,"Round 1 (April)","2012-12-31",null,"YES","2013-01-01","2013-12-31","",""]
[9,"094140302_2","9_094140302",9,"094140302","Texas Health Presbyterian Hospital Kaufman dba Pre","094140302.4","094140302.4.3",2,3,"Yes-Completed","Approved","Provider submitted required documentation to support Category 4 achievement. Project 094140302.4.3 is approved and eligible for DY3 payment.",null,"Yes-Completed","Previously Approved",null,"Round 1 (April)","2012-12-31",null,"YES","2013-01-01","2013-12-31","",""]
[9,"094140302_4","9_094140302",9,"094140302","Texas Health Presbyterian Hospital Kaufman dba Pre","094140302.4","094140302.4.5",4,3,"Yes-Completed","Approved","Provider submitted required documentation to support Category 4 achievement. Project 094140302.4.5 is approved and eligible for DY3 payment.",null,"Yes-Completed","Previously Approved",null,"Round 1 (April)","2013-12-31","2013-12-31","YES","2014-01-01","2014-12-31","2014-01-01","2014-12-31"]
[9,"094140302_5","9_094140302",9,"094140302","Texas Health Presbyterian Hospital Kaufman dba Pre","094140302.4","094140302.4.6",5,3,"Yes-Completed","Approved","Provider submitted required documentation to support Category 4 achievement. Project 094140302.4.6 is approved and eligible for DY3 payment.",null,"Yes-Completed","Previously Approved",null,"Round 1 (April)","2013-12-31",null,"YES","2014-01-01","2014-12-31","",""]
[9,"094192402_3","9_094192402",9,"094192402","Columbia Medical Center of Lewisville dba Medical","094192402.4","094192402.4.1",3,3,"Yes-Completed","Approved","Provider submitted required documentation to support Category 4 achievement. Project 094192402.4.1 is approved and eligible for DY3 payment.",null,"Yes-Completed","Previously Approved",null,"Round 1 (April)","2012-12-31",null,"YES","2013-01-01","2013-12-31","",""]
[9,"094192402_1","9_094192402",9,"094192402","Columbia Medical Center of Lewisville dba Medical","094192402.4","094192402.4.2",1,3,"Yes-Completed","Approved","Provider submitted required documentation to support Category 4 achievement. Project 094192402.4.2 is approved and eligible for DY3 payment.",null,"Yes-Completed","Previously Approved",null,"Round 1 (April)","2012-12-31",null,"YES","2013-01-01","2013-12-31","",""]
[9,"094192402_2","9_094192402",9,"094192402","Columbia Medical Center of Lewisville dba Medical","094192402.4","094192402.4.3",2,3,"Yes-Completed","Approved","Provider submitted required documentation to support Category 4 achievement. Project 094192402.4.3 is approved and eligible for DY3 payment.",null,"Yes-Completed","Previously Approved",null,"Round 1 (April)","2012-12-31",null,"YES","2013-01-01","2013-12-31","",""]
[9,"094192402_4","9_094192402",9,"094192402","Columbia Medical Center of Lewisville dba Medical","094192402.4","094192402.4.5",4,3,"No-Not Started","Did Not Report",null,null,"Yes-Completed","Approved","Category 4 reporting domain was reviewed, and HHSC found provider submitted documentation to support achievement. Project is approved and eligible for payment.\n","Round 2 (October)","2013-09-30","2014-09-30","NO","2013-10-01","2014-09-30","2014-10-01","2015-09-30"]
[9,"094192402_5","9_094192402",9,"094192402","Columbia Medical Center of Lewisville dba Medical","094192402.4","094192402.4.6",5,3,"Yes-Completed","Approved","Provider submitted required documentation to support Category 4 achievement. Project 094192402.4.6 is approved and eligible for DY3 payment.",null,"Yes-Completed","Previously Approved",null,"Round 1 (April)","2013-12-31",null,"YES","2014-01-01","2014-12-31","",""]
[9,"094194002_3","9_094194002",9,"094194002","Doctor's Hospital at White Rock Lake","094194002.4","094194002.4.1",3,3,"No-Not Started","Did Not Report",null,null,"Yes-Completed","Approved","Category 4 reporting domain was reviewed, and HHSC found provider submitted documentation to support achievement. Project is approved and eligible for payment.\n","Round 2 (October)","2012-12-31",null,"YES","2013-01-01","2013-12-31","",""]
[9,"094194002_1","9_094194002",9,"094194002","Doctor's Hospital at White Rock Lake","094194002.4","094194002.4.2",1,3,"No-Not Started","Did Not Report",null,null,"Yes-Completed","Approved","Category 4 reporting domain was reviewed, and HHSC found provider submitted documentation to support achievement. Project is approved and eligible for payment.\n","Round 2 (October)","2012-12-31",null,"YES","2013-01-01","2013-12-31","",""]
[9,"094194002_2","9_094194002",9,"094194002","Doctor's Hospital at White Rock Lake","094194002.4","094194002.4.3",2,3,"No-Not Started","Did Not Report",null,null,"Yes-Completed","Approved","Category 4 reporting domain was reviewed, and HHSC found provider submitted documentation to support achievement. Project is approved and eligible for payment.\n","Round 2 (October)","2012-12-31",null,"YES","2013-01-01","2013-12-31","",""]
[9,"094194002_4","9_094194002",9,"094194002","Doctor's Hospital at White Rock Lake","094194002.4","094194002.4.5",4,3,"No-Not Started","Did Not Report",null,null,"Yes-Completed","Approved","Category 4 reporting domain was reviewed, and HHSC found provider submitted documentation to support achievement. Project is approved and eligible for payment.\n","Round 2 (October)","2013-09-30","2013-09-30","YES","2013-10-01","2014-09-30","2013-10-01","2014-09-30"]
[9,"094194002_5","9_094194002",9,"094194002","Doctor's Hospital at White Rock Lake","094194002.4","094194002.4.6",5,3,"No-Not Started","Did Not Report",null,null,"Yes-Completed","Approved","Category 4 reporting domain was reviewed, and HHSC found provider submitted documentation to support achievement. Project is approved and eligible for payment.\n","Round 2 (October)","2013-12-31",null,"YES","2014-01-01","2014-12-31","",""]
[9,"094194002_6","9_094194002",9,"094194002","Doctor's Hospital at White Rock Lake","094194002.4","094194002.4.7",6,3,"No-Not Started","Did Not Report",null,null,"No-Not Started","Not Approved","HHSC found achievement of Category 4 reporting domain is not clearly demonstrated. Provider has declined to report this domain in DY3. Project is not approved and is no longer eligible for payment.\n","Round 2 (October) - Not Approved","DNR",null,"YES","TBD","TBD","",""]
[9,"094379701_3","9_094379701",9,"094379701","Timberlawn Mental Health System","094379701.4","094379701.4.1",3,3,null,null,null,null,null,"Did Not Report","HHSC found achievement of Category 4 reporting domain is not clearly demonstrated. Provider has declined to report this domain in DY3. Project is not approved and is no longer eligible for payment.\n","Did Not Report","2012-12-31",null,"YES","2013-01-01","2013-12-31","",""]
[9,"094379701_1","9_094379701",9,"094379701","Timberlawn Mental Health System","094379701.4","094379701.4.2",1,3,null,null,null,null,null,"Did Not Report","HHSC found achievement of Category 4 reporting domain is not clearly demonstrated. Provider has declined to report this domain in DY3. Project is not approved and is no longer eligible for payment.\n","Did Not Report","2012-12-31",null,"YES","2013-01-01","2013-12-31","",""]
[9,"094379701_2","9_094379701",9,"094379701","Timberlawn Mental Health System","094379701.4","094379701.4.3",2,3,null,null,null,null,null,"Did Not Report","HHSC found achievement of Category 4 reporting domain is not clearly demonstrated. Provider has declined to report this domain in DY3. Project is not approved and is no longer eligible for payment.\n\n","Did Not Report","2012-12-31",null,"YES","2013-01-01","2013-12-31","",""]
[9,"094379701_4","9_094379701",9,"094379701","Timberlawn Mental Health System","094379701.4","094379701.4.5",4,3,null,null,null,null,null,"Did Not Report","HHSC found achievement of Category 4 reporting domain is not clearly demonstrated. Provider has declined to report this domain in DY3. Project is not approved and is no longer eligible for payment.\n\n","Did Not Report","DNR","DNR","YES","TBD","TBD","TBD","TBD"]
[9,"111905902_3","9_111905902",9,"111905902","Columbia Medical Center of Denton dba Denton Regio","111905902.4","111905902.4.1",3,3,"Yes-Completed","Approved","Provider submitted required documentation to support Category 4 achievement. Project 111905902.4.1 is approved and eligible for DY3 payment.",null,"Yes-Completed","Previously Approved",null,"Round 1 (April)","2012-12-31",null,"YES","2013-01-01","2013-12-31","",""]
[9,"111905902_1","9_111905902",9,"111905902","Columbia Medical Center of Denton dba Denton Regio","111905902.4","111905902.4.2",1,3,"Yes-Completed","Approved","Provider submitted required documentation to support Category 4 achievement. Project 111905902.4.2 is approved and eligible for DY3 payment.",null,"Yes-Completed","Previously Approved",null,"Round 1 (April)","2012-12-31",null,"YES","2013-01-01","2013-12-31","",""]
[9,"111905902_2","9_111905902",9,"111905902","Columbia Medical Center of Denton dba Denton Regio","111905902.4","111905902.4.3",2,3,"Yes-Completed","Approved","Provider submitted required documentation to support Category 4 achievement. Project 111905902.4.3 is approved and eligible for DY3 payment.",null,"Yes-Completed","Previously Approved",null,"Round 1 (April)","2012-12-31",null,"YES","2013-01-01","2013-12-31","",""]
[9,"111905902_4","9_111905902",9,"111905902","Columbia Medical Center of Denton dba Denton Regio","111905902.4","111905902.4.5",4,3,"No-Not Started","Did Not Report",null,null,"Yes-Completed","Approved","Category 4 reporting domain was reviewed, and HHSC found provider submitted documentation to support achievement. Project is approved and eligible for payment.\n","Round 2 (October)","2013-09-30","2014-09-30","NO","2013-10-01","2014-09-30","2014-10-01","2015-09-30"]
[9,"111905902_5","9_111905902",9,"111905902","Columbia Medical Center of Denton dba Denton Regio","111905902.4","111905902.4.6",5,3,"Yes-Completed","Approved","Provider submitted required documentation to support Category 4 achievement. Project 111905902.4.6 is approved and eligible for DY3 payment.",null,"Yes-Completed","Previously Approved",null,"Round 1 (April)","2013-12-31",null,"YES","2014-01-01","2014-12-31","",""]
[9,"121776204_3","9_121776204",9,"121776204","Baylor Medical Center At Irving","121776204.4","121776204.4.1",3,3,"Yes-Completed","Approved","Provider submitted required documentation to support Category 4 achievement. Project 121776204.4.1 is approved and eligible for DY3 payment.",null,null,null,null,"Round 1 (April)","2012-12-31",null,"YES","2013-01-01","2013-12-31","",""]
[9,"121776204_1","9_121776204",9,"121776204","Baylor Medical Center At Irving","121776204.4","121776204.4.2",1,3,"Yes-Completed","Approved","Provider submitted required documentation to support Category 4 achievement. Project 121776204.4.2 is approved and eligible for DY3 payment.",null,"Yes-Completed","Previously Approved",null,"Round 1 (April)","2012-12-31",null,"YES","2013-01-01","2013-12-31","",""]
[9,"121776204_2","9_121776204",9,"121776204","Baylor Medical Center At Irving","121776204.4","121776204.4.3",2,3,"Yes-Completed","Approved","Provider submitted required documentation to support Category 4 achievement. Project 121776204.4.3 is approved and eligible for DY3 payment.",null,"Yes-Completed","Previously Approved",null,"Round 1 (April)","2012-12-31",null,"YES","2013-01-01","2013-12-31","",""]
[9,"121776204_4","9_121776204",9,"121776204","Baylor Medical Center At Irving","121776204.4","121776204.4.5",4,3,"No-Not Started","Did Not Report",null,null,"Yes-Completed","Approved","Category 4 reporting domain was reviewed, and HHSC found provider submitted documentation to support achievement. Project is approved and eligible for payment.\n","Round 2 (October)","2013-09-30","2013-09-30","YES","2013-10-01","2014-09-30","2013-10-01","2014-09-30"]
[9,"121776204_5","9_121776204",9,"121776204","Baylor Medical Center At Irving","121776204.4","121776204.4.6",5,3,"Yes-Completed","Approved","Provider submitted required documentation to support Category 4 achievement. Project 121776204.4.6 is approved and eligible for DY3 payment.",null,"Yes-Completed","Previously Approved",null,"Round 1 (April)","2013-09-30",null,"YES","2013-10-01","2014-09-30","",""]
[9,"121790303_3","9_121790303",9,"121790303","Baylor Medical Centers At Garland and McKinney dba","121790303.4","121790303.4.1",3,3,"Yes-Completed","Approved","Provider submitted required documentation to support Category 4 achievement. Project 121790303.4.1 is approved and eligible for DY3 payment.",null,null,null,null,"Round 1 (April)","2012-12-31",null,"YES","2013-01-01","2013-12-31","",""]
[9,"121790303_1","9_121790303",9,"121790303","Baylor Medical Centers At Garland and McKinney dba","121790303.4","121790303.4.2",1,3,"Yes-Completed","Approved","Provider submitted required documentation to support Category 4 achievement. Project 121790303.4.2 is approved and eligible for DY3 payment.",null,"Yes-Completed","Previously Approved",null,"Round 1 (April)","2012-12-31",null,"YES","2013-01-01","2013-12-31","",""]
[9,"121790303_2","9_121790303",9,"121790303","Baylor Medical Centers At Garland and McKinney dba","121790303.4","121790303.4.3",2,3,"Yes-Completed","Approved","Provider submitted required documentation to support Category 4 achievement. Project 121790303.4.3 is approved and eligible for DY3 payment.",null,"Yes-Completed","Previously Approved",null,"Round 1 (April)","2012-12-31",null,"YES","2013-01-01","2013-12-31","",""]
[9,"121790303_4","9_121790303",9,"121790303","Baylor Medical Centers At Garland and McKinney dba","121790303.4","121790303.4.5",4,3,"No-Not Started","Did Not Report",null,null,"Yes-Completed","Approved","Category 4 reporting domain was reviewed, and HHSC found provider submitted documentation to support achievement. Project is approved and eligible for payment.\n","Round 2 (October)","2013-09-30","2013-09-30","YES","2013-10-01","2014-09-30","2013-10-01","2014-09-30"]
[9,"121790303_5","9_121790303",9,"121790303","Baylor Medical Centers At Garland and McKinney dba","121790303.4","121790303.4.6",5,3,"Yes-Completed","Approved","Provider submitted required documentation to support Category 4 achievement. Project 121790303.4.6 is approved and eligible for DY3 payment.",null,"Yes-Completed","Previously Approved",null,"Round 1 (April)","2013-09-30",null,"YES","2013-10-01","2014-09-30","",""]
[9,"126679303_3","9_126679303",9,"126679303","Methodist Hosp of Dallas Methodist Charlton Med Ct","126679303.4","126679303.4.1",3,3,"No-Not Started","Did Not Report",null,null,"Yes-Completed","Approved","Category 4 reporting domain was reviewed, and HHSC found provider submitted documentation to support achievement. Project is approved and eligible for payment.\n","Round 2 (October)","2012-12-31",null,"YES","2013-01-01","2013-12-31","",""]
[9,"126679303_1","9_126679303",9,"126679303","Methodist Hosp of Dallas Methodist Charlton Med Ct","126679303.4","126679303.4.2",1,3,"No-Not Started","Did Not Report",null,null,"Yes-Completed","Approved","Category 4 reporting domain was reviewed, and HHSC found provider submitted documentation to support achievement. Project is approved and eligible for payment.\n","Round 2 (October)","2012-12-31",null,"YES","2013-01-01","2013-12-31","",""]
[9,"126679303_2","9_126679303",9,"126679303","Methodist Hosp of Dallas Methodist Charlton Med Ct","126679303.4","126679303.4.3",2,3,"No-Not Started","Did Not Report",null,null,"Yes-Completed","Approved","Category 4 reporting domain was reviewed, and HHSC found provider submitted documentation to support achievement. Project is approved and eligible for payment.\n","Round 2 (October)","2012-12-31",null,"YES","2013-01-01","2013-12-31","",""]
[9,"126679303_4","9_126679303",9,"126679303","Methodist Hosp of Dallas Methodist Charlton Med Ct","126679303.4","126679303.4.5",4,3,"No-Not Started","Did Not Report",null,null,"Yes-Completed","Approved","Category 4 reporting domain was reviewed, and HHSC found provider submitted documentation to support achievement. Project is approved and eligible for payment.\n","Round 2 (October)","2014-09-30","2014-09-30","NO","2014-10-01","2015-09-30","2014-10-01","2015-09-30"]
[9,"126679303_5","9_126679303",9,"126679303","Methodist Hosp of Dallas Methodist Charlton Med Ct","126679303.4","126679303.4.6",5,3,"No-Not Started","Did Not Report",null,null,"Yes-Completed","Needs More Info - Approved","Category 4 reporting domain was reviewed, and HHSC found provider submitted documentation to support achievement. Reporting domain is approved and eligible for payment.\n","Round 2 (October) - Needs More Info","2014-09-30",null,"NO","2014-10-01","2015-09-30","",""]
[9,"127295703_3","9_127295703",9,"127295703","Dallas County Hospital District dba Parkland Healt","127295703.4","127295703.4.1",3,3,"Yes-Completed","Approved","Provider submitted required documentation to support Category 4 achievement. Project 127295703.4.1 is approved and eligible for DY3 payment.",null,"Yes-Completed","Previously Approved",null,"Round 1 (April)","2012-12-31",null,"YES","2013-01-01","2013-12-31","",""]
[9,"127295703_1","9_127295703",9,"127295703","Dallas County Hospital District dba Parkland Healt","127295703.4","127295703.4.2",1,3,"Yes-Completed","Approved","Provider submitted required documentation to support Category 4 achievement. Project 127295703.4.2 is approved and eligible for DY3 payment.",null,"Yes-Completed","Previously Approved",null,"Round 1 (April)","2012-12-31",null,"YES","2013-01-01","2013-12-31","",""]
[9,"127295703_2","9_127295703",9,"127295703","Dallas County Hospital District dba Parkland Healt","127295703.4","127295703.4.3",2,3,"Yes-Completed","Approved","Provider submitted required documentation to support Category 4 achievement. Project 127295703.4.3 is approved and eligible for DY3 payment.",null,"Yes-Completed","Previously Approved",null,"Round 1 (April)","2012-12-31",null,"YES","2013-01-01","2013-12-31","",""]
[9,"127295703_4","9_127295703",9,"127295703","Dallas County Hospital District dba Parkland Healt","127295703.4","127295703.4.5",4,3,"No-Not Started","Did Not Report",null,null,"Yes-Completed","Needs More Info - Approved","Category 4 reporting domain was reviewed, and HHSC found provider submitted documentation to support achievement. Reporting domain is approved and eligible for payment.","Round 2 (October) - Needs More Info","2013-09-30","2013-09-30","YES","2013-10-01","2014-09-30","2013-10-01","2014-09-30"]
[9,"127295703_5","9_127295703",9,"127295703","Dallas County Hospital District dba Parkland Healt","127295703.4","127295703.4.6",5,3,"No-Not Started","Did Not Report",null,null,"Yes-Completed","Approved","Category 4 reporting domain was reviewed, and HHSC found provider submitted documentation to support achievement. Project is approved and eligible for payment.\n","Round 2 (October)","2013-09-30",null,"YES","2013-10-01","2014-09-30","",""]
[9,"127295703_6","9_127295703",9,"127295703","Dallas County Hospital District dba Parkland Healt","127295703.4","127295703.4.7",6,3,"No-Not Started","Did Not Report",null,null,"Yes-Completed","Approved","Category 4 reporting domain was reviewed, and HHSC found provider submitted documentation to support achievement. Project is approved and eligible for payment.\n","Round 2 (October)","2013-09-30",null,"YES","2013-10-01","2014-09-30","",""]
[9,"135032405_3","9_135032405",9,"135032405","Methodist Hosp of dallas Methodist Dallas Med Ctr","135032405.4","135032405.4.1",3,3,"No-Not Started","Did Not Report",null,null,"Yes-Completed","Needs More Info - Approved","Category 4 reporting domain was reviewed, and HHSC found provider submitted documentation to support achievement. Reporting domain is approved and eligible for payment.\n\n","Round 2 (October) - Needs More Info","2012-12-31",null,"YES","2013-01-01","2013-12-31","",""]
[9,"135032405_1","9_135032405",9,"135032405","Methodist Hosp of dallas Methodist Dallas Med Ctr","135032405.4","135032405.4.2",1,3,"No-Not Started","Did Not Report",null,null,"Yes-Completed","Needs More Info - Approved","Category 4 reporting domain was reviewed, and HHSC found provider submitted documentation to support achievement. Reporting domain is approved and eligible for payment.\n\n","Round 2 (October) - Needs More Info","2012-12-31",null,"YES","2013-01-01","2013-12-31","",""]
[9,"135032405_2","9_135032405",9,"135032405","Methodist Hosp of dallas Methodist Dallas Med Ctr","135032405.4","135032405.4.3",2,3,"No-Not Started","Did Not Report",null,null,"Yes-Completed","Needs More Info - Approved","Category 4 reporting domain was reviewed, and HHSC found provider submitted documentation to support achievement. Reporting domain is approved and eligible for payment.\n","Round 2 (October) - Needs More Info","2012-12-31",null,"YES","2013-01-01","2013-12-31","",""]
[9,"135032405_4","9_135032405",9,"135032405","Methodist Hosp of dallas Methodist Dallas Med Ctr","135032405.4","135032405.4.5",4,3,"No-Not Started","Did Not Report",null,null,"Yes-Completed","Needs More Info - Approved","Category 4 reporting domain was reviewed, and HHSC found provider submitted documentation to support achievement. Reporting domain is approved and eligible for payment.\n","Round 2 (October) - Needs More Info","2014-09-30","2014-09-30","NO","2014-10-01","2015-09-30","2014-10-01","2015-09-30"]
[9,"135032405_5","9_135032405",9,"135032405","Methodist Hosp of dallas Methodist Dallas Med Ctr","135032405.4","135032405.4.6",5,3,"No-Not Started","Did Not Report",null,null,"Yes-Completed","Needs More Info - Approved","Category 4 reporting domain was reviewed, and HHSC found provider submitted documentation to support achievement. Reporting domain is approved and eligible for payment.\n","Round 2 (October) - Needs More Info","2014-09-30",null,"NO","2014-10-01","2015-09-30","",""]
[9,"138910807_3","9_138910807",9,"138910807","Children's Medical Center of Dallas","138910807.4","138910807.4.1",3,3,"No-Not Started","Did Not Report",null,null,"Yes-Completed","Approved","Category 4 reporting domain was reviewed, and HHSC found provider submitted documentation to support achievement. Project is approved and eligible for payment.\n","Round 2 (October)","2012-12-31",null,"YES","2013-01-01","2013-12-31","",""]
[9,"138910807_1","9_138910807",9,"138910807","Children's Medical Center of Dallas","138910807.4","138910807.4.2",1,3,"No-Not Started","Did Not Report",null,null,"Yes-Completed","Approved","Category 4 reporting domain was reviewed, and HHSC found provider submitted documentation to support achievement. Project is approved and eligible for payment.\n","Round 2 (October)","2012-12-31",null,"YES","2013-01-01","2013-12-31","",""]
[9,"138910807_2","9_138910807",9,"138910807","Children's Medical Center of Dallas","138910807.4","138910807.4.3",2,3,"No-Not Started","Did Not Report",null,null,"Yes-Completed","Approved","Category 4 reporting domain was reviewed, and HHSC found provider submitted documentation to support achievement. Project is approved and eligible for payment.\n","Round 2 (October)","2012-12-31",null,"YES","2013-01-01","2013-12-31","",""]
[9,"138910807_4","9_138910807",9,"138910807","Children's Medical Center of Dallas","138910807.4","138910807.4.5",4,3,"No-Not Started","Did Not Report",null,null,"Yes-Completed","Needs More Info - Approved","Category 4 reporting domain was reviewed, and HHSC found provider submitted documentation to support achievement. Reporting domain is approved and eligible for payment.\n","Round 2 (October) - Needs More Info","2013-12-31","2013-12-31","YES","2014-01-01","2014-12-31","2014-01-01","2014-12-31"]
[9,"138910807_5","9_138910807",9,"138910807","Children's Medical Center of Dallas","138910807.4","138910807.4.6",5,3,"No-Not Started","Did Not Report",null,null,"Yes-Completed","Needs More Info - Approved","Category 4 reporting domain was reviewed, and HHSC found provider submitted documentation to support achievement. Reporting domain is approved and eligible for payment.","Round 2 (October) - Needs More Info","2012-12-31",null,"YES","2013-01-01","2013-12-31","",""]
[9,"138910807_6","9_138910807",9,"138910807","Children's Medical Center of Dallas","138910807.4","138910807.4.7",6,3,"No-Not Started","Did Not Report",null,null,"Yes-Completed","Needs More Info - Approved","Category 4 reporting domain was reviewed, and HHSC found provider submitted documentation to support achievement. Reporting domain is approved and eligible for payment.","Round 2 (October) - Needs More Info","2013-12-31",null,"YES","2014-01-01","2014-12-31","",""]
[9,"139485012_3","9_139485012",9,"139485012","Baylor University Medical Center","139485012.4","139485012.4.1",3,3,"Yes-Completed","Approved","Provider submitted required documentation to support Category 4 achievement. Project 139485012.4.1 is approved and eligible for DY3 payment.",null,null,null,null,"Round 1 (April)","2012-12-31",null,"YES","2013-01-01","2013-12-31","",""]
[{"$f":"LEN(E515)","v":9},{"$f":"E515&\"_\"&I515","v":"139485012_1"},{"$f":"D515&\"_\"&E515","v":"9_139485012"},9,"139485012","Baylor University Medical Center","139485012.4","139485012.4.2",1,3,"Yes-Completed","Approved","Provider submitted required documentation to support Category 4 achievement. Project 139485012.4.2 is approved and eligible for DY3 payment.",null,"Yes-Completed","Previously Approved",null,"Round 1 (April)","2012-12-31",null,"YES","2013-01-01","2013-12-31","",""]
[9,"139485012_2","9_139485012",9,"139485012","Baylor University Medical Center","139485012.4","139485012.4.3",2,3,"Yes-Completed","Approved","Provider submitted required documentation to support Category 4 achievement. Project 139485012.4.3 is approved and eligible for DY3 payment.",null,"Yes-Completed","Previously Approved",null,"Round 1 (April)","2012-12-31",null,"YES","2013-01-01","2013-12-31","",""]
[9,"139485012_4","9_139485012",9,"139485012","Baylor University Medical Center","139485012.4","139485012.4.5",4,3,"No-Not Started","Did Not Report",null,null,"Yes-Completed","Approved","Category 4 reporting domain was reviewed, and HHSC found provider submitted documentation to support achievement. Project is approved and eligible for payment.\n","Round 2 (October)","2013-09-30","2013-09-30","YES","2013-10-01","2014-09-30","2013-10-01","2014-09-30"]
[9,"139485012_5","9_139485012",9,"139485012","Baylor University Medical Center","139485012.4","139485012.4.6",5,3,"Yes-Completed","Approved","Provider submitted required documentation to support Category 4 achievement. Project 139485012.4.6 is approved and eligible for DY3 payment.",null,"Yes-Completed","Previously Approved",null,"Round 1 (April)","2013-09-30",null,"YES","2013-10-01","2014-09-30","",""]
[9,"175287501_3","9_175287501",9,"175287501","University of Texas Southwestern St Paul Universit","175287501.4","175287501.4.1",3,3,"No-Not Started","Did Not Report",null,null,"Yes-Completed","Approved","Category 4 reporting domain was reviewed, and HHSC found provider submitted documentation to support achievement. Project is approved and eligible for payment.\n","Round 2 (October)","2012-12-31",null,"YES","2013-01-01","2013-12-31","",""]
[9,"175287501_1","9_175287501",9,"175287501","University of Texas Southwestern St Paul Universit","175287501.4","175287501.4.2",1,3,"No-Not Started","Did Not Report",null,null,"Yes-Completed","Approved","Category 4 reporting domain was reviewed, and HHSC found provider submitted documentation to support achievement. Project is approved and eligible for payment.\n","Round 2 (October)","2012-12-31",null,"YES","2013-01-01","2013-12-31","",""]
[9,"175287501_2","9_175287501",9,"175287501","University of Texas Southwestern St Paul Universit","175287501.4","175287501.4.3",2,3,"No-Not Started","Did Not Report",null,null,"Yes-Completed","Approved","Category 4 reporting domain was reviewed, and HHSC found provider submitted documentation to support achievement. Project is approved and eligible for payment.\n","Round 2 (October)","2012-12-31",null,"YES","2013-01-01","2013-12-31","",""]
[9,"175287501_4","9_175287501",9,"175287501","University of Texas Southwestern St Paul Universit","175287501.4","175287501.4.5",4,3,"No-Not Started","Did Not Report",null,null,"Yes-Completed","Approved","Category 4 reporting domain was reviewed, and HHSC found provider submitted documentation to support achievement. Project is approved and eligible for payment.\n","Round 2 (October)","2014-09-30","2014-09-30","NO","2014-10-01","2015-09-30","2014-10-01","2015-09-30"]
[9,"175287501_5","9_175287501",9,"175287501","University of Texas Southwestern St Paul Universit","175287501.4","175287501.4.6",5,3,"No-Not Started","Did Not Report",null,null,"Yes-Completed","Approved","Category 4 reporting domain was reviewed, and HHSC found provider submitted documentation to support achievement. Project is approved and eligible for payment.\n","Round 2 (October)","2012-12-31",null,"YES","2013-01-01","2013-12-31","",""]
[9,"195018001_3","9_195018001",9,"195018001","Trinity MC dba Baylor Medical Center at Carrollton","195018001.4","195018001.4.1",3,3,"Yes-Completed","Approved","Provider submitted required documentation to support Category 4 achievement. Project 195018001.4.1 is approved and eligible for DY3 payment.",null,null,null,null,"Round 1 (April)","2012-12-31",null,"YES","2013-01-01","2013-12-31","",""]
[9,"195018001_1","9_195018001",9,"195018001","Trinity MC dba Baylor Medical Center at Carrollton","195018001.4","195018001.4.2",1,3,"Yes-Completed","Approved","Provider submitted required documentation to support Category 4 achievement. Project 195018001.4.2 is approved and eligible for DY3 payment.",null,"Yes-Completed","Previously Approved",null,"Round 1 (April)","2012-12-31",null,"YES","2013-01-01","2013-12-31","",""]
[9,"195018001_2","9_195018001",9,"195018001","Trinity MC dba Baylor Medical Center at Carrollton","195018001.4","195018001.4.3",2,3,"Yes-Completed","Approved","Provider submitted required documentation to support Category 4 achievement. Project 195018001.4.3 is approved and eligible for DY3 payment.",null,"Yes-Completed","Previously Approved",null,"Round 1 (April)","2012-12-31",null,"YES","2013-01-01","2013-12-31","",""]
[9,"195018001_4","9_195018001",9,"195018001","Trinity MC dba Baylor Medical Center at Carrollton","195018001.4","195018001.4.5",4,3,"No-Not Started","Did Not Report",null,null,"Yes-Completed","Needs More Info - Approved","Category 4 reporting domain was reviewed, and HHSC found provider submitted documentation to support achievement. Reporting domain is approved and eligible for payment.\n\n","Round 2 (October) - Needs More Info","2013-09-30","2013-09-30","YES","2013-10-01","2014-09-30","2013-10-01","2014-09-30"]
[9,"195018001_5","9_195018001",9,"195018001","Trinity MC dba Baylor Medical Center at Carrollton","195018001.4","195018001.4.6",5,3,"Yes-Completed","Approved","Provider submitted required documentation to support Category 4 achievement. Project 195018001.4.6 is approved and eligible for DY3 payment.",null,"Yes-Completed","Previously Approved",null,"Round 1 (April)","2013-09-30",null,"YES","2013-10-01","2014-09-30","",""]
[9,"209345201_3","9_209345201",9,"209345201","Methodist Hosp of Dallas dba Methodist Richardson","209345201.4","209345201.4.1",3,3,"No-Not Started","Did Not Report",null,null,"Yes-Completed","Approved","Category 4 reporting domain was reviewed, and HHSC found provider submitted documentation to support achievement. Project is approved and eligible for payment.\n","Round 2 (October)","2012-12-31",null,"YES","2013-01-01","2013-12-31","",""]
[9,"209345201_1","9_209345201",9,"209345201","Methodist Hosp of Dallas dba Methodist Richardson","209345201.4","209345201.4.2",1,3,"No-Not Started","Did Not Report",null,null,"Yes-Completed","Approved","Category 4 reporting domain was reviewed, and HHSC found provider submitted documentation to support achievement. Project is approved and eligible for payment.\n","Round 2 (October)","2012-12-31",null,"YES","2013-01-01","2013-12-31","",""]
[9,"209345201_2","9_209345201",9,"209345201","Methodist Hosp of Dallas dba Methodist Richardson","209345201.4","209345201.4.3",2,3,"No-Not Started","Did Not Report",null,null,"Yes-Completed","Approved","Category 4 reporting domain was reviewed, and HHSC found provider submitted documentation to support achievement. Project is approved and eligible for payment.\n","Round 2 (October)","2012-12-31",null,"YES","2013-01-01","2013-12-31","",""]
[9,"209345201_4","9_209345201",9,"209345201","Methodist Hosp of Dallas dba Methodist Richardson","209345201.4","209345201.4.5",4,3,"No-Not Started","Did Not Report",null,null,"Yes-Completed","Approved","Category 4 reporting domain was reviewed, and HHSC found provider submitted documentation to support achievement. Project is approved and eligible for payment.\n","Round 2 (October)","2014-09-30","2014-09-30","NO","2014-10-01","2015-09-30","2014-10-01","2015-09-30"]
[9,"209345201_5","9_209345201",9,"209345201","Methodist Hosp of Dallas dba Methodist Richardson","209345201.4","209345201.4.6",5,3,"No-Not Started","Did Not Report",null,null,"Yes-Completed","Needs More Info - Approved","Category 4 reporting domain was reviewed, and HHSC found provider submitted documentation to support achievement. Reporting domain is approved and eligible for payment.\n","Round 2 (October) - Needs More Info","2014-09-30",null,"NO","2014-10-01","2015-09-30","",""]
[9,"020950401_3","10_020950401",10,"020950401","Columbia Medical Ctr of Arlington dba Med Ctr Arli","020950401.4","020950401.4.1",3,3,"Yes-Completed","Approved","Provider submitted required documentation to support Category 4 achievement. Project 020950401.4.1 is approved and eligible for DY3 payment.",null,"Yes-Completed","Previously Approved",null,"Round 1 (April)","2012-12-31",null,"YES","2013-01-01","2013-12-31","",""]
[9,"020950401_1","10_020950401",10,"020950401","Columbia Medical Ctr of Arlington dba Med Ctr Arli","020950401.4","020950401.4.2",1,3,"Yes-Completed","Approved","Provider submitted required documentation to support Category 4 achievement. Project 020950401.4.2 is approved and eligible for DY3 payment.",null,"Yes-Completed","Previously Approved",null,"Round 1 (April)","2012-12-31",null,"YES","2013-01-01","2013-12-31","",""]
[9,"020950401_2","10_020950401",10,"020950401","Columbia Medical Ctr of Arlington dba Med Ctr Arli","020950401.4","020950401.4.3",2,3,"Yes-Completed","Approved","Provider submitted required documentation to support Category 4 achievement. Project 020950401.4.3 is approved and eligible for DY3 payment.",null,"Yes-Completed","Previously Approved",null,"Round 1 (April)","2012-12-31",null,"YES","2013-01-01","2013-12-31","",""]
[9,"020950401_4","10_020950401",10,"020950401","Columbia Medical Ctr of Arlington dba Med Ctr Arli","020950401.4","020950401.4.5",4,3,"No-Not Started","Did Not Report",null,null,"Yes-Completed","Approved","Category 4 reporting domain was reviewed, and HHSC found provider submitted documentation to support achievement. Project is approved and eligible for payment.\n","Round 2 (October)","2013-09-30","2014-09-30","NO","2013-10-01","2014-09-30","2014-10-01","2015-09-30"]
[9,"020950401_5","10_020950401",10,"020950401","Columbia Medical Ctr of Arlington dba Med Ctr Arli","020950401.4","020950401.4.6",5,3,"Yes-Completed","Approved","Provider submitted required documentation to support Category 4 achievement. Project 020950401.4.6 is approved and eligible for DY3 payment.",null,"Yes-Completed","Previously Approved",null,"Round 1 (April)","MISSING",null,"YES","TBD","TBD","",""]
[9,"021184901_3","10_021184901",10,"021184901","Cook-Fort Worth Children's Medical Center","021184901.4","021184901.4.1",3,3,"Yes-Completed","Approved","Provider submitted required documentation to support Category 4 achievement. Project 021184901.4.1 is approved and eligible for DY3 payment.",null,"Yes-Completed","Previously Approved",null,"Round 1 (April)","2012-12-31",null,"YES","2013-01-01","2013-12-31","",""]
[9,"021184901_1","10_021184901",10,"021184901","Cook-Fort Worth Children's Medical Center","021184901.4","021184901.4.2",1,3,"Yes-Completed","Needs More Info - Approved","Provider submitted required documentation to support Category 4 achievement. Project 021184901.4.2 is approved and eligible for DY3 payment.",null,"Yes-Completed","Previously Approved",null,"Round 1 (April) - Needs More Info","2012-12-31",null,"YES","2013-01-01","2013-12-31","",""]
[9,"021184901_2","10_021184901",10,"021184901","Cook-Fort Worth Children's Medical Center","021184901.4","021184901.4.3",2,3,"Yes-Completed","Needs More Info - Approved","Provider submitted required documentation to support Category 4 achievement. Project 021184901.4.3 is approved and eligible for DY3 payment.",null,"Yes-Completed","Previously Approved",null,"Round 1 (April) - Needs More Info","2012-12-31",null,"YES","2013-01-01","2013-12-31","",""]
[9,"021184901_4","10_021184901",10,"021184901","Cook-Fort Worth Children's Medical Center","021184901.4","021184901.4.5",4,3,"Yes-Completed","Approved","Provider submitted required documentation to support Category 4 achievement. Project 021184901.4.5 is approved and eligible for DY3 payment.",null,"Yes-Completed","Previously Approved",null,"Round 1 (April)","2014-09-30","2014-09-30","NO","2014-10-01","2015-09-30","2014-10-01","2015-09-30"]
[9,"021184901_5","10_021184901",10,"021184901","Cook-Fort Worth Children's Medical Center","021184901.4","021184901.4.6",5,3,"Yes-Completed","Approved","Provider submitted required documentation to support Category 4 achievement. Project 021184901.4.6 is approved and eligible for DY3 payment.",null,"Yes-Completed","Previously Approved",null,"Round 1 (April)","2014-09-30",null,"NO","2014-10-01","2015-09-30","",""]
[9,"094105602_3","10_094105602",10,"094105602","Columbia North Hills Hospital dba North Hills Hosp","094105602.4","094105602.4.1",3,3,"Yes-Completed","Approved","Provider submitted required documentation to support Category 4 achievement. Project 094105602.4.1 is approved and eligible for DY3 payment.",null,"Yes-Completed","Previously Approved",null,"Round 1 (April)","2012-12-31",null,"YES","2013-01-01","2013-12-31","",""]
[9,"094105602_1","10_094105602",10,"094105602","Columbia North Hills Hospital dba North Hills Hosp","094105602.4","094105602.4.2",1,3,"Yes-Completed","Approved","Provider submitted required documentation to support Category 4 achievement. Project 094105602.4.2 is approved and eligible for DY3 payment.",null,"Yes-Completed","Previously Approved",null,"Round 1 (April)","2012-12-31",null,"YES","2013-01-01","2013-12-31","",""]
[9,"094105602_2","10_094105602",10,"094105602","Columbia North Hills Hospital dba North Hills Hosp","094105602.4","094105602.4.3",2,3,"Yes-Completed","Approved","Provider submitted required documentation to support Category 4 achievement. Project 094105602.4.3 is approved and eligible for DY3 payment.",null,"Yes-Completed","Previously Approved",null,"Round 1 (April)","2012-12-31",null,"YES","2013-01-01","2013-12-31","",""]
[9,"094105602_4","10_094105602",10,"094105602","Columbia North Hills Hospital dba North Hills Hosp","094105602.4","094105602.4.5",4,3,"No-Not Started","Did Not Report",null,null,"Yes-Completed","Approved","Category 4 reporting domain was reviewed, and HHSC found provider submitted documentation to support achievement. Project is approved and eligible for payment.\n","Round 2 (October)","2013-09-30","2014-09-30","NO","2013-10-01","2014-09-30","2014-10-01","2015-09-30"]
[9,"094105602_5","10_094105602",10,"094105602","Columbia North Hills Hospital dba North Hills Hosp","094105602.4","094105602.4.6",5,3,"Yes-Completed","Approved","Provider submitted required documentation to support Category 4 achievement. Project 094105602.4.6 is approved and eligible for DY3 payment.",null,"Yes-Completed","Previously Approved",null,"Round 1 (April)","2013-12-31",null,"YES","2014-01-01","2014-12-31","",""]
[9,"094193202_3","10_094193202",10,"094193202","Columbia Plaza Medical Center of Fort Worth dba Pl","094193202.4","094193202.4.1",3,3,"Yes-Completed","Approved","Provider submitted required documentation to support Category 4 achievement. Project 094193202.4.1 is approved and eligible for DY3 payment.",null,"Yes-Completed","Previously Approved",null,"Round 1 (April)","2012-12-31",null,"YES","2013-01-01","2013-12-31","",""]
[9,"094193202_1","10_094193202",10,"094193202","Columbia Plaza Medical Center of Fort Worth dba Pl","094193202.4","094193202.4.2",1,3,"Yes-Completed","Approved","Provider submitted required documentation to support Category 4 achievement. Project 094193202.4.2 is approved and eligible for DY3 payment.",null,"Yes-Completed","Previously Approved",null,"Round 1 (April)","2012-12-31",null,"YES","2013-01-01","2013-12-31","",""]
[9,"094193202_2","10_094193202",10,"094193202","Columbia Plaza Medical Center of Fort Worth dba Pl","094193202.4","094193202.4.3",2,3,"Yes-Completed","Approved","Provider submitted required documentation to support Category 4 achievement. Project 094193202.4.3 is approved and eligible for DY3 payment.",null,"Yes-Completed","Previously Approved",null,"Round 1 (April)","2012-12-31",null,"YES","2013-01-01","2013-12-31","",""]
[9,"094193202_4","10_094193202",10,"094193202","Columbia Plaza Medical Center of Fort Worth dba Pl","094193202.4","094193202.4.5",4,3,"No-Not Started","Did Not Report",null,null,"Yes-Completed","Approved","Category 4 reporting domain was reviewed, and HHSC found provider submitted documentation to support achievement. Project is approved and eligible for payment.\n","Round 2 (October)","2013-09-30","2014-09-30","NO","2013-10-01","2014-09-30","2014-10-01","2015-09-30"]
[9,"094193202_5","10_094193202",10,"094193202","Columbia Plaza Medical Center of Fort Worth dba Pl","094193202.4","094193202.4.6",5,3,"Yes-Completed","Approved","Provider submitted required documentation to support Category 4 achievement. Project 094193202.4.6 is approved and eligible for DY3 payment.",null,"Yes-Completed","Previously Approved",null,"Round 1 (April)","2013-12-31",null,"YES","2014-01-01","2014-12-31","",""]
[9,"314080801_3","10_314080801",10,"314080801","Texas Health Huguley INC   dba Huguley Memorial Me","109574702.4","109574702.4.1",3,3,"Yes-Completed","Approved","Provider submitted required documentation to support Category 4 achievement. Project 109574702.4.1 is approved and eligible for DY3 payment.",null,"Yes-Completed","Previously Approved",null,"Round 1 (April)","2012-12-31",null,"YES","2013-01-01","2013-12-31","",""]
[9,"314080801_1","10_314080801",10,"314080801","Texas Health Huguley INC   dba Huguley Memorial Me","109574702.4","109574702.4.2",1,3,"Yes-Completed","Approved","Provider submitted required documentation to support Category 4 achievement. Project 109574702.4.2 is approved and eligible for DY3 payment.",null,"Yes-Completed","Previously Approved",null,"Round 1 (April)","2012-12-31",null,"YES","2013-01-01","2013-12-31","",""]
[9,"314080801_2","10_314080801",10,"314080801","Texas Health Huguley INC   dba Huguley Memorial Me","109574702.4","109574702.4.3",2,3,"Yes-Completed","Approved","Provider submitted required documentation to support Category 4 achievement. Project 109574702.4.3 is approved and eligible for DY3 payment.",null,"Yes-Completed","Previously Approved",null,"Round 1 (April)","2012-12-31",null,"YES","2013-01-01","2013-12-31","",""]
[9,"314080801_4","10_314080801",10,"314080801","Texas Health Huguley INC   dba Huguley Memorial Me","109574702.4","109574702.4.5",4,3,"Yes-Completed","Approved","Provider submitted required documentation to support Category 4 achievement. Project 109574702.4.5 is approved and eligible for DY3 payment.",null,"Yes-Completed","Previously Approved",null,"Round 1 (April)","2013-12-31","2013-12-31","YES","2014-01-01","2014-12-31","2014-01-01","2014-12-31"]
[9,"314080801_5","10_314080801",10,"314080801","Texas Health Huguley INC   dba Huguley Memorial Me","109574702.4","109574702.4.6",5,3,"Yes-Completed","Approved","Provider submitted required documentation to support Category 4 achievement. Project 109574702.4.6 is approved and eligible for DY3 payment.",null,"Yes-Completed","Previously Approved",null,"Round 1 (April)","2013-12-31",null,"YES","2014-01-01","2014-12-31","",""]
[9,"112677302_3","10_112677302",10,"112677302","Harris Methodist Fort Worth Hospital","112677302.4","112677302.4.1",3,3,"Yes-Completed","Approved","Provider submitted required documentation to support Category 4 achievement. Project 112677302.4.1 is approved and eligible for DY3 payment.",null,"Yes-Completed","Previously Approved",null,"Round 1 (April)","2012-12-31",null,"YES","2013-01-01","2013-12-31","",""]
[9,"112677302_1","10_112677302",10,"112677302","Harris Methodist Fort Worth Hospital","112677302.4","112677302.4.2",1,3,"Yes-Completed","Approved","Provider submitted required documentation to support Category 4 achievement. Project 112677302.4.2 is approved and eligible for DY3 payment.",null,"Yes-Completed","Previously Approved",null,"Round 1 (April)","2012-12-31",null,"YES","2013-01-01","2013-12-31","",""]
[9,"112677302_2","10_112677302",10,"112677302","Harris Methodist Fort Worth Hospital","112677302.4","112677302.4.3",2,3,"Yes-Completed","Approved","Provider submitted required documentation to support Category 4 achievement. Project 112677302.4.3 is approved and eligible for DY3 payment.",null,"Yes-Completed","Previously Approved",null,"Round 1 (April)","2012-12-31",null,"YES","2013-01-01","2013-12-31","",""]
[9,"112677302_4","10_112677302",10,"112677302","Harris Methodist Fort Worth Hospital","112677302.4","112677302.4.5",4,3,"Yes-Completed","Approved","Provider submitted required documentation to support Category 4 achievement. Project 112677302.4.5 is approved and eligible for DY3 payment.",null,"Yes-Completed","Previously Approved",null,"Round 1 (April)","2013-12-31","2013-12-31","YES","2014-01-01","2014-12-31","2014-01-01","2014-12-31"]
[9,"112677302_5","10_112677302",10,"112677302","Harris Methodist Fort Worth Hospital","112677302.4","112677302.4.6",5,3,"Yes-Completed","Approved","Provider submitted required documentation to support Category 4 achievement. Project 112677302.4.6 is approved and eligible for DY3 payment.",null,"Yes-Completed","Previously Approved",null,"Round 1 (April)","2013-12-31",null,"YES","2014-01-01","2014-12-31","",""]
[9,"120726804_3","10_120726804",10,"120726804","Harris Methodist Southwest Hospital","120726804.4","120726804.4.1",3,3,"Yes-Completed","Approved","Provider submitted required documentation to support Category 4 achievement. Project 120726804.4.1 is approved and eligible for DY3 payment.",null,"Yes-Completed","Previously Approved",null,"Round 1 (April)","2012-12-31",null,"YES","2013-01-01","2013-12-31","",""]
[9,"120726804_1","10_120726804",10,"120726804","Harris Methodist Southwest Hospital","120726804.4","120726804.4.2",1,3,"Yes-Completed","Approved","Provider submitted required documentation to support Category 4 achievement. Project 120726804.4.2 is approved and eligible for DY3 payment.",null,"Yes-Completed","Previously Approved",null,"Round 1 (April)","2012-12-31",null,"YES","2013-01-01","2013-12-31","",""]
[9,"120726804_2","10_120726804",10,"120726804","Harris Methodist Southwest Hospital","120726804.4","120726804.4.3",2,3,"Yes-Completed","Approved","Provider submitted required documentation to support Category 4 achievement. Project 120726804.4.3 is approved and eligible for DY3 payment.",null,"Yes-Completed","Previously Approved",null,"Round 1 (April)","2012-12-31",null,"YES","2013-01-01","2013-12-31","",""]
[9,"120726804_4","10_120726804",10,"120726804","Harris Methodist Southwest Hospital","120726804.4","120726804.4.5",4,3,"Yes-Completed","Approved","Provider submitted required documentation to support Category 4 achievement. Project 120726804.4.5 is approved and eligible for DY3 payment.",null,"Yes-Completed","Previously Approved",null,"Round 1 (April)","2013-12-31","2013-12-31","YES","2014-01-01","2014-12-31","2014-01-01","2014-12-31"]
[9,"120726804_5","10_120726804",10,"120726804","Harris Methodist Southwest Hospital","120726804.4","120726804.4.6",5,3,"Yes-Completed","Approved","Provider submitted required documentation to support Category 4 achievement. Project 120726804.4.6 is approved and eligible for DY3 payment.",null,"Yes-Completed","Previously Approved",null,"Round 1 (April)","2013-12-31",null,"YES","2014-01-01","2014-12-31","",""]
[9,"121794503_3","10_121794503",10,"121794503","Texas Health Harris Mehodist Hospital Stephenville","121794503.4","121794503.4.1",3,3,"Yes-Completed","Approved","Provider submitted required documentation to support Category 4 achievement. Project 121794503.4.1 is approved and eligible for DY3 payment.",null,"Yes-Completed","Previously Approved",null,"Round 1 (April)","2012-12-31",null,"YES","2013-01-01","2013-12-31","",""]
[9,"121794503_1","10_121794503",10,"121794503","Texas Health Harris Mehodist Hospital Stephenville","121794503.4","121794503.4.2",1,3,"Yes-Completed","Approved","Provider submitted required documentation to support Category 4 achievement. Project 121794503.4.2 is approved and eligible for DY3 payment.",null,"Yes-Completed","Previously Approved",null,"Round 1 (April)","2012-12-31",null,"YES","2013-01-01","2013-12-31","",""]
[9,"121794503_2","10_121794503",10,"121794503","Texas Health Harris Mehodist Hospital Stephenville","121794503.4","121794503.4.3",2,3,"Yes-Completed","Approved","Provider submitted required documentation to support Category 4 achievement. Project 121794503.4.3 is approved and eligible for DY3 payment.",null,"Yes-Completed","Previously Approved",null,"Round 1 (April)","2012-12-31",null,"YES","2013-01-01","2013-12-31","",""]
[9,"121794503_4","10_121794503",10,"121794503","Texas Health Harris Mehodist Hospital Stephenville","121794503.4","121794503.4.5",4,3,"Yes-Completed","Approved","Provider submitted required documentation to support Category 4 achievement. Project 121794503.4.5 is approved and eligible for DY3 payment.",null,"Yes-Completed","Previously Approved",null,"Round 1 (April)","2013-12-31","2013-12-31","YES","2014-01-01","2014-12-31","2014-01-01","2014-12-31"]
[9,"121794503_5","10_121794503",10,"121794503","Texas Health Harris Mehodist Hospital Stephenville","121794503.4","121794503.4.6",5,3,"Yes-Completed","Needs More Info - Approved","Provider submitted required documentation to support Category 4 achievement. Project 121794503.4.6 is approved and eligible for DY3 payment.",null,"Yes-Completed","Previously Approved",null,"Round 1 (April) - Needs More Info","2013-12-31",null,"YES","2014-01-01","2014-12-31","",""]
[9,"121822403_3","10_121822403",10,"121822403","PRHC-Ennis, L.P. dba Ennis Regional Medical Center","121822403.4","121822403.4.1",3,3,"Yes-Completed","Approved","Provider submitted required documentation to support Category 4 achievement. Project 121822403.4.1 is approved and eligible for DY3 payment.",null,"Yes-Completed","Previously Approved",null,"Round 1 (April)","2012-12-31",null,"YES","2013-01-01","2013-12-31","",""]
[9,"121822403_1","10_121822403",10,"121822403","PRHC-Ennis, L.P. dba Ennis Regional Medical Center","121822403.4","121822403.4.2",1,3,"Yes-Completed","Approved","Provider submitted required documentation to support Category 4 achievement. Project 121822403.4.2 is approved and eligible for DY3 payment.",null,"Yes-Completed","Previously Approved",null,"Round 1 (April)","2012-12-31",null,"YES","2013-01-01","2013-12-31","",""]
[9,"121822403_2","10_121822403",10,"121822403","PRHC-Ennis, L.P. dba Ennis Regional Medical Center","121822403.4","121822403.4.3",2,3,"Yes-Completed","Approved","Provider submitted required documentation to support Category 4 achievement. Project 121822403.4.3 is approved and eligible for DY3 payment.",null,"Yes-Completed","Previously Approved",null,"Round 1 (April)","2012-12-31",null,"YES","2013-01-01","2013-12-31","",""]
[9,"121822403_4","10_121822403",10,"121822403","PRHC-Ennis, L.P. dba Ennis Regional Medical Center","121822403.4","121822403.4.5",4,3,"Yes-Completed","Approved","Provider submitted required documentation to support Category 4 achievement. Project 121822403.4.5 is approved and eligible for DY3 payment.",null,"Yes-Completed","Previously Approved",null,"Round 1 (April)","2013-12-31","2013-12-31","YES","2014-01-01","2014-12-31","2014-01-01","2014-12-31"]
[9,"121822403_5","10_121822403",10,"121822403","PRHC-Ennis, L.P. dba Ennis Regional Medical Center","121822403.4","121822403.4.6",5,3,"Yes-Completed","Approved","Provider submitted required documentation to support Category 4 achievement. Project 121822403.4.6 is approved and eligible for DY3 payment.",null,"Yes-Completed","Previously Approved",null,"Round 1 (April)","2012-12-31",null,"YES","2013-01-01","2013-12-31","",""]
[{"$f":"LEN(E579)","v":9},{"$f":"E579&\"_\"&I579","v":"126675104_3"},{"$f":"D579&\"_\"&E579","v":"10_126675104"},10,"126675104","Tarrant County Hospital District dba JPS Health Ne","126675104.4","126675104.4.1",3,3,"Yes-Completed","Approved","Provider submitted required documentation to support Category 4 achievement. Project 126675104.4.1 is approved and eligible for DY3 payment.",null,"Yes-Completed","Previously Approved",null,"Round 1 (April)","2012-12-31",null,"YES","2013-01-01","2013-12-31","",""]
[9,"126675104_1","10_126675104",10,"126675104","Tarrant County Hospital District dba JPS Health Ne","126675104.4","126675104.4.2",1,3,"Yes-Completed","Approved","Provider submitted required documentation to support Category 4 achievement. Project 126675104.4.2 is approved and eligible for DY3 payment.",null,"Yes-Completed","Previously Approved",null,"Round 1 (April)","2012-12-31",null,"YES","2013-01-01","2013-12-31","",""]
[9,"126675104_2","10_126675104",10,"126675104","Tarrant County Hospital District dba JPS Health Ne","126675104.4","126675104.4.3",2,3,"Yes-Completed","Approved","Provider submitted required documentation to support Category 4 achievement. Project 126675104.4.3 is approved and eligible for DY3 payment.",null,"Yes-Completed","Previously Approved",null,"Round 1 (April)","2012-12-31",null,"YES","2013-01-01","2013-12-31","",""]
[9,"126675104_4","10_126675104",10,"126675104","Tarrant County Hospital District dba JPS Health Ne","126675104.4","126675104.4.5",4,3,"No-Not Started","Did Not Report",null,null,"Yes-Completed","Approved","Category 4 reporting domain was reviewed, and HHSC found provider submitted documentation to support achievement. Project is approved and eligible for payment.\n","Round 2 (October)","2013-12-31","2013-12-31","YES","2014-01-01","2014-12-31","2014-01-01","2014-12-31"]
[9,"126675104_5","10_126675104",10,"126675104","Tarrant County Hospital District dba JPS Health Ne","126675104.4","126675104.4.6",5,3,"No-Not Started","Did Not Report",null,null,"Yes-Completed","Approved","Category 4 reporting domain was reviewed, and HHSC found provider submitted documentation to support achievement. Project is approved and eligible for payment.\n","Round 2 (October)","2013-12-31",null,"YES","2014-01-01","2014-12-31","",""]
[9,"126675104_6","10_126675104",10,"126675104","Tarrant County Hospital District dba JPS Health Ne","126675104.4","126675104.4.7",6,3,"No-Not Started","Did Not Report",null,null,"Yes-Completed","Approved","Category 4 reporting domain was reviewed, and HHSC found provider submitted documentation to support achievement. Project is approved and eligible for payment.\n","Round 2 (October)","2013-12-31",null,"YES","2014-01-01","2014-12-31","",""]
[9,"127304703_3","10_127304703",10,"127304703","Harris Methodist Northwest Hosp (Azle)","127304703.4","127304703.4.1",3,3,"Yes-Completed","Approved","Provider submitted required documentation to support Category 4 achievement. Project 127304703.4.1 is approved and eligible for DY3 payment.",null,"Yes-Completed","Previously Approved",null,"Round 1 (April)","2012-12-31",null,"YES","2013-01-01","2013-12-31","",""]
[9,"127304703_1","10_127304703",10,"127304703","Harris Methodist Northwest Hosp (Azle)","127304703.4","127304703.4.2",1,3,"Yes-Completed","Approved","Provider submitted required documentation to support Category 4 achievement. Project 127304703.4.2 is approved and eligible for DY3 payment.",null,"Yes-Completed","Previously Approved",null,"Round 1 (April)","2012-12-31",null,"YES","2013-01-01","2013-12-31","",""]
[9,"127304703_2","10_127304703",10,"127304703","Harris Methodist Northwest Hosp (Azle)","127304703.4","127304703.4.3",2,3,"Yes-Completed","Approved","Provider submitted required documentation to support Category 4 achievement. Project 127304703.4.3 is approved and eligible for DY3 payment.",null,"Yes-Completed","Previously Approved",null,"Round 1 (April)","2012-12-31",null,"YES","2013-01-01","2013-12-31","",""]
[9,"127304703_4","10_127304703",10,"127304703","Harris Methodist Northwest Hosp (Azle)","127304703.4","127304703.4.5",4,3,"Yes-Completed","Approved","Provider submitted required documentation to support Category 4 achievement. Project 127304703.4.5 is approved and eligible for DY3 payment.",null,"Yes-Completed","Previously Approved",null,"Round 1 (April)","2013-12-31","2013-12-31","YES","2014-01-01","2014-12-31","2014-01-01","2014-12-31"]
[9,"127304703_5","10_127304703",10,"127304703","Harris Methodist Northwest Hosp (Azle)","127304703.4","127304703.4.6",5,3,"Yes-Completed","Approved","Provider submitted required documentation to support Category 4 achievement. Project 127304703.4.6 is approved and eligible for DY3 payment.",null,"Yes-Completed","Previously Approved",null,"Round 1 (April)","2013-12-31",null,"YES","2014-01-01","2014-12-31","",""]
[9,"130606006_3","10_130606006",10,"130606006","Decatur Community Hospital (Wise Reg Health Systm)","130606006.4","130606006.4.1",3,3,"Yes-Completed","Approved","Provider submitted required documentation to support Category 4 achievement. Project 130606006.4.1 is approved and eligible for DY3 payment.",null,"Yes-Completed","Previously Approved",null,"Round 1 (April)","2012-12-31",null,"YES","2013-01-01","2013-12-31","",""]
[9,"130606006_1","10_130606006",10,"130606006","Decatur Community Hospital (Wise Reg Health Systm)","130606006.4","130606006.4.2",1,3,"Yes-Completed","Approved","Provider submitted required documentation to support Category 4 achievement. Project 130606006.4.2 is approved and eligible for DY3 payment.",null,"Yes-Completed","Previously Approved",null,"Round 1 (April)","2012-12-31",null,"YES","2013-01-01","2013-12-31","",""]
[9,"130606006_2","10_130606006",10,"130606006","Decatur Community Hospital (Wise Reg Health Systm)","130606006.4","130606006.4.3",2,3,"Yes-Completed","Approved","Provider submitted required documentation to support Category 4 achievement. Project 130606006.4.3 is approved and eligible for DY3 payment.",null,"Yes-Completed","Previously Approved",null,"Round 1 (April)","2012-12-31",null,"YES","2013-01-01","2013-12-31","",""]
[9,"130606006_4","10_130606006",10,"130606006","Decatur Community Hospital (Wise Reg Health Systm)","130606006.4","130606006.4.5",4,3,"Yes-Completed","Approved","Provider submitted required documentation to support Category 4 achievement. Project 130606006.4.5 is approved and eligible for DY3 payment.",null,"Yes-Completed","Previously Approved",null,"Round 1 (April)","2013-12-31","2013-12-31","YES","2014-01-01","2014-12-31","2014-01-01","2014-12-31"]
[9,"130606006_5","10_130606006",10,"130606006","Decatur Community Hospital (Wise Reg Health Systm)","130606006.4","130606006.4.6",5,3,"Yes-Completed","Approved","Provider submitted required documentation to support Category 4 achievement. Project 130606006.4.6 is approved and eligible for DY3 payment.",null,"Yes-Completed","Previously Approved",null,"Round 1 (April)","2013-12-31",null,"YES","2014-01-01","2014-12-31","",""]
[9,"130614405_3","10_130614405",10,"130614405","Texas Health Arlington Memorial Hospital","130614405.4","130614405.4.1",3,3,"Yes-Completed","Approved","Provider submitted required documentation to support Category 4 achievement. Project 130614405.4.1 is approved and eligible for DY3 payment.",null,"Yes-Completed","Previously Approved",null,"Round 1 (April)","2012-12-31",null,"YES","2013-01-01","2013-12-31","",""]
[9,"130614405_1","10_130614405",10,"130614405","Texas Health Arlington Memorial Hospital","130614405.4","130614405.4.2",1,3,"Yes-Completed","Approved","Provider submitted required documentation to support Category 4 achievement. Project 130614405.4.2 is approved and eligible for DY3 payment.",null,"Yes-Completed","Previously Approved",null,"Round 1 (April)","2012-12-31",null,"YES","2013-01-01","2013-12-31","",""]
[9,"130614405_2","10_130614405",10,"130614405","Texas Health Arlington Memorial Hospital","130614405.4","130614405.4.3",2,3,"Yes-Completed","Approved","Provider submitted required documentation to support Category 4 achievement. Project 130614405.4.3 is approved and eligible for DY3 payment.",null,"Yes-Completed","Previously Approved",null,"Round 1 (April)","2012-12-31",null,"YES","2013-01-01","2013-12-31","",""]
[9,"130614405_4","10_130614405",10,"130614405","Texas Health Arlington Memorial Hospital","130614405.4","130614405.4.5",4,3,"Yes-Completed","Approved","Provider submitted required documentation to support Category 4 achievement. Project 130614405.4.5 is approved and eligible for DY3 payment.",null,"Yes-Completed","Previously Approved",null,"Round 1 (April)","2013-12-31","2013-12-31","YES","2014-01-01","2014-12-31","2014-01-01","2014-12-31"]
[9,"130614405_5","10_130614405",10,"130614405","Texas Health Arlington Memorial Hospital","130614405.4","130614405.4.6",5,3,"Yes-Completed","Approved","Provider submitted required documentation to support Category 4 achievement. Project 130614405.4.6 is approved and eligible for DY3 payment.",null,"Yes-Completed","Previously Approved",null,"Round 1 (April)","2013-12-31",null,"YES","2014-01-01","2014-12-31","",""]
[9,"131036903_3","10_131036903",10,"131036903","Texas Health Harris Methodist Hospital Cleburne","131036903.4","131036903.4.1",3,3,"Yes-Completed","Approved","Provider submitted required documentation to support Category 4 achievement. Project 131036903.4.1 is approved and eligible for DY3 payment.",null,"Yes-Completed","Previously Approved",null,"Round 1 (April)","2012-12-31",null,"YES","2013-01-01","2013-12-31","",""]
[9,"131036903_1","10_131036903",10,"131036903","Texas Health Harris Methodist Hospital Cleburne","131036903.4","131036903.4.2",1,3,"Yes-Completed","Approved","Provider submitted required documentation to support Category 4 achievement. Project 131036903.4.2 is approved and eligible for DY3 payment.",null,"Yes-Completed","Previously Approved",null,"Round 1 (April)","2012-12-31",null,"YES","2013-01-01","2013-12-31","",""]
[9,"131036903_2","10_131036903",10,"131036903","Texas Health Harris Methodist Hospital Cleburne","131036903.4","131036903.4.3",2,3,"Yes-Completed","Approved","Provider submitted required documentation to support Category 4 achievement. Project 131036903.4.3 is approved and eligible for DY3 payment.",null,"Yes-Completed","Previously Approved",null,"Round 1 (April)","2012-12-31",null,"YES","2013-01-01","2013-12-31","",""]
[9,"131036903_4","10_131036903",10,"131036903","Texas Health Harris Methodist Hospital Cleburne","131036903.4","131036903.4.5",4,3,"Yes-Completed","Approved","Provider submitted required documentation to support Category 4 achievement. Project 131036903.4.5 is approved and eligible for DY3 payment.",null,"Yes-Completed","Previously Approved",null,"Round 1 (April)","2013-12-31","2013-12-31","YES","2014-01-01","2014-12-31","2014-01-01","2014-12-31"]
[9,"131036903_5","10_131036903",10,"131036903","Texas Health Harris Methodist Hospital Cleburne","131036903.4","131036903.4.6",5,3,"Yes-Completed","Approved","Provider submitted required documentation to support Category 4 achievement. Project 131036903.4.6 is approved and eligible for DY3 payment.",null,"Yes-Completed","Previously Approved",null,"Round 1 (April)","2013-12-31",null,"YES","2014-01-01","2014-12-31","",""]
[9,"135036506_3","10_135036506",10,"135036506","Baylor All Saints Medical Center","135036506.4","135036506.4.1",3,3,"Yes-Completed","Approved","Provider submitted required documentation to support Category 4 achievement. Project 135036506.4.1 is approved and eligible for DY3 payment.",null,null,null,null,"Round 1 (April)","2012-12-31",null,"YES","2013-01-01","2013-12-31","",""]
[9,"135036506_1","10_135036506",10,"135036506","Baylor All Saints Medical Center","135036506.4","135036506.4.2",1,3,"Yes-Completed","Approved","Provider submitted required documentation to support Category 4 achievement. Project 135036506.4.2 is approved and eligible for DY3 payment.",null,"Yes-Completed","Previously Approved",null,"Round 1 (April)","2012-12-31",null,"YES","2013-01-01","2013-12-31","",""]
[9,"135036506_2","10_135036506",10,"135036506","Baylor All Saints Medical Center","135036506.4","135036506.4.3",2,3,"Yes-Completed","Approved","Provider submitted required documentation to support Category 4 achievement. Project 135036506.4.3 is approved and eligible for DY3 payment.",null,"Yes-Completed","Previously Approved",null,"Round 1 (April)","2012-12-31",null,"YES","2013-01-01","2013-12-31","",""]
[9,"135036506_4","10_135036506",10,135036506,"Baylor All Saints Medical Center","135036506.4","135036506.4.5",4,3,"Yes-Completed","Approved","Provider submitted required documentation to support Category 4 achievement. Project 135036506.4.5 is approved and eligible for DY3 payment.",null,"Yes-Completed","Previously Approved",null,"Round 1 (April)","DNR","DNR","YES","TBD","TBD","TBD","TBD"]
[9,"135036506_5","10_135036506",10,"135036506","Baylor All Saints Medical Center","135036506.4","135036506.4.6",5,3,"Yes-Completed","Approved","Provider submitted required documentation to support Category 4 achievement. Project 135036506.4.6 is approved and eligible for DY3 payment.",null,"Yes-Completed","Previously Approved",null,"Round 1 (April)","2013-09-30",null,"YES","2013-10-01","2014-09-30","",""]
[9,"136326908_3","10_136326908",10,"136326908","Texas Health Harris Methodist HEB","136326908.4","136326908.4.1",3,3,"Yes-Completed","Approved","Provider submitted required documentation to support Category 4 achievement. Project 136326908.4.1 is approved and eligible for DY3 payment.",null,"Yes-Completed","Previously Approved",null,"Round 1 (April)","2012-12-31",null,"YES","2013-01-01","2013-12-31","",""]
[9,"136326908_1","10_136326908",10,"136326908","Texas Health Harris Methodist HEB","136326908.4","136326908.4.2",1,3,"Yes-Completed","Approved","Provider submitted required documentation to support Category 4 achievement. Project 136326908.4.2 is approved and eligible for DY3 payment.",null,"Yes-Completed","Previously Approved",null,"Round 1 (April)","2012-12-31",null,"YES","2013-01-01","2013-12-31","",""]
[9,"136326908_2","10_136326908",10,"136326908","Texas Health Harris Methodist HEB","136326908.4","136326908.4.3",2,3,"Yes-Completed","Approved","Provider submitted required documentation to support Category 4 achievement. Project 136326908.4.3 is approved and eligible for DY3 payment.",null,"Yes-Completed","Previously Approved",null,"Round 1 (April)","2012-12-31",null,"YES","2013-01-01","2013-12-31","",""]
[9,"136326908_4","10_136326908",10,"136326908","Texas Health Harris Methodist HEB","136326908.4","136326908.4.5",4,3,"Yes-Completed","Approved","Provider submitted required documentation to support Category 4 achievement. Project 136326908.4.5 is approved and eligible for DY3 payment.",null,"Yes-Completed","Previously Approved",null,"Round 1 (April)","2013-12-31","2013-12-31","YES","2014-01-01","2014-12-31","2014-01-01","2014-12-31"]
[9,"136326908_5","10_136326908",10,"136326908","Texas Health Harris Methodist HEB","136326908.4","136326908.4.6",5,3,"Yes-Completed","Approved","Provider submitted required documentation to support Category 4 achievement. Project 136326908.4.6 is approved and eligible for DY3 payment.",null,"Yes-Completed","Previously Approved",null,"Round 1 (April)","2013-12-31",null,"YES","2014-01-01","2014-12-31","",""]
[9,"138910807_3","10_138910807",10,"138910807","Children's Medical Center of Dallas","138910807.4","138910807.4.1",3,3,"No-Not Started","Did Not Report",null,null,"Yes-Completed","Approved","Category 4 reporting domain was reviewed, and HHSC found provider submitted documentation to support achievement. Project is approved and eligible for payment.\n","Round 2 (October)","2012-12-31",null,"YES","2013-01-01","2013-12-31","",""]
[9,"138910807_1","10_138910807",10,"138910807","Children's Medical Center of Dallas","138910807.4","138910807.4.2",1,3,"No-Not Started","Did Not Report",null,null,"Yes-Completed","Approved","Category 4 reporting domain was reviewed, and HHSC found provider submitted documentation to support achievement. Project is approved and eligible for payment.\n","Round 2 (October)","2012-12-31",null,"YES","2013-01-01","2013-12-31","",""]
[9,"138910807_2","10_138910807",10,"138910807","Children's Medical Center of Dallas","138910807.4","138910807.4.3",2,3,"No-Not Started","Did Not Report",null,null,"Yes-Completed","Approved","Category 4 reporting domain was reviewed, and HHSC found provider submitted documentation to support achievement. Project is approved and eligible for payment.\n","Round 2 (October)","2012-12-31",null,"YES","2013-01-01","2013-12-31","",""]
[9,"138910807_4","10_138910807",10,"138910807","Children's Medical Center of Dallas","138910807.4","138910807.4.5",4,3,"No-Not Started","Did Not Report",null,null,"Yes-Completed","Needs More Info - Approved","Category 4 reporting domain was reviewed, and HHSC found provider submitted documentation to support achievement. Reporting domain is approved and eligible for payment.","Round 2 (October) - Needs More Info","2013-12-31","2013-12-31","YES","2014-01-01","2014-12-31","2014-01-01","2014-12-31"]
[9,"138910807_5","10_138910807",10,"138910807","Children's Medical Center of Dallas","138910807.4","138910807.4.6",5,3,"No-Not Started","Did Not Report",null,null,"Yes-Completed","Needs More Info - Approved","Category 4 reporting domain was reviewed, and HHSC found provider submitted documentation to support achievement. Reporting domain is approved and eligible for payment.\n","Round 2 (October) - Needs More Info","2012-12-31",null,"YES","2013-01-01","2013-12-31","",""]
[9,"138910807_6","10_138910807",10,"138910807","Children's Medical Center of Dallas","138910807.4","138910807.4.7",6,3,"No-Not Started","Did Not Report",null,null,"Yes-Completed","Needs More Info - Approved","Category 4 reporting domain was reviewed, and HHSC found provider submitted documentation to support achievement. Reporting domain is approved and eligible for payment.\n\n","Round 2 (October) - Needs More Info","2013-12-31",null,"YES","2014-01-01","2014-12-31","",""]
[9,"186221101_3","10_186221101",10,"186221101","Methodist Mansfield Medical Center","186221101.4","186221101.4.1",3,3,"No-Not Started","Did Not Report",null,null,"Yes-Completed","Approved","Category 4 reporting domain was reviewed, and HHSC found provider submitted documentation to support achievement. Project is approved and eligible for payment.\n","Round 2 (October)","2012-12-31",null,"YES","2013-01-01","2013-12-31","",""]
[9,"186221101_1","10_186221101",10,"186221101","Methodist Mansfield Medical Center","186221101.4","186221101.4.2",1,3,"No-Not Started","Did Not Report",null,null,"Yes-Completed","Approved","Category 4 reporting domain was reviewed, and HHSC found provider submitted documentation to support achievement. Project is approved and eligible for payment.\n","Round 2 (October)","2012-12-31",null,"YES","2013-01-01","2013-12-31","",""]
[9,"186221101_2","10_186221101",10,"186221101","Methodist Mansfield Medical Center","186221101.4","186221101.4.3",2,3,"No-Not Started","Did Not Report",null,null,"Yes-Completed","Approved","Category 4 reporting domain was reviewed, and HHSC found provider submitted documentation to support achievement. Project is approved and eligible for payment.\n","Round 2 (October)","2012-12-31",null,"YES","2013-01-01","2013-12-31","",""]
[9,"186221101_4","10_186221101",10,"186221101","Methodist Mansfield Medical Center","186221101.4","186221101.4.5",4,3,"No-Not Started","Did Not Report",null,null,"Yes-Completed","Approved","Category 4 reporting domain was reviewed, and HHSC found provider submitted documentation to support achievement. Project is approved and eligible for payment.\n","Round 2 (October)","2014-09-30","2014-09-30","NO","2014-10-01","2015-09-30","2014-10-01","2015-09-30"]
[9,"186221101_5","10_186221101",10,"186221101","Methodist Mansfield Medical Center","186221101.4","186221101.4.6",5,3,"No-Not Started","Did Not Report",null,null,"Yes-Completed","Needs More Info - Approved","Category 4 reporting domain was reviewed, and HHSC found provider submitted documentation to support achievement. Reporting domain is approved and eligible for payment.\n","Round 2 (October) - Needs More Info","2014-09-30",null,"NO","2014-10-01","2015-09-30","",""]
[9,"316296801_3","10_316296801",10,"316296801","Texas Health Harris Methodist Hospital Alliance","316296801.4","316296801.4.1",3,3,null,null,null,null,"Yes-Completed","Approved","Category 4 reporting domain was reviewed, and HHSC found provider submitted documentation to support achievement. Project is approved and eligible for payment.\n","Round 2 (October)","2012-12-31",null,"YES","2013-01-01","2013-12-31","",""]
[9,"316296801_1","10_316296801",10,"316296801","Texas Health Harris Methodist Hospital Alliance","316296801.4","316296801.4.2",1,3,null,null,null,null,"Yes-Completed","Approved","Category 4 reporting domain was reviewed, and HHSC found provider submitted documentation to support achievement. Project is approved and eligible for payment.\n","Round 2 (October)","2012-12-31",null,"YES","2013-01-01","2013-12-31","",""]
[9,"316296801_2","10_316296801",10,"316296801","Texas Health Harris Methodist Hospital Alliance","316296801.4","316296801.4.3",2,3,null,null,null,null,"Yes-Completed","Approved","Category 4 reporting domain was reviewed, and HHSC found provider submitted documentation to support achievement. Project is approved and eligible for payment.\n","Round 2 (October)","2012-12-31",null,"YES","2013-01-01","2013-12-31","",""]
[9,"316296801_4","10_316296801",10,"316296801","Texas Health Harris Methodist Hospital Alliance","316296801.4","316296801.4.5",4,3,null,null,null,null,"Yes-Completed","Approved","Category 4 reporting domain was reviewed, and HHSC found provider submitted documentation to support achievement. Project is approved and eligible for payment.\n","Round 2 (October)","2013-12-31","2013-12-31","YES","2014-01-01","2014-12-31","2014-01-01","2014-12-31"]
[9,"316296801_5","10_316296801",10,"316296801","Texas Health Harris Methodist Hospital Alliance","316296801.4","316296801.4.6",5,3,null,null,null,null,"Yes-Completed","Approved","Category 4 reporting domain was reviewed, and HHSC found provider submitted documentation to support achievement. Project is approved and eligible for payment.\n","Round 2 (October)","2012-12-31",null,"YES","2013-01-01","2013-12-31","",""]
[9,"126842708_3","11_126842708",11,"126842708","Stamford Memorial Hospital","126842705.4","126842705.4.1",3,3,"Yes-Completed","Approved","Provider submitted required documentation to support Category 4 achievement. Project 126842705.4.1 is approved and eligible for DY3 payment.",null,"Yes-Completed","Previously Approved",null,"Round 1 (April)","2012-12-31",null,"YES","2013-01-01","2013-12-31","",""]
[9,"126842708_1","11_126842708",11,"126842708","Stamford Memorial Hospital","126842705.4","126842705.4.2",1,3,"Yes-Completed","Approved","Provider submitted required documentation to support Category 4 achievement. Project 126842705.4.2 is approved and eligible for DY3 payment.",null,"Yes-Completed","Previously Approved",null,"Round 1 (April)","2012-12-31",null,"YES","2013-01-01","2013-12-31","",""]
[9,"126842708_2","11_126842708",11,"126842708","Stamford Memorial Hospital","126842705.4","126842705.4.3",2,3,"Yes-Completed","Approved","Provider submitted required documentation to support Category 4 achievement. Project 126842705.4.3 is approved and eligible for DY3 payment.",null,"Yes-Completed","Previously Approved",null,"Round 1 (April)","2012-12-31",null,"YES","2013-01-01","2013-12-31","",""]
[9,"126842708_4","11_126842708",11,"126842708","Stamford Memorial Hospital","126842705.4","126842705.4.5",4,3,"Yes-Completed","Approved","Provider submitted required documentation to support Category 4 achievement. Project 126842705.4.5 is approved and eligible for DY3 payment.",null,"Yes-Completed","Previously Approved",null,"Round 1 (April)","2014-03-31","2013-09-30","YES","2014-04-01","2015-03-31","2013-10-01","2014-09-30"]
[9,"126842708_5","11_126842708",11,"126842708","Stamford Memorial Hospital","126842705.4","126842705.4.6",5,3,"Yes-Completed","Approved","Provider submitted required documentation to support Category 4 achievement. Project 126842705.4.6 is approved and eligible for DY3 payment.",null,"Yes-Completed","Previously Approved",null,"Round 1 (April)","2013-09-30",null,"YES","2013-10-01","2014-09-30","",""]
[9,"136325111_3","11_136325111",11,"136325111","Mitchell County Hospital District dba Mitchell Cou","136325111.4","136325111.4.1",3,3,"Yes-Completed","Approved","Provider submitted required documentation to support Category 4 achievement. Project 136325111.4.1 is approved and eligible for DY3 payment.",null,"Yes-Completed","Previously Approved",null,"Round 1 (April)","2012-12-31",null,"YES","2013-01-01","2013-12-31","",""]
[9,"136325111_1","11_136325111",11,"136325111","Mitchell County Hospital District dba Mitchell Cou","136325111.4","136325111.4.2",1,3,"Yes-Completed","Approved","Provider submitted required documentation to support Category 4 achievement. Project 136325111.4.2 is approved and eligible for DY3 payment.",null,"Yes-Completed","Previously Approved",null,"Round 1 (April)","2012-12-31",null,"YES","2013-01-01","2013-12-31","",""]
[9,"136325111_2","11_136325111",11,"136325111","Mitchell County Hospital District dba Mitchell Cou","136325111.4","136325111.4.3",2,3,"Yes-Completed","Approved","Provider submitted required documentation to support Category 4 achievement. Project 136325111.4.3 is approved and eligible for DY3 payment.",null,"Yes-Completed","Previously Approved",null,"Round 1 (April)","2012-12-31",null,"YES","2013-01-01","2013-12-31","",""]
[9,"136325111_4","11_136325111",11,"136325111","Mitchell County Hospital District dba Mitchell Cou","136325111.4","136325111.4.5",4,3,"No-Not Started","Did Not Report",null,null,"Yes-Completed","Needs More Info - Approved","Category 4 reporting domain was reviewed, and HHSC found provider submitted documentation to support achievement. Reporting domain is approved and eligible for payment.","Round 2 (October) - Needs More Info","2014-09-30","2014-09-30","NO","2014-10-01","2015-09-30","2014-10-01","2015-09-30"]
[9,"136325111_5","11_136325111",11,"136325111","Mitchell County Hospital District dba Mitchell Cou","136325111.4","136325111.4.6",5,3,"No-Not Started","Did Not Report",null,null,"Yes-Completed","Needs More Info - Approved","Category 4 reporting domain was reviewed, and HHSC found provider submitted documentation to support achievement. Reporting domain is approved and eligible for payment.\n","Round 2 (October) - Needs More Info","2014-09-30",null,"NO","2014-10-01","2015-09-30","",""]
[9,"138644310_3","11_138644310",11,"138644310","Hendrick Medical Center","138644310.4","138644310.4.1",3,3,"Yes-Completed","Approved","Provider submitted required documentation to support Category 4 achievement. Project 138644310.4.1 is approved and eligible for DY3 payment.",null,"Yes-Completed","Previously Approved",null,"Round 1 (April)","2012-12-31",null,"YES","2013-01-01","2013-12-31","",""]
[9,"138644310_1","11_138644310",11,"138644310","Hendrick Medical Center","138644310.4","138644310.4.2",1,3,"Yes-Completed","Approved","Provider submitted required documentation to support Category 4 achievement. Project 138644310.4.2 is approved and eligible for DY3 payment.",null,"Yes-Completed","Previously Approved",null,"Round 1 (April)","2012-12-31",null,"YES","2013-01-01","2013-12-31","",""]
[{"$f":"LEN(E643)","v":9},{"$f":"E643&\"_\"&I643","v":"138644310_2"},{"$f":"D643&\"_\"&E643","v":"11_138644310"},11,"138644310","Hendrick Medical Center","138644310.4","138644310.4.3",2,3,"Yes-Completed","Approved","Provider submitted required documentation to support Category 4 achievement. Project 138644310.4.3 is approved and eligible for DY3 payment.",null,"Yes-Completed","Previously Approved",null,"Round 1 (April)","2012-12-31",null,"YES","2013-01-01","2013-12-31","",""]
[9,"138644310_4","11_138644310",11,"138644310","Hendrick Medical Center","138644310.4","138644310.4.5",4,3,"Yes-Completed","Approved","Provider submitted required documentation to support Category 4 achievement. Project 138644310.4.5 is approved and eligible for DY3 payment.",null,"Yes-Completed","Previously Approved",null,"Round 1 (April)","2013-12-31","2013-12-31","YES","2014-01-01","2014-12-31","2014-01-01","2014-12-31"]
[9,"138644310_5","11_138644310",11,"138644310","Hendrick Medical Center","138644310.4","138644310.4.6",5,3,"Yes-Completed","Approved","Provider submitted required documentation to support Category 4 achievement. Project 138644310.4.6 is approved and eligible for DY3 payment.",null,"Yes-Completed","Previously Approved",null,"Round 1 (April)","2013-12-31",null,"YES","2014-01-01","2014-12-31","",""]
[9,"138644310_6","11_138644310",11,"138644310","Hendrick Medical Center","138644310.4","138644310.4.7",6,3,"No-Not Started","Did Not Report",null,null,"Yes-Completed","Needs More Info - Approved","Category 4 reporting domain was reviewed, and HHSC found provider submitted documentation to support achievement. Reporting domain is approved and eligible for payment.","Round 2 (October) - Needs More Info","2013-12-31",null,"YES","2014-01-01","2014-12-31","",""]
[9,"138950412_3","11_138950412",11,"138950412","Palo Pinto Co Hosp Dist dba Palo Pinto Gen Hosp","138950412.4","138950412.4.1",3,3,"Yes-Completed","Approved","Provider submitted required documentation to support Category 4 achievement. Project 138950412.4.1 is approved and eligible for DY3 payment.",null,"Yes-Completed","Previously Approved",null,"Round 1 (April)","2012-12-31",null,"YES","2013-01-01","2013-12-31","",""]
[9,"138950412_1","11_138950412",11,"138950412","Palo Pinto Co Hosp Dist dba Palo Pinto Gen Hosp","138950412.4","138950412.4.2",1,3,"Yes-Completed","Approved","Provider submitted required documentation to support Category 4 achievement. Project 138950412.4.2 is approved and eligible for DY3 payment.",null,"Yes-Completed","Previously Approved",null,"Round 1 (April)","2012-12-31",null,"YES","2013-01-01","2013-12-31","",""]
[9,"138950412_2","11_138950412",11,"138950412","Palo Pinto Co Hosp Dist dba Palo Pinto Gen Hosp","138950412.4","138950412.4.3",2,3,"Yes-Completed","Approved","Provider submitted required documentation to support Category 4 achievement. Project 138950412.4.3 is approved and eligible for DY3 payment.",null,"Yes-Completed","Previously Approved",null,"Round 1 (April)","2012-12-31",null,"YES","2013-01-01","2013-12-31","",""]
[9,"138950412_4","11_138950412",11,"138950412","Palo Pinto Co Hosp Dist dba Palo Pinto Gen Hosp","138950412.4","138950412.4.5",4,3,"Yes-Completed","Needs More Info - Approved","Provider submitted required documentation to support Category 4 achievement. Project 138950412.4.5 is approved and eligible for DY3 payment.",null,"Yes-Completed","Previously Approved",null,"Round 1 (April) - Needs More Info","2012-12-31","2012-12-31","YES","2013-01-01","2013-12-31","2013-01-01","2013-12-31"]
[9,"138950412_5","11_138950412",11,"138950412","Palo Pinto Co Hosp Dist dba Palo Pinto Gen Hosp","138950412.4","138950412.4.6",5,3,"Yes-Completed","Needs More Info - Approved","Provider submitted required documentation to support Category 4 achievement. Project 138950412.4.6 is approved and eligible for DY3 payment.",null,"Yes-Completed","Previously Approved",null,"Round 1 (April) - Needs More Info","2012-12-31",null,"YES","2013-01-01","2013-12-31","",""]
[9,"281406301_3","11_281406301",11,"281406301","Comanche County Medical Center Company","281406301.4","281406301.4.1",3,3,"No-Not Started","Did Not Report",null,null,"Yes-Completed","Not Approved","HHSC found achievement of Category 4 reporting domain is not clearly demonstrated. Provider has declined to report this domain in DY3 by not submitting a Category 4 reporting template. Project is not approved and is no longer eligible for payment.\n","Round 2 (October) - Not Approved","2012-12-31",null,"YES","2013-01-01","2013-12-31","",""]
[9,"281406301_1","11_281406301",11,"281406301","Comanche County Medical Center Company","281406301.4","281406301.4.2",1,3,"No-Not Started","Did Not Report",null,null,"Yes-Completed","Not Approved","HHSC found achievement of Category 4 reporting domain is not clearly demonstrated. Provider has declined to report this domain in DY3 by not submitting a Category 4 reporting template. Project is not approved and is no longer eligible for payment.\n","Round 2 (October) - Not Approved","2012-12-31",null,"YES","2013-01-01","2013-12-31","",""]
[9,"281406301_2","11_281406301",11,"281406301","Comanche County Medical Center Company","281406301.4","281406301.4.3",2,3,"No-Not Started","Did Not Report",null,null,"Yes-Completed","Not Approved","HHSC found achievement of Category 4 reporting domain is not clearly demonstrated. Provider has declined to report this domain in DY3 by not submitting a Category 4 reporting template. Project is not approved and is no longer eligible for payment.\n","Round 2 (October) - Not Approved","2012-12-31",null,"YES","2013-01-01","2013-12-31","",""]
[9,"281406301_4","11_281406301",11,"281406301","Comanche County Medical Center Company","281406301.4","281406301.4.5",4,3,"No-Not Started","Did Not Report",null,null,"Yes-Completed","Not Approved","HHSC found achievement of Category 4 reporting domain is not clearly demonstrated. Provider has declined to report this domain in DY3 by not submitting a Category 4 reporting template. Project is not approved and is no longer eligible for payment.\n\n","Round 2 (October) - Not Approved","DNR","DNR","YES","TBD","TBD","TBD","TBD"]
[9,"281406301_5","11_281406301",11,"281406301","Comanche County Medical Center Company","281406301.4","281406301.4.6",5,3,"No-Not Started","Did Not Report",null,null,"Yes-Completed","Not Approved","HHSC found achievement of Category 4 reporting domain is not clearly demonstrated. Provider has declined to report this domain in DY3 by not submitting a Category 4 reporting template. Project is not approved and is no longer eligible for payment.\n","Round 2 (October) - Not Approved","DNR",null,"YES","TBD","TBD","",""]
[9,"126840107_3","12_126840107",12,"126840107","Preferred Hosp Leasing, Inc. dba Collingsworth Gen","126840107.4","126840107.4.1",3,3,"No-Not Started","Did Not Report",null,null,"Yes-Completed","Approved","Category 4 reporting domain was reviewed, and HHSC found provider submitted documentation to support achievement. Project is approved and eligible for payment.\n","Round 2 (October)","2012-12-31",null,"YES","2013-01-01","2013-12-31","",""]
[9,"126840107_1","12_126840107",12,"126840107","Preferred Hosp Leasing, Inc. dba Collingsworth Gen","126840107.4","126840107.4.2",1,3,"No-Not Started","Did Not Report",null,null,"Yes-Completed","Approved","Category 4 reporting domain was reviewed, and HHSC found provider submitted documentation to support achievement. Project is approved and eligible for payment.\n","Round 2 (October)","2012-12-31",null,"YES","2013-01-01","2013-12-31","",""]
[9,"126840107_2","12_126840107",12,"126840107","Preferred Hosp Leasing, Inc. dba Collingsworth Gen","126840107.4","126840107.4.3",2,3,"No-Not Started","Did Not Report",null,null,"Yes-Completed","Approved","Category 4 reporting domain was reviewed, and HHSC found provider submitted documentation to support achievement. Project is approved and eligible for payment.\n","Round 2 (October)","2012-12-31",null,"YES","2013-01-01","2013-12-31","",""]
[9,"126840107_4","12_126840107",12,"126840107","Preferred Hosp Leasing, Inc. dba Collingsworth Gen","126840107.4","126840107.4.5",4,3,"No-Not Started","Did Not Report",null,null,"Yes-Completed","Approved","Category 4 reporting domain was reviewed, and HHSC found provider submitted documentation to support achievement. Project is approved and eligible for payment.\n","Round 2 (October)","2014-09-30","2014-09-30","NO","2014-10-01","2015-09-30","2014-10-01","2015-09-30"]
[9,"126840107_5","12_126840107",12,"126840107","Preferred Hosp Leasing, Inc. dba Collingsworth Gen","126840107.4","126840107.4.6",5,3,"No-Not Started","Did Not Report",null,null,"Yes-Completed","Approved","Category 4 reporting domain was reviewed, and HHSC found provider submitted documentation to support achievement. Project is approved and eligible for payment.\n","Round 2 (October)","2014-09-30",null,"NO","2014-10-01","2015-09-30","",""]
[9,"127619504_3","12_127619504",12,"127619504","Methodist Children's Hosp dba Covenant Children's",127319504.40000001,"127319504.4.1",3,3,"Yes-Completed","Approved","Provider submitted required documentation to support Category 4 achievement. Project 127319504.4.1 is approved and eligible for DY3 payment.",null,"Yes-Completed","Previously Approved",null,"Round 1 (April)","2012-12-31",null,"YES","2013-01-01","2013-12-31","",""]
[9,"127619504_1","12_127619504",12,"127619504","Methodist Children's Hosp dba Covenant Children's","127319504.4","127319504.4.2",1,3,"Yes-Completed","Approved","Provider submitted required documentation to support Category 4 achievement. Project 127319504.4.2 is approved and eligible for DY3 payment.",null,"Yes-Completed","Previously Approved",null,"Round 1 (April)","2012-12-31",null,"YES","2013-01-01","2013-12-31","",""]
[9,"127619504_2","12_127619504",12,"127619504","Methodist Children's Hosp dba Covenant Children's","127319504.4","127319504.4.3",2,3,"Yes-Completed","Approved","Provider submitted required documentation to support Category 4 achievement. Project 127319504.4.3 is approved and eligible for DY3 payment.",null,"Yes-Completed","Previously Approved",null,"Round 1 (April)","2012-12-31",null,"YES","2013-01-01","2013-12-31","",""]
[9,"127619504_4","12_127619504",12,"127619504","Methodist Children's Hosp dba Covenant Children's","127319504.4","127319504.4.5",4,3,"No-Not Started","Did Not Report",null,null,"Yes-Completed","Needs More Info - Approved","Category 4 reporting domain was reviewed, and HHSC found provider submitted documentation to support achievement. Reporting domain is approved and eligible for payment.\n","Round 2 (October) - Needs More Info","2014-09-30","2014-09-30","NO","2014-10-01","2015-09-30","2014-10-01","2015-09-30"]
[9,"127619504_5","12_127619504",12,"127619504","Methodist Children's Hosp dba Covenant Children's","127319504.4","127319504.4.6",5,3,"No-Not Started","Did Not Report",null,null,"Yes-Completed","Needs More Info - Approved","Category 4 reporting domain was reviewed, and HHSC found provider submitted documentation to support achievement. Reporting domain is approved and eligible for payment.\n","Round 2 (October) - Needs More Info","2014-09-30",null,"NO","2014-10-01","2015-09-30","",""]
[9,"322879301_3","12_322879301",12,"322879301","Baptist St. Anthony's Health System","133457505.4","133457505.4.1",3,3,null,null,null,null,"Yes-Completed","Approved","Category 4 reporting domain was reviewed, and HHSC found provider submitted documentation to support achievement. Project is approved and eligible for payment.\n","Round 2 (October)","2012-12-31",null,"YES","2013-01-01","2013-12-31","",""]
[9,"322879301_1","12_322879301",12,"322879301","Baptist St. Anthony's Health System","133457505.4","133457505.4.2",1,3,null,null,null,null,"Yes-Completed","Approved","Category 4 reporting domain was reviewed, and HHSC found provider submitted documentation to support achievement. Project is approved and eligible for payment.\n","Round 2 (October)","2012-12-31",null,"YES","2013-01-01","2013-12-31","",""]
[9,"322879301_2","12_322879301",12,"322879301","Baptist St. Anthony's Health System","133457505.4","133457505.4.3",2,3,null,null,null,null,"Yes-Completed","Approved","Category 4 reporting domain was reviewed, and HHSC found provider submitted documentation to support achievement. Project is approved and eligible for payment.\n","Round 2 (October)","2012-12-31",null,"YES","2013-01-01","2013-12-31","",""]
[9,"322879301_4","12_322879301",12,"322879301","Baptist St. Anthony's Health System","133457505.4","133457505.4.5",4,3,null,null,null,null,"Yes-Completed","Approved","Category 4 reporting domain was reviewed, and HHSC found provider submitted documentation to support achievement. Project is approved and eligible for payment.\n","Round 2 (October)","2013-09-30","2013-09-30","YES","2013-10-01","2014-09-30","2013-10-01","2014-09-30"]
[9,"322879301_5","12_322879301",12,"322879301","Baptist St. Anthony's Health System","133457505.4","133457505.4.6",5,3,null,null,null,null,"Yes-Completed","Approved","Category 4 reporting domain was reviewed, and HHSC found provider submitted documentation to support achievement. Project is approved and eligible for payment.\n","Round 2 (October)","2014-09-30",null,"NO","2014-10-01","2015-09-30","",""]
[9,"322879301_6","12_322879301",12,"322879301","Baptist St. Anthony's Health System","133457505.4","133457505.4.7",6,3,null,null,null,null,"Yes-Completed","Needs More Info - Approved","Category 4 reporting domain was reviewed, and HHSC found provider submitted documentation to support achievement. Reporting domain is approved and eligible for payment.","Round 2 (October) - Needs More Info","2013-12-31",null,"YES","2014-01-01","2014-12-31","",""]
[9,"136492909_3","12_136492909",12,"136492909","Lubbock Regional MHMR Center dba Sunrise Canyon Ho","136492909.4","136492909.4.1",3,3,"Yes-Completed","Approved","Provider submitted required documentation to support Category 4 achievement. Project 136492909.4.1 is approved and eligible for DY3 payment.",null,"Yes-Completed","Previously Approved",null,"Round 1 (April)","2012-12-31",null,"YES","2013-01-01","2013-12-31","",""]
[9,"136492909_1","12_136492909",12,"136492909","Lubbock Regional MHMR Center dba Sunrise Canyon Ho","136492909.4","136492909.4.2",1,3,"Yes-Completed","Approved","Provider submitted required documentation to support Category 4 achievement. Project 136492909.4.2 is approved and eligible for DY3 payment.",null,"Yes-Completed","Previously Approved",null,"Round 1 (April)","2012-12-31",null,"YES","2013-01-01","2013-12-31","",""]
[9,"136492909_2","12_136492909",12,"136492909","Lubbock Regional MHMR Center dba Sunrise Canyon Ho","136492909.4","136492909.4.3",2,3,"Yes-Completed","Approved","Provider submitted required documentation to support Category 4 achievement. Project 136492909.4.3 is approved and eligible for DY3 payment.",null,"Yes-Completed","Previously Approved",null,"Round 1 (April)","2012-12-31",null,"YES","2013-01-01","2013-12-31","",""]
[9,"136492909_4","12_136492909",12,"136492909","Lubbock Regional MHMR Center dba Sunrise Canyon Ho","136492909.4","136492909.4.5",4,3,"No-Not Started","Did Not Report",null,null,"Yes-Completed","Approved","Category 4 reporting domain was reviewed, and HHSC found provider submitted documentation to support achievement. Project is approved and eligible for payment.\n","Round 2 (October)","2013-08-31","2013-08-31","YES","2013-09-01","2014-08-31","2013-09-01","2014-08-31"]
[9,"136492909_5","12_136492909",12,"136492909","Lubbock Regional MHMR Center dba Sunrise Canyon Ho","136492909.4","136492909.4.6",5,3,"No-Not Started","Did Not Report",null,null,"Yes-Completed","Approved","Category 4 reporting domain was reviewed, and HHSC found provider submitted documentation to support achievement. Project is approved and eligible for payment.\n","Round 2 (October)","2013-12-31",null,"YES","2014-01-01","2014-12-31","",""]
[9,"137245009_3","12_137245009",12,"137245009","UHS @ Amarillo Inc dba Northwest Texas Healthcare","137245009.4","137245009.4.1",3,3,null,null,null,null,"Yes-Completed","Approved","Category 4 reporting domain was reviewed, and HHSC found provider submitted documentation to support achievement. Project is approved and eligible for payment.\n","Round 2 (October)","2012-12-31",null,"YES","2013-01-01","2013-12-31","",""]
[9,"137245009_1","12_137245009",12,"137245009","UHS @ Amarillo Inc dba Northwest Texas Healthcare","137245009.4","137245009.4.2",1,3,null,null,null,null,"Yes-Completed","Approved","Category 4 reporting domain was reviewed, and HHSC found provider submitted documentation to support achievement. Project is approved and eligible for payment.\n","Round 2 (October)","2012-12-31",null,"YES","2013-01-01","2013-12-31","",""]
[9,"137245009_2","12_137245009",12,"137245009","UHS @ Amarillo Inc dba Northwest Texas Healthcare","137245009.4","137245009.4.3",2,3,null,null,null,null,"Yes-Completed","Approved","Category 4 reporting domain was reviewed, and HHSC found provider submitted documentation to support achievement. Project is approved and eligible for payment.\n","Round 2 (October)","2012-12-31",null,"YES","2013-01-01","2013-12-31","",""]
[9,"137245009_4","12_137245009",12,"137245009","UHS @ Amarillo Inc dba Northwest Texas Healthcare","137245009.4","137245009.4.5",4,3,null,null,null,null,"Yes-Completed","Approved","Category 4 reporting domain was reviewed, and HHSC found provider submitted documentation to support achievement. Project is approved and eligible for payment.\n\n","Round 2 (October)","2013-12-31","2013-12-31","YES","2014-01-01","2014-12-31","2014-01-01","2014-12-31"]
[9,"137245009_5","12_137245009",12,"137245009","UHS @ Amarillo Inc dba Northwest Texas Healthcare","137245009.4","137245009.4.6",5,3,null,null,null,null,"Yes-Completed","Approved","Category 4 reporting domain was reviewed, and HHSC found provider submitted documentation to support achievement. Project is approved and eligible for payment.\n","Round 2 (October)","2013-12-31",null,"YES","2014-01-01","2014-12-31","",""]
[9,"137343308_3","12_137343308",12,"137343308","Parmer County Community Hospital","137343308.4","137343308.4.1",3,3,"No-Not Started","Did Not Report",null,null,"Yes-Completed","Approved","Category 4 reporting domain was reviewed, and HHSC found provider submitted documentation to support achievement. Project is approved and eligible for payment.\n","Round 2 (October)","2012-12-31",null,"YES","2013-01-01","2013-12-31","",""]
[9,"137343308_1","12_137343308",12,"137343308","Parmer County Community Hospital","137343308.4","137343308.4.2",1,3,"No-Not Started","Did Not Report",null,null,"Yes-Completed","Approved","Category 4 reporting domain was reviewed, and HHSC found provider submitted documentation to support achievement. Project is approved and eligible for payment.\n","Round 2 (October)","2012-12-31",null,"YES","2013-01-01","2013-12-31","",""]
[9,"137343308_2","12_137343308",12,"137343308","Parmer County Community Hospital","137343308.4","137343308.4.3",2,3,"No-Not Started","Did Not Report",null,null,"Yes-Completed","Approved","Category 4 reporting domain was reviewed, and HHSC found provider submitted documentation to support achievement. Project is approved and eligible for payment.\n","Round 2 (October)","2012-12-31",null,"YES","2013-01-01","2013-12-31","",""]
[9,"137343308_4","12_137343308",12,"137343308","Parmer County Community Hospital","137343308.4","137343308.4.5",4,3,"No-Not Started","Did Not Report",null,null,"Yes-Completed","Approved","Category 4 reporting domain was reviewed, and HHSC found provider submitted documentation to support achievement. Project is approved and eligible for payment.\n","Round 2 (October)","2014-09-30","2014-09-30","NO","2014-10-01","2015-09-30","2014-10-01","2015-09-30"]
[9,"137343308_5","12_137343308",12,"137343308","Parmer County Community Hospital","137343308.4","137343308.4.6",5,3,"No-Not Started","Did Not Report",null,null,"Yes-Completed","Approved","Category 4 reporting domain was reviewed, and HHSC found provider submitted documentation to support achievement. Project is approved and eligible for payment.\n","Round 2 (October)","2014-08-31",null,"NO","2014-09-01","2015-08-31","",""]
[9,"137999206_3","12_137999206",12,"137999206","Lubbock County Hospital District dba University Me","137999206.4","137999206.4.1",3,3,"Yes-Completed","Approved","Provider submitted required documentation to support Category 4 achievement. Project 137999206.4.1 is approved and eligible for DY3 payment.",null,"Yes-Completed","Previously Approved",null,"Round 1 (April)","2012-12-31",null,"YES","2013-01-01","2013-12-31","",""]
[9,"137999206_1","12_137999206",12,"137999206","Lubbock County Hospital District dba University Me","137999206.4","137999206.4.2",1,3,"Yes-Completed","Approved","Provider submitted required documentation to support Category 4 achievement. Project 137999206.4.2 is approved and eligible for DY3 payment.",null,"Yes-Completed","Previously Approved",null,"Round 1 (April)","2012-12-31",null,"YES","2013-01-01","2013-12-31","",""]
[9,"137999206_2","12_137999206",12,"137999206","Lubbock County Hospital District dba University Me","137999206.4","137999206.4.3",2,3,"Yes-Completed","Approved","Provider submitted required documentation to support Category 4 achievement. Project 137999206.4.3 is approved and eligible for DY3 payment.",null,"Yes-Completed","Previously Approved",null,"Round 1 (April)","2012-12-31",null,"YES","2013-01-01","2013-12-31","",""]
[9,"137999206_4","12_137999206",12,"137999206","Lubbock County Hospital District dba University Me","137999206.4","137999206.4.5",4,3,"Yes-Completed","Approved","Provider submitted required documentation to support Category 4 achievement. Project 137999206.4.5 is approved and eligible for DY3 payment.",null,"Yes-Completed","Previously Approved",null,"Round 1 (April)","2013-12-31","2013-12-31","YES","2014-01-01","2014-12-31","2014-01-01","2014-12-31"]
[9,"137999206_5","12_137999206",12,"137999206","Lubbock County Hospital District dba University Me","137999206.4","137999206.4.6",5,3,"Yes-Completed","Approved","Provider submitted required documentation to support Category 4 achievement. Project 137999206.4.6 is approved and eligible for DY3 payment.",null,"Yes-Completed","Previously Approved",null,"Round 1 (April)","2013-12-31",null,"YES","2014-01-01","2014-12-31","",""]
[9,"139461107_3","12_139461107",12,"139461107","Covenant Health System dba Covenant Medical Center","139461107.4","139461107.4.1",3,3,"Yes-Completed","Approved","Provider submitted required documentation to support Category 4 achievement. Project 139461107.4.1 is approved and eligible for DY3 payment.",null,"Yes-Completed","Previously Approved",null,"Round 1 (April)","2012-12-31",null,"YES","2013-01-01","2013-12-31","",""]
[9,"139461107_1","12_139461107",12,"139461107","Covenant Health System dba Covenant Medical Center","139461107.4","139461107.4.2",1,3,"Yes-Completed","Approved","Provider submitted required documentation to support Category 4 achievement. Project 139461107.4.2 is approved and eligible for DY3 payment.",null,"Yes-Completed","Previously Approved",null,"Round 1 (April)","2012-12-31",null,"YES","2013-01-01","2013-12-31","",""]
[9,"139461107_2","12_139461107",12,"139461107","Covenant Health System dba Covenant Medical Center","139461107.4","139461107.4.3",2,3,"Yes-Completed","Approved","Provider submitted required documentation to support Category 4 achievement. Project 139461107.4.3 is approved and eligible for DY3 payment.",null,"Yes-Completed","Previously Approved",null,"Round 1 (April)","2012-12-31",null,"YES","2013-01-01","2013-12-31","",""]
[9,"139461107_4","12_139461107",12,"139461107","Covenant Health System dba Covenant Medical Center","139461107.4","139461107.4.5",4,3,"No-Not Started","Did Not Report",null,null,"Yes-Completed","Needs More Info - Approved","Category 4 reporting domain was reviewed, and HHSC found provider submitted documentation to support achievement. Reporting domain is approved and eligible for payment.\n\n","Round 2 (October) - Needs More Info","2014-09-30","2014-09-30","NO","2014-10-01","2015-09-30","2014-10-01","2015-09-30"]
[9,"139461107_5","12_139461107",12,"139461107","Covenant Health System dba Covenant Medical Center","139461107.4","139461107.4.6",5,3,"No-Not Started","Did Not Report",null,null,"Yes-Completed","Needs More Info - Approved","Category 4 reporting domain was reviewed, and HHSC found provider submitted documentation to support achievement. Reporting domain is approved and eligible for payment.\n","Round 2 (October) - Needs More Info","2014-09-30",null,"NO","2014-10-01","2015-09-30","",""]
[9,"308032701_3","12_308032701",12,"308032701","Prime Healthcare Services - Pampa, LLC dba Pampa R","178848102.4","178848102.4.1",3,3,"Yes-Completed","Approved","Provider submitted required documentation to support Category 4 achievement. Project 178848102.4.1 is approved and eligible for DY3 payment.",null,"Yes-Completed","Previously Approved",null,"Round 1 (April)","2012-12-31",null,"YES","2013-01-01","2013-12-31","",""]
[9,"308032701_1","12_308032701",12,"308032701","Prime Healthcare Services - Pampa, LLC dba Pampa R","178848102.4","178848102.4.2",1,3,"Yes-Completed","Approved","Provider submitted required documentation to support Category 4 achievement. Project 178848102.4.2 is approved and eligible for DY3 payment.",null,"Yes-Completed","Previously Approved",null,"Round 1 (April)","2012-12-31",null,"YES","2013-01-01","2013-12-31","",""]
[9,"308032701_2","12_308032701",12,"308032701","Prime Healthcare Services - Pampa, LLC dba Pampa R","178848102.4","178848102.4.3",2,3,"Yes-Completed","Approved","Provider submitted required documentation to support Category 4 achievement. Project 178848102.4.3 is approved and eligible for DY3 payment.",null,"Yes-Completed","Previously Approved",null,"Round 1 (April)","2012-12-31",null,"YES","2013-01-01","2013-12-31","",""]
[9,"308032701_4","12_308032701",12,"308032701","Prime Healthcare Services - Pampa, LLC dba Pampa R","178848102.4","178848102.4.5",4,3,"Yes-Completed","Approved","Provider submitted required documentation to support Category 4 achievement. Project 178848102.4.5 is approved and eligible for DY3 payment.",null,"Yes-Completed","Previously Approved",null,"Round 1 (April)","2013-12-31","2014-03-31","NO","2014-01-01","2014-12-31","2014-04-01","2015-03-31"]
[9,"308032701_5","12_308032701",12,"308032701","Prime Healthcare Services - Pampa, LLC dba Pampa R","178848102.4","178848102.4.6",5,3,"Yes-Completed","Approved","Provider submitted required documentation to support Category 4 achievement. Project 178848102.4.6 is approved and eligible for DY3 payment.",null,"Yes-Completed","Previously Approved",null,"Round 1 (April)","2013-12-31",null,"YES","2014-01-01","2014-12-31","",""]
[9,"197063401_3","12_197063401",12,"197063401","GPCH LLC dba Golden Plains Community Hospital","197063401.4","197063401.4.1",3,3,"Yes-Completed","Approved","Provider submitted required documentation to support Category 4 achievement. Project 197063401.4.1 is approved and eligible for DY3 payment.",null,"Yes-Completed","Previously Approved",null,"Round 1 (April)","2012-12-31",null,"YES","2013-01-01","2013-12-31","",""]
[9,"197063401_1","12_197063401",12,"197063401","GPCH LLC dba Golden Plains Community Hospital","197063401.4","197063401.4.2",1,3,"Yes-Completed","Approved","Provider submitted required documentation to support Category 4 achievement. Project 197063401.4.2 is approved and eligible for DY3 payment.",null,"Yes-Completed","Previously Approved",null,"Round 1 (April)","2012-12-31",null,"YES","2013-01-01","2013-12-31","",""]
[9,"197063401_2","12_197063401",12,"197063401","GPCH LLC dba Golden Plains Community Hospital","197063401.4","197063401.4.3",2,3,"Yes-Completed","Approved","Provider submitted required documentation to support Category 4 achievement. Project 197063401.4.3 is approved and eligible for DY3 payment.",null,"Yes-Completed","Previously Approved",null,"Round 1 (April)","2012-12-31",null,"YES","2013-01-01","2013-12-31","",""]
[9,"197063401_4","12_197063401",12,"197063401","GPCH LLC dba Golden Plains Community Hospital","197063401.4","197063401.4.5",4,3,"No-Not Started","Did Not Report",null,null,"Yes-Completed","Approved","Category 4 reporting domain was reviewed, and HHSC found provider submitted documentation to support achievement. Project is approved and eligible for payment.\n","Round 2 (October)","2014-09-30","2013-12-31","NO","2014-10-01","2015-09-30","2014-01-01","2014-12-31"]
[{"$f":"LEN(E707)","v":9},{"$f":"E707&\"_\"&I707","v":"197063401_5"},{"$f":"D707&\"_\"&E707","v":"12_197063401"},12,"197063401","GPCH LLC dba Golden Plains Community Hospital","197063401.4","197063401.4.6",5,3,"Yes-Completed","Approved","Provider submitted required documentation to support Category 4 achievement. Project 197063401.4.6 is approved and eligible for DY3 payment.",null,"Yes-Completed","Previously Approved",null,"Round 1 (April)","2013-12-31",null,"YES","2014-01-01","2014-12-31","",""]
[9,"281514401_3","12_281514401",12,"281514401","Lubbock Heritage Hospital dba Grace Medical Center","281514401.4","281514401.4.1",3,3,"Yes-Completed","Approved","Provider submitted required documentation to support Category 4 achievement. Project 281514401.4.1 is approved and eligible for DY3 payment.",null,"Yes-Completed","Previously Approved",null,"Round 1 (April)","2012-12-31",null,"YES","2013-01-01","2013-12-31","",""]
[9,"281514401_1","12_281514401",12,"281514401","Lubbock Heritage Hospital dba Grace Medical Center","281514401.4","281514401.4.2",1,3,"Yes-Completed","Approved","Provider submitted required documentation to support Category 4 achievement. Project 281514401.4.2 is approved and eligible for DY3 payment.",null,"Yes-Completed","Previously Approved",null,"Round 1 (April)","2012-12-31",null,"YES","2013-01-01","2013-12-31","",""]
[9,"281514401_2","12_281514401",12,"281514401","Lubbock Heritage Hospital dba Grace Medical Center","281514401.4","281514401.4.3",2,3,"Yes-Completed","Approved","Provider submitted required documentation to support Category 4 achievement. Project 281514401.4.3 is approved and eligible for DY3 payment.",null,"Yes-Completed","Previously Approved",null,"Round 1 (April)","2012-12-31",null,"YES","2013-01-01","2013-12-31","",""]
[9,"281514401_4","12_281514401",12,"281514401","Lubbock Heritage Hospital dba Grace Medical Center","281514401.4","281514401.4.5",4,3,"Yes-Completed","Approved","Provider submitted required documentation to support Category 4 achievement. Project 281514401.4.5 is approved and eligible for DY3 payment.",null,"Yes-Completed","Previously Approved",null,"Round 1 (April)","2013-09-30","2013-09-30","YES","2013-10-01","2014-09-30","2013-10-01","2014-09-30"]
[9,"281514401_5","12_281514401",12,"281514401","Lubbock Heritage Hospital dba Grace Medical Center","281514401.4","281514401.4.6",5,3,"Yes-Completed","Approved","Provider submitted required documentation to support Category 4 achievement. Project 281514401.4.6 is approved and eligible for DY3 payment.",null,"Yes-Completed","Previously Approved",null,"Round 1 (April)","2013-09-30",null,"YES","2013-10-01","2014-09-30","",""]
[9,"316360201_3","13_316360201",13,"316360201","Coleman County Medical Center","136144610.4","136144610.4.1",3,3,"No-Not Started","Did Not Report",null,null,null,null,null,"Did Not Report","2012-12-31",null,"YES","2013-01-01","2013-12-31","",""]
[9,"316360201_1","13_316360201",13,"316360201","Coleman County Medical Center","136144610.4","136144610.4.2",1,3,"No-Not Started","Did Not Report",null,null,"Yes-Completed","Approved","Category 4 reporting domain was reviewed, and HHSC found provider submitted documentation to support achievement. Project is approved and eligible for payment.\n","Round 2 (October)","2012-12-31",null,"YES","2013-01-01","2013-12-31","",""]
[9,"316360201_2","13_316360201",13,"316360201","Coleman County Medical Center","136144610.4","136144610.4.3",2,3,"No-Not Started","Did Not Report",null,null,"Yes-Completed","Approved","Category 4 reporting domain was reviewed, and HHSC found provider submitted documentation to support achievement. Project is approved and eligible for payment.\n","Round 2 (October)","2012-12-31",null,"YES","2013-01-01","2013-12-31","",""]
[9,"316360201_4","13_316360201",13,"316360201","Coleman County Medical Center","136144610.4","136144610.4.5",4,3,"No-Not Started","Did Not Report",null,null,"Yes-Completed","Approved","Category 4 reporting domain was reviewed, and HHSC found provider submitted documentation to support achievement. Project is approved and eligible for payment.\n","Round 2 (October)","2014-09-30","2014-09-30","NO","2014-10-01","2015-09-30","2014-10-01","2015-09-30"]
[9,"316360201_5","13_316360201",13,"316360201","Coleman County Medical Center","136144610.4","136144610.4.6",5,3,"No-Not Started","Did Not Report",null,null,"Yes-Completed","Not Approved","HHSC found achievement of Category 4 project is not clearly demonstrated. The Center for Medicare and Medicaid Services has declined to approve for payment projects reporting less than a full 9 months of emergency department data for Category 4 Reporting Domain 5. Project is not approved and is no longer eligible for payment for DY3.\n","Round 2 (October) - Not Approved","2014-06-30",null,"NO","2014-07-01","2015-06-30","",""]
[9,"137226005_3","13_137226005",13,"137226005","Shannon Medical Center","137226005.4","137226005.4.1",3,3,"Yes-Completed","Approved","Provider submitted required documentation to support Category 4 achievement. Project 137226005.4.1 is approved and eligible for DY3 payment.",null,"Yes-Completed","Previously Approved",null,"Round 1 (April)","2012-12-31",null,"YES","2013-01-01","2013-12-31","",""]
[9,"137226005_1","13_137226005",13,"137226005","Shannon Medical Center","137226005.4","137226005.4.2",1,3,"Yes-Completed","Approved","Provider submitted required documentation to support Category 4 achievement. Project 137226005.4.2 is approved and eligible for DY3 payment.",null,"Yes-Completed","Previously Approved",null,"Round 1 (April)","2012-12-31",null,"YES","2013-01-01","2013-12-31","",""]
[9,"137226005_2","13_137226005",13,"137226005","Shannon Medical Center","137226005.4","137226005.4.3",2,3,"Yes-Completed","Approved","Provider submitted required documentation to support Category 4 achievement. Project 137226005.4.3 is approved and eligible for DY3 payment.",null,"Yes-Completed","Previously Approved",null,"Round 1 (April)","2012-12-31",null,"YES","2013-01-01","2013-12-31","",""]
[9,"137226005_4","13_137226005",13,"137226005","Shannon Medical Center","137226005.4","137226005.4.5",4,3,"Yes-Completed","Approved","Provider submitted required documentation to support Category 4 achievement. Project 137226005.4.5 is approved and eligible for DY3 payment.",null,"Yes-Completed","Previously Approved",null,"Round 1 (April)","2013-09-30","2013-09-30","YES","2013-10-01","2014-09-30","2013-10-01","2014-09-30"]
[9,"137226005_5","13_137226005",13,"137226005","Shannon Medical Center","137226005.4","137226005.4.6",5,3,"Yes-Completed","Approved","Provider submitted required documentation to support Category 4 achievement. Project 137226005.4.6 is approved and eligible for DY3 payment.",null,"Yes-Completed","Previously Approved",null,"Round 1 (April)","2013-09-30",null,"YES","2013-10-01","2014-09-30","",""]
[9,"179272301_3","13_179272301",13,"179272301","Preferred Hosp Leasing Eldorado, Inc. dba Schleich","179272301.4","179272301.4.1",3,3,"No-Not Started","Did Not Report",null,null,"Yes-Completed","Approved","Category 4 reporting domain was reviewed, and HHSC found provider submitted documentation to support achievement. Project is approved and eligible for payment.\n","Round 2 (October)","2012-12-31",null,"YES","2013-01-01","2013-12-31","",""]
[9,"179272301_1","13_179272301",13,"179272301","Preferred Hosp Leasing Eldorado, Inc. dba Schleich","179272301.4","179272301.4.2",1,3,"No-Not Started","Did Not Report",null,null,"Yes-Completed","Approved","Category 4 reporting domain was reviewed, and HHSC found provider submitted documentation to support achievement. Project is approved and eligible for payment.\n","Round 2 (October)","2012-12-31",null,"YES","2013-01-01","2013-12-31","",""]
[9,"179272301_2","13_179272301",13,"179272301","Preferred Hosp Leasing Eldorado, Inc. dba Schleich","179272301.4","179272301.4.3",2,3,"No-Not Started","Did Not Report",null,null,"Yes-Completed","Approved","Category 4 reporting domain was reviewed, and HHSC found provider submitted documentation to support achievement. Project is approved and eligible for payment.\n","Round 2 (October)","2012-12-31",null,"YES","2013-01-01","2013-12-31","",""]
[9,"179272301_4","13_179272301",13,"179272301","Preferred Hosp Leasing Eldorado, Inc. dba Schleich","179272301.4","179272301.4.5",4,3,"No-Not Started","Did Not Report",null,null,"Yes-Completed","Not Approved","HHSC found achievement of Category 4 reporting domain is not clearly demonstrated. Provider has not provided a medication management rate (either from an EHR or a chart review). Project is not approved and is no longer eligible for payment for DY3.\n","Round 2 (October) - Not Approved","2014-09-30","2014-09-30","NO","2014-10-01","2015-09-30","2014-10-01","2015-09-30"]
[9,"179272301_5","13_179272301",13,"179272301","Preferred Hosp Leasing Eldorado, Inc. dba Schleich","179272301.4","179272301.4.6",5,3,"No-Not Started","Did Not Report",null,null,"Yes-Completed","Not Approved","HHSC found achievement of Category 4 reporting domain is not clearly demonstrated. Provider has not provided am emergency department throughput rate (either from an EHR or a chart review). Project is not approved and is no longer eligible for payment for DY3.\n\n","Round 2 (October) - Not Approved","2012-12-31",null,"YES","2013-01-01","2013-12-31","",""]
[9,"131042703_3","13_131042703",13,"131042703","Preferred Hosp Leasing Junction Inc. dba Kimble Ho","206083201.4","206083201.4.1",3,3,"No-Not Started","Did Not Report",null,null,"Yes-Completed","Approved","Category 4 reporting domain was reviewed, and HHSC found provider submitted documentation to support achievement. Project is approved and eligible for payment.\n","Round 2 (October)","2012-12-31",null,"YES","2013-01-01","2013-12-31","",""]
[9,"131042703_1","13_131042703",13,"131042703","Preferred Hosp Leasing Junction Inc. dba Kimble Ho","206083201.4","206083201.4.2",1,3,"No-Not Started","Did Not Report",null,null,"Yes-Completed","Approved","Category 4 reporting domain was reviewed, and HHSC found provider submitted documentation to support achievement. Project is approved and eligible for payment.\n","Round 2 (October)","2012-12-31",null,"YES","2013-01-01","2013-12-31","",""]
[9,"131042703_2","13_131042703",13,"131042703","Preferred Hosp Leasing Junction Inc. dba Kimble Ho","206083201.4","206083201.4.3",2,3,"No-Not Started","Did Not Report",null,null,"Yes-Completed","Approved","Category 4 reporting domain was reviewed, and HHSC found provider submitted documentation to support achievement. Project is approved and eligible for payment.\n","Round 2 (October)","2012-12-31",null,"YES","2013-01-01","2013-12-31","",""]
[9,"131042703_4","13_131042703",13,"131042703","Preferred Hosp Leasing Junction Inc. dba Kimble Ho","206083201.4","206083201.4.5",4,3,"No-Not Started","Did Not Report",null,null,"Yes-Completed","Not Approved","HHSC found achievement of Category 4 project is not clearly demonstrated. The Center for Medicare and Medicaid Services has declined to approve for payment projects reporting less than a full 10 months of HCAHPS data for Category 4 Reporting Domain 4. Project is not approved and is no longer eligible for payment for DY3.\n","Round 2 (October) - Not Approved","2014-09-30","2014-09-30","NO","2014-10-01","2015-09-30","2014-10-01","2015-09-30"]
[9,"131042703_5","13_131042703",13,"131042703","Preferred Hosp Leasing Junction Inc. dba Kimble Ho","206083201.4","206083201.4.6",5,3,"No-Not Started","Did Not Report",null,null,"No-Not Started","Not Approved","HHSC found achievement of Category 4 reporting domain is not clearly demonstrated. Provider is not able to report this domain at this time. Project is not approved and is no longer eligible for payment for DY3.\n\n","Round 2 (October) - Not Approved","DNR",null,"YES","TBD","TBD","",""]
[9,"094204701_3","14_094204701",14,"094204701","Winkler County Memorial Hospital","094204701.4","094204701.4.1",3,3,"No-Not Started","Did Not Report",null,null,null,null,null,"Did Not Report","2012-12-31",null,"YES","2013-01-01","2013-12-31","",""]
[9,"094204701_1","14_094204701",14,"094204701","Winkler County Memorial Hospital","094204701.4","094204701.4.2",1,3,"No-Not Started","Did Not Report",null,null,"Yes-Completed","Approved","Category 4 reporting domain was reviewed, and HHSC found provider submitted documentation to support achievement. Project is approved and eligible for payment.\n","Round 2 (October)","2012-12-31",null,"YES","2013-01-01","2013-12-31","",""]
[9,"094204701_2","14_094204701",14,"094204701","Winkler County Memorial Hospital","094204701.4","094204701.4.3",2,3,"No-Not Started","Did Not Report",null,null,"Yes-Completed","Approved","Category 4 reporting domain was reviewed, and HHSC found provider submitted documentation to support achievement. Project is approved and eligible for payment.\n","Round 2 (October)","2012-12-31",null,"YES","2013-01-01","2013-12-31","",""]
[9,"094204701_4","14_094204701",14,"094204701","Winkler County Memorial Hospital","094204701.4","094204701.4.5",4,3,"No-Not Started","Did Not Report",null,null,"Yes-Completed","Not Approved","HHSC found achievement of Category 4 project is not clearly demonstrated. Centers for Medicare & Medicaid Services (CMS) has declined to approve for payment projects reporting less than a full 10 months of HCAHPS data collected by the end of DY3 (Sept 30, 2014) for Category 4 Reporting Domain 4. Project is not approved and is no longer eligible for payment for DY3.\n","Round 2 (October) - Not Approved","2014-09-30","2013-12-31","NO","2014-10-01","2015-09-30","2014-01-01","2014-12-31"]
[9,"094204701_5","14_094204701",14,"094204701","Winkler County Memorial Hospital","094204701.4","094204701.4.6",5,3,"No-Not Started","Did Not Report",null,null,"Yes-Completed","Approved","Category 4 reporting domain was reviewed, and HHSC found provider submitted documentation to support achievement. Project is approved and eligible for payment.\n","Round 2 (October)","2012-12-31",null,"YES","2013-01-01","2013-12-31","",""]
[9,"094204701_6","14_094204701",14,"094204701","Winkler County Memorial Hospital","094204701.4","094204701.4.7",6,3,"No-Not Started","Did Not Report",null,null,null,null,null,"Did Not Report","DNR",null,"YES","TBD","TBD","",""]
[9,"112711003_3","14_112711003",14,"112711003","Odessa Regional Medical Center","112711003.4","112711003.4.1",3,3,"Yes-Completed","Approved","Provider submitted required documentation to support Category 4 achievement. Project 112711003.4.1 is approved and eligible for DY3 payment.",null,"Yes-Completed","Previously Approved",null,"Round 1 (April)","2012-12-31",null,"YES","2013-01-01","2013-12-31","",""]
[9,"112711003_1","14_112711003",14,"112711003","Odessa Regional Medical Center","112711003.4","112711003.4.2",1,3,"Yes-Completed","Approved","Provider submitted required documentation to support Category 4 achievement. Project 112711003.4.2 is approved and eligible for DY3 payment.",null,"Yes-Completed","Previously Approved",null,"Round 1 (April)","2012-12-31",null,"YES","2013-01-01","2013-12-31","",""]
[9,"112711003_2","14_112711003",14,"112711003","Odessa Regional Medical Center","112711003.4","112711003.4.3",2,3,"Yes-Completed","Approved","Provider submitted required documentation to support Category 4 achievement. Project 112711003.4.3 is approved and eligible for DY3 payment.",null,"Yes-Completed","Previously Approved",null,"Round 1 (April)","2012-12-31",null,"YES","2013-01-01","2013-12-31","",""]
[9,"112711003_4","14_112711003",14,"112711003","Odessa Regional Medical Center","112711003.4","112711003.4.5",4,3,"No-Not Started","Did Not Report","HHSC changed project 4.5 to Did Not Report because provider did not report recent enough data (should be a year's worth of data no earlier than CY12). Provider will need to report in October.",null,"Yes-Completed","Approved","Category 4 reporting domain was reviewed, and HHSC found provider submitted documentation to support achievement. Project is approved and eligible for payment.\n","Round 2 (October)","2014-09-30","2014-09-30","NO","2014-10-01","2015-09-30","2014-10-01","2015-09-30"]
[9,"112711003_5","14_112711003",14,"112711003","Odessa Regional Medical Center","112711003.4","112711003.4.6",5,3,"No-Not Started","Did Not Report",null,null,"Yes-Completed","Approved","Category 4 reporting domain was reviewed, and HHSC found provider submitted documentation to support achievement. Project is approved and eligible for payment.\n","Round 2 (October)","2014-09-30",null,"NO","2014-10-01","2015-09-30","",""]
[9,"135235306_3","14_135235306",14,"135235306","Ector County Hospital District dba Medical Center","135235306.4","135235306.4.1",3,3,"Yes-Completed","Approved","Provider submitted required documentation to support Category 4 achievement. Project 135235306.4.1 is approved and eligible for DY3 payment.",null,"Yes-Completed","Previously Approved",null,"Round 1 (April)","2012-12-31",null,"YES","2013-01-01","2013-12-31","",""]
[9,"135235306_1","14_135235306",14,"135235306","Ector County Hospital District dba Medical Center","135235306.4","135235306.4.2",1,3,"Yes-Completed","Approved","Provider submitted required documentation to support Category 4 achievement. Project 135235306.4.2 is approved and eligible for DY3 payment.",null,"Yes-Completed","Previously Approved",null,"Round 1 (April)","2012-12-31",null,"YES","2013-01-01","2013-12-31","",""]
[9,"135235306_2","14_135235306",14,"135235306","Ector County Hospital District dba Medical Center","135235306.4","135235306.4.3",2,3,"Yes-Completed","Approved","Provider submitted required documentation to support Category 4 achievement. Project 135235306.4.3 is approved and eligible for DY3 payment.",null,"Yes-Completed","Previously Approved",null,"Round 1 (April)","2012-12-31",null,"YES","2013-01-01","2013-12-31","",""]
[9,"135235306_4","14_135235306",14,"135235306","Ector County Hospital District dba Medical Center","135235306.4","135235306.4.5",4,3,"No-Not Started","Did Not Report",null,null,"Yes-Completed","Not Approved","HHSC found achievement of Category 4 project is not clearly demonstrated. Centers for Medicare & Medicaid Services (CMS) has declined to approve for payment projects reporting less than a full 9 months of medication management data collected by the end of DY3 (Sept 30, 2014) for Category 4 Reporting Domain 4. Project is not approved and is no longer eligible for payment for DY3.\n","Round 2 (October) - Not Approved","2014-09-30","2014-09-30","NO","2014-10-01","2015-09-30","2014-10-01","2015-09-30"]
[9,"135235306_5","14_135235306",14,"135235306","Ector County Hospital District dba Medical Center","135235306.4","135235306.4.6",5,3,"Yes-Completed","Approved","Provider submitted required documentation to support Category 4 achievement. Project 135235306.4.6 is approved and eligible for DY3 payment.",null,"Yes-Completed","Previously Approved",null,"Round 1 (April)","2013-09-30",null,"YES","2013-10-01","2014-09-30","",""]
[9,"136143806_3","14_136143806",14,"136143806","Midland County Hospital District dba Midland Memor","136143806.4","136143806.4.1",3,3,"Yes-Completed","Approved","Provider submitted required documentation to support Category 4 achievement. Project 136143806.4.1 is approved and eligible for DY3 payment.",null,"Yes-Completed","Previously Approved",null,"Round 1 (April)","2012-12-31",null,"YES","2013-01-01","2013-12-31","",""]
[9,"136143806_1","14_136143806",14,"136143806","Midland County Hospital District dba Midland Memor","136143806.4","136143806.4.2",1,3,"Yes-Completed","Approved","Provider submitted required documentation to support Category 4 achievement. Project 136143806.4.2 is approved and eligible for DY3 payment.",null,"Yes-Completed","Previously Approved",null,"Round 1 (April)","2012-12-31",null,"YES","2013-01-01","2013-12-31","",""]
[9,"136143806_2","14_136143806",14,"136143806","Midland County Hospital District dba Midland Memor","136143806.4","136143806.4.3",2,3,"Yes-Completed","Approved","Provider submitted required documentation to support Category 4 achievement. Project 136143806.4.3 is approved and eligible for DY3 payment.",null,"Yes-Completed","Previously Approved",null,"Round 1 (April)","2012-12-31",null,"YES","2013-01-01","2013-12-31","",""]
[9,"136143806_4","14_136143806",14,"136143806","Midland County Hospital District dba Midland Memor","136143806.4","136143806.4.5",4,3,"Yes-Completed","Approved","Provider submitted required documentation to support Category 4 achievement. Project 136143806.4.5 is approved and eligible for DY3 payment.",null,"Yes-Completed","Previously Approved",null,"Round 1 (April)","2013-12-31","2013-12-31","YES","2014-01-01","2014-12-31","2014-01-01","2014-12-31"]
[9,"136143806_5","14_136143806",14,"136143806","Midland County Hospital District dba Midland Memor","136143806.4","136143806.4.6",5,3,"Yes-Completed","Approved","Provider submitted required documentation to support Category 4 achievement. Project 136143806.4.6 is approved and eligible for DY3 payment.",null,"Yes-Completed","Previously Approved",null,"Round 1 (April)","2013-12-31",null,"YES","2014-01-01","2014-12-31","",""]
[9,"176354201_3","14_176354201",14,"176354201","Culberson County Hospital District","176354201.4","176354201.4.1",3,3,"No-Not Started","Did Not Report",null,null,null,null,null,"Did Not Report","2012-12-31",null,"YES","2013-01-01","2013-12-31","",""]
[9,"176354201_1","14_176354201",14,"176354201","Culberson County Hospital District","176354201.4","176354201.4.2",1,3,"No-Not Started","Did Not Report",null,null,"Yes-Completed","Approved","Category 4 reporting domain was reviewed, and HHSC found provider submitted documentation to support achievement. Project is approved and eligible for payment.\n","Round 2 (October)","2012-12-31",null,"YES","2013-01-01","2013-12-31","",""]
[9,"176354201_2","14_176354201",14,"176354201","Culberson County Hospital District","176354201.4","176354201.4.3",2,3,"No-Not Started","Did Not Report",null,null,"Yes-Completed","Approved","Category 4 reporting domain was reviewed, and HHSC found provider submitted documentation to support achievement. Project is approved and eligible for payment.\n","Round 2 (October)","2012-12-31",null,"YES","2013-01-01","2013-12-31","",""]
[9,"176354201_4","14_176354201",14,"176354201","Culberson County Hospital District","176354201.4","176354201.4.5",4,3,"No-Not Started","Did Not Report",null,null,"Yes-Completed","Not Approved","HHSC found achievement of Category 4 reporting domain is not clearly demonstrated. Provider has not reported medication management measure through EMR records or through sampling/chart reviewn. Project is not approved and is no longer eligible for payment for DY3.\n","Round 2 (October) - Not Approved","2014-09-30","DNR","NO","2014-10-01","2015-09-30","TBD","TBD"]
[9,"176354201_5","14_176354201",14,"176354201","Culberson County Hospital District","176354201.4","176354201.4.6",5,3,"No-Not Started","Did Not Report",null,null,"No-Not Started","Not Approved","HHSC found achievement of Category 4 reporting domain is not clearly demonstrated. Provider has not reported emergency department throughput measure through EMR records or through sampling/chart review. Project is not approved and is no longer eligible for payment for DY3.","Round 2 (October) - Not Approved","DNR",null,"YES","TBD","TBD","",""]
[9,"094109802_3","15_094109802",15,"094109802","El Paso Healthcare System Ltd dba Las Palmas Medic","094109802.4","094109802.4.1",3,3,"Yes-Completed","Approved","Provider submitted required documentation to support Category 4 achievement. Project 094109802.4.1 is approved and eligible for DY3 payment.",null,"Yes-Completed","Previously Approved",null,"Round 1 (April)","2012-12-31",null,"YES","2013-01-01","2013-12-31","",""]
[9,"094109802_1","15_094109802",15,"094109802","El Paso Healthcare System Ltd dba Las Palmas Medic","094109802.4","094109802.4.2",1,3,"Yes-Completed","Approved","Provider submitted required documentation to support Category 4 achievement. Project 094109802.4.2 is approved and eligible for DY3 payment.",null,"Yes-Completed","Previously Approved",null,"Round 1 (April)","2012-12-31",null,"YES","2013-01-01","2013-12-31","",""]
[9,"094109802_2","15_094109802",15,"094109802","El Paso Healthcare System Ltd dba Las Palmas Medic","094109802.4","094109802.4.3",2,3,"Yes-Completed","Approved","Provider submitted required documentation to support Category 4 achievement. Project 094109802.4.3 is approved and eligible for DY3 payment.",null,"Yes-Completed","Previously Approved",null,"Round 1 (April)","2012-12-31",null,"YES","2013-01-01","2013-12-31","",""]
[9,"094109802_4","15_094109802",15,"094109802","El Paso Healthcare System Ltd dba Las Palmas Medic","094109802.4","094109802.4.5",4,3,"Yes-Completed","Approved","Provider submitted required documentation to support Category 4 achievement. Project 094109802.4.5 is approved and eligible for DY3 payment.",null,"Yes-Completed","Previously Approved",null,"Round 1 (April)","2013-12-31","2013-12-31","YES","2014-01-01","2014-12-31","2014-01-01","2014-12-31"]
[9,"094109802_5","15_094109802",15,"094109802","El Paso Healthcare System Ltd dba Las Palmas Medic","094109802.4","094109802.4.6",5,3,"No-Not Started","Did Not Report",null,null,"Yes-Completed","Approved","Category 4 reporting domain was reviewed, and HHSC found provider submitted documentation to support achievement. Project is approved and eligible for payment.\n","Round 2 (October)","2014-09-30",null,"NO","2014-10-01","2015-09-30","",""]
[9,"130601104_3","15_130601104",15,"130601104","Tenet Hospital Limited dba Providence Memorial Hos","130601104.4","130601104.4.1",3,3,"Yes-Completed","Approved","Provider submitted required documentation to support Category 4 achievement. Project 130601104.4.1 is approved and eligible for DY3 payment.",null,"Yes-Completed","Previously Approved",null,"Round 1 (April)","2012-12-31",null,"YES","2013-01-01","2013-12-31","",""]
[9,"130601104_1","15_130601104",15,"130601104","Tenet Hospital Limited dba Providence Memorial Hos","130601104.4","130601104.4.2",1,3,"Yes-Completed","Approved","Provider submitted required documentation to support Category 4 achievement. Project 130601104.4.2 is approved and eligible for DY3 payment.",null,"Yes-Completed","Previously Approved",null,"Round 1 (April)","2012-12-31",null,"YES","2013-01-01","2013-12-31","",""]
[9,"130601104_2","15_130601104",15,"130601104","Tenet Hospital Limited dba Providence Memorial Hos","130601104.4","130601104.4.3",2,3,"Yes-Completed","Approved","Provider submitted required documentation to support Category 4 achievement. Project 130601104.4.3 is approved and eligible for DY3 payment.",null,"Yes-Completed","Previously Approved",null,"Round 1 (April)","2012-12-31",null,"YES","2013-01-01","2013-12-31","",""]
[9,"130601104_4","15_130601104",15,"130601104","Tenet Hospital Limited dba Providence Memorial Hos","130601104.4","130601104.4.5",4,3,"No-Not Started","Did Not Report",null,null,"Yes-Completed","Approved","Category 4 reporting domain was reviewed, and HHSC found provider submitted documentation to support achievement. Project is approved and eligible for payment.\n","Round 2 (October)","2013-09-30","2014-09-30","NO","2013-10-01","2014-09-30","2014-10-01","2015-09-30"]
[9,"130601104_5","15_130601104",15,"130601104","Tenet Hospital Limited dba Providence Memorial Hos","130601104.4","130601104.4.6",5,3,"Yes-Completed","Approved","Provider submitted required documentation to support Category 4 achievement. Project 130601104.4.6 is approved and eligible for DY3 payment.",null,"Yes-Completed","Previously Approved",null,"Round 1 (April)","2013-12-31",null,"YES","2014-01-01","2014-12-31","",""]
[9,"138951211_3","15_138951211",15,"138951211","El Paso Co Hosp Dist - University Medical Center o","138951211.4","138951211.4.1",3,3,"Yes-Completed","Approved","Provider submitted required documentation to support Category 4 achievement. Project 138951211.4.1 is approved and eligible for DY3 payment.",null,"Yes-Completed","Previously Approved",null,"Round 1 (April)","2012-12-31",null,"YES","2013-01-01","2013-12-31","",""]
[9,"138951211_1","15_138951211",15,"138951211","El Paso Co Hosp Dist - University Medical Center o","138951211.4","138951211.4.2",1,3,"Yes-Completed","Approved","Provider submitted required documentation to support Category 4 achievement. Project 138951211.4.2 is approved and eligible for DY3 payment.",null,"Yes-Completed","Previously Approved",null,"Round 1 (April)","2012-12-31",null,"YES","2013-01-01","2013-12-31","",""]
[{"$f":"LEN(E771)","v":9},{"$f":"E771&\"_\"&I771","v":"138951211_2"},{"$f":"D771&\"_\"&E771","v":"15_138951211"},15,"138951211","El Paso Co Hosp Dist - University Medical Center o","138951211.4","138951211.4.3",2,3,"Yes-Completed","Approved","Provider submitted required documentation to support Category 4 achievement. Project 138951211.4.3 is approved and eligible for DY3 payment.",null,"Yes-Completed","Previously Approved",null,"Round 1 (April)","2012-12-31",null,"YES","2013-01-01","2013-12-31","",""]
[9,"138951211_4","15_138951211",15,"138951211","El Paso Co Hosp Dist - University Medical Center o","138951211.4","138951211.4.5",4,3,"Yes-Completed","Approved","Provider submitted required documentation to support Category 4 achievement. Project 138951211.4.5 is approved and eligible for DY3 payment.",null,"Yes-Completed","Previously Approved",null,"Round 1 (April)","2013-09-30","2013-09-30","YES","2013-10-01","2014-09-30","2013-10-01","2014-09-30"]
[9,"138951211_5","15_138951211",15,"138951211","El Paso Co Hosp Dist - University Medical Center o","138951211.4","138951211.4.6",5,3,"Yes-Completed","Approved","Provider submitted required documentation to support Category 4 achievement. Project 138951211.4.6 is approved and eligible for DY3 payment.",null,"Yes-Completed","Previously Approved",null,"Round 1 (April)","2013-09-30",null,"YES","2013-10-01","2014-09-30","",""]
[9,"196829901_3","15_196829901",15,"196829901","Sierra Providence East Medical Center","196829901.4","196829901.4.1",3,3,"Yes-Completed","Approved","Provider submitted required documentation to support Category 4 achievement. Project 196829901.4.1 is approved and eligible for DY3 payment.",null,"Yes-Completed","Previously Approved",null,"Round 1 (April)","2012-12-31",null,"YES","2013-01-01","2013-12-31","",""]
[9,"196829901_1","15_196829901",15,"196829901","Sierra Providence East Medical Center","196829901.4","196829901.4.2",1,3,"Yes-Completed","Approved","Provider submitted required documentation to support Category 4 achievement. Project 196829901.4.2 is approved and eligible for DY3 payment.",null,"Yes-Completed","Previously Approved",null,"Round 1 (April)","2012-12-31",null,"YES","2013-01-01","2013-12-31","",""]
[9,"196829901_2","15_196829901",15,"196829901","Sierra Providence East Medical Center","196829901.4","196829901.4.3",2,3,"Yes-Completed","Approved","Provider submitted required documentation to support Category 4 achievement. Project 196829901.4.3 is approved and eligible for DY3 payment.",null,"Yes-Completed","Previously Approved",null,"Round 1 (April)","2012-12-31",null,"YES","2013-01-01","2013-12-31","",""]
[9,"196829901_4","15_196829901",15,"196829901","Sierra Providence East Medical Center","196829901.4","196829901.4.5",4,3,"No-Not Started","Did Not Report",null,null,"Yes-Completed","Approved","Category 4 reporting domain was reviewed, and HHSC found provider submitted documentation to support achievement. Project is approved and eligible for payment.\n","Round 2 (October)","2013-09-30","2014-09-30","NO","2013-10-01","2014-09-30","2014-10-01","2015-09-30"]
[9,"196829901_5","15_196829901",15,"196829901","Sierra Providence East Medical Center","196829901.4","196829901.4.6",5,3,"Yes-Completed","Approved","Provider submitted required documentation to support Category 4 achievement. Project 196829901.4.6 is approved and eligible for DY3 payment.",null,"Yes-Completed","Previously Approved",null,"Round 1 (April)","2013-12-31",null,"YES","2014-01-01","2014-12-31","",""]
[9,"291854201_3","15_291854201",15,"291854201","El Paso Children's Hospital","291854201.4","291854201.4.1",3,3,"Yes-Completed","Approved","Provider submitted required documentation to support Category 4 achievement. Project 291854201.4.1 is approved and eligible for DY3 payment.",null,"Yes-Completed","Previously Approved",null,"Round 1 (April)","2012-12-31",null,"YES","2013-01-01","2013-12-31","",""]
[9,"291854201_1","15_291854201",15,"291854201","El Paso Children's Hospital","291854201.4","291854201.4.2",1,3,"Yes-Completed","Approved","Provider submitted required documentation to support Category 4 achievement. Project 291854201.4.2 is approved and eligible for DY3 payment.",null,"Yes-Completed","Previously Approved",null,"Round 1 (April)","2012-12-31",null,"YES","2013-01-01","2013-12-31","",""]
[9,"291854201_2","15_291854201",15,"291854201","El Paso Children's Hospital","291854201.4","291854201.4.3",2,3,"Yes-Completed","Approved","Provider submitted required documentation to support Category 4 achievement. Project 291854201.4.3 is approved and eligible for DY3 payment.",null,"Yes-Completed","Previously Approved",null,"Round 1 (April)","2012-12-31",null,"YES","2013-01-01","2013-12-31","",""]
[9,"291854201_4","15_291854201",15,"291854201","El Paso Children's Hospital","291854201.4","291854201.4.5",4,3,"No-Not Started","Did Not Report",null,null,"Yes-Completed","Approved","Category 4 reporting domain was reviewed, and HHSC found provider submitted documentation to support achievement. Project is approved and eligible for payment.\n","Round 2 (October)","2014-09-30","2014-09-30","NO","2014-10-01","2015-09-30","2014-10-01","2015-09-30"]
[9,"291854201_5","15_291854201",15,"291854201","El Paso Children's Hospital","291854201.4","291854201.4.6",5,3,"No-Not Started","Did Not Report",null,null,"Yes-Completed","Approved","Category 4 reporting domain was reviewed, and HHSC found provider submitted documentation to support achievement. Project is approved and eligible for payment.\n","Round 2 (October)","2014-09-30",null,"NO","2014-10-01","2015-09-30","",""]
[9,"291854201_6","15_291854201",15,"291854201","El Paso Children's Hospital","291854201.4","291854201.4.7",6,3,"No-Not Started","Did Not Report",null,null,"No-Not Started","Not Approved","HHSC found achievement of Category 4 reporting domain is not clearly demonstrated. Provider did not include appropriate justification for not reporting most pediatric measures. Per the October DY3 reporting companion, acceptable rationales for not reporting an RD6 measure include:\n\n&#61623; The hospital does not serve the population that is being measured.\n&#61623; The hospital does not provide outpatient services that are being measured.\n&#61623; There is not a statistically significant population to report the measure \u0096 defined as at least\n30 cases included in the denominator.\n&#61623; The hospital\u0092s current data systems do not allow for the measure to be reported; if so,\ninclude information about what the hospital is doing to be able to report it in later years.\n&#61623; The identical data is being reported as a Category 3 outcome (including same denominator\nas Category 3)\n\nProviders justification for not reporting pediatric measures are not included in the acceptable justifications for not reporting. Project is not approved and is no longer eligible for payment for DY3.","Round 2 (October) - Not Approved","DNR",null,"YES","TBD","TBD","",""]
[9,"111829102_3","16_111829102",16,"111829102","Providence Health Services of Waco  dba Providence","111829102.4","111829102.4.1",3,3,"Yes-Completed","Approved","Provider submitted required documentation to support Category 4 achievement. Project 111829102.4.1 is approved and eligible for DY3 payment.",null,"Yes-Completed","Previously Approved",null,"Round 1 (April)","2012-12-31",null,"YES","2013-01-01","2013-12-31","",""]
[9,"111829102_1","16_111829102",16,"111829102","Providence Health Services of Waco  dba Providence","111829102.4","111829102.4.2",1,3,"Yes-Completed","Approved","Provider submitted required documentation to support Category 4 achievement. Project 111829102.4.2 is approved and eligible for DY3 payment.",null,"Yes-Completed","Previously Approved",null,"Round 1 (April)","2012-12-31",null,"YES","2013-01-01","2013-12-31","",""]
[9,"111829102_2","16_111829102",16,"111829102","Providence Health Services of Waco  dba Providence","111829102.4","111829102.4.3",2,3,"Yes-Completed","Approved","Provider submitted required documentation to support Category 4 achievement. Project 111829102.4.3 is approved and eligible for DY3 payment.",null,"Yes-Completed","Previously Approved",null,"Round 1 (April)","2012-12-31",null,"YES","2013-01-01","2013-12-31","",""]
[9,"111829102_4","16_111829102",16,"111829102","Providence Health Services of Waco  dba Providence","111829102.4","111829102.4.5",4,3,"Yes-Completed","Approved","Provider submitted required documentation to support Category 4 achievement. Project 111829102.4.5 is approved and eligible for DY3 payment.",null,"Yes-Completed","Previously Approved",null,"Round 1 (April)","2013-12-31","2013-12-31","YES","2014-01-01","2014-12-31","2014-01-01","2014-12-31"]
[9,"111829102_5","16_111829102",16,"111829102","Providence Health Services of Waco  dba Providence","111829102.4","111829102.4.6",5,3,"Yes-Completed","Needs More Info - Approved","Provider submitted required documentation to support Category 4 achievement. Project 111829102.4.6 is approved and eligible for DY3 payment.",null,"Yes-Completed","Previously Approved",null,"Round 1 (April) - Needs More Info","2012-12-31",null,"YES","2013-01-01","2013-12-31","",""]
[9,"134772611_3","16_134772611",16,"134772611","Coryell County Memorial Hospital Authority dba Cor","134772611.4","134772611.4.1",3,3,"Yes-Completed","Approved","Provider submitted required documentation to support Category 4 achievement. Project 134772611.4.1 is approved and eligible for DY3 payment.",null,"Yes-Completed","Previously Approved",null,"Round 1 (April)","2012-12-31",null,"YES","2013-01-01","2013-12-31","",""]
[9,"134772611_1","16_134772611",16,"134772611","Coryell County Memorial Hospital Authority dba Cor","134772611.4","134772611.4.2",1,3,"Yes-Completed","Approved","Provider submitted required documentation to support Category 4 achievement. Project 134772611.4.2 is approved and eligible for DY3 payment.",null,"Yes-Completed","Previously Approved",null,"Round 1 (April)","2012-12-31",null,"YES","2013-01-01","2013-12-31","",""]
[9,"134772611_2","16_134772611",16,"134772611","Coryell County Memorial Hospital Authority dba Cor","134772611.4","134772611.4.3",2,3,"Yes-Completed","Approved","Provider submitted required documentation to support Category 4 achievement. Project 134772611.4.3 is approved and eligible for DY3 payment.",null,"Yes-Completed","Previously Approved",null,"Round 1 (April)","2012-12-31",null,"YES","2013-01-01","2013-12-31","",""]
[9,"134772611_4","16_134772611",16,"134772611","Coryell County Memorial Hospital Authority dba Cor","134772611.4","134772611.4.5",4,3,"Yes-Completed","Approved","Provider submitted required documentation to support Category 4 achievement. Project 134772611.4.5 is approved and eligible for DY3 payment.",null,"Yes-Completed","Previously Approved",null,"Round 1 (April)","2013-06-30","2013-12-31","YES","2013-07-01","2014-06-30","2014-01-01","2014-12-31"]
[9,"134772611_5","16_134772611",16,"134772611","Coryell County Memorial Hospital Authority dba Cor","134772611.4","134772611.4.6",5,3,"Yes-Completed","Approved","Provider submitted required documentation to support Category 4 achievement. Project 134772611.4.6 is approved and eligible for DY3 payment.",null,"Yes-Completed","Previously Approved",null,"Round 1 (April)","2013-12-31",null,"YES","2014-01-01","2014-12-31","",""]
[9,"138962907_3","16_138962907",16,"138962907","Hillcrest Baptist Medical Center","138962907.4","138962907.4.1",3,3,"No-Not Started","Did Not Report",null,null,"Yes-Completed","Approved","Category 4 reporting domain was reviewed, and HHSC found provider submitted documentation to support achievement. Project is approved and eligible for payment.\n","Round 2 (October)","2012-12-31",null,"YES","2013-01-01","2013-12-31","",""]
[9,"138962907_1","16_138962907",16,"138962907","Hillcrest Baptist Medical Center","138962907.4","138962907.4.2",1,3,"No-Not Started","Did Not Report",null,null,"Yes-Completed","Approved","Category 4 reporting domain was reviewed, and HHSC found provider submitted documentation to support achievement. Project is approved and eligible for payment.\n","Round 2 (October)","2012-12-31",null,"YES","2013-01-01","2013-12-31","",""]
[9,"138962907_2","16_138962907",16,"138962907","Hillcrest Baptist Medical Center","138962907.4","138962907.4.3",2,3,"No-Not Started","Did Not Report",null,null,"Yes-Completed","Approved","Category 4 reporting domain was reviewed, and HHSC found provider submitted documentation to support achievement. Project is approved and eligible for payment.\n","Round 2 (October)","2012-12-31",null,"YES","2013-01-01","2013-12-31","",""]
[9,"138962907_4","16_138962907",16,"138962907","Hillcrest Baptist Medical Center","138962907.4","138962907.4.5",4,3,"No-Not Started","Did Not Report",null,null,"Yes-Completed","Approved","Category 4 reporting domain was reviewed, and HHSC found provider submitted documentation to support achievement. Project is approved and eligible for payment.\n","Round 2 (October)","2014-06-30","2014-06-30","NO","2014-07-01","2015-06-30","2014-07-01","2015-06-30"]
[9,"138962907_5","16_138962907",16,"138962907","Hillcrest Baptist Medical Center","138962907.4","138962907.4.6",5,3,"No-Not Started","Did Not Report",null,null,"Yes-Completed","Approved","Category 4 reporting domain was reviewed, and HHSC found provider submitted documentation to support achievement. Project is approved and eligible for payment.\n","Round 2 (October)","2014-06-30",null,"NO","2014-07-01","2015-06-30","",""]
[9,"020841501_3","17_020841501",17,"020841501","Conroe Regional Medical Center","020841501.4","020841501.4.1",3,3,"No-Not Started","Did Not Report",null,null,"Yes-Completed","Approved","Category 4 reporting domain was reviewed, and HHSC found provider submitted documentation to support achievement. Project is approved and eligible for payment.\n","Round 2 (October)","2012-12-31",null,"YES","2013-01-01","2013-12-31","",""]
[9,"020841501_1","17_020841501",17,"020841501","Conroe Regional Medical Center","020841501.4","020841501.4.2",1,3,"No-Not Started","Did Not Report",null,null,"Yes-Completed","Approved","Category 4 reporting domain was reviewed, and HHSC found provider submitted documentation to support achievement. Project is approved and eligible for payment.\n","Round 2 (October)","2012-12-31",null,"YES","2013-01-01","2013-12-31","",""]
[9,"020841501_2","17_020841501",17,"020841501","Conroe Regional Medical Center","020841501.4","020841501.4.3",2,3,"No-Not Started","Did Not Report",null,null,"Yes-Completed","Approved","Category 4 reporting domain was reviewed, and HHSC found provider submitted documentation to support achievement. Project is approved and eligible for payment.\n","Round 2 (October)","2012-12-31",null,"YES","2013-01-01","2013-12-31","",""]
[9,"020841501_4","17_020841501",17,"020841501","Conroe Regional Medical Center","020841501.4","020841501.4.5",4,3,"No-Not Started","Did Not Report",null,null,"Yes-Completed","Approved","Category 4 reporting domain was reviewed, and HHSC found provider submitted documentation to support achievement. Project is approved and eligible for payment.\n","Round 2 (October)","2013-09-30","2013-12-31","YES","2013-10-01","2014-09-30","2014-01-01","2014-12-31"]
[9,"020841501_5","17_020841501",17,"020841501","Conroe Regional Medical Center","020841501.4","020841501.4.6",5,3,"No-Not Started","Did Not Report",null,null,"Yes-Completed","Needs More Info - Approved","Category 4 reporting domain was reviewed, and HHSC found provider submitted documentation to support achievement. Reporting domain is approved and eligible for payment.\n","Round 2 (October) - Needs More Info","2013-12-31",null,"YES","2014-01-01","2014-12-31","",""]
[9,"020860501_3","17_020860501",17,"020860501","College Station Medical Center","020860501.4","020860501.4.1",3,3,"Yes-Completed","Approved","Provider submitted required documentation to support Category 4 achievement. Project 020860501.4.1 is approved and eligible for DY3 payment.",null,"Yes-Completed","Previously Approved",null,"Round 1 (April)","2012-12-31",null,"YES","2013-01-01","2013-12-31","",""]
[9,"020860501_1","17_020860501",17,"020860501","College Station Medical Center","020860501.4","020860501.4.2",1,3,"Yes-Completed","Approved","Provider submitted required documentation to support Category 4 achievement. Project 020860501.4.2 is approved and eligible for DY3 payment.",null,"Yes-Completed","Previously Approved",null,"Round 1 (April)","2012-12-31",null,"YES","2013-01-01","2013-12-31","",""]
[9,"020860501_2","17_020860501",17,"020860501","College Station Medical Center","020860501.4","020860501.4.3",2,3,"Yes-Completed","Approved","Provider submitted required documentation to support Category 4 achievement. Project 020860501.4.3 is approved and eligible for DY3 payment.",null,"Yes-Completed","Previously Approved",null,"Round 1 (April)","2012-12-31",null,"YES","2013-01-01","2013-12-31","",""]
[9,"020860501_4","17_020860501",17,"020860501","College Station Medical Center","020860501.4","020860501.4.5",4,3,"Yes-Completed","Approved","Provider submitted required documentation to support Category 4 achievement. Project 020860501.4.5 is approved and eligible for DY3 payment.",null,"Yes-Completed","Previously Approved",null,"Round 1 (April)","2013-09-30","2013-09-30","YES","2013-10-01","2014-09-30","2013-10-01","2014-09-30"]
[9,"020860501_5","17_020860501",17,"020860501","College Station Medical Center","020860501.4","020860501.4.6",5,3,"Yes-Completed","Approved","Provider submitted required documentation to support Category 4 achievement. Project 020860501.4.6 is approved and eligible for DY3 payment.",null,"Yes-Completed","Previously Approved",null,"Round 1 (April)","2013-09-30",null,"YES","2013-10-01","2014-09-30","",""]
[9,"127267603_3","17_127267603",17,"127267603","St. Joseph Regional Health Center","127267603.4","127267603.4.1",3,3,"No-Not Started","Did Not Report",null,null,"Yes-Completed","Approved","Category 4 reporting domain was reviewed, and HHSC found provider submitted documentation to support achievement. Project is approved and eligible for payment.\n","Round 2 (October)","2012-12-31",null,"YES","2013-01-01","2013-12-31","",""]
[9,"127267603_1","17_127267603",17,"127267603","St. Joseph Regional Health Center","127267603.4","127267603.4.2",1,3,"No-Not Started","Did Not Report",null,null,"Yes-Completed","Approved","Category 4 reporting domain was reviewed, and HHSC found provider submitted documentation to support achievement. Project is approved and eligible for payment.\n","Round 2 (October)","2012-12-31",null,"YES","2013-01-01","2013-12-31","",""]
[9,"127267603_2","17_127267603",17,"127267603","St. Joseph Regional Health Center","127267603.4","127267603.4.3",2,3,"No-Not Started","Did Not Report",null,null,"Yes-Completed","Approved","Category 4 reporting domain was reviewed, and HHSC found provider submitted documentation to support achievement. Project is approved and eligible for payment.\n","Round 2 (October)","2012-12-31",null,"YES","2013-01-01","2013-12-31","",""]
[9,"127267603_4","17_127267603",17,"127267603","St. Joseph Regional Health Center","127267603.4","127267603.4.5",4,3,"No-Not Started","Did Not Report",null,null,"Yes-Completed","Needs More Info - Approved","Category 4 reporting domain was reviewed, and HHSC found provider submitted documentation to support achievement. Reporting domain is approved and eligible for payment.","Round 2 (October) - Needs More Info","2012-12-31","2012-12-31","YES","2013-01-01","2013-12-31","2013-01-01","2013-12-31"]
[9,"127267603_5","17_127267603",17,"127267603","St. Joseph Regional Health Center","127267603.4","127267603.4.6",5,3,"No-Not Started","Did Not Report",null,null,"Yes-Completed","Needs More Info - Approved","Category 4 reporting domain was reviewed, and HHSC found provider submitted documentation to support achievement. Reporting domain is approved and eligible for payment.","Round 2 (October) - Needs More Info","2012-12-31",null,"YES","2013-01-01","2013-12-31","",""]
[9,"135226205_3","17_135226205",17,"135226205","Scott & White Hospital Brenham","135226205.4","135226205.4.1",3,3,"No-Not Started","Did Not Report",null,null,"Yes-Completed","Approved","Category 4 reporting domain was reviewed, and HHSC found provider submitted documentation to support achievement. Project is approved and eligible for payment.\n","Round 2 (October)","2012-12-31",null,"YES","2013-01-01","2013-12-31","",""]
[9,"135226205_1","17_135226205",17,"135226205","Scott & White Hospital Brenham","135226205.4","135226205.4.2",1,3,"No-Not Started","Did Not Report",null,null,"Yes-Completed","Approved","Category 4 reporting domain was reviewed, and HHSC found provider submitted documentation to support achievement. Project is approved and eligible for payment.\n","Round 2 (October)","2012-12-31",null,"YES","2013-01-01","2013-12-31","",""]
[9,"135226205_2","17_135226205",17,"135226205","Scott & White Hospital Brenham","135226205.4","135226205.4.3",2,3,"No-Not Started","Did Not Report",null,null,"Yes-Completed","Approved","Category 4 reporting domain was reviewed, and HHSC found provider submitted documentation to support achievement. Project is approved and eligible for payment.\n","Round 2 (October)","2012-12-31",null,"YES","2013-01-01","2013-12-31","",""]
[9,"135226205_4","17_135226205",17,"135226205","Scott & White Hospital Brenham","135226205.4","135226205.4.5",4,3,"No-Not Started","Did Not Report",null,null,"Yes-Completed","Approved","Category 4 reporting domain was reviewed, and HHSC found provider submitted documentation to support achievement. Project is approved and eligible for payment.\n","Round 2 (October)","2014-06-30","2014-07-31","NO","2014-07-01","2015-06-30","2014-08-01","2015-07-31"]
[9,"135226205_5","17_135226205",17,"135226205","Scott & White Hospital Brenham","135226205.4","135226205.4.6",5,3,"No-Not Started","Did Not Report",null,null,"Yes-Completed","Approved","Category 4 reporting domain was reviewed, and HHSC found provider submitted documentation to support achievement. Project is approved and eligible for payment.\n","Round 2 (October)","2014-07-31",null,"NO","2014-08-01","2015-07-31","",""]
[9,"160630301_3","17_160630301",17,"160630301","St. Luke's Community Health Srvs (The Woodlands)","160630301.4","160630301.4.1",3,3,"Yes-Completed","Approved","Provider submitted required documentation to support Category 4 achievement. Project 160630301.4.1 is approved and eligible for DY3 payment.",null,"Yes-Completed","Previously Approved",null,"Round 1 (April)","2012-12-31",null,"YES","2013-01-01","2013-12-31","",""]
[9,"160630301_1","17_160630301",17,"160630301","St. Luke's Community Health Srvs (The Woodlands)","160630301.4","160630301.4.2",1,3,"Yes-Completed","Approved","Provider submitted required documentation to support Category 4 achievement. Project 160630301.4.2 is approved and eligible for DY3 payment.",null,"Yes-Completed","Previously Approved",null,"Round 1 (April)","2012-12-31",null,"YES","2013-01-01","2013-12-31","",""]
[9,"160630301_2","17_160630301",17,"160630301","St. Luke's Community Health Srvs (The Woodlands)","160630301.4","160630301.4.3",2,3,"Yes-Completed","Approved","Provider submitted required documentation to support Category 4 achievement. Project 160630301.4.3 is approved and eligible for DY3 payment.",null,"Yes-Completed","Previously Approved",null,"Round 1 (April)","2012-12-31",null,"YES","2013-01-01","2013-12-31","",""]
[9,"160630301_4","17_160630301",17,"160630301","St. Luke's Community Health Srvs (The Woodlands)","160630301.4","160630301.4.5",4,3,"No-Not Started","Did Not Report",null,null,"Yes-Completed","Approved","Category 4 reporting domain was reviewed, and HHSC found provider submitted documentation to support achievement. Project is approved and eligible for payment.\n","Round 2 (October)","2013-12-31","2014-06-30","NO","2014-01-01","2014-12-31","2014-07-01","2015-06-30"]
[9,"160630301_5","17_160630301",17,"160630301","St. Luke's Community Health Srvs (The Woodlands)","160630301.4","160630301.4.6",5,3,"No-Not Started","Did Not Report",null,null,"Yes-Completed","Approved","Category 4 reporting domain was reviewed, and HHSC found provider submitted documentation to support achievement. Project is approved and eligible for payment.\n","Round 2 (October)","2014-06-30",null,"NO","2014-07-01","2015-06-30","",""]
[9,"189791001_3","17_189791001",17,"189791001","Walker County Hosp Corp. dba Huntsville Memorial","189791001.4","189791001.4.1",3,3,"No-Not Started","Did Not Report",null,null,"Yes-Completed","Approved","Category 4 reporting domain was reviewed, and HHSC found provider submitted documentation to support achievement. Project is approved and eligible for payment.\n","Round 2 (October)","2012-12-31",null,"YES","2013-01-01","2013-12-31","",""]
[9,"189791001_1","17_189791001",17,"189791001","Walker County Hosp Corp. dba Huntsville Memorial","189791001.4","189791001.4.2",1,3,"No-Not Started","Did Not Report",null,null,"Yes-Completed","Approved","Category 4 reporting domain was reviewed, and HHSC found provider submitted documentation to support achievement. Project is approved and eligible for payment.\n","Round 2 (October)","2012-12-31",null,"YES","2013-01-01","2013-12-31","",""]
[9,"189791001_2","17_189791001",17,"189791001","Walker County Hosp Corp. dba Huntsville Memorial","189791001.4","189791001.4.3",2,3,"No-Not Started","Did Not Report",null,null,"Yes-Completed","Approved","Category 4 reporting domain was reviewed, and HHSC found provider submitted documentation to support achievement. Project is approved and eligible for payment.\n","Round 2 (October)","2012-12-31",null,"YES","2013-01-01","2013-12-31","",""]
[9,"189791001_4","17_189791001",17,"189791001","Walker County Hosp Corp. dba Huntsville Memorial","189791001.4","189791001.4.5",4,3,"No-Not Started","Did Not Report",null,null,"Yes-Completed","Needs More Info - Approved","Category 4 reporting domain was reviewed, and HHSC found provider submitted documentation to support achievement. Reporting domain is approved and eligible for payment.\n","Round 2 (October) - Needs More Info","2014-06-30","2014-06-30","NO","2014-07-01","2015-06-30","2014-07-01","2015-06-30"]
[9,"189791001_5","17_189791001",17,"189791001","Walker County Hosp Corp. dba Huntsville Memorial","189791001.4","189791001.4.6",5,3,"No-Not Started","Did Not Report",null,null,"Yes-Completed","Approved","Category 4 reporting domain was reviewed, and HHSC found provider submitted documentation to support achievement. Project is approved and eligible for payment.\n","Round 2 (October)","2014-06-30",null,"NO","2014-07-01","2015-06-30","",""]
[9,"138910807_3","18_138910807",18,"138910807","Children's Medical Center of Dallas","138910807.4","138910807.4.1",3,3,"No-Not Started","Did Not Report",null,null,"Yes-Completed","Approved","Category 4 reporting domain was reviewed, and HHSC found provider submitted documentation to support achievement. Project is approved and eligible for payment.\n","Round 2 (October)","2012-12-31",null,"YES","2013-01-01","2013-12-31","",""]
[9,"138910807_1","18_138910807",18,"138910807","Children's Medical Center of Dallas","138910807.4","138910807.4.2",1,3,"No-Not Started","Did Not Report",null,null,"Yes-Completed","Approved","Category 4 reporting domain was reviewed, and HHSC found provider submitted documentation to support achievement. Project is approved and eligible for payment.\n","Round 2 (October)","2012-12-31",null,"YES","2013-01-01","2013-12-31","",""]
[9,"138910807_2","18_138910807",18,"138910807","Children's Medical Center of Dallas","138910807.4","138910807.4.3",2,3,"No-Not Started","Did Not Report",null,null,"Yes-Completed","Approved","Category 4 reporting domain was reviewed, and HHSC found provider submitted documentation to support achievement. Project is approved and eligible for payment.\n","Round 2 (October)","2012-12-31",null,"YES","2013-01-01","2013-12-31","",""]
[9,"138910807_4","18_138910807",18,"138910807","Children's Medical Center of Dallas","138910807.4","138910807.4.5",4,3,"No-Not Started","Did Not Report",null,null,"Yes-Completed","Needs More Info - Approved","Category 4 reporting domain was reviewed, and HHSC found provider submitted documentation to support achievement. Reporting domain is approved and eligible for payment.\n\n","Round 2 (October) - Needs More Info","2013-12-31","2013-12-31","YES","2014-01-01","2014-12-31","2014-01-01","2014-12-31"]
[9,"138910807_5","18_138910807",18,"138910807","Children's Medical Center of Dallas","138910807.4","138910807.4.6",5,3,"No-Not Started","Did Not Report",null,null,"Yes-Completed","Needs More Info - Approved","Category 4 reporting domain was reviewed, and HHSC found provider submitted documentation to support achievement. Reporting domain is approved and eligible for payment.\n\n","Round 2 (October) - Needs More Info","2012-12-31",null,"YES","2013-01-01","2013-12-31","",""]
[{"$f":"LEN(E835)","v":9},{"$f":"E835&\"_\"&I835","v":"138910807_6"},{"$f":"D835&\"_\"&E835","v":"18_138910807"},18,"138910807","Children's Medical Center of Dallas","138910807.4","138910807.4.7",6,3,"No-Not Started","Did Not Report",null,null,"Yes-Completed","Needs More Info - Approved","Category 4 reporting domain was reviewed, and HHSC found provider submitted documentation to support achievement. Reporting domain is approved and eligible for payment.\n","Round 2 (October) - Needs More Info","2013-12-31",null,"YES","2014-01-01","2014-12-31","",""]
[9,"169553801_3","18_169553801",18,"169553801","Tenet Frisco Ltd dba Centennial Medical Center","169553801.4","169553801.4.1",3,3,"No-Not Started","Did Not Report",null,null,"Yes-Completed","Approved","Category 4 reporting domain was reviewed, and HHSC found provider submitted documentation to support achievement. Project is approved and eligible for payment.\n","Round 2 (October)","2012-12-31",null,"YES","2013-01-01","2013-12-31","",""]
[9,"169553801_1","18_169553801",18,"169553801","Tenet Frisco Ltd dba Centennial Medical Center","169553801.4","169553801.4.2",1,3,"No-Not Started","Did Not Report",null,null,"Yes-Completed","Approved","Category 4 reporting domain was reviewed, and HHSC found provider submitted documentation to support achievement. Project is approved and eligible for payment.\n","Round 2 (October)","2012-12-31",null,"YES","2013-01-01","2013-12-31","",""]
[9,"169553801_2","18_169553801",18,"169553801","Tenet Frisco Ltd dba Centennial Medical Center","169553801.4","169553801.4.3",2,3,"No-Not Started","Did Not Report",null,null,"Yes-Completed","Approved","Category 4 reporting domain was reviewed, and HHSC found provider submitted documentation to support achievement. Project is approved and eligible for payment.\n","Round 2 (October)","2012-12-31",null,"YES","2013-01-01","2013-12-31","",""]
[9,"169553801_4","18_169553801",18,"169553801","Tenet Frisco Ltd dba Centennial Medical Center","169553801.4","169553801.4.5",4,3,"No-Not Started","Did Not Report",null,null,"Yes-Completed","Approved","Category 4 reporting domain was reviewed, and HHSC found provider submitted documentation to support achievement. Project is approved and eligible for payment.\n","Round 2 (October)","2013-09-30","2013-12-31","YES","2013-10-01","2014-09-30","2014-01-01","2014-12-31"]
[9,"169553801_5","18_169553801",18,"169553801","Tenet Frisco Ltd dba Centennial Medical Center","169553801.4","169553801.4.6",5,3,"No-Not Started","Did Not Report",null,null,"Yes-Completed","Approved","Category 4 reporting domain was reviewed, and HHSC found provider submitted documentation to support achievement. Project is approved and eligible for payment.\n","Round 2 (October)","2012-12-31",null,"YES","2013-01-01","2013-12-31","",""]
[9,"169553801_6","18_169553801",18,"169553801","Tenet Frisco Ltd dba Centennial Medical Center","169553801.4","169553801.4.7",6,3,"No-Not Started","Did Not Report",null,null,"No-Not Started","Not Approved","HHSC found achievement of Category 4 reporting domain is not clearly demonstrated. Provider has declined to report this domain in DY3. Project is not approved and is no longer eligible for payment.\n","Round 2 (October) - Not Approved","DNR",null,"YES","TBD","TBD","",""]
[9,"194997601_3","18_194997601",18,"194997601","UHS Texoma, Inc. dba Texoma Medical Center","194997601.4","194997601.4.1",3,3,"No-Not Started","Did Not Report",null,null,"Yes-Completed","Approved","Category 4 reporting domain was reviewed, and HHSC found provider submitted documentation to support achievement. Project is approved and eligible for payment.\n","Round 2 (October)","2012-12-31",null,"YES","2013-01-01","2013-12-31","",""]
[9,"194997601_1","18_194997601",18,"194997601","UHS Texoma, Inc. dba Texoma Medical Center","194997601.4","194997601.4.2",1,3,"No-Not Started","Did Not Report",null,null,"Yes-Completed","Approved","Category 4 reporting domain was reviewed, and HHSC found provider submitted documentation to support achievement. Project is approved and eligible for payment.\n","Round 2 (October)","2012-12-31",null,"YES","2013-01-01","2013-12-31","",""]
[9,"194997601_2","18_194997601",18,"194997601","UHS Texoma, Inc. dba Texoma Medical Center","194997601.4","194997601.4.3",2,3,"No-Not Started","Did Not Report",null,null,"Yes-Completed","Approved","Category 4 reporting domain was reviewed, and HHSC found provider submitted documentation to support achievement. Project is approved and eligible for payment.\n","Round 2 (October)","2012-12-31",null,"YES","2013-01-01","2013-12-31","",""]
[9,"194997601_4","18_194997601",18,"194997601","UHS Texoma, Inc. dba Texoma Medical Center","194997601.4","194997601.4.5",4,3,"No-Not Started","Did Not Report",null,null,"Yes-Completed","Approved","Category 4 reporting domain was reviewed, and HHSC found provider submitted documentation to support achievement. Project is approved and eligible for payment.\n","Round 2 (October)","2013-09-30","2014-06-01","NO","2013-10-01","2014-09-30","2014-06-02","2015-06-01"]
[9,"194997601_5","18_194997601",18,"194997601","UHS Texoma, Inc. dba Texoma Medical Center","194997601.4","194997601.4.6",5,3,"No-Not Started","Did Not Report",null,null,"Yes-Completed","Approved","Category 4 reporting domain was reviewed, and HHSC found provider submitted documentation to support achievement. Project is approved and eligible for payment.\n","Round 2 (October)","2013-12-31",null,"YES","2014-01-01","2014-12-31","",""]
[9,"194997601_6","18_194997601",18,"194997601","UHS Texoma, Inc. dba Texoma Medical Center","194997601.4","194997601.4.7",6,3,"No-Not Started","Did Not Report",null,null,"Yes-Completed","Approved","Category 4 reporting domain was reviewed, and HHSC found provider submitted documentation to support achievement. Project is approved and eligible for payment.\n","Round 2 (October)","2012-12-31",null,"YES","2013-01-01","2013-12-31","",""]
[9,"112707803_3","19_112707803",19,"112707803","Wilbarger General Hospital","112707803.4","112707803.4.1",3,3,"Yes-Completed","Approved","Provider submitted required documentation to support Category 4 achievement. Project 112707803.4.1 is approved and eligible for DY3 payment.",null,"Yes-Completed","Previously Approved",null,"Round 1 (April)","2012-12-31",null,"YES","2013-01-01","2013-12-31","",""]
[9,"112707803_1","19_112707803",19,"112707803","Wilbarger General Hospital","112707803.4","112707803.4.2",1,3,"Yes-Completed","Approved","Provider submitted required documentation to support Category 4 achievement. Project 112707803.4.2 is approved and eligible for DY3 payment.",null,"Yes-Completed","Previously Approved",null,"Round 1 (April)","2012-12-31",null,"YES","2013-01-01","2013-12-31","",""]
[9,"112707803_2","19_112707803",19,"112707803","Wilbarger General Hospital","112707803.4","112707803.4.3",2,3,"Yes-Completed","Approved","Provider submitted required documentation to support Category 4 achievement. Project 112707803.4.3 is approved and eligible for DY3 payment.",null,"Yes-Completed","Previously Approved",null,"Round 1 (April)","2012-12-31",null,"YES","2013-01-01","2013-12-31","",""]
[9,"112707803_4","19_112707803",19,"112707803","Wilbarger General Hospital","112707803.4","112707803.4.5",4,3,"No-Not Started","Did Not Report",null,null,"Yes-Completed","Needs More Info - Approved","Category 4 reporting domain was reviewed, and HHSC found provider submitted documentation to support achievement. Reporting domain is approved and eligible for payment.\n","Round 2 (October) - Needs More Info","2014-09-30","2014-09-30","NO","2014-10-01","2015-09-30","2014-10-01","2015-09-30"]
[9,"112707803_5","19_112707803",19,"112707803","Wilbarger General Hospital","112707803.4","112707803.4.6",5,3,"No-Not Started","Did Not Report",null,null,"Yes-Completed","Needs More Info - Approved","Category 4 reporting domain was reviewed, and HHSC found provider submitted documentation to support achievement. Reporting domain is approved and eligible for payment.\n\n","Round 2 (October) - Needs More Info","2014-09-30",null,"NO","2014-10-01","2015-09-30","",""]
[9,"112707803_6","19_112707803",19,"112707803","Wilbarger General Hospital","112707803.4","112707803.4.7",6,3,"No-Not Started","Did Not Report",null,null,"No-Not Started","Not Approved","HHSC found achievement of Category 4 reporting domain is not clearly demonstrated. Provider has declined to report this domain in DY3. Project is not approved and is no longer eligible for payment.\n","Round 2 (October) - Not Approved","DNR",null,"YES","TBD","TBD","",""]
[9,"135034009_3","19_135034009",19,"135034009","Electra Memorial Hospital","135034009.4","135034009.4.1",3,3,"Yes-Completed","Approved","Provider submitted required documentation to support Category 4 achievement. Project 135034009.4.1 is approved and eligible for DY3 payment.",null,"Yes-Completed","Previously Approved",null,"Round 1 (April)","2012-12-31",null,"YES","2013-01-01","2013-12-31","",""]
[9,"135034009_1","19_135034009",19,"135034009","Electra Memorial Hospital","135034009.4","135034009.4.2",1,3,"Yes-Completed","Approved","Provider submitted required documentation to support Category 4 achievement. Project 135034009.4.2 is approved and eligible for DY3 payment.",null,"Yes-Completed","Previously Approved",null,"Round 1 (April)","2012-12-31",null,"YES","2013-01-01","2013-12-31","",""]
[9,"135034009_2","19_135034009",19,"135034009","Electra Memorial Hospital","135034009.4","135034009.4.3",2,3,"Yes-Completed","Approved","Provider submitted required documentation to support Category 4 achievement. Project 135034009.4.3 is approved and eligible for DY3 payment.",null,"Yes-Completed","Previously Approved",null,"Round 1 (April)","2012-12-31",null,"YES","2013-01-01","2013-12-31","",""]
[9,"135034009_4","19_135034009",19,"135034009","Electra Memorial Hospital","135034009.4","135034009.4.5",4,3,"Yes-Completed","Approved","Provider submitted required documentation to support Category 4 achievement. Project 135034009.4.5 is approved and eligible for DY3 payment.",null,"Yes-Completed","Previously Approved",null,"Round 1 (April)","2013-09-30","2013-09-30","YES","2013-10-01","2014-09-30","2013-10-01","2014-09-30"]
[9,"135034009_5","19_135034009",19,"135034009","Electra Memorial Hospital","135034009.4","135034009.4.6",5,3,"Yes-Completed","Approved","Provider submitted required documentation to support Category 4 achievement. Project 135034009.4.6 is approved and eligible for DY3 payment.",null,"Yes-Completed","Previously Approved",null,"Round 1 (April)","2013-09-30",null,"YES","2013-10-01","2014-09-30","",""]
[9,"135237906_3","19_135237906",19,"135237906","United Regional Health Care System","135237906.4","135237906.4.1",3,3,"No-Not Started","Did Not Report",null,null,"Yes-Completed","Approved","Category 4 reporting domain was reviewed, and HHSC found provider submitted documentation to support achievement. Project is approved and eligible for payment.\n","Round 2 (October)","2012-12-31",null,"YES","2013-01-01","2013-12-31","",""]
[9,"135237906_1","19_135237906",19,"135237906","United Regional Health Care System","135237906.4","135237906.4.2",1,3,"No-Not Started","Did Not Report",null,null,"Yes-Completed","Approved","Category 4 reporting domain was reviewed, and HHSC found provider submitted documentation to support achievement. Project is approved and eligible for payment.\n","Round 2 (October)","2012-12-31",null,"YES","2013-01-01","2013-12-31","",""]
[9,"135237906_2","19_135237906",19,"135237906","United Regional Health Care System","135237906.4","135237906.4.3",2,3,"No-Not Started","Did Not Report",null,null,"Yes-Completed","Approved","Category 4 reporting domain was reviewed, and HHSC found provider submitted documentation to support achievement. Project is approved and eligible for payment.\n","Round 2 (October)","2012-12-31",null,"YES","2013-01-01","2013-12-31","",""]
[9,"135237906_4","19_135237906",19,"135237906","United Regional Health Care System","135237906.4","135237906.4.5",4,3,"No-Not Started","Did Not Report",null,null,"Yes-Completed","Approved","Category 4 reporting domain was reviewed, and HHSC found provider submitted documentation to support achievement. Project is approved and eligible for payment.\n","Round 2 (October)","2013-09-30","2013-09-30","YES","2013-10-01","2014-09-30","2013-10-01","2014-09-30"]
[9,"135237906_5","19_135237906",19,"135237906","United Regional Health Care System","135237906.4","135237906.4.6",5,3,"No-Not Started","Did Not Report",null,null,"Yes-Completed","Approved","Category 4 reporting domain was reviewed, and HHSC found provider submitted documentation to support achievement. Project is approved and eligible for payment.\n","Round 2 (October)","2014-09-30",null,"NO","2014-10-01","2015-09-30","",""]
[9,"094186602_1","20_094186602",20,"094186602","Laredo Reg Med Ctr dba Doctor's Hospital of Laredo","094186602.4","094186602.4.2",1,3,null,null,null,null,"Yes-Completed","Approved","Category 4 reporting domain was reviewed, and HHSC found provider submitted documentation to support achievement. Project is approved and eligible for payment.\n","Round 2 (October)","2012-12-31",null,"YES","2013-01-01","2013-12-31","",""]
[9,"094186602_2","20_094186602",20,"094186602","Laredo Reg Med Ctr dba Doctor's Hospital of Laredo","094186602.4","094186602.4.3",2,3,null,null,null,null,"Yes-Completed","Approved","Category 4 reporting domain was reviewed, and HHSC found provider submitted documentation to support achievement. Project is approved and eligible for payment.\n","Round 2 (October)","2012-12-31",null,"YES","2013-01-01","2013-12-31","",""]
[9,"094186602_4","20_094186602",20,"094186602","Laredo Reg Med Ctr dba Doctor's Hospital of Laredo","094186602.4","094186602.4.5",4,3,null,null,null,null,"Yes-Completed","Approved","Category 4 reporting domain was reviewed, and HHSC found provider submitted documentation to support achievement. Project is approved and eligible for payment.\n","Round 2 (October)","2014-08-31","2014-08-31","NO","2014-09-01","2015-08-31","2014-09-01","2015-08-31"]
[9,"094186602_5","20_094186602",20,"094186602","Laredo Reg Med Ctr dba Doctor's Hospital of Laredo","094186602.4","094186602.4.6",5,3,null,null,null,null,"Yes-Completed","Approved","Category 4 reporting domain was reviewed, and HHSC found provider submitted documentation to support achievement. Project is approved and eligible for payment.\n","Round 2 (October)","2014-08-31",null,"NO","2014-09-01","2015-08-31","",""]
[9,"132812205_3","20_132812205",20,"132812205","Driscoll Children's Hospital","132812205.4","132812205.4.1",3,3,"Yes-Completed","Approved","Provider submitted required documentation to support Category 4 achievement. Project 132812205.4.1 is approved and eligible for DY3 payment.",null,"Yes-Completed","Previously Approved",null,"Round 1 (April)","2012-12-31",null,"YES","2013-01-01","2013-12-31","",""]
[9,"132812205_1","20_132812205",20,"132812205","Driscoll Children's Hospital","132812205.4","132812205.4.2",1,3,"Yes-Completed","Approved","Provider submitted required documentation to support Category 4 achievement. Project 132812205.4.2 is approved and eligible for DY3 payment.",null,"Yes-Completed","Previously Approved",null,"Round 1 (April)","2012-12-31",null,"YES","2013-01-01","2013-12-31","",""]
[9,"132812205_2","20_132812205",20,"132812205","Driscoll Children's Hospital","132812205.4","132812205.4.3",2,3,"Yes-Completed","Approved","Provider submitted required documentation to support Category 4 achievement. Project 132812205.4.3 is approved and eligible for DY3 payment.",null,"Yes-Completed","Previously Approved",null,"Round 1 (April)","2012-12-31",null,"YES","2013-01-01","2013-12-31","",""]
[9,"132812205_4","20_132812205",20,"132812205","Driscoll Children's Hospital","132812205.4","132812205.4.5",4,3,"Yes-Completed","Approved","Provider submitted required documentation to support Category 4 achievement. Project 132812205.4.5 is approved and eligible for DY3 payment.",null,"Yes-Completed","Previously Approved",null,"Round 1 (April)","2012-12-31","2013-09-30","YES","2013-01-01","2013-12-31","2013-10-01","2014-09-30"]
[9,"132812205_5","20_132812205",20,"132812205","Driscoll Children's Hospital","132812205.4","132812205.4.6",5,3,"Yes-Completed","Approved","Provider submitted required documentation to support Category 4 achievement. Project 132812205.4.6 is approved and eligible for DY3 payment.",null,"Yes-Completed","Previously Approved",null,"Round 1 (April)","2012-12-31",null,"YES","2013-01-01","2013-12-31","",""]
[9,"162033801_3","20_162033801",20,"162033801","Laredo Texas Hosp Co dba Laredo Medical Center","162033801.4","162033801.4.1",3,3,"No-Not Started","Did Not Report",null,null,"Yes-Completed","Approved","Category 4 reporting domain was reviewed, and HHSC found provider submitted documentation to support achievement. Project is approved and eligible for payment.\n","Round 2 (October)","2012-12-31",null,"YES","2013-01-01","2013-12-31","",""]
[9,"162033801_1","20_162033801",20,"162033801","Laredo Texas Hosp Co dba Laredo Medical Center","162033801.4","162033801.4.2",1,3,"No-Not Started","Did Not Report",null,null,"Yes-Completed","Approved","Category 4 reporting domain was reviewed, and HHSC found provider submitted documentation to support achievement. Project is approved and eligible for payment.\n","Round 2 (October)","2012-12-31",null,"YES","2013-01-01","2013-12-31","",""]
[9,"162033801_2","20_162033801",20,"162033801","Laredo Texas Hosp Co dba Laredo Medical Center","162033801.4","162033801.4.3",2,3,"No-Not Started","Did Not Report",null,null,"Yes-Completed","Approved","Category 4 reporting domain was reviewed, and HHSC found provider submitted documentation to support achievement. Project is approved and eligible for payment.\n","Round 2 (October)","2012-12-31",null,"YES","2013-01-01","2013-12-31","",""]
[9,"162033801_4","20_162033801",20,"162033801","Laredo Texas Hosp Co dba Laredo Medical Center","162033801.4","162033801.4.5",4,3,"No-Not Started","Did Not Report",null,null,"Yes-Completed","Not Approved","HHSC found achievement of Category 4 project is not clearly demonstrated. Centers for Medicare & Medicaid Services (CMS) has declined to approve for payment projects reporting less than a full 9 months of medication management data collected by the end of DY3 (Sept 30, 2014) for Category 4 Reporting Domain 4. Project is not approved and is no longer eligible for payment for DY3.","Round 2 (October) - Not Approved","2013-12-31","2013-09-30","YES","2014-01-01","2014-12-31","2013-10-01","2014-09-30"]
[9,"162033801_5","20_162033801",20,"162033801","Laredo Texas Hosp Co dba Laredo Medical Center","162033801.4","162033801.4.6",5,3,"No-Not Started","Did Not Report",null,null,"Yes-Completed","Approved","Category 4 reporting domain was reviewed, and HHSC found provider submitted documentation to support achievement. Project is approved and eligible for payment.\n","Round 2 (October)","2013-12-31",null,"YES","2014-01-01","2014-12-31","",""]

{"sheet":"Data_Collection","index":2,"n_rows":8,"n_cols":859,"rows_kept":8,"cut":false,"hidden":true,"merged":[]}
["Data Collection"]
["This sheet is designed to capture all provider inputs"]
[null,"Sheet","'DY4 Cat 4 Template'!","'DY4 Cat 4 Template'!","'DY4 Cat 4 Template'!","'DY4 Cat 4 Template'!","'DY4 Cat 4 Template'!","'DY4 Cat 4 Template'!","'DY4 Cat 4 Template'!","'DY4 Cat 4 Template'!","'DY4 Cat 4 Template'!","'DY4 Cat 4 Template'!","'DY4 Cat 4 Template'!","'DY4 Cat 4 Template'!","'DY4 Cat 4 Template'!","'DY4 Cat 4 Template'!","'DY4 Cat 4 Template'!","'DY4 Cat 4 Template'!","'DY4 Cat 4 Template'!","'DY4 Cat 4 Template'!","'DY4 Cat 4 Template'!","'DY4 Cat 4 Template'!","'DY4 Cat 4 Template'!","'DY4 Cat 4 Template'!","'DY4 Cat 4 Template'!","'DY4 Cat 4 Template'!","'DY4 Cat 4 Template'!","'DY4 Cat 4 Template'!","'DY4 Cat 4 Template'!","'DY4 Cat 4 Template'!","'DY4 Cat 4 Template'!","'DY4 Cat 4 Template'!","'DY4 Cat 4 Template'!","'DY4 Cat 4 Template'!","'DY4 Cat 4 Template'!","'DY4 Cat 4 Template'!","'DY4 Cat 4 Template'!","'DY4 Cat 4 Template'!","'DY4 Cat 4 Template'!","'DY4 Cat 4 Template'!","'DY4 Cat 4 Template'!","'DY4 Cat 4 Template'!","'DY4 Cat 4 Template'!","'DY4 Cat 4 Template'!","'DY4 Cat 4 Template'!","'DY4 Cat 4 Template'!","'DY4 Cat 4 Template'!","'DY4 Cat 4 Template'!","'DY4 Cat 4 Template'!","'DY4 Cat 4 Template'!","'DY4 Cat 4 Template'!","'DY4 Cat 4 Template'!","'DY4 Cat 4 Template'!","'DY4 Cat 4 Template'!","'DY4 Cat 4 Template'!","'DY4 Cat 4 Template'!","'DY4 Cat 4 Template'!","'DY4 Cat 4 Template'!","'DY4 Cat 4 Template'!","'DY4 Cat 4 Template'!","'DY4 Cat 4 Template'!","'DY4 Cat 4 Template'!","'DY4 Cat 4 Template'!","'DY4 Cat 4 Template'!","'DY4 Cat 4 Template'!","'DY4 Cat 4 Template'!","'DY4 Cat 4 Template'!","'DY4 Cat 4 Template'!","'DY4 Cat 4 Template'!","'DY4 Cat 4 Template'!","'DY4 Cat 4 Template'!","'DY4 Cat 4 Template'!","'DY4 Cat 4 Template'!","'DY4 Cat 4 Template'!","'DY4 Cat 4 Template'!","'DY4 Cat 4 Template'!","'DY4 Cat 4 Template'!","'DY4 Cat 4 Template'!","'DY4 Cat 4 Template'!","'DY4 Cat 4 Template'!","'DY4 Cat 4 Template'!","'DY4 Cat 4 Template'!","'DY4 Cat 4 Template'!","'DY4 Cat 4 Template'!","'DY4 Cat 4 Template'!","'DY4 Cat 4 Template'!","'DY4 Cat 4 Template'!","'DY4 Cat 4 Template'!","'DY4 Cat 4 Template'!","'DY4 Cat 4 Template'!","'DY4 Cat 4 Template'!","'DY4 Cat 4 Template'!","'DY4 Cat 4 Template'!","'DY4 Cat 4 Template'!","'DY4 Cat 4 Template'!","'DY4 Cat 4 Template'!","'DY4 Cat 4 Template'!","'DY4 Cat 4 Template'!","'DY4 Cat 4 Template'!","'DY4 Cat 4 Template'!","'DY4 Cat 4 Template'!","'DY4 Cat 4 Template'!","'DY4 Cat 4 Template'!","'DY4 Cat 4 Template'!","'DY4 Cat 4 Template'!","'DY4 Cat 4 Template'!","'DY4 Cat 4 Template'!","'DY4 Cat 4 Template'!","'DY4 Cat 4 Template'!","'DY4 Cat 4 Template'!","'DY4 Cat 4 Template'!","'DY4 Cat 4 Template'!","'DY4 Cat 4 Template'!","'DY4 Cat 4 Template'!","'DY4 Cat 4 Template'!","'DY4 Cat 4 Template'!","'DY4 Cat 4 Template'!","'DY4 Cat 4 Template'!","'DY4 Cat 4 Template'!","'DY4 Cat 4 Template'!","'DY4 Cat 4 Template'!","'DY4 Cat 4 Template'!","'DY4 Cat 4 Template'!","'DY4 Cat 4 Template'!","'DY4 Cat 4 Template'!","'DY4 Cat 4 Template'!","'DY4 Cat 4 Template'!","'DY4 Cat 4 Template'!","'DY4 Cat 4 Template'!","'DY4 Cat 4 Template'!","'DY4 Cat 4 Template'!","'DY4 Cat 4 Template'!","'DY4 Cat 4 Template'!","'DY4 Cat 4 Template'!","'DY4 Cat 4 Template'!","'DY4 Cat 4 Template'!","'DY4 Cat 4 Template'!","'DY4 Cat 4 Template'!","'DY4 Cat 4 Template'!","'DY4 Cat 4 Template'!","'DY4 Cat 4 Template'!","'DY4 Cat 4 Template'!","'DY4 Cat 4 Template'!","'DY4 Cat 4 Template'!","'DY4 Cat 4 Template'!","'DY4 Cat 4 Template'!","'DY4 Cat 4 Template'!","'DY4 Cat 4 Template'!","'DY4 Cat 4 Template'!","'DY4 Cat 4 Template'!","'DY4 Cat 4 Template'!","'DY4 Cat 4 Template'!","'DY4 Cat 4 Template'!","'DY4 Cat 4 Template'!","'DY4 Cat 4 Template'!","'DY4 Cat 4 Template'!","'DY4 Cat 4 Template'!","'DY4 Cat 4 Template'!","'DY4 Cat 4 Template'!","'DY4 Cat 4 Template'!","'DY4 Cat 4 Template'!","'DY4 Cat 4 Template'!","'DY4 Cat 4 Template'!","'DY4 Cat 4 Template'!","'DY4 Cat 4 Template'!","'DY4 Cat 4 Template'!","'DY4 Cat 4 Template'!","'DY4 Cat 4 Template'!","'DY4 Cat 4 Template'!","'DY4 Cat 4 Template'!","'DY4 Cat 4 Template'!","'DY4 Cat 4 Template'!","'DY4 Cat 4 Template'!","'DY4 Cat 4 Template'!","'DY4 Cat 4 Template'!","'DY4 Cat 4 Template'!","'DY4 Cat 4 Template'!","'DY4 Cat 4 Template'!","'DY4 Cat 4 Template'!","'DY4 Cat 4 Template'!","'DY4 Cat 4 Template'!","'DY4 Cat 4 Template'!","'DY4 Cat 4 Template'!","'DY4 Cat 4 Template'!","'DY4 Cat 4 Template'!","'DY4 Cat 4 Template'!","'DY4 Cat 4 Template'!","'DY4 Cat 4 Template'!","'DY4 Cat 4 Template'!","'DY4 Cat 4 Template'!","'DY4 Cat 4 Template'!","'DY4 Cat 4 Template'!","'DY4 Cat 4 Template'!","'DY4 Cat 4 Template'!","'DY4 Cat 4 Template'!","'DY4 Cat 4 Template'!","'DY4 Cat 4 Template'!","'DY4 Cat 4 Template'!","'DY4 Cat 4 Template'!","'DY4 Cat 4 Template'!","'DY4 Cat 4 Template'!","'DY4 Cat 4 Template'!","'DY4 Cat 4 Template'!","'DY4 Cat 4 Template'!","'DY4 Cat 4 Template'!","'DY4 Cat 4 Template'!","'DY4 Cat 4 Template'!","'DY4 Cat 4 Template'!","'DY4 Cat 4 Template'!","'DY4 Cat 4 Template'!","'DY4 Cat 4 Template'!","'DY4 Cat 4 Template'!","'DY4 Cat 4 Template'!","'DY4 Cat 4 Template'!","'DY4 Cat 4 Template'!","'DY4 Cat 4 Template'!","'DY4 Cat 4 Template'!","'DY4 Cat 4 Template'!","'DY4 Cat 4 Template'!","'DY4 Cat 4 Template'!","'DY4 Cat 4 Template'!","'DY4 Cat 4 Template'!","'DY4 Cat 4 Template'!","'DY4 Cat 4 Template'!","'DY4 Cat 4 Template'!","'DY4 Cat 4 Template'!","'DY4 Cat 4 Template'!","'DY4 Cat 4 Template'!","'DY4 Cat 4 Template'!","'DY4 Cat 4 Template'!","'DY4 Cat 4 Template'!","'DY4 Cat 4 Template'!","'DY4 Cat 4 Template'!","'DY4 Cat 4 Template'!","'DY4 Cat 4 Template'!","'DY4 Cat 4 Template'!","'DY4 Cat 4 Template'!","'DY4 Cat 4 Template'!","'DY4 Cat 4 Template'!","'DY4 Cat 4 Template'!","'DY4 Cat 4 Template'!","'DY4 Cat 4 Template'!","'DY4 Cat 4 Template'!","'DY4 Cat 4 Template'!","'DY4 Cat 4 Template'!","'DY4 Cat 4 Template'!","'DY4 Cat 4 Template'!","'DY4 Cat 4 Template'!","'DY4 Cat 4 Template'!","'DY4 Cat 4 Template'!","'DY4 Cat 4 Template'!","'DY4 Cat 4 Template'!","'DY4 Cat 4 Template'!","'DY4 Cat 4 Template'!","'DY4 Cat 4 Template'!","'DY4 Cat 4 Template'!","'DY4 Cat 4 Template'!","'DY4 Cat 4 Template'!","'DY4 Cat 4 Template'!","'DY4 Cat 4 Template'!","'DY4 Cat 4 Template'!","'DY4 Cat 4 Template'!","'DY4 Cat 4 Template'!","'DY4 Cat 4 Template'!","'DY4 Cat 4 Template'!","'DY4 Cat 4 Template'!","'DY4 Cat 4 Template'!","'DY4 Cat 4 Template'!","'DY4 Cat 4 Template'!","'DY4 Cat 4 Template'!","'DY4 Cat 4 Template'!","'DY4 Cat 4 Template'!","'DY4 Cat 4 Template'!","'DY4 Cat 4 Template'!","'DY4 Cat 4 Template'!","'DY4 Cat 4 Template'!","'DY4 Cat 4 Template'!","'DY4 Cat 4 Template'!","'DY4 Cat 4 Template'!","'DY4 Cat 4 Template'!","'DY4 Cat 4 Template'!","'DY4 Cat 4 Template'!","'DY4 Cat 4 Template'!","'DY4 Cat 4 Template'!","'DY4 Cat 4 Template'!","'DY4 Cat 4 Template'!","'DY4 Cat 4 Template'!","'DY4 Cat 4 Template'!","'DY4 Cat 4 Template'!","'DY4 Cat 4 Template'!","'DY4 Cat 4 Template'!","'DY4 Cat 4 Template'!","'DY4 Cat 4 Template'!","'DY4 Cat 4 Template'!","'DY4 Cat 4 Template'!","'DY4 Cat 4 Template'!","'DY4 Cat 4 Template'!","'DY4 Cat 4 Template'!","'DY4 Cat 4 Template'!","'DY4 Cat 4 Template'!","'DY4 Cat 4 Template'!","'DY4 Cat 4 Template'!","'DY4 Cat 4 Template'!","'DY4 Cat 4 Template'!","'DY4 Cat 4 Template'!","'DY4 Cat 4 Template'!","'DY4 Cat 4 Template'!","'DY4 Cat 4 Template'!","'DY4 Cat 4 Template'!","'DY4 Cat 4 Template'!","'DY4 Cat 4 Template'!","'DY4 Cat 4 Template'!","'DY4 Cat 4 Template'!","'DY4 Cat 4 Template'!","'DY4 Cat 4 Template'!","'DY4 Cat 4 Template'!","'DY4 Cat 4 Template'!","'DY4 Cat 4 Template'!","'DY4 Cat 4 Template'!","'DY4 Cat 4 Template'!","'DY4 Cat 4 Template'!","'DY4 Cat 4 Template'!","'DY4 Cat 4 Template'!","'DY4 Cat 4 Template'!","'DY4 Cat 4 Template'!","'DY4 Cat 4 Template'!","'DY4 Cat 4 Template'!","'DY4 Cat 4 Template'!","'DY4 Cat 4 Template'!","'DY4 Cat 4 Template'!","'DY4 Cat 4 Template'!","'DY4 Cat 4 Template'!","'DY4 Cat 4 Template'!","'DY4 Cat 4 Template'!","'DY4 Cat 4 Template'!","'DY4 Cat 4 Template'!","'DY4 Cat 4 Template'!","'DY4 Cat 4 Template'!","'DY4 Cat 4 Template'!","'DY4 Cat 4 Template'!","'DY4 Cat 4 Template'!","'DY4 Cat 4 Template'!","'DY4 Cat 4 Template'!","'DY4 Cat 4 Template'!","'DY4 Cat 4 Template'!","'DY4 Cat 4 Template'!","'DY4 Cat 4 Template'!","'DY4 Cat 4 Template'!","'DY4 Cat 4 Template'!","'DY4 Cat 4 Template'!","'DY4 Cat 4 Template'!","'DY4 Cat 4 Template'!","'DY4 Cat 4 Template'!","'DY4 Cat 4 Template'!","'DY4 Cat 4 Template'!","'DY4 Cat 4 Template'!","'DY4 Cat 4 Template'!","'DY4 Cat 4 Template'!","'DY4 Cat 4 Template'!","'DY4 Cat 4 Template'!","'DY4 Cat 4 Template'!","'DY4 Cat 4 Template'!","'DY4 Cat 4 Template'!","'DY4 Cat 4 Template'!","'DY4 Cat 4 Template'!","'DY4 Cat 4 Template'!","'DY4 Cat 4 Template'!","'DY4 Cat 4 Template'!","'DY4 Cat 4 Template'!","'DY4 Cat 4 Template'!","'DY4 Cat 4 Template'!","'DY4 Cat 4 Template'!","'DY4 Cat 4 Template'!","'DY4 Cat 4 Template'!","'DY4 Cat 4 Template'!","'DY4 Cat 4 Template'!","'DY4 Cat 4 Template'!","'DY4 Cat 4 Template'!","'DY4 Cat 4 Template'!","'DY4 Cat 4 Template'!","'DY4 Cat 4 Template'!","'DY4 Cat 4 Template'!","'DY4 Cat 4 Template'!","'DY4 Cat 4 Template'!","'DY4 Cat 4 Template'!","'DY4 Cat 4 Template'!","'DY4 Cat 4 Template'!","'DY4 Cat 4 Template'!","'DY4 Cat 4 Template'!","'DY4 Cat 4 Template'!","'DY4 Cat 4 Template'!","'DY4 Cat 4 Template'!","'DY4 Cat 4 Template'!","'DY4 Cat 4 Template'!","'DY4 Cat 4 Template'!","'DY4 Cat 4 Template'!","'DY4 Cat 4 Template'!","'DY4 Cat 4 Template'!","'DY4 Cat 4 Template'!","'DY4 Cat 4 Template'!","'DY4 Cat 4 Template'!","'DY4 Cat 4 Template'!","'DY4 Cat 4 Template'!","'DY4 Cat 4 Template'!","'DY4 Cat 4 Template'!","'DY4 Cat 4 Template'!","'DY4 Cat 4 Template'!","'DY4 Cat 4 Template'!","'DY4 Cat 4 Template'!","'DY4 Cat 4 Template'!","'DY4 Cat 4 Template'!","'DY4 Cat 4 Template'!","'DY4 Cat 4 Template'!","'DY4 Cat 4 Template'!","'DY4 Cat 4 Template'!","'DY4 Cat 4 Template'!","'DY4 Cat 4 Template'!","'DY4 Cat 4 Template'!","'DY4 Cat 4 Template'!","'DY4 Cat 4 Template'!","'DY4 Cat 4 Template'!","'DY4 Cat 4 Template'!","'DY4 Cat 4 Template'!","'DY4 Cat 4 Template'!","'DY4 Cat 4 Template'!","'DY4 Cat 4 Template'!","'DY4 Cat 4 Template'!","'DY4 Cat 4 Template'!","'DY4 Cat 4 Template'!","'DY4 Cat 4 Template'!","'DY4 Cat 4 Template'!","'DY4 Cat 4 Template'!","'DY4 Cat 4 Template'!","'DY4 Cat 4 Template'!","'DY4 Cat 4 Template'!","'DY4 Cat 4 Template'!","'DY4 Cat 4 Template'!","'DY4 Cat 4 Template'!","'DY4 Cat 4 Template'!","'DY4 Cat 4 Template'!","'DY4 Cat 4 Template'!","'DY4 Cat 4 Template'!","'DY4 Cat 4 Template'!","'DY4 Cat 4 Template'!","'DY4 Cat 4 Template'!","'DY4 Cat 4 Template'!","'DY4 Cat 4 Template'!","'DY4 Cat 4 Template'!","'DY4 Cat 4 Template'!","'DY4 Cat 4 Template'!","'DY4 Cat 4 Template'!","'DY4 Cat 4 Template'!","'DY4 Cat 4 Template'!","'DY4 Cat 4 Template'!","'DY4 Cat 4 Template'!","'DY4 Cat 4 Template'!","'DY4 Cat 4 Template'!","'DY4 Cat 4 Template'!","'DY4 Cat 4 Template'!","'DY4 Cat 4 Template'!","'DY4 Cat 4 Template'!","'DY4 Cat 4 Template'!","'DY4 Cat 4 Template'!","'DY4 Cat 4 Template'!","'DY4 Cat 4 Template'!","'DY4 Cat 4 Template'!","'DY4 Cat 4 Template'!","'DY4 Cat 4 Template'!","'DY4 Cat 4 Template'!","'DY4 Cat 4 Template'!","'DY4 Cat 4 Template'!","'DY4 Cat 4 Template'!","'DY4 Cat 4 Template'!","'DY4 Cat 4 Template'!","'DY4 Cat 4 Template'!","'DY4 Cat 4 Template'!","'DY4 Cat 4 Template'!","'DY4 Cat 4 Template'!","'DY4 Cat 4 Template'!","'DY4 Cat 4 Template'!","'DY4 Cat 4 Template'!","'DY4 Cat 4 Template'!","'DY4 Cat 4 Template'!","'DY4 Cat 4 Template'!","'DY4 Cat 4 Template'!","'DY4 Cat 4 Template'!","'DY4 Cat 4 Template'!","'DY4 Cat 4 Template'!","'DY4 Cat 4 Template'!","'DY4 Cat 4 Template'!","'DY4 Cat 4 Template'!","'DY4 Cat 4 Template'!","'DY4 Cat 4 Template'!","'DY4 Cat 4 Template'!","'DY4 Cat 4 Template'!","'DY4 Cat 4 Template'!","'DY4 Cat 4 Template'!","'DY4 Cat 4 Template'!","'DY4 Cat 4 Template'!","'DY4 Cat 4 Template'!","'DY4 Cat 4 Template'!","'DY4 Cat 4 Template'!","'DY4 Cat 4 Template'!","'DY4 Cat 4 Template'!","'DY4 Cat 4 Template'!","'DY4 Cat 4 Template'!","'DY4 Cat 4 Template'!","'DY4 Cat 4 Template'!","'DY4 Cat 4 Template'!","'DY4 Cat 4 Template'!","'DY4 Cat 4 Template'!","'DY4 Cat 4 Template'!","'DY4 Cat 4 Template'!","'DY4 Cat 4 Template'!","'DY4 Cat 4 Template'!","'DY4 Cat 4 Template'!","'DY4 Cat 4 Template'!","'DY4 Cat 4 Template'!","'DY4 Cat 4 Template'!","'DY4 Cat 4 Template'!","'DY4 Cat 4 Template'!","'DY4 Cat 4 Template'!","'DY4 Cat 4 Template'!","'DY4 Cat 4 Template'!","'DY4 Cat 4 Template'!","'DY4 Cat 4 Template'!","'DY4 Cat 4 Template'!","'DY4 Cat 4 Template'!","'DY4 Cat 4 Template'!","'DY4 Cat 4 Template'!","'DY4 Cat 4 Template'!","'DY4 Cat 4 Template'!","'DY4 Cat 4 Template'!","'DY4 Cat 4 Template'!","'DY4 Cat 4 Template'!","'DY4 Cat 4 Template'!","'DY4 Cat 4 Template'!","'DY4 Cat 4 Template'!","'DY4 Cat 4 Template'!","'DY4 Cat 4 Template'!","'DY4 Cat 4 Template'!","'DY4 Cat 4 Template'!","'DY4 Cat 4 Template'!","'DY4 Cat 4 Template'!","'DY4 Cat 4 Template'!","'DY4 Cat 4 Template'!","'DY4 Cat 4 Template'!","'DY4 Cat 4 Template'!","'DY4 Cat 4 Template'!","'DY4 Cat 4 Template'!","'DY4 Cat 4 Template'!","'DY4 Cat 4 Template'!","'DY4 Cat 4 Template'!","'DY4 Cat 4 Template'!","'DY4 Cat 4 Template'!","'DY4 Cat 4 Template'!","'DY4 Cat 4 Template'!","'DY4 Cat 4 Template'!","'DY4 Cat 4 Template'!","'DY4 Cat 4 Template'!","'DY4 Cat 4 Template'!","'DY4 Cat 4 Template'!","'DY4 Cat 4 Template'!","'DY4 Cat 4 Template'!","'DY4 Cat 4 Template'!","'DY4 Cat 4 Template'!","'DY4 Cat 4 Template'!","'DY4 Cat 4 Template'!","'DY4 Cat 4 Template'!","'DY4 Cat 4 Template'!","'DY4 Cat 4 Template'!","'DY4 Cat 4 Template'!","'DY4 Cat 4 Template'!","'DY4 Cat 4 Template'!","'DY4 Cat 4 Template'!","'DY4 Cat 4 Template'!","'DY4 Cat 4 Template'!","'DY4 Cat 4 Template'!","'DY4 Cat 4 Template'!","'DY4 Cat 4 Template'!","'DY4 Cat 4 Template'!","'DY4 Cat 4 Template'!","'DY4 Cat 4 Template'!","'DY4 Cat 4 Template'!","'DY4 Cat 4 Template'!","'DY4 Cat 4 Template'!","'DY4 Cat 4 Template'!","'DY4 Cat 4 Template'!","'DY4 Cat 4 Template'!","'DY4 Cat 4 Template'!","'DY4 Cat 4 Template'!","'DY4 Cat 4 Template'!","'DY4 Cat 4 Template'!","'DY4 Cat 4 Template'!","'DY4 Cat 4 Template'!","'DY4 Cat 4 Template'!","'DY4 Cat 4 Template'!","'DY4 Cat 4 Template'!","'DY4 Cat 4 Template'!","'DY4 Cat 4 Template'!","'DY4 Cat 4 Template'!","'DY4 Cat 4 Template'!","'DY4 Cat 4 Template'!","'DY4 Cat 4 Template'!","'DY4 Cat 4 Template'!","'DY4 Cat 4 Template'!","'DY4 Cat 4 Template'!","'DY4 Cat 4 Template'!","'DY4 Cat 4 Template'!","'DY4 Cat 4 Template'!","'DY4 Cat 4 Template'!","'DY4 Cat 4 Template'!","'DY4 Cat 4 Template'!","'DY4 Cat 4 Template'!","'DY4 Cat 4 Template'!","'DY4 Cat 4 Template'!","'DY4 Cat 4 Template'!","'DY4 Cat 4 Template'!","'DY4 Cat 4 Template'!","'DY4 Cat 4 Template'!","'DY4 Cat 4 Template'!","'DY4 Cat 4 Template'!","'DY4 Cat 4 Template'!","'DY4 Cat 4 Template'!","'DY4 Cat 4 Template'!","'DY4 Cat 4 Template'!","'DY4 Cat 4 Template'!","'DY4 Cat 4 Template'!","'DY4 Cat 4 Template'!","'DY4 Cat 4 Template'!","'DY4 Cat 4 Template'!","'DY4 Cat 4 Template'!","'DY4 Cat 4 Template'!","'DY4 Cat 4 Template'!","'DY4 Cat 4 Template'!","'DY4 Cat 4 Template'!","'DY4 Cat 4 Template'!","'DY4 Cat 4 Template'!","'DY4 Cat 4 Template'!","'DY4 Cat 4 Template'!","'DY4 Cat 4 Template'!","'DY4 Cat 4 Template'!","'DY4 Cat 4 Template'!","'DY4 Cat 4 Template'!","'DY4 Cat 4 Template'!","'DY4 Cat 4 Template'!","'DY4 Cat 4 Template'!","'DY4 Cat 4 Template'!","'DY4 Cat 4 Template'!","'DY4 Cat 4 Template'!","'DY4 Cat 4 Template'!","'DY4 Cat 4 Template'!","'DY4 Cat 4 Template'!","'DY4 Cat 4 Template'!","'DY4 Cat 4 Template'!","'DY4 Cat 4 Template'!","'DY4 Cat 4 Template'!","'DY4 Cat 4 Template'!","'DY4 Cat 4 Template'!","'DY4 Cat 4 Template'!","'DY4 Cat 4 Template'!","'DY4 Cat 4 Template'!","'DY4 Cat 4 Template'!","'DY4 Cat 4 Template'!","'DY4 Cat 4 Template'!","'DY4 Cat 4 Template'!","'DY4 Cat 4 Template'!","'DY4 Cat 4 Template'!","'DY4 Cat 4 Template'!","'DY4 Cat 4 Template'!","'DY4 Cat 4 Template'!","'DY4 Cat 4 Template'!","'DY4 Cat 4 Template'!","'DY4 Cat 4 Template'!","'DY4 Cat 4 Template'!","'DY4 Cat 4 Template'!","'DY4 Cat 4 Template'!","'DY4 Cat 4 Template'!","'DY4 Cat 4 Template'!","'DY4 Cat 4 Template'!","'DY4 Cat 4 Template'!","'DY4 Cat 4 Template'!","'DY4 Cat 4 Template'!","'DY4 Cat 4 Template'!","'DY4 Cat 4 Template'!","'DY4 Cat 4 Template'!","'DY4 Cat 4 Template'!","'DY4 Cat 4 Template'!","'DY4 Cat 4 Template'!","'DY4 Cat 4 Template'!","'DY4 Cat 4 Template'!","'DY4 Cat 4 Template'!","'DY4 Cat 4 Template'!","'DY4 Cat 4 Template'!","'DY4 Cat 4 Template'!","'DY4 Cat 4 Template'!","'DY4 Cat 4 Template'!","'DY4 Cat 4 Template'!","'DY4 Cat 4 Template'!","'DY4 Cat 4 Template'!","'DY4 Cat 4 Template'!","'DY4 Cat 4 Template'!","'DY4 Cat 4 Template'!","'DY4 Cat 4 Template'!","'DY4 Cat 4 Template'!","'DY4 Cat 4 Template'!","'DY4 Cat 4 Template'!","'DY4 Cat 4 Template'!","'DY4 Cat 4 Template'!","'DY4 Cat 4 Template'!","'DY4 Cat 4 Template'!","'DY4 Cat 4 Template'!","'DY4 Cat 4 Template'!","'DY4 Cat 4 Template'!","'DY4 Cat 4 Template'!","'DY4 Cat 4 Template'!","'DY4 Cat 4 Template'!","'DY4 Cat 4 Template'!","'DY4 Cat 4 Template'!","'DY4 Cat 4 Template'!","'DY4 Cat 4 Template'!","'DY4 Cat 4 Template'!","'DY4 Cat 4 Template'!","'DY4 Cat 4 Template'!","'DY4 Cat 4 Template'!","'DY4 Cat 4 Template'!","'DY4 Cat 4 Template'!","'DY4 Cat 4 Template'!","'DY4 Cat 4 Template'!","'DY4 Cat 4 Template'!","'DY4 Cat 4 Template'!","'DY4 Cat 4 Template'!","'DY4 Cat 4 Template'!","'DY4 Cat 4 Template'!","'DY4 Cat 4 Template'!","'DY4 Cat 4 Template'!","'DY4 Cat 4 Template'!","'DY4 Cat 4 Template'!","'DY4 Cat 4 Template'!","'DY4 Cat 4 Template'!","'DY4 Cat 4 Template'!","'DY4 Cat 4 Template'!","'DY4 Cat 4 Template'!","'DY4 Cat 4 Template'!","'DY4 Cat 4 Template'!","'DY4 Cat 4 Template'!","'DY4 Cat 4 Template'!","'DY4 Cat 4 Template'!","'DY4 Cat 4 Template'!","'DY4 Cat 4 Template'!","'DY4 Cat 4 Template'!","'DY4 Cat 4 Template'!","'DY4 Cat 4 Template'!","'DY4 Cat 4 Template'!","'DY4 Cat 4 Template'!","'DY4 Cat 4 Template'!","'DY4 Cat 4 Template'!","'DY4 Cat 4 Template'!","'DY4 Cat 4 Template'!","'DY4 Cat 4 Template'!","'DY4 Cat 4 Template'!","'DY4 Cat 4 Template'!","'DY4 Cat 4 Template'!","'DY4 Cat 4 Template'!","'DY4 Cat 4 Template'!","'DY4 Cat 4 Template'!","'DY4 Cat 4 Template'!","'DY4 Cat 4 Template'!","'DY4 Cat 4 Template'!","'DY4 Cat 4 Template'!","'DY4 Cat 4 Template'!","'DY4 Cat 4 Template'!","'DY4 Cat 4 Template'!","'DY4 Cat 4 Template'!","'DY4 Cat 4 Template'!","'DY4 Cat 4 Template'!","'DY4 Cat 4 Template'!","'DY4 Cat 4 Template'!","'DY4 Cat 4 Template'!","'DY4 Cat 4 Template'!","'DY4 Cat 4 Template'!","'DY4 Cat 4 Template'!","'DY4 Cat 4 Template'!","'DY4 Cat 4 Template'!","'DY4 Cat 4 Template'!","'DY4 Cat 4 Template'!","'DY4 Cat 4 Template'!","'DY4 Cat 4 Template'!","'DY4 Cat 4 Template'!","'DY4 Cat 4 Template'!","'DY4 Cat 4 Template'!","'DY4 Cat 4 Template'!","'DY4 Cat 4 Template'!","'DY4 Cat 4 Template'!","'DY4 Cat 4 Template'!","'DY4 Cat 4 Template'!","'DY4 Cat 4 Template'!","'DY4 Cat 4 Template'!","'DY4 Cat 4 Template'!","'DY4 Cat 4 Template'!","'DY4 Cat 4 Template'!","'DY4 Cat 4 Template'!","'DY4 Cat 4 Template'!","'DY4 Cat 4 Template'!","'DY4 Cat 4 Template'!","'DY4 Cat 4 Template'!","'DY4 Cat 4 Template'!","'DY4 Cat 4 Template'!","'DY4 Cat 4 Template'!","'DY4 Cat 4 Template'!","'DY4 Cat 4 Template'!","'DY4 Cat 4 Template'!","'DY4 Cat 4 Template'!","'DY4 Cat 4 Template'!","'DY4 Cat 4 Template'!","'DY4 Cat 4 Template'!","'DY4 Cat 4 Template'!","'DY4 Cat 4 Template'!","'DY4 Cat 4 Template'!","'DY4 Cat 4 Template'!","'DY4 Cat 4 Template'!","'DY4 Cat 4 Template'!","'DY4 Cat 4 Template'!","'DY4 Cat 4 Template'!","'DY4 Cat 4 Template'!","'DY4 Cat 4 Template'!","'DY4 Cat 4 Template'!","'DY4 Cat 4 Template'!","'DY4 Cat 4 Template'!","'DY4 Cat 4 Template'!","'DY4 Cat 4 Template'!","'DY4 Cat 4 Template'!","'DY4 Cat 4 Template'!","'DY4 Cat 4 Template'!","'DY4 Cat 4 Template'!","'DY4 Cat 4 Template'!","'DY4 Cat 4 Template'!","'DY4 Cat 4 Template'!","'DY4 Cat 4 Template'!","'DY4 Cat 4 Template'!","'DY4 Cat 4 Template'!","'DY4 Cat 4 Template'!","'DY4 Cat 4 Template'!","'DY4 Cat 4 Template'!","'DY4 Cat 4 Template'!","'DY4 Cat 4 Template'!","'DY4 Cat 4 Template'!","'DY4 Cat 4 Template'!","'DY4 Cat 4 Template'!","'DY4 Cat 4 Template'!","'DY4 Cat 4 Template'!","'DY4 Cat 4 Template'!","'DY4 Cat 4 Template'!","'DY4 Cat 4 Template'!","'DY4 Cat 4 Template'!","'DY4 Cat 4 Template'!","'DY4 Cat 4 Template'!","'DY4 Cat 4 Template'!","'DY4 Cat 4 Template'!"]
[null,"Input Cell","E10","E11","E12","E16","E17","E18","F22","A20","F22","A22","F24","C27","F31","A29","F31","A31","F31","C36","F40","A38","F40","A40","F42","C45","C50","F54","A52","F54","A54","D59","F59","K62","K63","K64","K65","K66","K67","K68","K69","K70","C73","D78","F78","G80","G82","G83","G84","C87","C90","G92","G94","G95","G96","C99","F103","A101","F103","A103","D108","F108","G110","G111","C114","G116","G118","G119","C122","F126","A124","F126","A26","D131","F131","H134","I134","J134","K134","M134","H135","I135","J135","K135","M135","H136","I136","J136","K136","M136","H137","I137","J137","K137","M137","H138","I138","J138","K138","M138","H139","I139","J139","K139","M139","H140","I140","J140","K140","M140","H141","I141","J141","K141","M141","H142","I142","J142","K142","M142","H143","I143","J143","K143","M143","H144","I144","J144","K144","M144","H145","I145","J145","K145","M145","H146","I146","J146","K146","M146","H147","I147","J147","K147","M147","H148","I148","J148","K148","M148","H149","I149","J149","K149","M149","H150","I150","J150","K150","M150","H151","I151","J151","K151","M151","H152","I152","J152","K152","M152","H153","I153","J153","K153","M153","H154","I154","J154","K154","M154","H155","I155","J155","K155","M155","H156","I156","J156","K156","M156","H157","I157","J157","K157","M157","H158","I158","J158","K158","M158","H159","I159","J159","K159","M159","H160","I160","J160","K160","M160","H161","I161","J161","K161","M161","H162","I162","J162","K162","M162","H163","I163","J163","K163","M163","H164","I164","J164","K164","M164","H165","I165","J165","K165","M165","H166","I166","J166","K166","M166","H172","I172","J172","K172","M172","H173","I173","J173","K173","M173","H174","I174","J174","K174","M174","H175","I175","J175","K175","M175","H176","I176","J176","K176","M176","H177","I177","J177","K177","M177","H178","I178","J178","K178","M178","H179","I179","J179","K179","M179","H180","I180","J180","K180","M180","H181","I181","J181","K181","M181","H182","I182","J182","K182","M182","H183","I183","J183","K183","M183","H184","I184","J184","K184","M184","H185","I185","J185","K185","M185","H186","I186","J186","K186","M186","H187","I187","J187","K187","M187","H188","I188","J188","K188","M188","H189","I189","J189","K189","M189","H190","I190","J190","K190","M190","H191","I191","J191","K191","M191","H192","I192","J192","K192","M192","H193","I193","J193","K193","M193","H194","I194","J194","K194","M194","H195","I195","J195","K195","M195","H196","I196","J196","K196","M196","H197","I197","J197","K197","M197","H198","I198","J198","K198","M198","H199","I199","J199","K199","M199","H200","I200","J200","K200","M200","H201","I201","J201","K201","M201","H202","I202","J202","K202","M202","H203","I203","J203","K203","M203","H204","I204","J204","K204","M204","H205","I205","J205","K205","M205","H206","I206","J206","K206","M206","H207","I207","J207","K207","M207","H208","I208","J208","K208","M208","H209","I209","J209","K209","M209","H210","I210","J210","K210","M210","H211","I211","J211","K211","M211","H212","I212","J212","K212","M212","H213","I213","J213","K213","M213","H214","I214","J214","K214","M214","H215","I215","J215","K215","M215","H216","I216","J216","K216","M216","C219","G221","H225","I225","J225","K225","M225","H226","I226","J226","K226","M226","H227","I227","J227","K227","M227","H228","I228","J228","K228","M228","H229","I229","J229","K229","M229","H230","I230","J230","K230","M230","H231","I231","J231","K231","M231","H232","I232","J232","K232","M232","H233","I233","J233","K233","M233","H234","I234","J234","K234","M234","H235","I235","J235","K235","M235","H236","I236","J236","K236","M236","H237","I237","J237","K237","M237","H238","I238","J238","K238","M238","H239","I239","J239","K239","M239","H240","I240","J240","K240","M240","H241","I241","J241","K241","M241","H242","I242","J242","K242","M242","H243","I243","J243","K243","M243","H244","I244","J244","K244","M244","H245","I245","J245","K245","M245","H246","I246","J246","K246","M246","H247","I247","J247","K247","M247","H248","I248","J248","K248","M248","H249","I249","J249","K249","M249","H250","I250","J250","K250","M250","H251","I251","J251","K251","M251","H252","I252","J252","K252","M252","H253","I253","J253","K253","M253","H254","I254","J254","K254","M254","H255","I255","J255","K255","M255","H256","I256","J256","K256","M256","H257","I257","J257","K257","M257","H261","I261","J261","K261","M261","H262","I262","J262","K262","M262","H263","I263","J263","K263","M263","H264","I264","J264","K264","M264","H265","I265","J265","K265","M265","H266","I266","J266","K266","M266","H267","I267","J267","K267","M267","H268","I268","J268","K268","M268","H269","I269","J269","K269","M269","H270","I270","J270","K270","M270","H271","I271","J271","K271","M271","H272","I272","J272","K272","M272","H273","I273","J273","K273","M273","H274","I274","J274","K274","M274","H275","I275","J275","K275","M275","H276","I276","J276","K276","M276","H277","I277","J277","K277","M277","H278","I278","J278","K278","M278","H279","I279","J279","K279","M279","H280","I280","J280","K280","M280","H281","I281","J281","K281","M281","H282","I282","J282","K282","M282","H283","I283","J283","K283","M283","H284","I284","J284","K284","M284","H285","I285","J285","K285","M285","H286","I286","J286","K286","M286","H287","I287","J287","K287","M287","H288","I288","J288","K288","M288","H289","I289","J289","K289","M289","H290","I290","J290","K290","M290","H291","I291","J291","K291","M291","H292","I292","J292","K292","M292","H293","I293","J293","K293","M293","H294","I294","J294","K294","M294","H295","I295","J295","K295","M295","H296","I296","J296","K296","M296","H297","I297","J297","K297","M297","H298","I298","J298","K298","M298","H299","I299","J299","K299","M299","H300","I300","J300","K300","M300","H301","I301","J301","K301","M301","H302","I302","J302","K302","M302","H303","I303","J303","K303","M303","H304","I304","J304","K304","M304","H305","I305","J305","K305","M305","C308","C313"]
[null,"Reporting Domain:","Provider Info",null,null,null,null,null,"RD1",null,null,null,null,null,"RD2",null,null,null,null,null,"RD3",null,null,null,null,null,"RD1-3","RD4",null,null,null,null,null,null,null,null,null,null,null,null,null,null,null,null,null,null,null,null,null,null,null,null,null,null,null,null,"RD5",null,null,null,null,null,null,null,null,null,null,null,null,"RD6"]
[null,"Section:",null,null,null,null,null,null,null,null,null,null,null,null,null,null,null,null,null,null,null,null,null,null,null,null,null,null,null,null,null,"Patient Satisfaction",null,null,null,null,null,null,null,null,null,null,null,"Medication Management",null,null,null,null,null,null,null,null,null,null,null,null,null,null,null,null,null,null,null,null,null,null,null,null,null,null,null,null,null,null,"Measure for Adult Pop.","Flu Shots for Adults Ages 50-64 (Collected as part of HEDIS CAHPS Supplemental Survey)*","","","","","Adult BMI Assessment*,**","","","","","Breast Cancer Screening*, **","","","","","Cervical Cancer Screening*.**","","","","","Medical Assistance with Smoking and Tobacco Use Cessation (Collected as part of HEDIS)* ","","","","","Screening for Clinical Depression and Follow-Up Plan","","","","","Hospital-Wide All-Cause Readmission**","","","","","PQI 01: Diabetes, Short-term Complications Admission Rate**","","","","","PQI 05: Chronic Obstructive Pulmonary Disease (COPD) Admission Rate**","","","","","PQI 08: Congestive Heart Failure Admission Rate**","","","","","PQI 15: Adult Asthma Admission Rate*,**","","","","","Chlamydia Screening in Women Ages 21-24*","","","","","Follow-Up After Hospitalization for Mental Illness* (7-day)","","","","","Follow-Up After Hospitalization for Mental Illness* (30-day)","","","","","PC-01: Elective Delivery","","","","","PC-03: Antenatal Steroids","","","","","Controlling High Blood Pressure*,**","","","","","Comprehensive Diabetes Care: LDL-C Screening*,**","","","","","Annual HIV/AIDS Medical Visit*( 90 days)","","","","","Annual HIV/AIDS Medical Visit*( 180 days)","","","","","Comprehensive Diabetes Care: Hemoglobin A1c Testing*","","","","","Antidepressant Medication Management* (Acute Phase)","","","","","Antidepressant Medication Management* (Continuation Phase)","","","","","Adherence to Antipsychotics for Individuals with Schizophrenia*,**","","","","","Annual Monitoring for Patients on Persistent Medications*.**","","","","","Annual monitoring for patients on (ACE) or (ARB)","","","","","Annual monitoring for patients on persistent medications - Digoxin*. **","","","","","Annual monitoring for patients on persistent medications - Diuretic*. **","","","","","Annual monitoring for patients on persistent medications - Anticonvulsant*. **","","","","","CAHPS® Health Plan Survey v 4.0—Adult Questionnaire with CAHPS® Health Plan Survey* ","","","","","Care Transition–Transition Record Transmitted to Health Care Professional","","","","","Initiation and Engagement of Alcohol and Other Drug Dependence Treatment*,**","","","","","Prenatal and Postpartum Care: Postpartum Care Rate* ","","","","Measures for Child Pop.","Follow-Up Care for Children Prescribed Attention Deficit Hyperactivity Disorder*,**","","","","","     Initiation Phase","","","","","     Continuation and Maintenance Phase ","","","","","Ambulatory Care - Emergency Department (ED) Visits** (Overall)","","","","","Ambulatory Care - Emergency Department (ED) Visits** (less than 1 year of age)","","","","","Ambulatory Care - Emergency Department (ED) Visits** (1-9 years of age)","","","","","Ambulatory Care - Emergency Department (ED) Visits** (10-19 years of age)","","","","","Adolescent Well-Care Visit**","","","","","Behavioral Health Risk Assessment (for Pregnant Women)*","","","","","Child and Adolescents’ Access to Primary Care Practitioners*,**","","","","","Chlamydia Screening in Women*,**","","","","","Childhood Immunization Status*,**","","","","","Pediatric Central-line Associated Bloodstream Infections–Neonatal Intensive Care Unit ","","","","","Consumer Assessment of Healthcare Providers and Systems® CAHPS 5.0H (Child Version*","","","","","Cesarean Rate for Nulliparous Singleton Vertex","","","","","Developmental Screening in the First Three Years of Life*","","","","","    Indicator 1: Screened by 12 Months of Age","","","","","    Indicator 2: Screened by 24 Months of Age","","","","","    Indicator 3: Screened by 36 Months of Age ","","","","","Frequency of Ongoing Prenatal Care* ","","","","","    •<21 percent of expected visits","","","","","    •21 percent–40 percent of expected visits","","","","","    •41 percent–60 percent of expected visits","","","","","    •61 percent–80 percent of expected visits","","","","","    •> or =81 percent of expected visits","","","","","Follow-up After Hospitalization for Mental Illness*","","","","","    Percentage of discharges for which the patient received follow-up within 30 days of discharge","","","","","     Percentage of discharges for which the patient received follow-up within 7 days of discharge.","","","","","Human Papillomavirus (HPV) Vaccine for Female Adolescents*","","","","","Immunization Status for Adolescents*","","","","","Live Births Weighing Less than 2,500 Grams** ","","","","","Medication Management for People with Asthma* (PDC 50% of treatment time)","","","","","Medication Management for People with Asthma* (PDC 75 of treatment time)","","","","","Percentage of Eligibles That Received Preventive Dental Services* ","","","","","Timeliness of Prenatal Care*,** (Rate 1)","","","","","Weight Assessment and Counseling for Nutrition and Physical Activity for Children*","","","","","Well-Child Visits in the First 15 Months of Life*,**","","","","","Well-Child Visits in the First 15 Months of Life*,** (Zero visits)","","","","","Well-Child Visits in the First 15 Months of Life*,**(one visit)","","","","","Well-Child Visits in the First 15 Months of Life*,** (Two visits)","","","","","Well-Child Visits in the First 15 Months of Life*,** (Three visits)","","","","","Well-Child Visits in the First 15 Months of Life*,** (Four visits)","","","","","Well-Child Visits in the First 15 Months of Life*,** (Five visits)","","","","","Well-Child Visits in the First 15 Months of Life*,** (Six or more visits)","","","","","Well-Child Visits in the 3rd, 4th, 5th, and 6th Years of Life* ","","","","",null,"Medicaid-Only Adult Pop.","Flu Shots for Adults Ages 50-64 (Collected as part of HEDIS CAHPS Supplemental Survey)*","","","","","Adult BMI Assessment*,**","","","","","Breast Cancer Screening*, **","","","","","Cervical Cancer Screening*.**","","","","","Medical Assistance with Smoking and Tobacco Use Cessation (Collected as part of HEDIS)* ","","","","","Screening for Clinical Depression and Follow-Up Plan","","","","","Hospital-Wide All-Cause Readmission**","","","","","PQI 01: Diabetes, Short-term Complications Admission Rate**","","","","","PQI 05: Chronic Obstructive Pulmonary Disease (COPD) Admission Rate**","","","","","PQI 08: Congestive Heart Failure Admission Rate**","","","","","PQI 15: Adult Asthma Admission Rate*,**","","","","","Chlamydia Screening in Women Ages 21-24*","","","","","Follow-Up After Hospitalization for Mental Illness* (7-day)","","","","","Follow-Up After Hospitalization for Mental Illness* (30-day)","","","","","PC-01: Elective Delivery","","","","","PC-03: Antenatal Steroids","","","","","Controlling High Blood Pressure*,**","","","","","Comprehensive Diabetes Care: LDL-C Screening*,**","","","","","Annual HIV/AIDS Medical Visit*( 90 days)","","","","","Annual HIV/AIDS Medical Visit*( 180 days)","","","","","Comprehensive Diabetes Care: Hemoglobin A1c Testing*","","","","","Antidepressant Medication Management* (Acute Phase)","","","","","Antidepressant Medication Management* (Continuation Phase)","","","","","Adherence to Antipsychotics for Individuals with Schizophrenia*,**","","","","","Annual Monitoring for Patients on Persistent Medications*.**","","","","","Annual monitoring for patients on (ACE) or (ARB)","","","","","Annual monitoring for patients on persistent medications - Digoxin*. **","","","","","Annual monitoring for patients on persistent medications - Diuretic*. **","","","","","Annual monitoring for patients on persistent medications - Anticonvulsant*. **","","","","","CAHPS® Health Plan Survey v 4.0—Adult Questionnaire with CAHPS® Health Plan Survey* ","","","","","Care Transition–Transition Record Transmitted to Health Care Professional","","","","","Initiation and Engagement of Alcohol and Other Drug Dependence Treatment*,**","","","","","Prenatal and Postpartum Care: Postpartum Care Rate* ","","","","Medicaid-only Child Pop.","Follow-Up Care for Children Prescribed Attention Deficit Hyperactivity Disorder*,**","","","","","     Initiation Phase","","","","","     Continuation and Maintenance Phase ","","","","","Ambulatory Care - Emergency Department (ED) Visits** (Overall)","","","","","Ambulatory Care - Emergency Department (ED) Visits** (less than 1 year of age)","","","","","Ambulatory Care - Emergency Department (ED) Visits** (1-9 years of age)","","","","","Ambulatory Care - Emergency Department (ED) Visits** (10-19 years of age)","","","","","Adolescent Well-Care Visit**","","","","","Behavioral Health Risk Assessment (for Pregnant Women)*","","","","","Child and Adolescents’ Access to Primary Care Practitioners*,**","","","","","Chlamydia Screening in Women*,**","","","","","Childhood Immunization Status*,**","","","","","Pediatric Central-line Associated Bloodstream Infections–Neonatal Intensive Care Unit ","","","","","Consumer Assessment of Healthcare Providers and Systems® CAHPS 5.0H (Child Version*","","","","","Cesarean Rate for Nulliparous Singleton Vertex","","","","","Developmental Screening in the First Three Years of Life*","","","","","    Indicator 1: Screened by 12 Months of Age","","","","","    Indicator 2: Screened by 24 Months of Age","","","","","    Indicator 3: Screened by 36 Months of Age ","","","","","Frequency of Ongoing Prenatal Care* ","","","","","    •<21 percent of expected visits","","","","","    •21 percent–40 percent of expected visits","","","","","    •41 percent–60 percent of expected visits","","","","","    •61 percent–80 percent of expected visits","","","","","    •> or =81 percent of expected visits","","","","","Follow-up After Hospitalization for Mental Illness*","","","","","    Percentage of discharges for which the patient received follow-up within 30 days of discharge","","","","","     Percentage of discharges for which the patient received follow-up within 7 days of discharge.","","","","","Human Papillomavirus (HPV) Vaccine for Female Adolescents*","","","","","Immunization Status for Adolescents*","","","","","Live Births Weighing Less than 2,500 Grams** ","","","","","Medication Management for People with Asthma* (PDC 50% of treatment time)","","","","","Medication Management for People with Asthma* (PDC 75 of treatment time)","","","","","Percentage of Eligibles That Received Preventive Dental Services* ","","","","","Timeliness of Prenatal Care*,** (Rate 1)","","","","","Weight Assessment and Counseling for Nutrition and Physical Activity for Children*","","","","","Well-Child Visits in the First 15 Months of Life*,**","","","","","Well-Child Visits in the First 15 Months of Life*,** (Zero visits)","","","","","Well-Child Visits in the First 15 Months of Life*,**(one visit)","","","","","Well-Child Visits in the First 15 Months of Life*,** (Two visits)","","","","","Well-Child Visits in the First 15 Months of Life*,** (Three visits)","","","","","Well-Child Visits in the First 15 Months of Life*,** (Four visits)","","","","","Well-Child Visits in the First 15 Months of Life*,** (Five visits)","","","","","Well-Child Visits in the First 15 Months of Life*,** (Six or more visits)","","","","","Well-Child Visits in the 3rd, 4th, 5th, and 6th Years of Life* ","","","","",null,"Overall Submission"]
[null,"Input:","Contact Name:","Email Address:","Phone Number:","Region:","TPI:","Provider Name:","Reporting in April?","Received during April NMI?","Reporting in October?","Received during October NMI?","Provider received Medicaid PPA report for CY2013?","6 Part Qualitative:","Reporting in April?","Received during April NMI?","Reporting in October?","Received during October NMI?","Provider received Medicaid PPR report for CY2013?","6 Part Qualitative:","Reporting in April?","Received during April NMI?","Reporting in October?","Received during October NMI?","Provider received Medicaid PPC report for CY2013?","6 Part Qualitative:","2 Part Qualitative","Reporting in April?","Received during April NMI?","Reporting in October?","Received during October NMI?","Comp1 DY4 Measure Start:","Comp1 DY4 Measure End:","Percent of patients who reported that their doctors \"Always\" communicated well","Percent of patients who reported that their nurses \"Always\" communicated well","Percent of patients who reported that their pain was \"Always\" well controlled","Percent of patients who reported that staff \"Always\" explained about medicines before giving it to them","Percent of patients who reported that YES, they were given information about what to do during their recovery at home","Percent of patients who reported that their room and bathroom were \"Always\" clean","Percent of patients who reported that the area around their room was \"Always\" quiet at night","Percent of patients who gave their hospital a rating of 9 or 10 on a scale from 0 (lowest) to 10 (highest)","Percent of Patients who reported YES, they would definitely recommend the hospital","Do the HCAHPS results reported in DY4 represent a change over the prior reporting period? What factors have contributed to any increase or decrease?","Comp2 DY4 Measure Start:","Comp2 DY4 Measure End:","Compliance with NQF 0646?","Numerator","Denominator","Provider Rate","NQF Qualitative","Do the Medication Management results reported in DY4 represent a change over the prior reporting period? What factors have contributed to any increase or decrease?","Are you able to report Medicaid-only rates for Medication Management?","Numerator","Denominator","Provider Rate","Additional comments an Medicaid-only rate:","Reporting in April?","Received during April NMI?","Reporting in October?","Received during October NMI?","Comp1 DY4 Measure Start:","Comp1 DY4 Measure End:","Median Time (in minutes) from admit decision time to time of departure from the emergency department for admitted patients:","Number of emergency department (ED) patients seen and used to calculate median time in minutes from admit decision time to time of departure from the ED for admitted patients","Do the Medication Management results reported in DY4 represent a change over the prior reporting period? What factors have contributed to any increase or decrease?","Are you able to report Medicaid-only rates for RD-5?","Median Time (in minutes) from admit decision time to time of departure from the emergency department for admitted patients:","Number of emergency department (ED) patients seen and used to calculate median time in minutes from admit decision time to time of departure from the ED for admitted patients:","Additional comments an Medicaid-only rate:","Reporting in April?","Received during April NMI?","Reporting in October?","Received during October NMI?","Comp1 DY4 Measure Start:","Comp1 DY4 Measure End:","Numerator","Denominator","Provider Rate","Not Reporting Reason","Not Reporting Additional Reasons","Numerator","Denominator","Provider Rate","Not Reporting Reason","Not Reporting Additional Reasons","Numerator","Denominator","Provider Rate","Not Reporting Reason","Not Reporting Additional Reasons","Numerator","Denominator","Provider Rate","Not Reporting Reason","Not Reporting Additional Reasons","Numerator","Denominator","Provider Rate","Not Reporting Reason","Not Reporting Additional Reasons","Numerator","Denominator","Provider Rate","Not Reporting Reason","Not Reporting Additional Reasons","Numerator","Denominator","Provider Rate","Not Reporting Reason","Not Reporting Additional Reasons","Numerator","Denominator","Provider Rate","Not Reporting Reason","Not Reporting Additional Reasons","Numerator","Denominator","Provider Rate","Not Reporting Reason","Not Reporting Additional Reasons","Numerator","Denominator","Provider Rate","Not Reporting Reason","Not Reporting Additional Reasons","Numerator","Denominator","Provider Rate","Not Reporting Reason","Not Reporting Additional Reasons","Numerator","Denominator","Provider Rate","Not Reporting Reason","Not Reporting Additional Reasons","Numerator","Denominator","Provider Rate","Not Reporting Reason","Not Reporting Additional Reasons","Numerator","Denominator","Provider Rate","Not Reporting Reason","Not Reporting Additional Reasons","Numerator","Denominator","Provider Rate","Not Reporting Reason","Not Reporting Additional Reasons","Numerator","Denominator","Provider Rate","Not Reporting Reason","Not Reporting Additional Reasons","Numerator","Denominator","Provider Rate","Not Reporting Reason","Not Reporting Additional Reasons","Numerator","Denominator","Provider Rate","Not Reporting Reason","Not Reporting Additional Reasons","Numerator","Denominator","Provider Rate","Not Reporting Reason","Not Reporting Additional Reasons","Numerator","Denominator","Provider Rate","Not Reporting Reason","Not Reporting Additional Reasons","Numerator","Denominator","Provider Rate","Not Reporting Reason","Not Reporting Additional Reasons","Numerator","Denominator","Provider Rate","Not Reporting Reason","Not Reporting Additional Reasons","Numerator","Denominator","Provider Rate","Not Reporting Reason","Not Reporting Additional Reasons","Numerator","Denominator","Provider Rate","Not Reporting Reason","Not Reporting Additional Reasons","Numerator","Denominator","Provider Rate","Not Reporting Reason","Not Reporting Additional Reasons","Numerator","Denominator","Provider Rate","Not Reporting Reason","Not Reporting Additional Reasons","Numerator","Denominator","Provider Rate","Not Reporting Reason","Not Reporting Additional Reasons","Numerator","Denominator","Provider Rate","Not Reporting Reason","Not Reporting Additional Reasons","Numerator","Denominator","Provider Rate","Not Reporting Reason","Not Reporting Additional Reasons","Numerator","Denominator","Provider Rate","Not Reporting Reason","Not Reporting Additional Reasons","Numerator","Denominator","Provider Rate","Not Reporting Reason","Not Reporting Additional Reasons","Numerator","Denominator","Provider Rate","Not Reporting Reason","Not Reporting Additional Reasons","Numerator","Denominator","Provider Rate","Not Reporting Reason","Not Reporting Additional Reasons","Numerator","Denominator","Provider Rate","Not Reporting Reason","Not Reporting Additional Reasons","Numerator","Denominator","Provider Rate","Not Reporting Reason","Not Reporting Additional Reasons","Numerator","Denominator","Provider Rate","Not Reporting Reason","Not Reporting Additional Reasons","Numerator","Denominator","Provider Rate","Not Reporting Reason","Not Reporting Additional Reasons","Numerator","Denominator","Provider Rate","Not Reporting Reason","Not Reporting Additional Reasons","Numerator","Denominator","Provider Rate","Not Reporting Reason","Not Reporting Additional Reasons","Numerator","Denominator","Provider Rate","Not Reporting Reason","Not Reporting Additional Reasons","Numerator","Denominator","Provider Rate","Not Reporting Reason","Not Reporting Additional Reasons","Numerator","Denominator","Provider Rate","Not Reporting Reason","Not Reporting Additional Reasons","Numerator","Denominator","Provider Rate","Not Reporting Reason","Not Reporting Additional Reasons","Numerator","Denominator","Provider Rate","Not Reporting Reason","Not Reporting Additional Reasons","Numerator","Denominator","Provider Rate","Not Reporting Reason","Not Reporting Additional Reasons","Numerator","Denominator","Provider Rate","Not Reporting Reason","Not Reporting Additional Reasons","Numerator","Denominator","Provider Rate","Not Reporting Reason","Not Reporting Additional Reasons","Numerator","Denominator","Provider Rate","Not Reporting Reason","Not Reporting Additional Reasons","Numerator","Denominator","Provider Rate","Not Reporting Reason","Not Reporting Additional Reasons","Numerator","Denominator","Provider Rate","Not Reporting Reason","Not Reporting Additional Reasons","Numerator","Denominator","Provider Rate","Not Reporting Reason","Not Reporting Additional Reasons","Numerator","Denominator","Provider Rate","Not Reporting Reason","Not Reporting Additional Reasons","Numerator","Denominator","Provider Rate","Not Reporting Reason","Not Reporting Additional Reasons","Numerator","Denominator","Provider Rate","Not Reporting Reason","Not Reporting Additional Reasons","Numerator","Denominator","Provider Rate","Not Reporting Reason","Not Reporting Additional Reasons","Numerator","Denominator","Provider Rate","Not Reporting Reason","Not Reporting Additional Reasons","Numerator","Denominator","Provider Rate","Not Reporting Reason","Not Reporting Additional Reasons","Numerator","Denominator","Provider Rate","Not Reporting Reason","Not Reporting Additional Reasons","Numerator","Denominator","Provider Rate","Not Reporting Reason","Not Reporting Additional Reasons","Numerator","Denominator","Provider Rate","Not Reporting Reason","Not Reporting Additional Reasons","Numerator","Denominator","Provider Rate","Not Reporting Reason","Not Reporting Additional Reasons","Numerator","Denominator","Provider Rate","Not Reporting Reason","Not Reporting Additional Reasons","Numerator","Denominator","Provider Rate","Not Reporting Reason","Not Reporting Additional Reasons","Numerator","Denominator","Provider Rate","Not Reporting Reason","Not Reporting Additional Reasons","Numerator","Denominator","Provider Rate","Not Reporting Reason","Not Reporting Additional Reasons","Numerator","Denominator","Provider Rate","Not Reporting Reason","Not Reporting Additional Reasons","Numerator","Denominator","Provider Rate","Not Reporting Reason","Not Reporting Additional Reasons","Numerator","Denominator","Provider Rate","Not Reporting Reason","Not Reporting Additional Reasons","Numerator","Denominator","Provider Rate","Not Reporting Reason","Not Reporting Additional Reasons","Numerator","Denominator","Provider Rate","Not Reporting Reason","Not Reporting Additional Reasons","Numerator","Denominator","Provider Rate","Not Reporting Reason","Not Reporting Additional Reasons","Numerator","Denominator","Provider Rate","Not Reporting Reason","Not Reporting Additional Reasons","Numerator","Denominator","Provider Rate","Not Reporting Reason","Not Reporting Additional Reasons","Numerator","Denominator","Provider Rate","Not Reporting Reason","Not Reporting Additional Reasons","Numerator","Denominator","Provider Rate","Not Reporting Reason","Not Reporting Additional Reasons","Numerator","Denominator","Provider Rate","Not Reporting Reason","Not Reporting Additional Reasons","Numerator","Denominator","Provider Rate","Not Reporting Reason","Not Reporting Additional Reasons","Numerator","Denominator","Provider Rate","Not Reporting Reason","Not Reporting Additional Reasons","What trends have you observed over the prior time period? What factors have contributed to any decrease? How is your organization using this information to inform service delivery?","Are you able to report Medicaid-only rates?","Numerator","Denominator","Provider Rate","Not Reporting Reason","Not Reporting Additional Reasons","Numerator","Denominator","Provider Rate","Not Reporting Reason","Not Reporting Additional Reasons","Numerator","Denominator","Provider Rate","Not Reporting Reason","Not Reporting Additional Reasons","Numerator","Denominator","Provider Rate","Not Reporting Reason","Not Reporting Additional Reasons","Numerator","Denominator","Provider Rate","Not Reporting Reason","Not Reporting Additional Reasons","Numerator","Denominator","Provider Rate","Not Reporting Reason","Not Reporting Additional Reasons","Numerator","Denominator","Provider Rate","Not Reporting Reason","Not Reporting Additional Reasons","Numerator","Denominator","Provider Rate","Not Reporting Reason","Not Reporting Additional Reasons","Numerator","Denominator","Provider Rate","Not Reporting Reason","Not Reporting Additional Reasons","Numerator","Denominator","Provider Rate","Not Reporting Reason","Not Reporting Additional Reasons","Numerator","Denominator","Provider Rate","Not Reporting Reason","Not Reporting Additional Reasons","Numerator","Denominator","Provider Rate","Not Reporting Reason","Not Reporting Additional Reasons","Numerator","Denominator","Provider Rate","Not Reporting Reason","Not Reporting Additional Reasons","Numerator","Denominator","Provider Rate","Not Reporting Reason","Not Reporting Additional Reasons","Numerator","Denominator","Provider Rate","Not Reporting Reason","Not Reporting Additional Reasons","Numerator","Denominator","Provider Rate","Not Reporting Reason","Not Reporting Additional Reasons","Numerator","Denominator","Provider Rate","Not Reporting Reason","Not Reporting Additional Reasons","Numerator","Denominator","Provider Rate","Not Reporting Reason","Not Reporting Additional Reasons","Numerator","Denominator","Provider Rate","Not Reporting Reason","Not Reporting Additional Reasons","Numerator","Denominator","Provider Rate","Not Reporting Reason","Not Reporting Additional Reasons","Numerator","Denominator","Provider Rate","Not Reporting Reason","Not Reporting Additional Reasons","Numerator","Denominator","Provider Rate","Not Reporting Reason","Not Reporting Additional Reasons","Numerator","Denominator","Provider Rate","Not Reporting Reason","Not Reporting Additional Reasons","Numerator","Denominator","Provider Rate","Not Reporting Reason","Not Reporting Additional Reasons","Numerator","Denominator","Provider Rate","Not Reporting Reason","Not Reporting Additional Reasons","Numerator","Denominator","Provider Rate","Not Reporting Reason","Not Reporting Additional Reasons","Numerator","Denominator","Provider Rate","Not Reporting Reason","Not Reporting Additional Reasons","Numerator","Denominator","Provider Rate","Not Reporting Reason","Not Reporting Additional Reasons","Numerator","Denominator","Provider Rate","Not Reporting Reason","Not Reporting Additional Reasons","Numerator","Denominator","Provider Rate","Not Reporting Reason","Not Reporting Additional Reasons","Numerator","Denominator","Provider Rate","Not Reporting Reason","Not Reporting Additional Reasons","Numerator","Denominator","Provider Rate","Not Reporting Reason","Not Reporting Additional Reasons","Numerator","Denominator","Provider Rate","Not Reporting Reason","Not Reporting Additional Reasons","Numerator","Denominator","Provider Rate","Not Reporting Reason","Not Reporting Additional Reasons","Numerator","Denominator","Provider Rate","Not Reporting Reason","Not Reporting Additional Reasons","Numerator","Denominator","Provider Rate","Not Reporting Reason","Not Reporting Additional Reasons","Numerator","Denominator","Provider Rate","Not Reporting Reason","Not Reporting Additional Reasons","Numerator","Denominator","Provider Rate","Not Reporting Reason","Not Reporting Additional Reasons","Numerator","Denominator","Provider Rate","Not Reporting Reason","Not Reporting Additional Reasons","Numerator","Denominator","Provider Rate","Not Reporting Reason","Not Reporting Additional Reasons","Numerator","Denominator","Provider Rate","Not Reporting Reason","Not Reporting Additional Reasons","Numerator","Denominator","Provider Rate","Not Reporting Reason","Not Reporting Additional Reasons","Numerator","Denominator","Provider Rate","Not Reporting Reason","Not Reporting Additional Reasons","Numerator","Denominator","Provider Rate","Not Reporting Reason","Not Reporting Additional Reasons","Numerator","Denominator","Provider Rate","Not Reporting Reason","Not Reporting Additional Reasons","Numerator","Denominator","Provider Rate","Not Reporting Reason","Not Reporting Additional Reasons","Numerator","Denominator","Provider Rate","Not Reporting Reason","Not Reporting Additional Reasons","Numerator","Denominator","Provider Rate","Not Reporting Reason","Not Reporting Additional Reasons","Numerator","Denominator","Provider Rate","Not Reporting Reason","Not Reporting Additional Reasons","Numerator","Denominator","Provider Rate","Not Reporting Reason","Not Reporting Additional Reasons","Numerator","Denominator","Provider Rate","Not Reporting Reason","Not Reporting Additional Reasons","Numerator","Denominator","Provider Rate","Not Reporting Reason","Not Reporting Additional Reasons","Numerator","Denominator","Provider Rate","Not Reporting Reason","Not Reporting Additional Reasons","Numerator","Denominator","Provider Rate","Not Reporting Reason","Not Reporting Additional Reasons","Numerator","Denominator","Provider Rate","Not Reporting Reason","Not Reporting Additional Reasons","Numerator","Denominator","Provider Rate","Not Reporting Reason","Not Reporting Additional Reasons","Numerator","Denominator","Provider Rate","Not Reporting Reason","Not Reporting Additional Reasons","Numerator","Denominator","Provider Rate","Not Reporting Reason","Not Reporting Additional Reasons","Numerator","Denominator","Provider Rate","Not Reporting Reason","Not Reporting Additional Reasons","Numerator","Denominator","Provider Rate","Not Reporting Reason","Not Reporting Additional Reasons","Numerator","Denominator","Provider Rate","Not Reporting Reason","Not Reporting Additional Reasons","Numerator","Denominator","Provider Rate","Not Reporting Reason","Not Reporting Additional Reasons","Numerator","Denominator","Provider Rate","Not Reporting Reason","Not Reporting Additional Reasons","Numerator","Denominator","Provider Rate","Not Reporting Reason","Not Reporting Additional Reasons","Numerator","Denominator","Provider Rate","Not Reporting Reason","Not Reporting Additional Reasons","Numerator","Denominator","Provider Rate","Not Reporting Reason","Not Reporting Additional Reasons","Numerator","Denominator","Provider Rate","Not Reporting Reason","Not Reporting Additional Reasons","Numerator","Denominator","Provider Rate","Not Reporting Reason","Not Reporting Additional Reasons","Numerator","Denominator","Provider Rate","Not Reporting Reason","Not Reporting Additional Reasons","Numerator","Denominator","Provider Rate","Not Reporting Reason","Not Reporting Additional Reasons","Numerator","Denominator","Provider Rate","Not Reporting Reason","Not Reporting Additional Reasons","Numerator","Denominator","Provider Rate","Not Reporting Reason","Not Reporting Additional Reasons","Numerator","Denominator","Provider Rate","Not Reporting Reason","Not Reporting Additional Reasons","Numerator","Denominator","Provider Rate","Not Reporting Reason","Not Reporting Additional Reasons","Numerator","Denominator","Provider Rate","Not Reporting Reason","Not Reporting Additional Reasons","Numerator","Denominator","Provider Rate","Not Reporting Reason","Not Reporting Additional Reasons","Numerator","Denominator","Provider Rate","Not Reporting Reason","Not Reporting Additional Reasons","Numerator","Denominator","Provider Rate","Not Reporting Reason","Not Reporting Additional Reasons","What trends have you observed over the prior time period? What factors have contributed to any decrease? How is your organization using this information to inform service delivery?","Please use the space below to provide any additional comments related to your submission:"]
[null,null,{"$f":"IF(INDIRECT(C$3&C$4)=\"\",\"\",INDIRECT(C$3&C$4))","v":""},{"$f":"IF(INDIRECT(D$3&D$4)=\"\",\"\",INDIRECT(D$3&D$4))","v":""},"","","","","",false,null,null,"","","",false,null,null,"","","",false,null,null,"","","","",false,null,null,"","","","","","","","","","","","","","","","","","","","","","","","","","",false,null,null,"","","","","","","",{"$f":"IF(INDIRECT(BP$3&BP$4)=\"\",\"\",INDIRECT(BP$3&BP$4))","v":""},"","",false,null,null,"","","","","","","","","","","","","","","","","","","","","","","","","","","","","","","","","","","","","","","","","","","","","","","","","","","","","","","","","","",{"$f":"IF(INDIRECT(EB$3&EB$4)=\"\",\"\",INDIRECT(EB$3&EB$4))","v":""},"","","","","","","","","","","","","","","","","","","","","","","","","","","","","","","","","","","","","","","","","","","","","","","","","","","","","","","","","","","","","","","",{"$f":"IF(INDIRECT(GN$3&GN$4)=\"\",\"\",INDIRECT(GN$3&GN$4))","v":""},"","","","","","","","","","","","","","","","","","","","","","","","","","","","","","","","","","","","","","","","","","","","","","","","","","","","","","","","","","","","","","","",{"$f":"IF(INDIRECT(IZ$3&IZ$4)=\"\",\"\",INDIRECT(IZ$3&IZ$4))","v":""},"","","","","","","","","","","","","","","","","","","","","","","","","","","","","","","","","","","","","","","","","","","","","","","","","","","","","","","","","","","","","","","",{"$f":"IF(INDIRECT(LL$3&LL$4)=\"\",\"\",INDIRECT(LL$3&LL$4))","v":""},"","","","","","","","","","","","","","","","","","","","","","","","","","","","","","","","","","","","","","","","","","","","","","","","","","","","","","","","","","","","","","","",{"$f":"IF(INDIRECT(NX$3&NX$4)=\"\",\"\",INDIRECT(NX$3&NX$4))","v":""},"","","","","","","","","","","","","","","","","","","","","","","","","","","","","","","","","","","","","","","","","","","","","","","","","","","","","","","","","","","","","","","",{"$f":"IF(INDIRECT(QJ$3&QJ$4)=\"\",\"\",INDIRECT(QJ$3&QJ$4))","v":""},"","","","","","","","","","","","","","","","","","","","","","","","","","","","","","","","","","","","","","","","","","","","","","","","","","","","","","","","","","","","","","","",{"$f":"IF(INDIRECT(SV$3&SV$4)=\"\",\"\",INDIRECT(SV$3&SV$4))","v":""},"","","","","","","","","","","","","","","","","","","","","","","","","","","","","","","","","","","","","","","","","","","","","","","","","","","","","","","","","","","","","","","",{"$f":"IF(INDIRECT(VH$3&VH$4)=\"\",\"\",INDIRECT(VH$3&VH$4))","v":""},"","","","","","","","","","","","","","","","","","","","","","","","","","","","","","","","","","","","","","","","","","","","","","","","","","","","","","","","","","","","","","","",{"$f":"IF(INDIRECT(XT$3&XT$4)=\"\",\"\",INDIRECT(XT$3&XT$4))","v":""},"","","","","","","","","","","","","","","","","","","","","","","","","","","","","","","","","","","","","","","","","","","","","","","","","","","","","","","","","","","","","","","",{"$f":"IF(INDIRECT(AAF$3&AAF$4)=\"\",\"\",INDIRECT(AAF$3&AAF$4))","v":""},"","","","","","","","","","","","","","","","","","","","","","","","","","","","","","","","","","","","","","","","","","","","","","","","","","","","","","","","","","","","","","","",{"$f":"IF(INDIRECT(ACR$3&ACR$4)=\"\",\"\",INDIRECT(ACR$3&ACR$4))","v":""},"","","","","","","","","","","","","","","","","","","","","","","","","","","","","","","","","","","","","","","","","","","","","","","","","","","","","","","","","","","","","","","",{"$f":"IF(INDIRECT(AFD$3&AFD$4)=\"\",\"\",INDIRECT(AFD$3&AFD$4))","v":""},"","","","","","","","","","","","","","","","","","","","","","",""]